{"text_format":"1","workbook":"xlsx","n_sheets":6,"sheets":["メニュー","資金繰り表","日繰り表","科目","入出金tbl","使い方"],"not_rendered":{"charts":0,"images":0,"macros":1,"external_links":0,"defined_names":16,"comments":3,"pivot_tables":0},"unopened":[],"bounds":{"document_bytes":16777216,"sheet_cells":100000,"rows_first":2000,"rows_last":500,"rows_between":2000,"halvings":0,"cell_chars":16384,"cell_head_chars":4096},"cells_cut":0,"cells_raw":0,"read":"whole","date_system":"1900"}

{"sheet":"メニュー","index":0,"n_rows":36,"n_cols":5,"rows_kept":36,"cut":false,"hidden":false,"merged":[[35,2,35,5],[28,4,28,5],[17,3,17,5],[23,4,23,5],[24,4,24,5],[25,4,25,5],[26,4,26,5],[27,4,27,5],[20,3,20,4],[24,2,24,3],[25,2,25,3],[26,2,26,3],[27,2,27,3],[28,2,28,3],[29,1,29,6],[1,0,5,7],[21,2,21,5],[10,3,10,4],[7,1,7,2],[8,1,8,2],[7,3,7,6],[8,3,8,6],[12,3,12,4],[13,3,13,4],[14,3,14,4]]}
[]
["ファイナンス　ポータル\nFinance Portal\n資金繰り表　管理ソフト版"]
[]
[]
[]
[]
[]
[null,"事業所名：",null,{"$f":"IF(科目!W13=\"\",\"\",科目!W13)","v":"K-Oneコンサルティング"}]
[null,"決算期：",null,{"$f":"IF(科目!W16=\"\",\"\",科目!W16)","v":"12月"}]
[]
[null,null,null,"メニュー"]
[]
[null,null,null,"　資金繰り表"]
[null,null,null,"日繰り表"]
[null,null,null,"　入出金入力"]
[]
[]
[null,null,null,"　　入出金データクリア"]
[]
[null,null,null,"ver:",{"$f":"科目!W19","v":1.04}]
[]
[null,null,"Excel 2013以降用"]
[]
[null,null,"今日の収支:",null,"2018-05-30T23:06:40.810"]
[null,null,"繰越現金",null,910696]
[null,null,"経常収支",null,-2192]
[null,null,"経常外収支",null,0]
[null,null,"財務収支",null,0]
[null,null,"翌日繰越現金",null,908504]
[null,"※収支予定はこのファイルを開いたときのみ更新されます。"]
[]
[]
[]
[]
[]
[null,null,{"$f":"科目!W22","v":"©K-Oneコンサルティング"}]

{"sheet":"資金繰り表","index":1,"n_rows":53,"n_cols":17,"rows_kept":53,"cut":false,"hidden":false,"merged":[[0,0,0,3],[1,0,1,3],[3,0,3,3],[4,0,20,0],[21,0,34,0],[4,1,10,1],[11,1,19,1],[35,1,40,1],[41,1,46,1],[49,0,49,3],[52,0,52,3],[20,1,20,3],[34,1,34,3],[47,1,47,3],[21,1,25,1],[26,1,33,1],[35,0,47,0],[51,0,51,3],[48,0,48,3],[50,0,50,3]]}
[{"$f":"科目!W13","v":"K-Oneコンサルティング"}]
["資金繰り表",null,null,null,null,null,null,null,null,"(円)",null,null,null,null,null,"(円)"]
[null,null,null,null,"2018-01-01",{"$f":"DATE(YEAR($E$3),MONTH($E$3)+1,DAY($E$3))","v":"2018-02-01"},{"$f":"DATE(YEAR($E$3),MONTH($E$3)+2,DAY($E$3))","v":"2018-03-01"},{"$f":"DATE(YEAR($E$3),MONTH($E$3)+3,DAY($E$3))","v":"2018-04-01"},{"$f":"DATE(YEAR($E$3),MONTH($E$3)+4,DAY($E$3))","v":"2018-05-01"},{"$f":"DATE(YEAR($E$3),MONTH($E$3)+5,DAY($E$3))","v":"2018-06-01"},{"$f":"DATE(YEAR($E$3),MONTH($E$3)+6,DAY($E$3))","v":"2018-07-01"},{"$f":"DATE(YEAR($E$3),MONTH($E$3)+7,DAY($E$3))","v":"2018-08-01"},{"$f":"DATE(YEAR($E$3),MONTH($E$3)+8,DAY($E$3))","v":"2018-09-01"},{"$f":"DATE(YEAR($E$3),MONTH($E$3)+9,DAY($E$3))","v":"2018-10-01"},{"$f":"DATE(YEAR($E$3),MONTH($E$3)+10,DAY($E$3))","v":"2018-11-01"},{"$f":"DATE(YEAR($E$3),MONTH($E$3)+11,DAY($E$3))","v":"2018-12-01"},{"$f":"DATE(YEAR($E$3),MONTH($E$3)+12,DAY($E$3))","v":"2019-01-01"}]
["前月繰越現金・当座資金（A)",null,null,null,1000000,{"$f":"E52+E53","v":974676},{"$f":"F52+F53","v":978162},{"$f":"G52+G53","v":909940},908618,905668,892643,881786,872708,867870,857336,839044]
["経常収支","収入","(1)","現金売上",{"$f":"SUMIFS(入出金tbl[金額],入出金tbl[内　容],$D5,入出金tbl[年月日],\">=\"&E$3,入出金tbl[年月日],\"<\"&F$3)","v":2755},{"$f":"SUMIFS(入出金tbl[金額],入出金tbl[内　容],$D5,入出金tbl[年月日],\">=\"&F$3,入出金tbl[年月日],\"<\"&G$3)","v":3245},{"$f":"SUMIFS(入出金tbl[金額],入出金tbl[内　容],$D5,入出金tbl[年月日],\">=\"&G$3,入出金tbl[年月日],\"<\"&H$3)","v":1421},{"$f":"SUMIFS(入出金tbl[金額],入出金tbl[内　容],$D5,入出金tbl[年月日],\">=\"&H$3,入出金tbl[年月日],\"<\"&I$3)","v":1745},{"$f":"SUMIFS(入出金tbl[金額],入出金tbl[内　容],$D5,入出金tbl[年月日],\">=\"&I$3,入出金tbl[年月日],\"<\"&J$3)","v":1943},{"$f":"SUMIFS(入出金tbl[金額],入出金tbl[内　容],$D5,入出金tbl[年月日],\">=\"&J$3,入出金tbl[年月日],\"<\"&K$3)","v":1901},{"$f":"SUMIFS(入出金tbl[金額],入出金tbl[内　容],$D5,入出金tbl[年月日],\">=\"&K$3,入出金tbl[年月日],\"<\"&L$3)","v":1329},{"$f":"SUMIFS(入出金tbl[金額],入出金tbl[内　容],$D5,入出金tbl[年月日],\">=\"&L$3,入出金tbl[年月日],\"<\"&M$3)","v":1433},{"$f":"SUMIFS(入出金tbl[金額],入出金tbl[内　容],$D5,入出金tbl[年月日],\">=\"&M$3,入出金tbl[年月日],\"<\"&N$3)","v":1109},{"$f":"SUMIFS(入出金tbl[金額],入出金tbl[内　容],$D5,入出金tbl[年月日],\">=\"&N$3,入出金tbl[年月日],\"<\"&O$3)","v":2060},{"$f":"SUMIFS(入出金tbl[金額],入出金tbl[内　容],$D5,入出金tbl[年月日],\">=\"&O$3,入出金tbl[年月日],\"<\"&P$3)","v":1078},{"$f":"SUMIFS(入出金tbl[金額],入出金tbl[内　容],$D5,入出金tbl[年月日],\">=\"&P$3,入出金tbl[年月日],\"<\"&Q$3)","v":906}]
[null,null,"(2)","売掛金回収",{"$f":"SUMIFS(入出金tbl[金額],入出金tbl[内　容],$D6,入出金tbl[年月日],\">=\"&E$3,入出金tbl[年月日],\"<\"&F$3)","v":814},{"$f":"SUMIFS(入出金tbl[金額],入出金tbl[内　容],$D6,入出金tbl[年月日],\">=\"&F$3,入出金tbl[年月日],\"<\"&G$3)","v":1385},{"$f":"SUMIFS(入出金tbl[金額],入出金tbl[内　容],$D6,入出金tbl[年月日],\">=\"&G$3,入出金tbl[年月日],\"<\"&H$3)","v":866},{"$f":"SUMIFS(入出金tbl[金額],入出金tbl[内　容],$D6,入出金tbl[年月日],\">=\"&H$3,入出金tbl[年月日],\"<\"&I$3)","v":6972},{"$f":"SUMIFS(入出金tbl[金額],入出金tbl[内　容],$D6,入出金tbl[年月日],\">=\"&I$3,入出金tbl[年月日],\"<\"&J$3)","v":998},{"$f":"SUMIFS(入出金tbl[金額],入出金tbl[内　容],$D6,入出金tbl[年月日],\">=\"&J$3,入出金tbl[年月日],\"<\"&K$3)","v":2725},{"$f":"SUMIFS(入出金tbl[金額],入出金tbl[内　容],$D6,入出金tbl[年月日],\">=\"&K$3,入出金tbl[年月日],\"<\"&L$3)","v":2677},{"$f":"SUMIFS(入出金tbl[金額],入出金tbl[内　容],$D6,入出金tbl[年月日],\">=\"&L$3,入出金tbl[年月日],\"<\"&M$3)","v":2515},{"$f":"SUMIFS(入出金tbl[金額],入出金tbl[内　容],$D6,入出金tbl[年月日],\">=\"&M$3,入出金tbl[年月日],\"<\"&N$3)","v":2790},{"$f":"SUMIFS(入出金tbl[金額],入出金tbl[内　容],$D6,入出金tbl[年月日],\">=\"&N$3,入出金tbl[年月日],\"<\"&O$3)","v":1553},{"$f":"SUMIFS(入出金tbl[金額],入出金tbl[内　容],$D6,入出金tbl[年月日],\">=\"&O$3,入出金tbl[年月日],\"<\"&P$3)","v":2567},{"$f":"SUMIFS(入出金tbl[金額],入出金tbl[内　容],$D6,入出金tbl[年月日],\">=\"&P$3,入出金tbl[年月日],\"<\"&Q$3)","v":2575}]
[null,null,"(3)","受取手形回収",{"$f":"SUMIFS(入出金tbl[金額],入出金tbl[内　容],$D7,入出金tbl[年月日],\">=\"&E$3,入出金tbl[年月日],\"<\"&F$3)","v":1413},{"$f":"SUMIFS(入出金tbl[金額],入出金tbl[内　容],$D7,入出金tbl[年月日],\">=\"&F$3,入出金tbl[年月日],\"<\"&G$3)","v":1659},{"$f":"SUMIFS(入出金tbl[金額],入出金tbl[内　容],$D7,入出金tbl[年月日],\">=\"&G$3,入出金tbl[年月日],\"<\"&H$3)","v":1917},{"$f":"SUMIFS(入出金tbl[金額],入出金tbl[内　容],$D7,入出金tbl[年月日],\">=\"&H$3,入出金tbl[年月日],\"<\"&I$3)","v":1648},{"$f":"SUMIFS(入出金tbl[金額],入出金tbl[内　容],$D7,入出金tbl[年月日],\">=\"&I$3,入出金tbl[年月日],\"<\"&J$3)","v":1943},{"$f":"SUMIFS(入出金tbl[金額],入出金tbl[内　容],$D7,入出金tbl[年月日],\">=\"&J$3,入出金tbl[年月日],\"<\"&K$3)","v":2391},{"$f":"SUMIFS(入出金tbl[金額],入出金tbl[内　容],$D7,入出金tbl[年月日],\">=\"&K$3,入出金tbl[年月日],\"<\"&L$3)","v":993},{"$f":"SUMIFS(入出金tbl[金額],入出金tbl[内　容],$D7,入出金tbl[年月日],\">=\"&L$3,入出金tbl[年月日],\"<\"&M$3)","v":1148},{"$f":"SUMIFS(入出金tbl[金額],入出金tbl[内　容],$D7,入出金tbl[年月日],\">=\"&M$3,入出金tbl[年月日],\"<\"&N$3)","v":2899},{"$f":"SUMIFS(入出金tbl[金額],入出金tbl[内　容],$D7,入出金tbl[年月日],\">=\"&N$3,入出金tbl[年月日],\"<\"&O$3)","v":1497},{"$f":"SUMIFS(入出金tbl[金額],入出金tbl[内　容],$D7,入出金tbl[年月日],\">=\"&O$3,入出金tbl[年月日],\"<\"&P$3)","v":1916},{"$f":"SUMIFS(入出金tbl[金額],入出金tbl[内　容],$D7,入出金tbl[年月日],\">=\"&P$3,入出金tbl[年月日],\"<\"&Q$3)","v":1545}]
[null,null,"(4)","手形割引",{"$f":"SUMIFS(入出金tbl[金額],入出金tbl[内　容],$D8,入出金tbl[年月日],\">=\"&E$3,入出金tbl[年月日],\"<\"&F$3)","v":1195},{"$f":"SUMIFS(入出金tbl[金額],入出金tbl[内　容],$D8,入出金tbl[年月日],\">=\"&F$3,入出金tbl[年月日],\"<\"&G$3)","v":1465},{"$f":"SUMIFS(入出金tbl[金額],入出金tbl[内　容],$D8,入出金tbl[年月日],\">=\"&G$3,入出金tbl[年月日],\"<\"&H$3)","v":2282},{"$f":"SUMIFS(入出金tbl[金額],入出金tbl[内　容],$D8,入出金tbl[年月日],\">=\"&H$3,入出金tbl[年月日],\"<\"&I$3)","v":2377},{"$f":"SUMIFS(入出金tbl[金額],入出金tbl[内　容],$D8,入出金tbl[年月日],\">=\"&I$3,入出金tbl[年月日],\"<\"&J$3)","v":677},{"$f":"SUMIFS(入出金tbl[金額],入出金tbl[内　容],$D8,入出金tbl[年月日],\">=\"&J$3,入出金tbl[年月日],\"<\"&K$3)","v":2246},{"$f":"SUMIFS(入出金tbl[金額],入出金tbl[内　容],$D8,入出金tbl[年月日],\">=\"&K$3,入出金tbl[年月日],\"<\"&L$3)","v":2765},{"$f":"SUMIFS(入出金tbl[金額],入出金tbl[内　容],$D8,入出金tbl[年月日],\">=\"&L$3,入出金tbl[年月日],\"<\"&M$3)","v":2840},{"$f":"SUMIFS(入出金tbl[金額],入出金tbl[内　容],$D8,入出金tbl[年月日],\">=\"&M$3,入出金tbl[年月日],\"<\"&N$3)","v":2140},{"$f":"SUMIFS(入出金tbl[金額],入出金tbl[内　容],$D8,入出金tbl[年月日],\">=\"&N$3,入出金tbl[年月日],\"<\"&O$3)","v":2017},{"$f":"SUMIFS(入出金tbl[金額],入出金tbl[内　容],$D8,入出金tbl[年月日],\">=\"&O$3,入出金tbl[年月日],\"<\"&P$3)","v":2998},{"$f":"SUMIFS(入出金tbl[金額],入出金tbl[内　容],$D8,入出金tbl[年月日],\">=\"&P$3,入出金tbl[年月日],\"<\"&Q$3)","v":1290}]
[null,null,"(5)","その他収入",{"$f":"SUMIFS(入出金tbl[金額],入出金tbl[内　容],$D9,入出金tbl[年月日],\">=\"&E$3,入出金tbl[年月日],\"<\"&F$3)","v":527},{"$f":"SUMIFS(入出金tbl[金額],入出金tbl[内　容],$D9,入出金tbl[年月日],\">=\"&F$3,入出金tbl[年月日],\"<\"&G$3)","v":2578},{"$f":"SUMIFS(入出金tbl[金額],入出金tbl[内　容],$D9,入出金tbl[年月日],\">=\"&G$3,入出金tbl[年月日],\"<\"&H$3)","v":2661},{"$f":"SUMIFS(入出金tbl[金額],入出金tbl[内　容],$D9,入出金tbl[年月日],\">=\"&H$3,入出金tbl[年月日],\"<\"&I$3)","v":1708},{"$f":"SUMIFS(入出金tbl[金額],入出金tbl[内　容],$D9,入出金tbl[年月日],\">=\"&I$3,入出金tbl[年月日],\"<\"&J$3)","v":384},{"$f":"SUMIFS(入出金tbl[金額],入出金tbl[内　容],$D9,入出金tbl[年月日],\">=\"&J$3,入出金tbl[年月日],\"<\"&K$3)","v":1288},{"$f":"SUMIFS(入出金tbl[金額],入出金tbl[内　容],$D9,入出金tbl[年月日],\">=\"&K$3,入出金tbl[年月日],\"<\"&L$3)","v":2519},{"$f":"SUMIFS(入出金tbl[金額],入出金tbl[内　容],$D9,入出金tbl[年月日],\">=\"&L$3,入出金tbl[年月日],\"<\"&M$3)","v":1046},{"$f":"SUMIFS(入出金tbl[金額],入出金tbl[内　容],$D9,入出金tbl[年月日],\">=\"&M$3,入出金tbl[年月日],\"<\"&N$3)","v":4008},{"$f":"SUMIFS(入出金tbl[金額],入出金tbl[内　容],$D9,入出金tbl[年月日],\">=\"&N$3,入出金tbl[年月日],\"<\"&O$3)","v":1972},{"$f":"SUMIFS(入出金tbl[金額],入出金tbl[内　容],$D9,入出金tbl[年月日],\">=\"&O$3,入出金tbl[年月日],\"<\"&P$3)","v":1678},{"$f":"SUMIFS(入出金tbl[金額],入出金tbl[内　容],$D9,入出金tbl[年月日],\">=\"&P$3,入出金tbl[年月日],\"<\"&Q$3)","v":1483}]
[null,null,"(6)","----------",{"$f":"SUMIFS(入出金tbl[金額],入出金tbl[内　容],$D10,入出金tbl[年月日],\">=\"&E$3,入出金tbl[年月日],\"<\"&F$3)","v":0},{"$f":"SUMIFS(入出金tbl[金額],入出金tbl[内　容],$D10,入出金tbl[年月日],\">=\"&F$3,入出金tbl[年月日],\"<\"&G$3)","v":0},{"$f":"SUMIFS(入出金tbl[金額],入出金tbl[内　容],$D10,入出金tbl[年月日],\">=\"&G$3,入出金tbl[年月日],\"<\"&H$3)","v":0},{"$f":"SUMIFS(入出金tbl[金額],入出金tbl[内　容],$D10,入出金tbl[年月日],\">=\"&H$3,入出金tbl[年月日],\"<\"&I$3)","v":0},{"$f":"SUMIFS(入出金tbl[金額],入出金tbl[内　容],$D10,入出金tbl[年月日],\">=\"&I$3,入出金tbl[年月日],\"<\"&J$3)","v":0},{"$f":"SUMIFS(入出金tbl[金額],入出金tbl[内　容],$D10,入出金tbl[年月日],\">=\"&J$3,入出金tbl[年月日],\"<\"&K$3)","v":0},{"$f":"SUMIFS(入出金tbl[金額],入出金tbl[内　容],$D10,入出金tbl[年月日],\">=\"&K$3,入出金tbl[年月日],\"<\"&L$3)","v":0},{"$f":"SUMIFS(入出金tbl[金額],入出金tbl[内　容],$D10,入出金tbl[年月日],\">=\"&L$3,入出金tbl[年月日],\"<\"&M$3)","v":0},{"$f":"SUMIFS(入出金tbl[金額],入出金tbl[内　容],$D10,入出金tbl[年月日],\">=\"&M$3,入出金tbl[年月日],\"<\"&N$3)","v":0},{"$f":"SUMIFS(入出金tbl[金額],入出金tbl[内　容],$D10,入出金tbl[年月日],\">=\"&N$3,入出金tbl[年月日],\"<\"&O$3)","v":0},{"$f":"SUMIFS(入出金tbl[金額],入出金tbl[内　容],$D10,入出金tbl[年月日],\">=\"&O$3,入出金tbl[年月日],\"<\"&P$3)","v":0},{"$f":"SUMIFS(入出金tbl[金額],入出金tbl[内　容],$D10,入出金tbl[年月日],\">=\"&P$3,入出金tbl[年月日],\"<\"&Q$3)","v":0}]
[null,null,null,"収入合計（B)",{"$f":"SUM(E5:E10)","v":6704},{"$f":"SUM(F5:F10)","v":10332},9147,14450,5945,10551,10283,8982,12946,9099,10237,7799]
[null,"支出","(1)","現金仕入",{"$f":"SUMIFS(入出金tbl[金額],入出金tbl[内　容],$D12,入出金tbl[年月日],\">=\"&E$3,入出金tbl[年月日],\"<\"&F$3)","v":868},{"$f":"SUMIFS(入出金tbl[金額],入出金tbl[内　容],$D12,入出金tbl[年月日],\">=\"&F$3,入出金tbl[年月日],\"<\"&G$3)","v":1845},{"$f":"SUMIFS(入出金tbl[金額],入出金tbl[内　容],$D12,入出金tbl[年月日],\">=\"&G$3,入出金tbl[年月日],\"<\"&H$3)","v":3607},{"$f":"SUMIFS(入出金tbl[金額],入出金tbl[内　容],$D12,入出金tbl[年月日],\">=\"&H$3,入出金tbl[年月日],\"<\"&I$3)","v":3761},{"$f":"SUMIFS(入出金tbl[金額],入出金tbl[内　容],$D12,入出金tbl[年月日],\">=\"&I$3,入出金tbl[年月日],\"<\"&J$3)","v":1738},{"$f":"SUMIFS(入出金tbl[金額],入出金tbl[内　容],$D12,入出金tbl[年月日],\">=\"&J$3,入出金tbl[年月日],\"<\"&K$3)","v":962},{"$f":"SUMIFS(入出金tbl[金額],入出金tbl[内　容],$D12,入出金tbl[年月日],\">=\"&K$3,入出金tbl[年月日],\"<\"&L$3)","v":1950},{"$f":"SUMIFS(入出金tbl[金額],入出金tbl[内　容],$D12,入出金tbl[年月日],\">=\"&L$3,入出金tbl[年月日],\"<\"&M$3)","v":1464},{"$f":"SUMIFS(入出金tbl[金額],入出金tbl[内　容],$D12,入出金tbl[年月日],\">=\"&M$3,入出金tbl[年月日],\"<\"&N$3)","v":1986},{"$f":"SUMIFS(入出金tbl[金額],入出金tbl[内　容],$D12,入出金tbl[年月日],\">=\"&N$3,入出金tbl[年月日],\"<\"&O$3)","v":1847},{"$f":"SUMIFS(入出金tbl[金額],入出金tbl[内　容],$D12,入出金tbl[年月日],\">=\"&O$3,入出金tbl[年月日],\"<\"&P$3)","v":976},{"$f":"SUMIFS(入出金tbl[金額],入出金tbl[内　容],$D12,入出金tbl[年月日],\">=\"&P$3,入出金tbl[年月日],\"<\"&Q$3)","v":2019}]
[null,null,"(2)","買掛金支払",{"$f":"SUMIFS(入出金tbl[金額],入出金tbl[内　容],$D13,入出金tbl[年月日],\">=\"&E$3,入出金tbl[年月日],\"<\"&F$3)","v":692},{"$f":"SUMIFS(入出金tbl[金額],入出金tbl[内　容],$D13,入出金tbl[年月日],\">=\"&F$3,入出金tbl[年月日],\"<\"&G$3)","v":1593},{"$f":"SUMIFS(入出金tbl[金額],入出金tbl[内　容],$D13,入出金tbl[年月日],\">=\"&G$3,入出金tbl[年月日],\"<\"&H$3)","v":3943},{"$f":"SUMIFS(入出金tbl[金額],入出金tbl[内　容],$D13,入出金tbl[年月日],\">=\"&H$3,入出金tbl[年月日],\"<\"&I$3)","v":701},{"$f":"SUMIFS(入出金tbl[金額],入出金tbl[内　容],$D13,入出金tbl[年月日],\">=\"&I$3,入出金tbl[年月日],\"<\"&J$3)","v":1195},{"$f":"SUMIFS(入出金tbl[金額],入出金tbl[内　容],$D13,入出金tbl[年月日],\">=\"&J$3,入出金tbl[年月日],\"<\"&K$3)","v":2191},{"$f":"SUMIFS(入出金tbl[金額],入出金tbl[内　容],$D13,入出金tbl[年月日],\">=\"&K$3,入出金tbl[年月日],\"<\"&L$3)","v":3290},{"$f":"SUMIFS(入出金tbl[金額],入出金tbl[内　容],$D13,入出金tbl[年月日],\">=\"&L$3,入出金tbl[年月日],\"<\"&M$3)","v":2111},{"$f":"SUMIFS(入出金tbl[金額],入出金tbl[内　容],$D13,入出金tbl[年月日],\">=\"&M$3,入出金tbl[年月日],\"<\"&N$3)","v":2159},{"$f":"SUMIFS(入出金tbl[金額],入出金tbl[内　容],$D13,入出金tbl[年月日],\">=\"&N$3,入出金tbl[年月日],\"<\"&O$3)","v":3371},{"$f":"SUMIFS(入出金tbl[金額],入出金tbl[内　容],$D13,入出金tbl[年月日],\">=\"&O$3,入出金tbl[年月日],\"<\"&P$3)","v":2252},{"$f":"SUMIFS(入出金tbl[金額],入出金tbl[内　容],$D13,入出金tbl[年月日],\">=\"&P$3,入出金tbl[年月日],\"<\"&Q$3)","v":1760}]
[null,null,"(3)","手形支払",{"$f":"SUMIFS(入出金tbl[金額],入出金tbl[内　容],$D14,入出金tbl[年月日],\">=\"&E$3,入出金tbl[年月日],\"<\"&F$3)","v":1374},{"$f":"SUMIFS(入出金tbl[金額],入出金tbl[内　容],$D14,入出金tbl[年月日],\">=\"&F$3,入出金tbl[年月日],\"<\"&G$3)","v":926},{"$f":"SUMIFS(入出金tbl[金額],入出金tbl[内　容],$D14,入出金tbl[年月日],\">=\"&G$3,入出金tbl[年月日],\"<\"&H$3)","v":3754},{"$f":"SUMIFS(入出金tbl[金額],入出金tbl[内　容],$D14,入出金tbl[年月日],\">=\"&H$3,入出金tbl[年月日],\"<\"&I$3)","v":425},{"$f":"SUMIFS(入出金tbl[金額],入出金tbl[内　容],$D14,入出金tbl[年月日],\">=\"&I$3,入出金tbl[年月日],\"<\"&J$3)","v":1545},{"$f":"SUMIFS(入出金tbl[金額],入出金tbl[内　容],$D14,入出金tbl[年月日],\">=\"&J$3,入出金tbl[年月日],\"<\"&K$3)","v":1891},{"$f":"SUMIFS(入出金tbl[金額],入出金tbl[内　容],$D14,入出金tbl[年月日],\">=\"&K$3,入出金tbl[年月日],\"<\"&L$3)","v":2305},{"$f":"SUMIFS(入出金tbl[金額],入出金tbl[内　容],$D14,入出金tbl[年月日],\">=\"&L$3,入出金tbl[年月日],\"<\"&M$3)","v":1464},{"$f":"SUMIFS(入出金tbl[金額],入出金tbl[内　容],$D14,入出金tbl[年月日],\">=\"&M$3,入出金tbl[年月日],\"<\"&N$3)","v":2471},{"$f":"SUMIFS(入出金tbl[金額],入出金tbl[内　容],$D14,入出金tbl[年月日],\">=\"&N$3,入出金tbl[年月日],\"<\"&O$3)","v":2226},{"$f":"SUMIFS(入出金tbl[金額],入出金tbl[内　容],$D14,入出金tbl[年月日],\">=\"&O$3,入出金tbl[年月日],\"<\"&P$3)","v":2029},{"$f":"SUMIFS(入出金tbl[金額],入出金tbl[内　容],$D14,入出金tbl[年月日],\">=\"&P$3,入出金tbl[年月日],\"<\"&Q$3)","v":1677}]
[null,null,"(4)","賃金・給与現金支払",{"$f":"SUMIFS(入出金tbl[金額],入出金tbl[内　容],$D15,入出金tbl[年月日],\">=\"&E$3,入出金tbl[年月日],\"<\"&F$3)","v":3783},{"$f":"SUMIFS(入出金tbl[金額],入出金tbl[内　容],$D15,入出金tbl[年月日],\">=\"&F$3,入出金tbl[年月日],\"<\"&G$3)","v":865},{"$f":"SUMIFS(入出金tbl[金額],入出金tbl[内　容],$D15,入出金tbl[年月日],\">=\"&G$3,入出金tbl[年月日],\"<\"&H$3)","v":4263},{"$f":"SUMIFS(入出金tbl[金額],入出金tbl[内　容],$D15,入出金tbl[年月日],\">=\"&H$3,入出金tbl[年月日],\"<\"&I$3)","v":465},{"$f":"SUMIFS(入出金tbl[金額],入出金tbl[内　容],$D15,入出金tbl[年月日],\">=\"&I$3,入出金tbl[年月日],\"<\"&J$3)","v":1492},{"$f":"SUMIFS(入出金tbl[金額],入出金tbl[内　容],$D15,入出金tbl[年月日],\">=\"&J$3,入出金tbl[年月日],\"<\"&K$3)","v":1347},{"$f":"SUMIFS(入出金tbl[金額],入出金tbl[内　容],$D15,入出金tbl[年月日],\">=\"&K$3,入出金tbl[年月日],\"<\"&L$3)","v":2907},{"$f":"SUMIFS(入出金tbl[金額],入出金tbl[内　容],$D15,入出金tbl[年月日],\">=\"&L$3,入出金tbl[年月日],\"<\"&M$3)","v":2111},{"$f":"SUMIFS(入出金tbl[金額],入出金tbl[内　容],$D15,入出金tbl[年月日],\">=\"&M$3,入出金tbl[年月日],\"<\"&N$3)","v":759},{"$f":"SUMIFS(入出金tbl[金額],入出金tbl[内　容],$D15,入出金tbl[年月日],\">=\"&N$3,入出金tbl[年月日],\"<\"&O$3)","v":3647},{"$f":"SUMIFS(入出金tbl[金額],入出金tbl[内　容],$D15,入出金tbl[年月日],\">=\"&O$3,入出金tbl[年月日],\"<\"&P$3)","v":1810},{"$f":"SUMIFS(入出金tbl[金額],入出金tbl[内　容],$D15,入出金tbl[年月日],\">=\"&P$3,入出金tbl[年月日],\"<\"&Q$3)","v":1400}]
[null,null,"(5)","賞与支払い",{"$f":"SUMIFS(入出金tbl[金額],入出金tbl[内　容],$D16,入出金tbl[年月日],\">=\"&E$3,入出金tbl[年月日],\"<\"&F$3)","v":2295},{"$f":"SUMIFS(入出金tbl[金額],入出金tbl[内　容],$D16,入出金tbl[年月日],\">=\"&F$3,入出金tbl[年月日],\"<\"&G$3)","v":972},{"$f":"SUMIFS(入出金tbl[金額],入出金tbl[内　容],$D16,入出金tbl[年月日],\">=\"&G$3,入出金tbl[年月日],\"<\"&H$3)","v":5656},{"$f":"SUMIFS(入出金tbl[金額],入出金tbl[内　容],$D16,入出金tbl[年月日],\">=\"&H$3,入出金tbl[年月日],\"<\"&I$3)","v":1140},{"$f":"SUMIFS(入出金tbl[金額],入出金tbl[内　容],$D16,入出金tbl[年月日],\">=\"&I$3,入出金tbl[年月日],\"<\"&J$3)","v":1421},{"$f":"SUMIFS(入出金tbl[金額],入出金tbl[内　容],$D16,入出金tbl[年月日],\">=\"&J$3,入出金tbl[年月日],\"<\"&K$3)","v":1908},{"$f":"SUMIFS(入出金tbl[金額],入出金tbl[内　容],$D16,入出金tbl[年月日],\">=\"&K$3,入出金tbl[年月日],\"<\"&L$3)","v":1733},{"$f":"SUMIFS(入出金tbl[金額],入出金tbl[内　容],$D16,入出金tbl[年月日],\">=\"&L$3,入出金tbl[年月日],\"<\"&M$3)","v":1309},{"$f":"SUMIFS(入出金tbl[金額],入出金tbl[内　容],$D16,入出金tbl[年月日],\">=\"&M$3,入出金tbl[年月日],\"<\"&N$3)","v":2241},{"$f":"SUMIFS(入出金tbl[金額],入出金tbl[内　容],$D16,入出金tbl[年月日],\">=\"&N$3,入出金tbl[年月日],\"<\"&O$3)","v":2245},{"$f":"SUMIFS(入出金tbl[金額],入出金tbl[内　容],$D16,入出金tbl[年月日],\">=\"&O$3,入出金tbl[年月日],\"<\"&P$3)","v":1351},{"$f":"SUMIFS(入出金tbl[金額],入出金tbl[内　容],$D16,入出金tbl[年月日],\">=\"&P$3,入出金tbl[年月日],\"<\"&Q$3)","v":702}]
[null,null,"(6)","支払利息・割引料",{"$f":"SUMIFS(入出金tbl[金額],入出金tbl[内　容],$D17,入出金tbl[年月日],\">=\"&E$3,入出金tbl[年月日],\"<\"&F$3)","v":2569},{"$f":"SUMIFS(入出金tbl[金額],入出金tbl[内　容],$D17,入出金tbl[年月日],\">=\"&F$3,入出金tbl[年月日],\"<\"&G$3)","v":1987},{"$f":"SUMIFS(入出金tbl[金額],入出金tbl[内　容],$D17,入出金tbl[年月日],\">=\"&G$3,入出金tbl[年月日],\"<\"&H$3)","v":5255},{"$f":"SUMIFS(入出金tbl[金額],入出金tbl[内　容],$D17,入出金tbl[年月日],\">=\"&H$3,入出金tbl[年月日],\"<\"&I$3)","v":1001},{"$f":"SUMIFS(入出金tbl[金額],入出金tbl[内　容],$D17,入出金tbl[年月日],\">=\"&I$3,入出金tbl[年月日],\"<\"&J$3)","v":2427},{"$f":"SUMIFS(入出金tbl[金額],入出金tbl[内　容],$D17,入出金tbl[年月日],\">=\"&J$3,入出金tbl[年月日],\"<\"&K$3)","v":1210},{"$f":"SUMIFS(入出金tbl[金額],入出金tbl[内　容],$D17,入出金tbl[年月日],\">=\"&K$3,入出金tbl[年月日],\"<\"&L$3)","v":2314},{"$f":"SUMIFS(入出金tbl[金額],入出金tbl[内　容],$D17,入出金tbl[年月日],\">=\"&L$3,入出金tbl[年月日],\"<\"&M$3)","v":1855},{"$f":"SUMIFS(入出金tbl[金額],入出金tbl[内　容],$D17,入出金tbl[年月日],\">=\"&M$3,入出金tbl[年月日],\"<\"&N$3)","v":1665},{"$f":"SUMIFS(入出金tbl[金額],入出金tbl[内　容],$D17,入出金tbl[年月日],\">=\"&N$3,入出金tbl[年月日],\"<\"&O$3)","v":2983},{"$f":"SUMIFS(入出金tbl[金額],入出金tbl[内　容],$D17,入出金tbl[年月日],\">=\"&O$3,入出金tbl[年月日],\"<\"&P$3)","v":2896},{"$f":"SUMIFS(入出金tbl[金額],入出金tbl[内　容],$D17,入出金tbl[年月日],\">=\"&P$3,入出金tbl[年月日],\"<\"&Q$3)","v":1298}]
[null,null,"(7)","諸経費現金支払",{"$f":"SUMIFS(入出金tbl[金額],入出金tbl[内　容],$D18,入出金tbl[年月日],\">=\"&E$3,入出金tbl[年月日],\"<\"&F$3)","v":1801},{"$f":"SUMIFS(入出金tbl[金額],入出金tbl[内　容],$D18,入出金tbl[年月日],\">=\"&F$3,入出金tbl[年月日],\"<\"&G$3)","v":1023},{"$f":"SUMIFS(入出金tbl[金額],入出金tbl[内　容],$D18,入出金tbl[年月日],\">=\"&G$3,入出金tbl[年月日],\"<\"&H$3)","v":5042},{"$f":"SUMIFS(入出金tbl[金額],入出金tbl[内　容],$D18,入出金tbl[年月日],\">=\"&H$3,入出金tbl[年月日],\"<\"&I$3)","v":1220},{"$f":"SUMIFS(入出金tbl[金額],入出金tbl[内　容],$D18,入出金tbl[年月日],\">=\"&I$3,入出金tbl[年月日],\"<\"&J$3)","v":2579},{"$f":"SUMIFS(入出金tbl[金額],入出金tbl[内　容],$D18,入出金tbl[年月日],\">=\"&J$3,入出金tbl[年月日],\"<\"&K$3)","v":1908},{"$f":"SUMIFS(入出金tbl[金額],入出金tbl[内　容],$D18,入出金tbl[年月日],\">=\"&K$3,入出金tbl[年月日],\"<\"&L$3)","v":2501},{"$f":"SUMIFS(入出金tbl[金額],入出金tbl[内　容],$D18,入出金tbl[年月日],\">=\"&L$3,入出金tbl[年月日],\"<\"&M$3)","v":1651},{"$f":"SUMIFS(入出金tbl[金額],入出金tbl[内　容],$D18,入出金tbl[年月日],\">=\"&M$3,入出金tbl[年月日],\"<\"&N$3)","v":2657},{"$f":"SUMIFS(入出金tbl[金額],入出金tbl[内　容],$D18,入出金tbl[年月日],\">=\"&N$3,入出金tbl[年月日],\"<\"&O$3)","v":2278},{"$f":"SUMIFS(入出金tbl[金額],入出金tbl[内　容],$D18,入出金tbl[年月日],\">=\"&O$3,入出金tbl[年月日],\"<\"&P$3)","v":2639},{"$f":"SUMIFS(入出金tbl[金額],入出金tbl[内　容],$D18,入出金tbl[年月日],\">=\"&P$3,入出金tbl[年月日],\"<\"&Q$3)","v":1601}]
[null,null,"(8)","----------",{"$f":"SUMIFS(入出金tbl[金額],入出金tbl[内　容],$D19,入出金tbl[年月日],\">=\"&E$3,入出金tbl[年月日],\"<\"&F$3)","v":0},{"$f":"SUMIFS(入出金tbl[金額],入出金tbl[内　容],$D19,入出金tbl[年月日],\">=\"&F$3,入出金tbl[年月日],\"<\"&G$3)","v":0},{"$f":"SUMIFS(入出金tbl[金額],入出金tbl[内　容],$D19,入出金tbl[年月日],\">=\"&G$3,入出金tbl[年月日],\"<\"&H$3)","v":0},{"$f":"SUMIFS(入出金tbl[金額],入出金tbl[内　容],$D19,入出金tbl[年月日],\">=\"&H$3,入出金tbl[年月日],\"<\"&I$3)","v":0},{"$f":"SUMIFS(入出金tbl[金額],入出金tbl[内　容],$D19,入出金tbl[年月日],\">=\"&I$3,入出金tbl[年月日],\"<\"&J$3)","v":0},{"$f":"SUMIFS(入出金tbl[金額],入出金tbl[内　容],$D19,入出金tbl[年月日],\">=\"&J$3,入出金tbl[年月日],\"<\"&K$3)","v":0},{"$f":"SUMIFS(入出金tbl[金額],入出金tbl[内　容],$D19,入出金tbl[年月日],\">=\"&K$3,入出金tbl[年月日],\"<\"&L$3)","v":0},{"$f":"SUMIFS(入出金tbl[金額],入出金tbl[内　容],$D19,入出金tbl[年月日],\">=\"&L$3,入出金tbl[年月日],\"<\"&M$3)","v":0},{"$f":"SUMIFS(入出金tbl[金額],入出金tbl[内　容],$D19,入出金tbl[年月日],\">=\"&M$3,入出金tbl[年月日],\"<\"&N$3)","v":0},{"$f":"SUMIFS(入出金tbl[金額],入出金tbl[内　容],$D19,入出金tbl[年月日],\">=\"&N$3,入出金tbl[年月日],\"<\"&O$3)","v":0},{"$f":"SUMIFS(入出金tbl[金額],入出金tbl[内　容],$D19,入出金tbl[年月日],\">=\"&O$3,入出金tbl[年月日],\"<\"&P$3)","v":0},{"$f":"SUMIFS(入出金tbl[金額],入出金tbl[内　容],$D19,入出金tbl[年月日],\">=\"&P$3,入出金tbl[年月日],\"<\"&Q$3)","v":0}]
[null,null,null,"支出合計（C）",{"$f":"SUM(E12:E19)","v":13382},{"$f":"SUM(F12:F19)","v":9211},31520,8713,12397,11417,17000,11965,13938,18597,13953,10457]
[null,"差引過不足(D=B-C)",null,null,{"$f":"E11-E20","v":-6678},{"$f":"F11-F20","v":1121},-22373,5737,-6452,-866,-6717,-2983,-992,-9498,-3716,-2658]
["経常外収支","収入","(1)","固定資産等売却手取",{"$f":"SUMIFS(入出金tbl[金額],入出金tbl[内　容],$D22,入出金tbl[年月日],\">=\"&E$3,入出金tbl[年月日],\"<\"&F$3)","v":1242},{"$f":"SUMIFS(入出金tbl[金額],入出金tbl[内　容],$D22,入出金tbl[年月日],\">=\"&F$3,入出金tbl[年月日],\"<\"&G$3)","v":3004},{"$f":"SUMIFS(入出金tbl[金額],入出金tbl[内　容],$D22,入出金tbl[年月日],\">=\"&G$3,入出金tbl[年月日],\"<\"&H$3)","v":4896},{"$f":"SUMIFS(入出金tbl[金額],入出金tbl[内　容],$D22,入出金tbl[年月日],\">=\"&H$3,入出金tbl[年月日],\"<\"&I$3)","v":2817},{"$f":"SUMIFS(入出金tbl[金額],入出金tbl[内　容],$D22,入出金tbl[年月日],\">=\"&I$3,入出金tbl[年月日],\"<\"&J$3)","v":724},{"$f":"SUMIFS(入出金tbl[金額],入出金tbl[内　容],$D22,入出金tbl[年月日],\">=\"&J$3,入出金tbl[年月日],\"<\"&K$3)","v":1048},{"$f":"SUMIFS(入出金tbl[金額],入出金tbl[内　容],$D22,入出金tbl[年月日],\">=\"&K$3,入出金tbl[年月日],\"<\"&L$3)","v":2423},{"$f":"SUMIFS(入出金tbl[金額],入出金tbl[内　容],$D22,入出金tbl[年月日],\">=\"&L$3,入出金tbl[年月日],\"<\"&M$3)","v":1447},{"$f":"SUMIFS(入出金tbl[金額],入出金tbl[内　容],$D22,入出金tbl[年月日],\">=\"&M$3,入出金tbl[年月日],\"<\"&N$3)","v":1945},{"$f":"SUMIFS(入出金tbl[金額],入出金tbl[内　容],$D22,入出金tbl[年月日],\">=\"&N$3,入出金tbl[年月日],\"<\"&O$3)","v":2264},{"$f":"SUMIFS(入出金tbl[金額],入出金tbl[内　容],$D22,入出金tbl[年月日],\">=\"&O$3,入出金tbl[年月日],\"<\"&P$3)","v":3223},{"$f":"SUMIFS(入出金tbl[金額],入出金tbl[内　容],$D22,入出金tbl[年月日],\">=\"&P$3,入出金tbl[年月日],\"<\"&Q$3)","v":1145}]
[null,null,"(2)","定期預金等解約",{"$f":"SUMIFS(入出金tbl[金額],入出金tbl[内　容],$D23,入出金tbl[年月日],\">=\"&E$3,入出金tbl[年月日],\"<\"&F$3)","v":1283},{"$f":"SUMIFS(入出金tbl[金額],入出金tbl[内　容],$D23,入出金tbl[年月日],\">=\"&F$3,入出金tbl[年月日],\"<\"&G$3)","v":2729},{"$f":"SUMIFS(入出金tbl[金額],入出金tbl[内　容],$D23,入出金tbl[年月日],\">=\"&G$3,入出金tbl[年月日],\"<\"&H$3)","v":5947},{"$f":"SUMIFS(入出金tbl[金額],入出金tbl[内　容],$D23,入出金tbl[年月日],\">=\"&H$3,入出金tbl[年月日],\"<\"&I$3)","v":1452},{"$f":"SUMIFS(入出金tbl[金額],入出金tbl[内　容],$D23,入出金tbl[年月日],\">=\"&I$3,入出金tbl[年月日],\"<\"&J$3)","v":1790},{"$f":"SUMIFS(入出金tbl[金額],入出金tbl[内　容],$D23,入出金tbl[年月日],\">=\"&J$3,入出金tbl[年月日],\"<\"&K$3)","v":1539},{"$f":"SUMIFS(入出金tbl[金額],入出金tbl[内　容],$D23,入出金tbl[年月日],\">=\"&K$3,入出金tbl[年月日],\"<\"&L$3)","v":2711},{"$f":"SUMIFS(入出金tbl[金額],入出金tbl[内　容],$D23,入出金tbl[年月日],\">=\"&L$3,入出金tbl[年月日],\"<\"&M$3)","v":2958},{"$f":"SUMIFS(入出金tbl[金額],入出金tbl[内　容],$D23,入出金tbl[年月日],\">=\"&M$3,入出金tbl[年月日],\"<\"&N$3)","v":3484},{"$f":"SUMIFS(入出金tbl[金額],入出金tbl[内　容],$D23,入出金tbl[年月日],\">=\"&N$3,入出金tbl[年月日],\"<\"&O$3)","v":2449},{"$f":"SUMIFS(入出金tbl[金額],入出金tbl[内　容],$D23,入出金tbl[年月日],\">=\"&O$3,入出金tbl[年月日],\"<\"&P$3)","v":1205},{"$f":"SUMIFS(入出金tbl[金額],入出金tbl[内　容],$D23,入出金tbl[年月日],\">=\"&P$3,入出金tbl[年月日],\"<\"&Q$3)","v":1399}]
[null,null,"(3)","その他臨時収入",{"$f":"SUMIFS(入出金tbl[金額],入出金tbl[内　容],$D24,入出金tbl[年月日],\">=\"&E$3,入出金tbl[年月日],\"<\"&F$3)","v":1175},{"$f":"SUMIFS(入出金tbl[金額],入出金tbl[内　容],$D24,入出金tbl[年月日],\">=\"&F$3,入出金tbl[年月日],\"<\"&G$3)","v":2465},{"$f":"SUMIFS(入出金tbl[金額],入出金tbl[内　容],$D24,入出金tbl[年月日],\">=\"&G$3,入出金tbl[年月日],\"<\"&H$3)","v":6312},{"$f":"SUMIFS(入出金tbl[金額],入出金tbl[内　容],$D24,入出金tbl[年月日],\">=\"&H$3,入出金tbl[年月日],\"<\"&I$3)","v":1492},{"$f":"SUMIFS(入出金tbl[金額],入出金tbl[内　容],$D24,入出金tbl[年月日],\">=\"&I$3,入出金tbl[年月日],\"<\"&J$3)","v":2104},{"$f":"SUMIFS(入出金tbl[金額],入出金tbl[内　容],$D24,入出金tbl[年月日],\">=\"&J$3,入出金tbl[年月日],\"<\"&K$3)","v":1645},{"$f":"SUMIFS(入出金tbl[金額],入出金tbl[内　容],$D24,入出金tbl[年月日],\">=\"&K$3,入出金tbl[年月日],\"<\"&L$3)","v":2970},{"$f":"SUMIFS(入出金tbl[金額],入出金tbl[内　容],$D24,入出金tbl[年月日],\">=\"&L$3,入出金tbl[年月日],\"<\"&M$3)","v":1693},{"$f":"SUMIFS(入出金tbl[金額],入出金tbl[内　容],$D24,入出金tbl[年月日],\">=\"&M$3,入出金tbl[年月日],\"<\"&N$3)","v":3437},{"$f":"SUMIFS(入出金tbl[金額],入出金tbl[内　容],$D24,入出金tbl[年月日],\">=\"&N$3,入出金tbl[年月日],\"<\"&O$3)","v":1413},{"$f":"SUMIFS(入出金tbl[金額],入出金tbl[内　容],$D24,入出金tbl[年月日],\">=\"&O$3,入出金tbl[年月日],\"<\"&P$3)","v":2069},{"$f":"SUMIFS(入出金tbl[金額],入出金tbl[内　容],$D24,入出金tbl[年月日],\">=\"&P$3,入出金tbl[年月日],\"<\"&Q$3)","v":2868}]
[null,null,"(4)","----------",{"$f":"SUMIFS(入出金tbl[金額],入出金tbl[内　容],$D25,入出金tbl[年月日],\">=\"&E$3,入出金tbl[年月日],\"<\"&F$3)","v":0},{"$f":"SUMIFS(入出金tbl[金額],入出金tbl[内　容],$D25,入出金tbl[年月日],\">=\"&F$3,入出金tbl[年月日],\"<\"&G$3)","v":0},{"$f":"SUMIFS(入出金tbl[金額],入出金tbl[内　容],$D25,入出金tbl[年月日],\">=\"&G$3,入出金tbl[年月日],\"<\"&H$3)","v":0},{"$f":"SUMIFS(入出金tbl[金額],入出金tbl[内　容],$D25,入出金tbl[年月日],\">=\"&H$3,入出金tbl[年月日],\"<\"&I$3)","v":0},{"$f":"SUMIFS(入出金tbl[金額],入出金tbl[内　容],$D25,入出金tbl[年月日],\">=\"&I$3,入出金tbl[年月日],\"<\"&J$3)","v":0},{"$f":"SUMIFS(入出金tbl[金額],入出金tbl[内　容],$D25,入出金tbl[年月日],\">=\"&J$3,入出金tbl[年月日],\"<\"&K$3)","v":0},{"$f":"SUMIFS(入出金tbl[金額],入出金tbl[内　容],$D25,入出金tbl[年月日],\">=\"&K$3,入出金tbl[年月日],\"<\"&L$3)","v":0},{"$f":"SUMIFS(入出金tbl[金額],入出金tbl[内　容],$D25,入出金tbl[年月日],\">=\"&L$3,入出金tbl[年月日],\"<\"&M$3)","v":0},{"$f":"SUMIFS(入出金tbl[金額],入出金tbl[内　容],$D25,入出金tbl[年月日],\">=\"&M$3,入出金tbl[年月日],\"<\"&N$3)","v":0},{"$f":"SUMIFS(入出金tbl[金額],入出金tbl[内　容],$D25,入出金tbl[年月日],\">=\"&N$3,入出金tbl[年月日],\"<\"&O$3)","v":0},{"$f":"SUMIFS(入出金tbl[金額],入出金tbl[内　容],$D25,入出金tbl[年月日],\">=\"&O$3,入出金tbl[年月日],\"<\"&P$3)","v":0},{"$f":"SUMIFS(入出金tbl[金額],入出金tbl[内　容],$D25,入出金tbl[年月日],\">=\"&P$3,入出金tbl[年月日],\"<\"&Q$3)","v":0}]
[null,null,null,"収入合計(E)",{"$f":"SUM(E22:E25)","v":3700},{"$f":"SUM(F22:F25)","v":8198},17155,5761,4618,4232,8104,6098,8866,6126,6497,5412]
[null,"支出","(1)","税金",{"$f":"SUMIFS(入出金tbl[金額],入出金tbl[内　容],$D27,入出金tbl[年月日],\">=\"&E$3,入出金tbl[年月日],\"<\"&F$3)","v":3407},{"$f":"SUMIFS(入出金tbl[金額],入出金tbl[内　容],$D27,入出金tbl[年月日],\">=\"&F$3,入出金tbl[年月日],\"<\"&G$3)","v":1469},{"$f":"SUMIFS(入出金tbl[金額],入出金tbl[内　容],$D27,入出金tbl[年月日],\">=\"&G$3,入出金tbl[年月日],\"<\"&H$3)","v":7552},{"$f":"SUMIFS(入出金tbl[金額],入出金tbl[内　容],$D27,入出金tbl[年月日],\">=\"&H$3,入出金tbl[年月日],\"<\"&I$3)","v":1281},{"$f":"SUMIFS(入出金tbl[金額],入出金tbl[内　容],$D27,入出金tbl[年月日],\">=\"&I$3,入出金tbl[年月日],\"<\"&J$3)","v":1553},{"$f":"SUMIFS(入出金tbl[金額],入出金tbl[内　容],$D27,入出金tbl[年月日],\">=\"&J$3,入出金tbl[年月日],\"<\"&K$3)","v":1212},{"$f":"SUMIFS(入出金tbl[金額],入出金tbl[内　容],$D27,入出金tbl[年月日],\">=\"&K$3,入出金tbl[年月日],\"<\"&L$3)","v":2319},{"$f":"SUMIFS(入出金tbl[金額],入出金tbl[内　容],$D27,入出金tbl[年月日],\">=\"&L$3,入出金tbl[年月日],\"<\"&M$3)","v":2272},{"$f":"SUMIFS(入出金tbl[金額],入出金tbl[内　容],$D27,入出金tbl[年月日],\">=\"&M$3,入出金tbl[年月日],\"<\"&N$3)","v":2005},{"$f":"SUMIFS(入出金tbl[金額],入出金tbl[内　容],$D27,入出金tbl[年月日],\">=\"&N$3,入出金tbl[年月日],\"<\"&O$3)","v":2438},{"$f":"SUMIFS(入出金tbl[金額],入出金tbl[内　容],$D27,入出金tbl[年月日],\">=\"&O$3,入出金tbl[年月日],\"<\"&P$3)","v":2270},{"$f":"SUMIFS(入出金tbl[金額],入出金tbl[内　容],$D27,入出金tbl[年月日],\">=\"&P$3,入出金tbl[年月日],\"<\"&Q$3)","v":2318}]
[null,null,"(2)","役員賞与",{"$f":"SUMIFS(入出金tbl[金額],入出金tbl[内　容],$D28,入出金tbl[年月日],\">=\"&E$3,入出金tbl[年月日],\"<\"&F$3)","v":2284},{"$f":"SUMIFS(入出金tbl[金額],入出金tbl[内　容],$D28,入出金tbl[年月日],\">=\"&F$3,入出金tbl[年月日],\"<\"&G$3)","v":1027},{"$f":"SUMIFS(入出金tbl[金額],入出金tbl[内　容],$D28,入出金tbl[年月日],\">=\"&G$3,入出金tbl[年月日],\"<\"&H$3)","v":7725},{"$f":"SUMIFS(入出金tbl[金額],入出金tbl[内　容],$D28,入出金tbl[年月日],\">=\"&H$3,入出金tbl[年月日],\"<\"&I$3)","v":970},{"$f":"SUMIFS(入出金tbl[金額],入出金tbl[内　容],$D28,入出金tbl[年月日],\">=\"&I$3,入出金tbl[年月日],\"<\"&J$3)","v":1345},{"$f":"SUMIFS(入出金tbl[金額],入出金tbl[内　容],$D28,入出金tbl[年月日],\">=\"&J$3,入出金tbl[年月日],\"<\"&K$3)","v":1912},{"$f":"SUMIFS(入出金tbl[金額],入出金tbl[内　容],$D28,入出金tbl[年月日],\">=\"&K$3,入出金tbl[年月日],\"<\"&L$3)","v":1792},{"$f":"SUMIFS(入出金tbl[金額],入出金tbl[内　容],$D28,入出金tbl[年月日],\">=\"&L$3,入出金tbl[年月日],\"<\"&M$3)","v":1327},{"$f":"SUMIFS(入出金tbl[金額],入出金tbl[内　容],$D28,入出金tbl[年月日],\">=\"&M$3,入出金tbl[年月日],\"<\"&N$3)","v":2902},{"$f":"SUMIFS(入出金tbl[金額],入出金tbl[内　容],$D28,入出金tbl[年月日],\">=\"&N$3,入出金tbl[年月日],\"<\"&O$3)","v":1883},{"$f":"SUMIFS(入出金tbl[金額],入出金tbl[内　容],$D28,入出金tbl[年月日],\">=\"&O$3,入出金tbl[年月日],\"<\"&P$3)","v":2747},{"$f":"SUMIFS(入出金tbl[金額],入出金tbl[内　容],$D28,入出金tbl[年月日],\">=\"&P$3,入出金tbl[年月日],\"<\"&Q$3)","v":866}]
[null,null,"(3)","配当",{"$f":"SUMIFS(入出金tbl[金額],入出金tbl[内　容],$D29,入出金tbl[年月日],\">=\"&E$3,入出金tbl[年月日],\"<\"&F$3)","v":4289},{"$f":"SUMIFS(入出金tbl[金額],入出金tbl[内　容],$D29,入出金tbl[年月日],\">=\"&F$3,入出金tbl[年月日],\"<\"&G$3)","v":1673},{"$f":"SUMIFS(入出金tbl[金額],入出金tbl[内　容],$D29,入出金tbl[年月日],\">=\"&G$3,入出金tbl[年月日],\"<\"&H$3)","v":7530},{"$f":"SUMIFS(入出金tbl[金額],入出金tbl[内　容],$D29,入出金tbl[年月日],\">=\"&H$3,入出金tbl[年月日],\"<\"&I$3)","v":1010},{"$f":"SUMIFS(入出金tbl[金額],入出金tbl[内　容],$D29,入出金tbl[年月日],\">=\"&I$3,入出金tbl[年月日],\"<\"&J$3)","v":1128},{"$f":"SUMIFS(入出金tbl[金額],入出金tbl[内　容],$D29,入出金tbl[年月日],\">=\"&J$3,入出金tbl[年月日],\"<\"&K$3)","v":2004},{"$f":"SUMIFS(入出金tbl[金額],入出金tbl[内　容],$D29,入出金tbl[年月日],\">=\"&K$3,入出金tbl[年月日],\"<\"&L$3)","v":1610},{"$f":"SUMIFS(入出金tbl[金額],入出金tbl[内　容],$D29,入出金tbl[年月日],\">=\"&L$3,入出金tbl[年月日],\"<\"&M$3)","v":2823},{"$f":"SUMIFS(入出金tbl[金額],入出金tbl[内　容],$D29,入出金tbl[年月日],\">=\"&M$3,入出金tbl[年月日],\"<\"&N$3)","v":1989},{"$f":"SUMIFS(入出金tbl[金額],入出金tbl[内　容],$D29,入出金tbl[年月日],\">=\"&N$3,入出金tbl[年月日],\"<\"&O$3)","v":1893},{"$f":"SUMIFS(入出金tbl[金額],入出金tbl[内　容],$D29,入出金tbl[年月日],\">=\"&O$3,入出金tbl[年月日],\"<\"&P$3)","v":1629},{"$f":"SUMIFS(入出金tbl[金額],入出金tbl[内　容],$D29,入出金tbl[年月日],\">=\"&P$3,入出金tbl[年月日],\"<\"&Q$3)","v":372}]
[null,null,"(4)","固定資産購入支出",{"$f":"SUMIFS(入出金tbl[金額],入出金tbl[内　容],$D30,入出金tbl[年月日],\">=\"&E$3,入出金tbl[年月日],\"<\"&F$3)","v":2326},{"$f":"SUMIFS(入出金tbl[金額],入出金tbl[内　容],$D30,入出金tbl[年月日],\">=\"&F$3,入出金tbl[年月日],\"<\"&G$3)","v":679},{"$f":"SUMIFS(入出金tbl[金額],入出金tbl[内　容],$D30,入出金tbl[年月日],\">=\"&G$3,入出金tbl[年月日],\"<\"&H$3)","v":8018},{"$f":"SUMIFS(入出金tbl[金額],入出金tbl[内　容],$D30,入出金tbl[年月日],\">=\"&H$3,入出金tbl[年月日],\"<\"&I$3)","v":1792},{"$f":"SUMIFS(入出金tbl[金額],入出金tbl[内　容],$D30,入出金tbl[年月日],\">=\"&I$3,入出金tbl[年月日],\"<\"&J$3)","v":604},{"$f":"SUMIFS(入出金tbl[金額],入出金tbl[内　容],$D30,入出金tbl[年月日],\">=\"&J$3,入出金tbl[年月日],\"<\"&K$3)","v":3517},{"$f":"SUMIFS(入出金tbl[金額],入出金tbl[内　容],$D30,入出金tbl[年月日],\">=\"&K$3,入出金tbl[年月日],\"<\"&L$3)","v":1778},{"$f":"SUMIFS(入出金tbl[金額],入出金tbl[内　容],$D30,入出金tbl[年月日],\">=\"&L$3,入出金tbl[年月日],\"<\"&M$3)","v":1929},{"$f":"SUMIFS(入出金tbl[金額],入出金tbl[内　容],$D30,入出金tbl[年月日],\">=\"&M$3,入出金tbl[年月日],\"<\"&N$3)","v":2702},{"$f":"SUMIFS(入出金tbl[金額],入出金tbl[内　容],$D30,入出金tbl[年月日],\">=\"&N$3,入出金tbl[年月日],\"<\"&O$3)","v":803},{"$f":"SUMIFS(入出金tbl[金額],入出金tbl[内　容],$D30,入出金tbl[年月日],\">=\"&O$3,入出金tbl[年月日],\"<\"&P$3)","v":2386},{"$f":"SUMIFS(入出金tbl[金額],入出金tbl[内　容],$D30,入出金tbl[年月日],\">=\"&P$3,入出金tbl[年月日],\"<\"&Q$3)","v":826}]
[null,null,"(5)","定期預金等設定",{"$f":"SUMIFS(入出金tbl[金額],入出金tbl[内　容],$D31,入出金tbl[年月日],\">=\"&E$3,入出金tbl[年月日],\"<\"&F$3)","v":2113},{"$f":"SUMIFS(入出金tbl[金額],入出金tbl[内　容],$D31,入出金tbl[年月日],\">=\"&F$3,入出金tbl[年月日],\"<\"&G$3)","v":2205},{"$f":"SUMIFS(入出金tbl[金額],入出金tbl[内　容],$D31,入出金tbl[年月日],\">=\"&G$3,入出金tbl[年月日],\"<\"&H$3)","v":8198},{"$f":"SUMIFS(入出金tbl[金額],入出金tbl[内　容],$D31,入出金tbl[年月日],\">=\"&H$3,入出金tbl[年月日],\"<\"&I$3)","v":1832},{"$f":"SUMIFS(入出金tbl[金額],入出金tbl[内　容],$D31,入出金tbl[年月日],\">=\"&I$3,入出金tbl[年月日],\"<\"&J$3)","v":735},{"$f":"SUMIFS(入出金tbl[金額],入出金tbl[内　容],$D31,入出金tbl[年月日],\">=\"&J$3,入出金tbl[年月日],\"<\"&K$3)","v":2344},{"$f":"SUMIFS(入出金tbl[金額],入出金tbl[内　容],$D31,入出金tbl[年月日],\">=\"&K$3,入出金tbl[年月日],\"<\"&L$3)","v":1165},{"$f":"SUMIFS(入出金tbl[金額],入出金tbl[内　容],$D31,入出金tbl[年月日],\">=\"&L$3,入出金tbl[年月日],\"<\"&M$3)","v":3342},{"$f":"SUMIFS(入出金tbl[金額],入出金tbl[内　容],$D31,入出金tbl[年月日],\">=\"&M$3,入出金tbl[年月日],\"<\"&N$3)","v":1092},{"$f":"SUMIFS(入出金tbl[金額],入出金tbl[内　容],$D31,入出金tbl[年月日],\">=\"&N$3,入出金tbl[年月日],\"<\"&O$3)","v":1219},{"$f":"SUMIFS(入出金tbl[金額],入出金tbl[内　容],$D31,入出金tbl[年月日],\">=\"&O$3,入出金tbl[年月日],\"<\"&P$3)","v":2565},{"$f":"SUMIFS(入出金tbl[金額],入出金tbl[内　容],$D31,入出金tbl[年月日],\">=\"&P$3,入出金tbl[年月日],\"<\"&Q$3)","v":883}]
[null,null,"(6)","その他臨時支出",{"$f":"SUMIFS(入出金tbl[金額],入出金tbl[内　容],$D32,入出金tbl[年月日],\">=\"&E$3,入出金tbl[年月日],\"<\"&F$3)","v":2353},{"$f":"SUMIFS(入出金tbl[金額],入出金tbl[内　容],$D32,入出金tbl[年月日],\">=\"&F$3,入出金tbl[年月日],\"<\"&G$3)","v":1831},{"$f":"SUMIFS(入出金tbl[金額],入出金tbl[内　容],$D32,入出金tbl[年月日],\">=\"&G$3,入出金tbl[年月日],\"<\"&H$3)","v":8384},{"$f":"SUMIFS(入出金tbl[金額],入出金tbl[内　容],$D32,入出金tbl[年月日],\">=\"&H$3,入出金tbl[年月日],\"<\"&I$3)","v":2631},{"$f":"SUMIFS(入出金tbl[金額],入出金tbl[内　容],$D32,入出金tbl[年月日],\">=\"&I$3,入出金tbl[年月日],\"<\"&J$3)","v":604},{"$f":"SUMIFS(入出金tbl[金額],入出金tbl[内　容],$D32,入出金tbl[年月日],\">=\"&J$3,入出金tbl[年月日],\"<\"&K$3)","v":3589},{"$f":"SUMIFS(入出金tbl[金額],入出金tbl[内　容],$D32,入出金tbl[年月日],\">=\"&K$3,入出金tbl[年月日],\"<\"&L$3)","v":2446},{"$f":"SUMIFS(入出金tbl[金額],入出金tbl[内　容],$D32,入出金tbl[年月日],\">=\"&L$3,入出金tbl[年月日],\"<\"&M$3)","v":1717},{"$f":"SUMIFS(入出金tbl[金額],入出金tbl[内　容],$D32,入出金tbl[年月日],\">=\"&M$3,入出金tbl[年月日],\"<\"&N$3)","v":2806},{"$f":"SUMIFS(入出金tbl[金額],入出金tbl[内　容],$D32,入出金tbl[年月日],\">=\"&N$3,入出金tbl[年月日],\"<\"&O$3)","v":1360},{"$f":"SUMIFS(入出金tbl[金額],入出金tbl[内　容],$D32,入出金tbl[年月日],\">=\"&O$3,入出金tbl[年月日],\"<\"&P$3)","v":1598},{"$f":"SUMIFS(入出金tbl[金額],入出金tbl[内　容],$D32,入出金tbl[年月日],\">=\"&P$3,入出金tbl[年月日],\"<\"&Q$3)","v":851}]
[null,null,"(7)","テスト4",{"$f":"SUMIFS(入出金tbl[金額],入出金tbl[内　容],$D33,入出金tbl[年月日],\">=\"&E$3,入出金tbl[年月日],\"<\"&F$3)","v":0},{"$f":"SUMIFS(入出金tbl[金額],入出金tbl[内　容],$D33,入出金tbl[年月日],\">=\"&F$3,入出金tbl[年月日],\"<\"&G$3)","v":0},{"$f":"SUMIFS(入出金tbl[金額],入出金tbl[内　容],$D33,入出金tbl[年月日],\">=\"&G$3,入出金tbl[年月日],\"<\"&H$3)","v":7750},{"$f":"SUMIFS(入出金tbl[金額],入出金tbl[内　容],$D33,入出金tbl[年月日],\">=\"&H$3,入出金tbl[年月日],\"<\"&I$3)","v":1000},{"$f":"SUMIFS(入出金tbl[金額],入出金tbl[内　容],$D33,入出金tbl[年月日],\">=\"&I$3,入出金tbl[年月日],\"<\"&J$3)","v":0},{"$f":"SUMIFS(入出金tbl[金額],入出金tbl[内　容],$D33,入出金tbl[年月日],\">=\"&J$3,入出金tbl[年月日],\"<\"&K$3)","v":0},{"$f":"SUMIFS(入出金tbl[金額],入出金tbl[内　容],$D33,入出金tbl[年月日],\">=\"&K$3,入出金tbl[年月日],\"<\"&L$3)","v":0},{"$f":"SUMIFS(入出金tbl[金額],入出金tbl[内　容],$D33,入出金tbl[年月日],\">=\"&L$3,入出金tbl[年月日],\"<\"&M$3)","v":0},{"$f":"SUMIFS(入出金tbl[金額],入出金tbl[内　容],$D33,入出金tbl[年月日],\">=\"&M$3,入出金tbl[年月日],\"<\"&N$3)","v":0},{"$f":"SUMIFS(入出金tbl[金額],入出金tbl[内　容],$D33,入出金tbl[年月日],\">=\"&N$3,入出金tbl[年月日],\"<\"&O$3)","v":0},{"$f":"SUMIFS(入出金tbl[金額],入出金tbl[内　容],$D33,入出金tbl[年月日],\">=\"&O$3,入出金tbl[年月日],\"<\"&P$3)","v":0},{"$f":"SUMIFS(入出金tbl[金額],入出金tbl[内　容],$D33,入出金tbl[年月日],\">=\"&P$3,入出金tbl[年月日],\"<\"&Q$3)","v":0}]
[null,null,null,"支出合計(F)",{"$f":"SUM(E27:E33)","v":16772},{"$f":"SUM(F27:F33)","v":8884},55157,10516,5969,14578,11110,13410,13496,9596,13195,6116]
[null,"差引過不足(G=E-F)",null,null,{"$f":"E26-E34","v":-13072},{"$f":"F26-F34","v":-686},-38002,-4755,-1351,-10346,-3006,-7312,-4630,-3470,-6698,-704]
["財務収支","収入","(1)","短期借入金調達",{"$f":"SUMIFS(入出金tbl[金額],入出金tbl[内　容],$D36,入出金tbl[年月日],\">=\"&E$3,入出金tbl[年月日],\"<\"&F$3)","v":1112},{"$f":"SUMIFS(入出金tbl[金額],入出金tbl[内　容],$D36,入出金tbl[年月日],\">=\"&F$3,入出金tbl[年月日],\"<\"&G$3)","v":3393},{"$f":"SUMIFS(入出金tbl[金額],入出金tbl[内　容],$D36,入出金tbl[年月日],\">=\"&G$3,入出金tbl[年月日],\"<\"&H$3)","v":8485},{"$f":"SUMIFS(入出金tbl[金額],入出金tbl[内　容],$D36,入出金tbl[年月日],\">=\"&H$3,入出金tbl[年月日],\"<\"&I$3)","v":1847},{"$f":"SUMIFS(入出金tbl[金額],入出金tbl[内　容],$D36,入出金tbl[年月日],\">=\"&I$3,入出金tbl[年月日],\"<\"&J$3)","v":2064},{"$f":"SUMIFS(入出金tbl[金額],入出金tbl[内　容],$D36,入出金tbl[年月日],\">=\"&J$3,入出金tbl[年月日],\"<\"&K$3)","v":1172},{"$f":"SUMIFS(入出金tbl[金額],入出金tbl[内　容],$D36,入出金tbl[年月日],\">=\"&K$3,入出金tbl[年月日],\"<\"&L$3)","v":2704},{"$f":"SUMIFS(入出金tbl[金額],入出金tbl[内　容],$D36,入出金tbl[年月日],\">=\"&L$3,入出金tbl[年月日],\"<\"&M$3)","v":2409},{"$f":"SUMIFS(入出金tbl[金額],入出金tbl[内　容],$D36,入出金tbl[年月日],\">=\"&M$3,入出金tbl[年月日],\"<\"&N$3)","v":2622},{"$f":"SUMIFS(入出金tbl[金額],入出金tbl[内　容],$D36,入出金tbl[年月日],\">=\"&N$3,入出金tbl[年月日],\"<\"&O$3)","v":2159},{"$f":"SUMIFS(入出金tbl[金額],入出金tbl[内　容],$D36,入出金tbl[年月日],\">=\"&O$3,入出金tbl[年月日],\"<\"&P$3)","v":962},{"$f":"SUMIFS(入出金tbl[金額],入出金tbl[内　容],$D36,入出金tbl[年月日],\">=\"&P$3,入出金tbl[年月日],\"<\"&Q$3)","v":2681}]
[null,null,"(2)","長期借入金調達",{"$f":"SUMIFS(入出金tbl[金額],入出金tbl[内　容],$D37,入出金tbl[年月日],\">=\"&E$3,入出金tbl[年月日],\"<\"&F$3)","v":408},{"$f":"SUMIFS(入出金tbl[金額],入出金tbl[内　容],$D37,入出金tbl[年月日],\">=\"&F$3,入出金tbl[年月日],\"<\"&G$3)","v":1996},{"$f":"SUMIFS(入出金tbl[金額],入出金tbl[内　容],$D37,入出金tbl[年月日],\">=\"&G$3,入出金tbl[年月日],\"<\"&H$3)","v":8631},{"$f":"SUMIFS(入出金tbl[金額],入出金tbl[内　容],$D37,入出金tbl[年月日],\">=\"&H$3,入出金tbl[年月日],\"<\"&I$3)","v":1188},{"$f":"SUMIFS(入出金tbl[金額],入出金tbl[内　容],$D37,入出金tbl[年月日],\">=\"&I$3,入出金tbl[年月日],\"<\"&J$3)","v":1842},{"$f":"SUMIFS(入出金tbl[金額],入出金tbl[内　容],$D37,入出金tbl[年月日],\">=\"&J$3,入出金tbl[年月日],\"<\"&K$3)","v":2253},{"$f":"SUMIFS(入出金tbl[金額],入出金tbl[内　容],$D37,入出金tbl[年月日],\">=\"&K$3,入出金tbl[年月日],\"<\"&L$3)","v":1642},{"$f":"SUMIFS(入出金tbl[金額],入出金tbl[内　容],$D37,入出金tbl[年月日],\">=\"&L$3,入出金tbl[年月日],\"<\"&M$3)","v":1622},{"$f":"SUMIFS(入出金tbl[金額],入出金tbl[内　容],$D37,入出金tbl[年月日],\">=\"&M$3,入出金tbl[年月日],\"<\"&N$3)","v":2868},{"$f":"SUMIFS(入出金tbl[金額],入出金tbl[内　容],$D37,入出金tbl[年月日],\">=\"&N$3,入出金tbl[年月日],\"<\"&O$3)","v":1883},{"$f":"SUMIFS(入出金tbl[金額],入出金tbl[内　容],$D37,入出金tbl[年月日],\">=\"&O$3,入出金tbl[年月日],\"<\"&P$3)","v":1314},{"$f":"SUMIFS(入出金tbl[金額],入出金tbl[内　容],$D37,入出金tbl[年月日],\">=\"&P$3,入出金tbl[年月日],\"<\"&Q$3)","v":2571}]
[null,null,"(3)","社長借入金調達",{"$f":"SUMIFS(入出金tbl[金額],入出金tbl[内　容],$D38,入出金tbl[年月日],\">=\"&E$3,入出金tbl[年月日],\"<\"&F$3)","v":1322},{"$f":"SUMIFS(入出金tbl[金額],入出金tbl[内　容],$D38,入出金tbl[年月日],\">=\"&F$3,入出金tbl[年月日],\"<\"&G$3)","v":2626},{"$f":"SUMIFS(入出金tbl[金額],入出金tbl[内　容],$D38,入出金tbl[年月日],\">=\"&G$3,入出金tbl[年月日],\"<\"&H$3)","v":9436},{"$f":"SUMIFS(入出金tbl[金額],入出金tbl[内　容],$D38,入出金tbl[年月日],\">=\"&H$3,入出金tbl[年月日],\"<\"&I$3)","v":1927},{"$f":"SUMIFS(入出金tbl[金額],入出金tbl[内　容],$D38,入出金tbl[年月日],\">=\"&I$3,入出金tbl[年月日],\"<\"&J$3)","v":1209},{"$f":"SUMIFS(入出金tbl[金額],入出金tbl[内　容],$D38,入出金tbl[年月日],\">=\"&J$3,入出金tbl[年月日],\"<\"&K$3)","v":1891},{"$f":"SUMIFS(入出金tbl[金額],入出金tbl[内　容],$D38,入出金tbl[年月日],\">=\"&K$3,入出金tbl[年月日],\"<\"&L$3)","v":1734},{"$f":"SUMIFS(入出金tbl[金額],入出金tbl[内　容],$D38,入出金tbl[年月日],\">=\"&L$3,入出金tbl[年月日],\"<\"&M$3)","v":2409},{"$f":"SUMIFS(入出金tbl[金額],入出金tbl[内　容],$D38,入出金tbl[年月日],\">=\"&M$3,入出金tbl[年月日],\"<\"&N$3)","v":2158},{"$f":"SUMIFS(入出金tbl[金額],入出金tbl[内　容],$D38,入出金tbl[年月日],\">=\"&N$3,入出金tbl[年月日],\"<\"&O$3)","v":1189},{"$f":"SUMIFS(入出金tbl[金額],入出金tbl[内　容],$D38,入出金tbl[年月日],\">=\"&O$3,入出金tbl[年月日],\"<\"&P$3)","v":431},{"$f":"SUMIFS(入出金tbl[金額],入出金tbl[内　容],$D38,入出金tbl[年月日],\">=\"&P$3,入出金tbl[年月日],\"<\"&Q$3)","v":2020}]
[null,null,"(4)","その他調達",{"$f":"SUMIFS(入出金tbl[金額],入出金tbl[内　容],$D39,入出金tbl[年月日],\">=\"&E$3,入出金tbl[年月日],\"<\"&F$3)","v":376},{"$f":"SUMIFS(入出金tbl[金額],入出金tbl[内　容],$D39,入出金tbl[年月日],\">=\"&F$3,入出金tbl[年月日],\"<\"&G$3)","v":2159},{"$f":"SUMIFS(入出金tbl[金額],入出金tbl[内　容],$D39,入出金tbl[年月日],\">=\"&G$3,入出金tbl[年月日],\"<\"&H$3)","v":9251},{"$f":"SUMIFS(入出金tbl[金額],入出金tbl[内　容],$D39,入出金tbl[年月日],\">=\"&H$3,入出金tbl[年月日],\"<\"&I$3)","v":1268},{"$f":"SUMIFS(入出金tbl[金額],入出金tbl[内　容],$D39,入出金tbl[年月日],\">=\"&I$3,入出金tbl[年月日],\"<\"&J$3)","v":1116},{"$f":"SUMIFS(入出金tbl[金額],入出金tbl[内　容],$D39,入出金tbl[年月日],\">=\"&J$3,入出金tbl[年月日],\"<\"&K$3)","v":2895},{"$f":"SUMIFS(入出金tbl[金額],入出金tbl[内　容],$D39,入出金tbl[年月日],\">=\"&K$3,入出金tbl[年月日],\"<\"&L$3)","v":2422},{"$f":"SUMIFS(入出金tbl[金額],入出金tbl[内　容],$D39,入出金tbl[年月日],\">=\"&L$3,入出金tbl[年月日],\"<\"&M$3)","v":1860},{"$f":"SUMIFS(入出金tbl[金額],入出金tbl[内　容],$D39,入出金tbl[年月日],\">=\"&M$3,入出金tbl[年月日],\"<\"&N$3)","v":1375},{"$f":"SUMIFS(入出金tbl[金額],入出金tbl[内　容],$D39,入出金tbl[年月日],\">=\"&N$3,入出金tbl[年月日],\"<\"&O$3)","v":3522},{"$f":"SUMIFS(入出金tbl[金額],入出金tbl[内　容],$D39,入出金tbl[年月日],\">=\"&O$3,入出金tbl[年月日],\"<\"&P$3)","v":1435},{"$f":"SUMIFS(入出金tbl[金額],入出金tbl[内　容],$D39,入出金tbl[年月日],\">=\"&P$3,入出金tbl[年月日],\"<\"&Q$3)","v":2361}]
[null,null,"(5)","----------",{"$f":"SUMIFS(入出金tbl[金額],入出金tbl[内　容],$D40,入出金tbl[年月日],\">=\"&E$3,入出金tbl[年月日],\"<\"&F$3)","v":0},{"$f":"SUMIFS(入出金tbl[金額],入出金tbl[内　容],$D40,入出金tbl[年月日],\">=\"&F$3,入出金tbl[年月日],\"<\"&G$3)","v":0},{"$f":"SUMIFS(入出金tbl[金額],入出金tbl[内　容],$D40,入出金tbl[年月日],\">=\"&G$3,入出金tbl[年月日],\"<\"&H$3)","v":0},{"$f":"SUMIFS(入出金tbl[金額],入出金tbl[内　容],$D40,入出金tbl[年月日],\">=\"&H$3,入出金tbl[年月日],\"<\"&I$3)","v":0},{"$f":"SUMIFS(入出金tbl[金額],入出金tbl[内　容],$D40,入出金tbl[年月日],\">=\"&I$3,入出金tbl[年月日],\"<\"&J$3)","v":0},{"$f":"SUMIFS(入出金tbl[金額],入出金tbl[内　容],$D40,入出金tbl[年月日],\">=\"&J$3,入出金tbl[年月日],\"<\"&K$3)","v":0},{"$f":"SUMIFS(入出金tbl[金額],入出金tbl[内　容],$D40,入出金tbl[年月日],\">=\"&K$3,入出金tbl[年月日],\"<\"&L$3)","v":0},{"$f":"SUMIFS(入出金tbl[金額],入出金tbl[内　容],$D40,入出金tbl[年月日],\">=\"&L$3,入出金tbl[年月日],\"<\"&M$3)","v":0},{"$f":"SUMIFS(入出金tbl[金額],入出金tbl[内　容],$D40,入出金tbl[年月日],\">=\"&M$3,入出金tbl[年月日],\"<\"&N$3)","v":0},{"$f":"SUMIFS(入出金tbl[金額],入出金tbl[内　容],$D40,入出金tbl[年月日],\">=\"&N$3,入出金tbl[年月日],\"<\"&O$3)","v":0},{"$f":"SUMIFS(入出金tbl[金額],入出金tbl[内　容],$D40,入出金tbl[年月日],\">=\"&O$3,入出金tbl[年月日],\"<\"&P$3)","v":0},{"$f":"SUMIFS(入出金tbl[金額],入出金tbl[内　容],$D40,入出金tbl[年月日],\">=\"&P$3,入出金tbl[年月日],\"<\"&Q$3)","v":0}]
[null,null,null,"収入合計(H)",{"$f":"SUM(E36:E40)","v":3218},{"$f":"SUM(F36:F40)","v":10174},35803,6230,6231,8211,8502,8300,9023,8753,4142,9633]
[null,"支出","(1)","短期借入金返済",{"$f":"SUMIFS(入出金tbl[金額],入出金tbl[内　容],$D42,入出金tbl[年月日],\">=\"&E$3,入出金tbl[年月日],\"<\"&F$3)","v":2945},{"$f":"SUMIFS(入出金tbl[金額],入出金tbl[内　容],$D42,入出金tbl[年月日],\">=\"&F$3,入出金tbl[年月日],\"<\"&G$3)","v":1332},{"$f":"SUMIFS(入出金tbl[金額],入出金tbl[内　容],$D42,入出金tbl[年月日],\">=\"&G$3,入出金tbl[年月日],\"<\"&H$3)","v":9770},{"$f":"SUMIFS(入出金tbl[金額],入出金tbl[内　容],$D42,入出金tbl[年月日],\">=\"&H$3,入出金tbl[年月日],\"<\"&I$3)","v":3386},{"$f":"SUMIFS(入出金tbl[金額],入出金tbl[内　容],$D42,入出金tbl[年月日],\">=\"&I$3,入出金tbl[年月日],\"<\"&J$3)","v":433},{"$f":"SUMIFS(入出金tbl[金額],入出金tbl[内　容],$D42,入出金tbl[年月日],\">=\"&J$3,入出金tbl[年月日],\"<\"&K$3)","v":3668},{"$f":"SUMIFS(入出金tbl[金額],入出金tbl[内　容],$D42,入出金tbl[年月日],\">=\"&K$3,入出金tbl[年月日],\"<\"&L$3)","v":2013},{"$f":"SUMIFS(入出金tbl[金額],入出金tbl[内　容],$D42,入出金tbl[年月日],\">=\"&L$3,入出金tbl[年月日],\"<\"&M$3)","v":2178},{"$f":"SUMIFS(入出金tbl[金額],入出金tbl[内　容],$D42,入出金tbl[年月日],\">=\"&M$3,入出金tbl[年月日],\"<\"&N$3)","v":1455},{"$f":"SUMIFS(入出金tbl[金額],入出金tbl[内　容],$D42,入出金tbl[年月日],\">=\"&N$3,入出金tbl[年月日],\"<\"&O$3)","v":1627},{"$f":"SUMIFS(入出金tbl[金額],入出金tbl[内　容],$D42,入出金tbl[年月日],\">=\"&O$3,入出金tbl[年月日],\"<\"&P$3)","v":2599},{"$f":"SUMIFS(入出金tbl[金額],入出金tbl[内　容],$D42,入出金tbl[年月日],\">=\"&P$3,入出金tbl[年月日],\"<\"&Q$3)","v":1109}]
[null,null,"(2)","長期借入金返済",{"$f":"SUMIFS(入出金tbl[金額],入出金tbl[内　容],$D43,入出金tbl[年月日],\">=\"&E$3,入出金tbl[年月日],\"<\"&F$3)","v":2521},{"$f":"SUMIFS(入出金tbl[金額],入出金tbl[内　容],$D43,入出金tbl[年月日],\">=\"&F$3,入出金tbl[年月日],\"<\"&G$3)","v":1143},{"$f":"SUMIFS(入出金tbl[金額],入出金tbl[内　容],$D43,入出金tbl[年月日],\">=\"&G$3,入出金tbl[年月日],\"<\"&H$3)","v":11108},{"$f":"SUMIFS(入出金tbl[金額],入出金tbl[内　容],$D43,入出金tbl[年月日],\">=\"&H$3,入出金tbl[年月日],\"<\"&I$3)","v":3394},{"$f":"SUMIFS(入出金tbl[金額],入出金tbl[内　容],$D43,入出金tbl[年月日],\">=\"&I$3,入出金tbl[年月日],\"<\"&J$3)","v":256},{"$f":"SUMIFS(入出金tbl[金額],入出金tbl[内　容],$D43,入出金tbl[年月日],\">=\"&J$3,入出金tbl[年月日],\"<\"&K$3)","v":1859},{"$f":"SUMIFS(入出金tbl[金額],入出金tbl[内　容],$D43,入出金tbl[年月日],\">=\"&K$3,入出金tbl[年月日],\"<\"&L$3)","v":2504},{"$f":"SUMIFS(入出金tbl[金額],入出金tbl[内　容],$D43,入出金tbl[年月日],\">=\"&L$3,入出金tbl[年月日],\"<\"&M$3)","v":1765},{"$f":"SUMIFS(入出金tbl[金額],入出金tbl[内　容],$D43,入出金tbl[年月日],\">=\"&M$3,入出金tbl[年月日],\"<\"&N$3)","v":2136},{"$f":"SUMIFS(入出金tbl[金額],入出金tbl[内　容],$D43,入出金tbl[年月日],\">=\"&N$3,入出金tbl[年月日],\"<\"&O$3)","v":1162},{"$f":"SUMIFS(入出金tbl[金額],入出金tbl[内　容],$D43,入出金tbl[年月日],\">=\"&O$3,入出金tbl[年月日],\"<\"&P$3)","v":3991},{"$f":"SUMIFS(入出金tbl[金額],入出金tbl[内　容],$D43,入出金tbl[年月日],\">=\"&P$3,入出金tbl[年月日],\"<\"&Q$3)","v":948}]
[null,null,"(3)","社長借入金返済",{"$f":"SUMIFS(入出金tbl[金額],入出金tbl[内　容],$D44,入出金tbl[年月日],\">=\"&E$3,入出金tbl[年月日],\"<\"&F$3)","v":1976},{"$f":"SUMIFS(入出金tbl[金額],入出金tbl[内　容],$D44,入出金tbl[年月日],\">=\"&F$3,入出金tbl[年月日],\"<\"&G$3)","v":2175},{"$f":"SUMIFS(入出金tbl[金額],入出金tbl[内　容],$D44,入出金tbl[年月日],\">=\"&G$3,入出金tbl[年月日],\"<\"&H$3)","v":11044},{"$f":"SUMIFS(入出金tbl[金額],入出金tbl[内　容],$D44,入出金tbl[年月日],\">=\"&H$3,入出金tbl[年月日],\"<\"&I$3)","v":2789},{"$f":"SUMIFS(入出金tbl[金額],入出金tbl[内　容],$D44,入出金tbl[年月日],\">=\"&I$3,入出金tbl[年月日],\"<\"&J$3)","v":433},{"$f":"SUMIFS(入出金tbl[金額],入出金tbl[内　容],$D44,入出金tbl[年月日],\">=\"&J$3,入出金tbl[年月日],\"<\"&K$3)","v":1934},{"$f":"SUMIFS(入出金tbl[金額],入出金tbl[内　容],$D44,入出金tbl[年月日],\">=\"&K$3,入出金tbl[年月日],\"<\"&L$3)","v":3577},{"$f":"SUMIFS(入出金tbl[金額],入出金tbl[内　容],$D44,入出金tbl[年月日],\">=\"&L$3,入出金tbl[年月日],\"<\"&M$3)","v":1801},{"$f":"SUMIFS(入出金tbl[金額],入出金tbl[内　容],$D44,入出金tbl[年月日],\">=\"&M$3,入出金tbl[年月日],\"<\"&N$3)","v":1778},{"$f":"SUMIFS(入出金tbl[金額],入出金tbl[内　容],$D44,入出金tbl[年月日],\">=\"&N$3,入出金tbl[年月日],\"<\"&O$3)","v":1466},{"$f":"SUMIFS(入出金tbl[金額],入出金tbl[内　容],$D44,入出金tbl[年月日],\">=\"&O$3,入出金tbl[年月日],\"<\"&P$3)","v":3458},{"$f":"SUMIFS(入出金tbl[金額],入出金tbl[内　容],$D44,入出金tbl[年月日],\">=\"&P$3,入出金tbl[年月日],\"<\"&Q$3)","v":1620}]
[null,null,"(4)","その他返済",{"$f":"SUMIFS(入出金tbl[金額],入出金tbl[内　容],$D45,入出金tbl[年月日],\">=\"&E$3,入出金tbl[年月日],\"<\"&F$3)","v":1350},{"$f":"SUMIFS(入出金tbl[金額],入出金tbl[内　容],$D45,入出金tbl[年月日],\">=\"&F$3,入出金tbl[年月日],\"<\"&G$3)","v":2473},{"$f":"SUMIFS(入出金tbl[金額],入出金tbl[内　容],$D45,入出金tbl[年月日],\">=\"&G$3,入出金tbl[年月日],\"<\"&H$3)","v":11728},{"$f":"SUMIFS(入出金tbl[金額],入出金tbl[内　容],$D45,入出金tbl[年月日],\">=\"&H$3,入出金tbl[年月日],\"<\"&I$3)","v":3615},{"$f":"SUMIFS(入出金tbl[金額],入出金tbl[内　容],$D45,入出金tbl[年月日],\">=\"&I$3,入出金tbl[年月日],\"<\"&J$3)","v":256},{"$f":"SUMIFS(入出金tbl[金額],入出金tbl[内　容],$D45,入出金tbl[年月日],\">=\"&J$3,入出金tbl[年月日],\"<\"&K$3)","v":2563},{"$f":"SUMIFS(入出金tbl[金額],入出金tbl[内　容],$D45,入出金tbl[年月日],\">=\"&K$3,入出金tbl[年月日],\"<\"&L$3)","v":1542},{"$f":"SUMIFS(入出金tbl[金額],入出金tbl[内　容],$D45,入出金tbl[年月日],\">=\"&L$3,入出金tbl[年月日],\"<\"&M$3)","v":1339},{"$f":"SUMIFS(入出金tbl[金額],入出金tbl[内　容],$D45,入出金tbl[年月日],\">=\"&M$3,入出金tbl[年月日],\"<\"&N$3)","v":2870},{"$f":"SUMIFS(入出金tbl[金額],入出金tbl[内　容],$D45,入出金tbl[年月日],\">=\"&N$3,入出金tbl[年月日],\"<\"&O$3)","v":2064},{"$f":"SUMIFS(入出金tbl[金額],入出金tbl[内　容],$D45,入出金tbl[年月日],\">=\"&O$3,入出金tbl[年月日],\"<\"&P$3)","v":1972},{"$f":"SUMIFS(入出金tbl[金額],入出金tbl[内　容],$D45,入出金tbl[年月日],\">=\"&P$3,入出金tbl[年月日],\"<\"&Q$3)","v":2158}]
[null,null,"(5)","----------",{"$f":"SUMIFS(入出金tbl[金額],入出金tbl[内　容],$D46,入出金tbl[年月日],\">=\"&E$3,入出金tbl[年月日],\"<\"&F$3)","v":0},{"$f":"SUMIFS(入出金tbl[金額],入出金tbl[内　容],$D46,入出金tbl[年月日],\">=\"&F$3,入出金tbl[年月日],\"<\"&G$3)","v":0},{"$f":"SUMIFS(入出金tbl[金額],入出金tbl[内　容],$D46,入出金tbl[年月日],\">=\"&G$3,入出金tbl[年月日],\"<\"&H$3)","v":0},{"$f":"SUMIFS(入出金tbl[金額],入出金tbl[内　容],$D46,入出金tbl[年月日],\">=\"&H$3,入出金tbl[年月日],\"<\"&I$3)","v":0},{"$f":"SUMIFS(入出金tbl[金額],入出金tbl[内　容],$D46,入出金tbl[年月日],\">=\"&I$3,入出金tbl[年月日],\"<\"&J$3)","v":0},{"$f":"SUMIFS(入出金tbl[金額],入出金tbl[内　容],$D46,入出金tbl[年月日],\">=\"&J$3,入出金tbl[年月日],\"<\"&K$3)","v":0},{"$f":"SUMIFS(入出金tbl[金額],入出金tbl[内　容],$D46,入出金tbl[年月日],\">=\"&K$3,入出金tbl[年月日],\"<\"&L$3)","v":0},{"$f":"SUMIFS(入出金tbl[金額],入出金tbl[内　容],$D46,入出金tbl[年月日],\">=\"&L$3,入出金tbl[年月日],\"<\"&M$3)","v":0},{"$f":"SUMIFS(入出金tbl[金額],入出金tbl[内　容],$D46,入出金tbl[年月日],\">=\"&M$3,入出金tbl[年月日],\"<\"&N$3)","v":0},{"$f":"SUMIFS(入出金tbl[金額],入出金tbl[内　容],$D46,入出金tbl[年月日],\">=\"&N$3,入出金tbl[年月日],\"<\"&O$3)","v":0},{"$f":"SUMIFS(入出金tbl[金額],入出金tbl[内　容],$D46,入出金tbl[年月日],\">=\"&O$3,入出金tbl[年月日],\"<\"&P$3)","v":0},{"$f":"SUMIFS(入出金tbl[金額],入出金tbl[内　容],$D46,入出金tbl[年月日],\">=\"&P$3,入出金tbl[年月日],\"<\"&Q$3)","v":0}]
[null,null,null,"支出合計(I)",{"$f":"SUM(E42:E46)","v":8792},{"$f":"SUM(F42:F46)","v":7123},43650,13184,1378,10024,9636,7083,8239,6319,12020,5835]
[null,"差引過不足(J=H-I)",null,null,{"$f":"E41-E47","v":-5574},{"$f":"F41-F47","v":3051},-7847,-6954,4853,-1813,-1134,1217,784,2434,-7878,3798]
["収入合計(B+E+H)",null,null,null,{"$f":"E11+E26+E41","v":13622},{"$f":"F11+F26+F41","v":28704},62105,26441,16794,22994,26889,23380,30835,23978,20876,22844]
["支出合計(C+F+I)",null,null,null,{"$f":"E20+E34+E47","v":38946},{"$f":"F20+F34+F47","v":25218},130327,32413,19744,36019,37746,32458,35673,34512,39168,22408]
["総合資金収支過不足",null,null,null,{"$f":"E49-E50","v":-25324},{"$f":"F49-F50","v":3486},{"$f":"G49-G50","v":-68222},-5972,-2950,-13025,-10857,-9078,-4838,-10534,-18292,436]
["翌月繰越現金・当座資金(A+D+G+J)",null,null,null,{"$f":"E4+E21+E35+E48","v":974676},{"$f":"F4+F21+F35+F48","v":978162},909940,903968,905668,892643,881786,872708,867870,857336,839044,839480]
["繰越調整",null,null,null,{"$f":"SUMIFS(入出金tbl[金額],入出金tbl[内　容],$A53,入出金tbl[年月日],\">=\"&E$3,入出金tbl[年月日],\"<\"&F$3)","v":0},{"$f":"SUMIFS(入出金tbl[金額],入出金tbl[内　容],$A53,入出金tbl[年月日],\">=\"&F$3,入出金tbl[年月日],\"<\"&G$3)","v":0},{"$f":"SUMIFS(入出金tbl[金額],入出金tbl[内　容],$A53,入出金tbl[年月日],\">=\"&G$3,入出金tbl[年月日],\"<\"&H$3)","v":0},{"$f":"SUMIFS(入出金tbl[金額],入出金tbl[内　容],$A53,入出金tbl[年月日],\">=\"&H$3,入出金tbl[年月日],\"<\"&I$3)","v":4650},{"$f":"SUMIFS(入出金tbl[金額],入出金tbl[内　容],$A53,入出金tbl[年月日],\">=\"&I$3,入出金tbl[年月日],\"<\"&J$3)","v":0},{"$f":"SUMIFS(入出金tbl[金額],入出金tbl[内　容],$A53,入出金tbl[年月日],\">=\"&J$3,入出金tbl[年月日],\"<\"&K$3)","v":0},{"$f":"SUMIFS(入出金tbl[金額],入出金tbl[内　容],$A53,入出金tbl[年月日],\">=\"&K$3,入出金tbl[年月日],\"<\"&L$3)","v":0},{"$f":"SUMIFS(入出金tbl[金額],入出金tbl[内　容],$A53,入出金tbl[年月日],\">=\"&L$3,入出金tbl[年月日],\"<\"&M$3)","v":0},{"$f":"SUMIFS(入出金tbl[金額],入出金tbl[内　容],$A53,入出金tbl[年月日],\">=\"&M$3,入出金tbl[年月日],\"<\"&N$3)","v":0},{"$f":"SUMIFS(入出金tbl[金額],入出金tbl[内　容],$A53,入出金tbl[年月日],\">=\"&N$3,入出金tbl[年月日],\"<\"&O$3)","v":0},{"$f":"SUMIFS(入出金tbl[金額],入出金tbl[内　容],$A53,入出金tbl[年月日],\">=\"&O$3,入出金tbl[年月日],\"<\"&P$3)","v":0},{"$f":"SUMIFS(入出金tbl[金額],入出金tbl[内　容],$A53,入出金tbl[年月日],\">=\"&P$3,入出金tbl[年月日],\"<\"&Q$3)","v":0}]

{"sheet":"日繰り表","index":2,"n_rows":52,"n_cols":36,"rows_kept":52,"cut":false,"hidden":false,"merged":[[34,0,46,0],[34,1,39,1],[40,1,45,1],[46,1,46,3],[0,0,0,3],[2,0,2,3],[3,0,19,0],[3,1,9,1],[10,1,18,1],[19,1,19,3],[1,0,1,3],[20,0,33,0],[20,1,24,1],[25,1,32,1],[33,1,33,3],[47,0,47,3],[48,0,48,3],[49,0,49,3],[50,0,50,3],[51,0,51,3]]}
[{"$f":"科目!W13","v":"K-Oneコンサルティング"},null,null,null,null,null,null,null,null,null,null,null,null,"(円)",null,null,null,null,null,null,null,null,null,"(円)",null,null,null,null,null,null,null,null,null,null,"(円)","この列は日付範囲設定のため必要"]
[{"$f":"YEAR(E2)&\"年\"&MONTH(E2)&\"月の日繰り表\"","v":"2018年5月の日繰り表"},null,null,null,"2018-05-01",{"$f":"E2+1","v":"2018-05-02"},{"$f":"F2+1","v":"2018-05-03"},"2018-05-04","2018-05-05","2018-05-06","2018-05-07","2018-05-08","2018-05-09","2018-05-10","2018-05-11","2018-05-12","2018-05-13",{"$f":"Q2+1","v":"2018-05-14"},"2018-05-15","2018-05-16","2018-05-17","2018-05-18","2018-05-19","2018-05-20","2018-05-21","2018-05-22","2018-05-23",{"$f":"AA2+1","v":"2018-05-24"},"2018-05-25","2018-05-26","2018-05-27","2018-05-28","2018-05-29","2018-05-30",{"$f":"AH2+1","v":"2018-05-31"},{"$f":"AI2+1","v":"2018-06-01"}]
["繰越現金・当座資金（A)",null,null,null,{"$f":"HLOOKUP(E2,資金繰り表!E3:P4,2,FALSE)","v":908618},{"$f":"E51+E52","v":909769},{"$f":"F51+F52","v":910894},912045,912610,913848,912982,912228,910648,909352,907772,906433,905396,904707,905623,907008,907221,907481,907741,908256,908771,909560,911905,913203,913854,913913,913996,914461,912201,910696,908504]
["経常収支","収入","(1)",{"$f":"資金繰り表!D5","v":"現金売上"},{"$f":"SUMIFS(入出金tbl[金額],入出金tbl[内　容],$D4,入出金tbl[年月日],\">=\"&E$2,入出金tbl[年月日],\"<\"&F$2)","v":0},{"$f":"SUMIFS(入出金tbl[金額],入出金tbl[内　容],$D4,入出金tbl[年月日],\">=\"&F$2,入出金tbl[年月日],\"<\"&G$2)","v":0},{"$f":"SUMIFS(入出金tbl[金額],入出金tbl[内　容],$D4,入出金tbl[年月日],\">=\"&G$2,入出金tbl[年月日],\"<\"&H$2)","v":0},{"$f":"SUMIFS(入出金tbl[金額],入出金tbl[内　容],$D4,入出金tbl[年月日],\">=\"&H$2,入出金tbl[年月日],\"<\"&I$2)","v":0},{"$f":"SUMIFS(入出金tbl[金額],入出金tbl[内　容],$D4,入出金tbl[年月日],\">=\"&I$2,入出金tbl[年月日],\"<\"&J$2)","v":0},{"$f":"SUMIFS(入出金tbl[金額],入出金tbl[内　容],$D4,入出金tbl[年月日],\">=\"&J$2,入出金tbl[年月日],\"<\"&K$2)","v":0},{"$f":"SUMIFS(入出金tbl[金額],入出金tbl[内　容],$D4,入出金tbl[年月日],\">=\"&K$2,入出金tbl[年月日],\"<\"&L$2)","v":0},{"$f":"SUMIFS(入出金tbl[金額],入出金tbl[内　容],$D4,入出金tbl[年月日],\">=\"&L$2,入出金tbl[年月日],\"<\"&M$2)","v":0},{"$f":"SUMIFS(入出金tbl[金額],入出金tbl[内　容],$D4,入出金tbl[年月日],\">=\"&M$2,入出金tbl[年月日],\"<\"&N$2)","v":0},{"$f":"SUMIFS(入出金tbl[金額],入出金tbl[内　容],$D4,入出金tbl[年月日],\">=\"&N$2,入出金tbl[年月日],\"<\"&O$2)","v":0},{"$f":"SUMIFS(入出金tbl[金額],入出金tbl[内　容],$D4,入出金tbl[年月日],\">=\"&O$2,入出金tbl[年月日],\"<\"&P$2)","v":0},{"$f":"SUMIFS(入出金tbl[金額],入出金tbl[内　容],$D4,入出金tbl[年月日],\">=\"&P$2,入出金tbl[年月日],\"<\"&Q$2)","v":0},{"$f":"SUMIFS(入出金tbl[金額],入出金tbl[内　容],$D4,入出金tbl[年月日],\">=\"&Q$2,入出金tbl[年月日],\"<\"&R$2)","v":0},{"$f":"SUMIFS(入出金tbl[金額],入出金tbl[内　容],$D4,入出金tbl[年月日],\">=\"&R$2,入出金tbl[年月日],\"<\"&S$2)","v":1172},{"$f":"SUMIFS(入出金tbl[金額],入出金tbl[内　容],$D4,入出金tbl[年月日],\">=\"&S$2,入出金tbl[年月日],\"<\"&T$2)","v":0},{"$f":"SUMIFS(入出金tbl[金額],入出金tbl[内　容],$D4,入出金tbl[年月日],\">=\"&T$2,入出金tbl[年月日],\"<\"&U$2)","v":0},{"$f":"SUMIFS(入出金tbl[金額],入出金tbl[内　容],$D4,入出金tbl[年月日],\">=\"&U$2,入出金tbl[年月日],\"<\"&V$2)","v":0},{"$f":"SUMIFS(入出金tbl[金額],入出金tbl[内　容],$D4,入出金tbl[年月日],\">=\"&V$2,入出金tbl[年月日],\"<\"&W$2)","v":0},{"$f":"SUMIFS(入出金tbl[金額],入出金tbl[内　容],$D4,入出金tbl[年月日],\">=\"&W$2,入出金tbl[年月日],\"<\"&X$2)","v":0},{"$f":"SUMIFS(入出金tbl[金額],入出金tbl[内　容],$D4,入出金tbl[年月日],\">=\"&X$2,入出金tbl[年月日],\"<\"&Y$2)","v":0},{"$f":"SUMIFS(入出金tbl[金額],入出金tbl[内　容],$D4,入出金tbl[年月日],\">=\"&Y$2,入出金tbl[年月日],\"<\"&Z$2)","v":0},{"$f":"SUMIFS(入出金tbl[金額],入出金tbl[内　容],$D4,入出金tbl[年月日],\">=\"&Z$2,入出金tbl[年月日],\"<\"&AA$2)","v":771},{"$f":"SUMIFS(入出金tbl[金額],入出金tbl[内　容],$D4,入出金tbl[年月日],\">=\"&AA$2,入出金tbl[年月日],\"<\"&AB$2)","v":0},{"$f":"SUMIFS(入出金tbl[金額],入出金tbl[内　容],$D4,入出金tbl[年月日],\">=\"&AB$2,入出金tbl[年月日],\"<\"&AC$2)","v":0},{"$f":"SUMIFS(入出金tbl[金額],入出金tbl[内　容],$D4,入出金tbl[年月日],\">=\"&AC$2,入出金tbl[年月日],\"<\"&AD$2)","v":0},{"$f":"SUMIFS(入出金tbl[金額],入出金tbl[内　容],$D4,入出金tbl[年月日],\">=\"&AD$2,入出金tbl[年月日],\"<\"&AE$2)","v":0},{"$f":"SUMIFS(入出金tbl[金額],入出金tbl[内　容],$D4,入出金tbl[年月日],\">=\"&AE$2,入出金tbl[年月日],\"<\"&AF$2)","v":0},{"$f":"SUMIFS(入出金tbl[金額],入出金tbl[内　容],$D4,入出金tbl[年月日],\">=\"&AF$2,入出金tbl[年月日],\"<\"&AG$2)","v":0},{"$f":"SUMIFS(入出金tbl[金額],入出金tbl[内　容],$D4,入出金tbl[年月日],\">=\"&AG$2,入出金tbl[年月日],\"<\"&AH$2)","v":0},{"$f":"SUMIFS(入出金tbl[金額],入出金tbl[内　容],$D4,入出金tbl[年月日],\">=\"&AH$2,入出金tbl[年月日],\"<\"&AI$2)","v":0},{"$f":"SUMIFS(入出金tbl[金額],入出金tbl[内　容],$D4,入出金tbl[年月日],\">=\"&AI$2,入出金tbl[年月日],\"<\"&AJ$2)","v":0}]
[null,null,"(2)",{"$f":"資金繰り表!D6","v":"売掛金回収"},{"$f":"SUMIFS(入出金tbl[金額],入出金tbl[内　容],$D5,入出金tbl[年月日],\">=\"&E$2,入出金tbl[年月日],\"<\"&F$2)","v":0},{"$f":"SUMIFS(入出金tbl[金額],入出金tbl[内　容],$D5,入出金tbl[年月日],\">=\"&F$2,入出金tbl[年月日],\"<\"&G$2)","v":0},{"$f":"SUMIFS(入出金tbl[金額],入出金tbl[内　容],$D5,入出金tbl[年月日],\">=\"&G$2,入出金tbl[年月日],\"<\"&H$2)","v":0},{"$f":"SUMIFS(入出金tbl[金額],入出金tbl[内　容],$D5,入出金tbl[年月日],\">=\"&H$2,入出金tbl[年月日],\"<\"&I$2)","v":0},{"$f":"SUMIFS(入出金tbl[金額],入出金tbl[内　容],$D5,入出金tbl[年月日],\">=\"&I$2,入出金tbl[年月日],\"<\"&J$2)","v":0},{"$f":"SUMIFS(入出金tbl[金額],入出金tbl[内　容],$D5,入出金tbl[年月日],\">=\"&J$2,入出金tbl[年月日],\"<\"&K$2)","v":0},{"$f":"SUMIFS(入出金tbl[金額],入出金tbl[内　容],$D5,入出金tbl[年月日],\">=\"&K$2,入出金tbl[年月日],\"<\"&L$2)","v":0},{"$f":"SUMIFS(入出金tbl[金額],入出金tbl[内　容],$D5,入出金tbl[年月日],\">=\"&L$2,入出金tbl[年月日],\"<\"&M$2)","v":0},{"$f":"SUMIFS(入出金tbl[金額],入出金tbl[内　容],$D5,入出金tbl[年月日],\">=\"&M$2,入出金tbl[年月日],\"<\"&N$2)","v":0},{"$f":"SUMIFS(入出金tbl[金額],入出金tbl[内　容],$D5,入出金tbl[年月日],\">=\"&N$2,入出金tbl[年月日],\"<\"&O$2)","v":0},{"$f":"SUMIFS(入出金tbl[金額],入出金tbl[内　容],$D5,入出金tbl[年月日],\">=\"&O$2,入出金tbl[年月日],\"<\"&P$2)","v":0},{"$f":"SUMIFS(入出金tbl[金額],入出金tbl[内　容],$D5,入出金tbl[年月日],\">=\"&P$2,入出金tbl[年月日],\"<\"&Q$2)","v":0},{"$f":"SUMIFS(入出金tbl[金額],入出金tbl[内　容],$D5,入出金tbl[年月日],\">=\"&Q$2,入出金tbl[年月日],\"<\"&R$2)","v":0},{"$f":"SUMIFS(入出金tbl[金額],入出金tbl[内　容],$D5,入出金tbl[年月日],\">=\"&R$2,入出金tbl[年月日],\"<\"&S$2)","v":0},{"$f":"SUMIFS(入出金tbl[金額],入出金tbl[内　容],$D5,入出金tbl[年月日],\">=\"&S$2,入出金tbl[年月日],\"<\"&T$2)","v":213},{"$f":"SUMIFS(入出金tbl[金額],入出金tbl[内　容],$D5,入出金tbl[年月日],\">=\"&T$2,入出金tbl[年月日],\"<\"&U$2)","v":0},{"$f":"SUMIFS(入出金tbl[金額],入出金tbl[内　容],$D5,入出金tbl[年月日],\">=\"&U$2,入出金tbl[年月日],\"<\"&V$2)","v":0},{"$f":"SUMIFS(入出金tbl[金額],入出金tbl[内　容],$D5,入出金tbl[年月日],\">=\"&V$2,入出金tbl[年月日],\"<\"&W$2)","v":0},{"$f":"SUMIFS(入出金tbl[金額],入出金tbl[内　容],$D5,入出金tbl[年月日],\">=\"&W$2,入出金tbl[年月日],\"<\"&X$2)","v":0},{"$f":"SUMIFS(入出金tbl[金額],入出金tbl[内　容],$D5,入出金tbl[年月日],\">=\"&X$2,入出金tbl[年月日],\"<\"&Y$2)","v":0},{"$f":"SUMIFS(入出金tbl[金額],入出金tbl[内　容],$D5,入出金tbl[年月日],\">=\"&Y$2,入出金tbl[年月日],\"<\"&Z$2)","v":0},{"$f":"SUMIFS(入出金tbl[金額],入出金tbl[内　容],$D5,入出金tbl[年月日],\">=\"&Z$2,入出金tbl[年月日],\"<\"&AA$2)","v":785},{"$f":"SUMIFS(入出金tbl[金額],入出金tbl[内　容],$D5,入出金tbl[年月日],\">=\"&AA$2,入出金tbl[年月日],\"<\"&AB$2)","v":0},{"$f":"SUMIFS(入出金tbl[金額],入出金tbl[内　容],$D5,入出金tbl[年月日],\">=\"&AB$2,入出金tbl[年月日],\"<\"&AC$2)","v":0},{"$f":"SUMIFS(入出金tbl[金額],入出金tbl[内　容],$D5,入出金tbl[年月日],\">=\"&AC$2,入出金tbl[年月日],\"<\"&AD$2)","v":0},{"$f":"SUMIFS(入出金tbl[金額],入出金tbl[内　容],$D5,入出金tbl[年月日],\">=\"&AD$2,入出金tbl[年月日],\"<\"&AE$2)","v":0},{"$f":"SUMIFS(入出金tbl[金額],入出金tbl[内　容],$D5,入出金tbl[年月日],\">=\"&AE$2,入出金tbl[年月日],\"<\"&AF$2)","v":0},{"$f":"SUMIFS(入出金tbl[金額],入出金tbl[内　容],$D5,入出金tbl[年月日],\">=\"&AF$2,入出金tbl[年月日],\"<\"&AG$2)","v":0},{"$f":"SUMIFS(入出金tbl[金額],入出金tbl[内　容],$D5,入出金tbl[年月日],\">=\"&AG$2,入出金tbl[年月日],\"<\"&AH$2)","v":0},{"$f":"SUMIFS(入出金tbl[金額],入出金tbl[内　容],$D5,入出金tbl[年月日],\">=\"&AH$2,入出金tbl[年月日],\"<\"&AI$2)","v":0},{"$f":"SUMIFS(入出金tbl[金額],入出金tbl[内　容],$D5,入出金tbl[年月日],\">=\"&AI$2,入出金tbl[年月日],\"<\"&AJ$2)","v":0}]
[null,null,"(3)",{"$f":"資金繰り表!D7","v":"受取手形回収"},{"$f":"SUMIFS(入出金tbl[金額],入出金tbl[内　容],$D6,入出金tbl[年月日],\">=\"&E$2,入出金tbl[年月日],\"<\"&F$2)","v":0},{"$f":"SUMIFS(入出金tbl[金額],入出金tbl[内　容],$D6,入出金tbl[年月日],\">=\"&F$2,入出金tbl[年月日],\"<\"&G$2)","v":0},{"$f":"SUMIFS(入出金tbl[金額],入出金tbl[内　容],$D6,入出金tbl[年月日],\">=\"&G$2,入出金tbl[年月日],\"<\"&H$2)","v":0},{"$f":"SUMIFS(入出金tbl[金額],入出金tbl[内　容],$D6,入出金tbl[年月日],\">=\"&H$2,入出金tbl[年月日],\"<\"&I$2)","v":0},{"$f":"SUMIFS(入出金tbl[金額],入出金tbl[内　容],$D6,入出金tbl[年月日],\">=\"&I$2,入出金tbl[年月日],\"<\"&J$2)","v":0},{"$f":"SUMIFS(入出金tbl[金額],入出金tbl[内　容],$D6,入出金tbl[年月日],\">=\"&J$2,入出金tbl[年月日],\"<\"&K$2)","v":0},{"$f":"SUMIFS(入出金tbl[金額],入出金tbl[内　容],$D6,入出金tbl[年月日],\">=\"&K$2,入出金tbl[年月日],\"<\"&L$2)","v":0},{"$f":"SUMIFS(入出金tbl[金額],入出金tbl[内　容],$D6,入出金tbl[年月日],\">=\"&L$2,入出金tbl[年月日],\"<\"&M$2)","v":0},{"$f":"SUMIFS(入出金tbl[金額],入出金tbl[内　容],$D6,入出金tbl[年月日],\">=\"&M$2,入出金tbl[年月日],\"<\"&N$2)","v":0},{"$f":"SUMIFS(入出金tbl[金額],入出金tbl[内　容],$D6,入出金tbl[年月日],\">=\"&N$2,入出金tbl[年月日],\"<\"&O$2)","v":0},{"$f":"SUMIFS(入出金tbl[金額],入出金tbl[内　容],$D6,入出金tbl[年月日],\">=\"&O$2,入出金tbl[年月日],\"<\"&P$2)","v":0},{"$f":"SUMIFS(入出金tbl[金額],入出金tbl[内　容],$D6,入出金tbl[年月日],\">=\"&P$2,入出金tbl[年月日],\"<\"&Q$2)","v":0},{"$f":"SUMIFS(入出金tbl[金額],入出金tbl[内　容],$D6,入出金tbl[年月日],\">=\"&Q$2,入出金tbl[年月日],\"<\"&R$2)","v":0},{"$f":"SUMIFS(入出金tbl[金額],入出金tbl[内　容],$D6,入出金tbl[年月日],\">=\"&R$2,入出金tbl[年月日],\"<\"&S$2)","v":0},{"$f":"SUMIFS(入出金tbl[金額],入出金tbl[内　容],$D6,入出金tbl[年月日],\">=\"&S$2,入出金tbl[年月日],\"<\"&T$2)","v":1172},{"$f":"SUMIFS(入出金tbl[金額],入出金tbl[内　容],$D6,入出金tbl[年月日],\">=\"&T$2,入出金tbl[年月日],\"<\"&U$2)","v":0},{"$f":"SUMIFS(入出金tbl[金額],入出金tbl[内　容],$D6,入出金tbl[年月日],\">=\"&U$2,入出金tbl[年月日],\"<\"&V$2)","v":0},{"$f":"SUMIFS(入出金tbl[金額],入出金tbl[内　容],$D6,入出金tbl[年月日],\">=\"&V$2,入出金tbl[年月日],\"<\"&W$2)","v":0},{"$f":"SUMIFS(入出金tbl[金額],入出金tbl[内　容],$D6,入出金tbl[年月日],\">=\"&W$2,入出金tbl[年月日],\"<\"&X$2)","v":0},{"$f":"SUMIFS(入出金tbl[金額],入出金tbl[内　容],$D6,入出金tbl[年月日],\">=\"&X$2,入出金tbl[年月日],\"<\"&Y$2)","v":0},{"$f":"SUMIFS(入出金tbl[金額],入出金tbl[内　容],$D6,入出金tbl[年月日],\">=\"&Y$2,入出金tbl[年月日],\"<\"&Z$2)","v":0},{"$f":"SUMIFS(入出金tbl[金額],入出金tbl[内　容],$D6,入出金tbl[年月日],\">=\"&Z$2,入出金tbl[年月日],\"<\"&AA$2)","v":0},{"$f":"SUMIFS(入出金tbl[金額],入出金tbl[内　容],$D6,入出金tbl[年月日],\">=\"&AA$2,入出金tbl[年月日],\"<\"&AB$2)","v":771},{"$f":"SUMIFS(入出金tbl[金額],入出金tbl[内　容],$D6,入出金tbl[年月日],\">=\"&AB$2,入出金tbl[年月日],\"<\"&AC$2)","v":0},{"$f":"SUMIFS(入出金tbl[金額],入出金tbl[内　容],$D6,入出金tbl[年月日],\">=\"&AC$2,入出金tbl[年月日],\"<\"&AD$2)","v":0},{"$f":"SUMIFS(入出金tbl[金額],入出金tbl[内　容],$D6,入出金tbl[年月日],\">=\"&AD$2,入出金tbl[年月日],\"<\"&AE$2)","v":0},{"$f":"SUMIFS(入出金tbl[金額],入出金tbl[内　容],$D6,入出金tbl[年月日],\">=\"&AE$2,入出金tbl[年月日],\"<\"&AF$2)","v":0},{"$f":"SUMIFS(入出金tbl[金額],入出金tbl[内　容],$D6,入出金tbl[年月日],\">=\"&AF$2,入出金tbl[年月日],\"<\"&AG$2)","v":0},{"$f":"SUMIFS(入出金tbl[金額],入出金tbl[内　容],$D6,入出金tbl[年月日],\">=\"&AG$2,入出金tbl[年月日],\"<\"&AH$2)","v":0},{"$f":"SUMIFS(入出金tbl[金額],入出金tbl[内　容],$D6,入出金tbl[年月日],\">=\"&AH$2,入出金tbl[年月日],\"<\"&AI$2)","v":0},{"$f":"SUMIFS(入出金tbl[金額],入出金tbl[内　容],$D6,入出金tbl[年月日],\">=\"&AI$2,入出金tbl[年月日],\"<\"&AJ$2)","v":0}]
[null,null,"(4)",{"$f":"資金繰り表!D8","v":"手形割引"},{"$f":"SUMIFS(入出金tbl[金額],入出金tbl[内　容],$D7,入出金tbl[年月日],\">=\"&E$2,入出金tbl[年月日],\"<\"&F$2)","v":0},{"$f":"SUMIFS(入出金tbl[金額],入出金tbl[内　容],$D7,入出金tbl[年月日],\">=\"&F$2,入出金tbl[年月日],\"<\"&G$2)","v":0},{"$f":"SUMIFS(入出金tbl[金額],入出金tbl[内　容],$D7,入出金tbl[年月日],\">=\"&G$2,入出金tbl[年月日],\"<\"&H$2)","v":0},{"$f":"SUMIFS(入出金tbl[金額],入出金tbl[内　容],$D7,入出金tbl[年月日],\">=\"&H$2,入出金tbl[年月日],\"<\"&I$2)","v":0},{"$f":"SUMIFS(入出金tbl[金額],入出金tbl[内　容],$D7,入出金tbl[年月日],\">=\"&I$2,入出金tbl[年月日],\"<\"&J$2)","v":0},{"$f":"SUMIFS(入出金tbl[金額],入出金tbl[内　容],$D7,入出金tbl[年月日],\">=\"&J$2,入出金tbl[年月日],\"<\"&K$2)","v":0},{"$f":"SUMIFS(入出金tbl[金額],入出金tbl[内　容],$D7,入出金tbl[年月日],\">=\"&K$2,入出金tbl[年月日],\"<\"&L$2)","v":0},{"$f":"SUMIFS(入出金tbl[金額],入出金tbl[内　容],$D7,入出金tbl[年月日],\">=\"&L$2,入出金tbl[年月日],\"<\"&M$2)","v":0},{"$f":"SUMIFS(入出金tbl[金額],入出金tbl[内　容],$D7,入出金tbl[年月日],\">=\"&M$2,入出金tbl[年月日],\"<\"&N$2)","v":0},{"$f":"SUMIFS(入出金tbl[金額],入出金tbl[内　容],$D7,入出金tbl[年月日],\">=\"&N$2,入出金tbl[年月日],\"<\"&O$2)","v":0},{"$f":"SUMIFS(入出金tbl[金額],入出金tbl[内　容],$D7,入出金tbl[年月日],\">=\"&O$2,入出金tbl[年月日],\"<\"&P$2)","v":0},{"$f":"SUMIFS(入出金tbl[金額],入出金tbl[内　容],$D7,入出金tbl[年月日],\">=\"&P$2,入出金tbl[年月日],\"<\"&Q$2)","v":0},{"$f":"SUMIFS(入出金tbl[金額],入出金tbl[内　容],$D7,入出金tbl[年月日],\">=\"&Q$2,入出金tbl[年月日],\"<\"&R$2)","v":0},{"$f":"SUMIFS(入出金tbl[金額],入出金tbl[内　容],$D7,入出金tbl[年月日],\">=\"&R$2,入出金tbl[年月日],\"<\"&S$2)","v":0},{"$f":"SUMIFS(入出金tbl[金額],入出金tbl[内　容],$D7,入出金tbl[年月日],\">=\"&S$2,入出金tbl[年月日],\"<\"&T$2)","v":0},{"$f":"SUMIFS(入出金tbl[金額],入出金tbl[内　容],$D7,入出金tbl[年月日],\">=\"&T$2,入出金tbl[年月日],\"<\"&U$2)","v":213},{"$f":"SUMIFS(入出金tbl[金額],入出金tbl[内　容],$D7,入出金tbl[年月日],\">=\"&U$2,入出金tbl[年月日],\"<\"&V$2)","v":0},{"$f":"SUMIFS(入出金tbl[金額],入出金tbl[内　容],$D7,入出金tbl[年月日],\">=\"&V$2,入出金tbl[年月日],\"<\"&W$2)","v":0},{"$f":"SUMIFS(入出金tbl[金額],入出金tbl[内　容],$D7,入出金tbl[年月日],\">=\"&W$2,入出金tbl[年月日],\"<\"&X$2)","v":0},{"$f":"SUMIFS(入出金tbl[金額],入出金tbl[内　容],$D7,入出金tbl[年月日],\">=\"&X$2,入出金tbl[年月日],\"<\"&Y$2)","v":0},{"$f":"SUMIFS(入出金tbl[金額],入出金tbl[内　容],$D7,入出金tbl[年月日],\">=\"&Y$2,入出金tbl[年月日],\"<\"&Z$2)","v":0},{"$f":"SUMIFS(入出金tbl[金額],入出金tbl[内　容],$D7,入出金tbl[年月日],\">=\"&Z$2,入出金tbl[年月日],\"<\"&AA$2)","v":0},{"$f":"SUMIFS(入出金tbl[金額],入出金tbl[内　容],$D7,入出金tbl[年月日],\">=\"&AA$2,入出金tbl[年月日],\"<\"&AB$2)","v":464},{"$f":"SUMIFS(入出金tbl[金額],入出金tbl[内　容],$D7,入出金tbl[年月日],\">=\"&AB$2,入出金tbl[年月日],\"<\"&AC$2)","v":0},{"$f":"SUMIFS(入出金tbl[金額],入出金tbl[内　容],$D7,入出金tbl[年月日],\">=\"&AC$2,入出金tbl[年月日],\"<\"&AD$2)","v":0},{"$f":"SUMIFS(入出金tbl[金額],入出金tbl[内　容],$D7,入出金tbl[年月日],\">=\"&AD$2,入出金tbl[年月日],\"<\"&AE$2)","v":0},{"$f":"SUMIFS(入出金tbl[金額],入出金tbl[内　容],$D7,入出金tbl[年月日],\">=\"&AE$2,入出金tbl[年月日],\"<\"&AF$2)","v":0},{"$f":"SUMIFS(入出金tbl[金額],入出金tbl[内　容],$D7,入出金tbl[年月日],\">=\"&AF$2,入出金tbl[年月日],\"<\"&AG$2)","v":0},{"$f":"SUMIFS(入出金tbl[金額],入出金tbl[内　容],$D7,入出金tbl[年月日],\">=\"&AG$2,入出金tbl[年月日],\"<\"&AH$2)","v":0},{"$f":"SUMIFS(入出金tbl[金額],入出金tbl[内　容],$D7,入出金tbl[年月日],\">=\"&AH$2,入出金tbl[年月日],\"<\"&AI$2)","v":0},{"$f":"SUMIFS(入出金tbl[金額],入出金tbl[内　容],$D7,入出金tbl[年月日],\">=\"&AI$2,入出金tbl[年月日],\"<\"&AJ$2)","v":0}]
[null,null,"(5)",{"$f":"資金繰り表!D9","v":"その他収入"},{"$f":"SUMIFS(入出金tbl[金額],入出金tbl[内　容],$D8,入出金tbl[年月日],\">=\"&E$2,入出金tbl[年月日],\"<\"&F$2)","v":0},{"$f":"SUMIFS(入出金tbl[金額],入出金tbl[内　容],$D8,入出金tbl[年月日],\">=\"&F$2,入出金tbl[年月日],\"<\"&G$2)","v":0},{"$f":"SUMIFS(入出金tbl[金額],入出金tbl[内　容],$D8,入出金tbl[年月日],\">=\"&G$2,入出金tbl[年月日],\"<\"&H$2)","v":0},{"$f":"SUMIFS(入出金tbl[金額],入出金tbl[内　容],$D8,入出金tbl[年月日],\">=\"&H$2,入出金tbl[年月日],\"<\"&I$2)","v":0},{"$f":"SUMIFS(入出金tbl[金額],入出金tbl[内　容],$D8,入出金tbl[年月日],\">=\"&I$2,入出金tbl[年月日],\"<\"&J$2)","v":0},{"$f":"SUMIFS(入出金tbl[金額],入出金tbl[内　容],$D8,入出金tbl[年月日],\">=\"&J$2,入出金tbl[年月日],\"<\"&K$2)","v":0},{"$f":"SUMIFS(入出金tbl[金額],入出金tbl[内　容],$D8,入出金tbl[年月日],\">=\"&K$2,入出金tbl[年月日],\"<\"&L$2)","v":0},{"$f":"SUMIFS(入出金tbl[金額],入出金tbl[内　容],$D8,入出金tbl[年月日],\">=\"&L$2,入出金tbl[年月日],\"<\"&M$2)","v":0},{"$f":"SUMIFS(入出金tbl[金額],入出金tbl[内　容],$D8,入出金tbl[年月日],\">=\"&M$2,入出金tbl[年月日],\"<\"&N$2)","v":0},{"$f":"SUMIFS(入出金tbl[金額],入出金tbl[内　容],$D8,入出金tbl[年月日],\">=\"&N$2,入出金tbl[年月日],\"<\"&O$2)","v":0},{"$f":"SUMIFS(入出金tbl[金額],入出金tbl[内　容],$D8,入出金tbl[年月日],\">=\"&O$2,入出金tbl[年月日],\"<\"&P$2)","v":0},{"$f":"SUMIFS(入出金tbl[金額],入出金tbl[内　容],$D8,入出金tbl[年月日],\">=\"&P$2,入出金tbl[年月日],\"<\"&Q$2)","v":0},{"$f":"SUMIFS(入出金tbl[金額],入出金tbl[内　容],$D8,入出金tbl[年月日],\">=\"&Q$2,入出金tbl[年月日],\"<\"&R$2)","v":0},{"$f":"SUMIFS(入出金tbl[金額],入出金tbl[内　容],$D8,入出金tbl[年月日],\">=\"&R$2,入出金tbl[年月日],\"<\"&S$2)","v":0},{"$f":"SUMIFS(入出金tbl[金額],入出金tbl[内　容],$D8,入出金tbl[年月日],\">=\"&S$2,入出金tbl[年月日],\"<\"&T$2)","v":0},{"$f":"SUMIFS(入出金tbl[金額],入出金tbl[内　容],$D8,入出金tbl[年月日],\">=\"&T$2,入出金tbl[年月日],\"<\"&U$2)","v":0},{"$f":"SUMIFS(入出金tbl[金額],入出金tbl[内　容],$D8,入出金tbl[年月日],\">=\"&U$2,入出金tbl[年月日],\"<\"&V$2)","v":260},{"$f":"SUMIFS(入出金tbl[金額],入出金tbl[内　容],$D8,入出金tbl[年月日],\">=\"&V$2,入出金tbl[年月日],\"<\"&W$2)","v":0},{"$f":"SUMIFS(入出金tbl[金額],入出金tbl[内　容],$D8,入出金tbl[年月日],\">=\"&W$2,入出金tbl[年月日],\"<\"&X$2)","v":0},{"$f":"SUMIFS(入出金tbl[金額],入出金tbl[内　容],$D8,入出金tbl[年月日],\">=\"&X$2,入出金tbl[年月日],\"<\"&Y$2)","v":0},{"$f":"SUMIFS(入出金tbl[金額],入出金tbl[内　容],$D8,入出金tbl[年月日],\">=\"&Y$2,入出金tbl[年月日],\"<\"&Z$2)","v":0},{"$f":"SUMIFS(入出金tbl[金額],入出金tbl[内　容],$D8,入出金tbl[年月日],\">=\"&Z$2,入出金tbl[年月日],\"<\"&AA$2)","v":0},{"$f":"SUMIFS(入出金tbl[金額],入出金tbl[内　容],$D8,入出金tbl[年月日],\">=\"&AA$2,入出金tbl[年月日],\"<\"&AB$2)","v":0},{"$f":"SUMIFS(入出金tbl[金額],入出金tbl[内　容],$D8,入出金tbl[年月日],\">=\"&AB$2,入出金tbl[年月日],\"<\"&AC$2)","v":124},{"$f":"SUMIFS(入出金tbl[金額],入出金tbl[内　容],$D8,入出金tbl[年月日],\">=\"&AC$2,入出金tbl[年月日],\"<\"&AD$2)","v":0},{"$f":"SUMIFS(入出金tbl[金額],入出金tbl[内　容],$D8,入出金tbl[年月日],\">=\"&AD$2,入出金tbl[年月日],\"<\"&AE$2)","v":0},{"$f":"SUMIFS(入出金tbl[金額],入出金tbl[内　容],$D8,入出金tbl[年月日],\">=\"&AE$2,入出金tbl[年月日],\"<\"&AF$2)","v":0},{"$f":"SUMIFS(入出金tbl[金額],入出金tbl[内　容],$D8,入出金tbl[年月日],\">=\"&AF$2,入出金tbl[年月日],\"<\"&AG$2)","v":0},{"$f":"SUMIFS(入出金tbl[金額],入出金tbl[内　容],$D8,入出金tbl[年月日],\">=\"&AG$2,入出金tbl[年月日],\"<\"&AH$2)","v":0},{"$f":"SUMIFS(入出金tbl[金額],入出金tbl[内　容],$D8,入出金tbl[年月日],\">=\"&AH$2,入出金tbl[年月日],\"<\"&AI$2)","v":0},{"$f":"SUMIFS(入出金tbl[金額],入出金tbl[内　容],$D8,入出金tbl[年月日],\">=\"&AI$2,入出金tbl[年月日],\"<\"&AJ$2)","v":0}]
[null,null,"(6)",{"$f":"資金繰り表!D10","v":"----------"},{"$f":"SUMIFS(入出金tbl[金額],入出金tbl[内　容],$D9,入出金tbl[年月日],\">=\"&E$2,入出金tbl[年月日],\"<\"&F$2)","v":0},{"$f":"SUMIFS(入出金tbl[金額],入出金tbl[内　容],$D9,入出金tbl[年月日],\">=\"&F$2,入出金tbl[年月日],\"<\"&G$2)","v":0},{"$f":"SUMIFS(入出金tbl[金額],入出金tbl[内　容],$D9,入出金tbl[年月日],\">=\"&G$2,入出金tbl[年月日],\"<\"&H$2)","v":0},{"$f":"SUMIFS(入出金tbl[金額],入出金tbl[内　容],$D9,入出金tbl[年月日],\">=\"&H$2,入出金tbl[年月日],\"<\"&I$2)","v":0},{"$f":"SUMIFS(入出金tbl[金額],入出金tbl[内　容],$D9,入出金tbl[年月日],\">=\"&I$2,入出金tbl[年月日],\"<\"&J$2)","v":0},{"$f":"SUMIFS(入出金tbl[金額],入出金tbl[内　容],$D9,入出金tbl[年月日],\">=\"&J$2,入出金tbl[年月日],\"<\"&K$2)","v":0},{"$f":"SUMIFS(入出金tbl[金額],入出金tbl[内　容],$D9,入出金tbl[年月日],\">=\"&K$2,入出金tbl[年月日],\"<\"&L$2)","v":0},{"$f":"SUMIFS(入出金tbl[金額],入出金tbl[内　容],$D9,入出金tbl[年月日],\">=\"&L$2,入出金tbl[年月日],\"<\"&M$2)","v":0},{"$f":"SUMIFS(入出金tbl[金額],入出金tbl[内　容],$D9,入出金tbl[年月日],\">=\"&M$2,入出金tbl[年月日],\"<\"&N$2)","v":0},{"$f":"SUMIFS(入出金tbl[金額],入出金tbl[内　容],$D9,入出金tbl[年月日],\">=\"&N$2,入出金tbl[年月日],\"<\"&O$2)","v":0},{"$f":"SUMIFS(入出金tbl[金額],入出金tbl[内　容],$D9,入出金tbl[年月日],\">=\"&O$2,入出金tbl[年月日],\"<\"&P$2)","v":0},{"$f":"SUMIFS(入出金tbl[金額],入出金tbl[内　容],$D9,入出金tbl[年月日],\">=\"&P$2,入出金tbl[年月日],\"<\"&Q$2)","v":0},{"$f":"SUMIFS(入出金tbl[金額],入出金tbl[内　容],$D9,入出金tbl[年月日],\">=\"&Q$2,入出金tbl[年月日],\"<\"&R$2)","v":0},{"$f":"SUMIFS(入出金tbl[金額],入出金tbl[内　容],$D9,入出金tbl[年月日],\">=\"&R$2,入出金tbl[年月日],\"<\"&S$2)","v":0},{"$f":"SUMIFS(入出金tbl[金額],入出金tbl[内　容],$D9,入出金tbl[年月日],\">=\"&S$2,入出金tbl[年月日],\"<\"&T$2)","v":0},{"$f":"SUMIFS(入出金tbl[金額],入出金tbl[内　容],$D9,入出金tbl[年月日],\">=\"&T$2,入出金tbl[年月日],\"<\"&U$2)","v":0},{"$f":"SUMIFS(入出金tbl[金額],入出金tbl[内　容],$D9,入出金tbl[年月日],\">=\"&U$2,入出金tbl[年月日],\"<\"&V$2)","v":0},{"$f":"SUMIFS(入出金tbl[金額],入出金tbl[内　容],$D9,入出金tbl[年月日],\">=\"&V$2,入出金tbl[年月日],\"<\"&W$2)","v":0},{"$f":"SUMIFS(入出金tbl[金額],入出金tbl[内　容],$D9,入出金tbl[年月日],\">=\"&W$2,入出金tbl[年月日],\"<\"&X$2)","v":0},{"$f":"SUMIFS(入出金tbl[金額],入出金tbl[内　容],$D9,入出金tbl[年月日],\">=\"&X$2,入出金tbl[年月日],\"<\"&Y$2)","v":0},{"$f":"SUMIFS(入出金tbl[金額],入出金tbl[内　容],$D9,入出金tbl[年月日],\">=\"&Y$2,入出金tbl[年月日],\"<\"&Z$2)","v":0},{"$f":"SUMIFS(入出金tbl[金額],入出金tbl[内　容],$D9,入出金tbl[年月日],\">=\"&Z$2,入出金tbl[年月日],\"<\"&AA$2)","v":0},{"$f":"SUMIFS(入出金tbl[金額],入出金tbl[内　容],$D9,入出金tbl[年月日],\">=\"&AA$2,入出金tbl[年月日],\"<\"&AB$2)","v":0},{"$f":"SUMIFS(入出金tbl[金額],入出金tbl[内　容],$D9,入出金tbl[年月日],\">=\"&AB$2,入出金tbl[年月日],\"<\"&AC$2)","v":0},{"$f":"SUMIFS(入出金tbl[金額],入出金tbl[内　容],$D9,入出金tbl[年月日],\">=\"&AC$2,入出金tbl[年月日],\"<\"&AD$2)","v":0},{"$f":"SUMIFS(入出金tbl[金額],入出金tbl[内　容],$D9,入出金tbl[年月日],\">=\"&AD$2,入出金tbl[年月日],\"<\"&AE$2)","v":0},{"$f":"SUMIFS(入出金tbl[金額],入出金tbl[内　容],$D9,入出金tbl[年月日],\">=\"&AE$2,入出金tbl[年月日],\"<\"&AF$2)","v":0},{"$f":"SUMIFS(入出金tbl[金額],入出金tbl[内　容],$D9,入出金tbl[年月日],\">=\"&AF$2,入出金tbl[年月日],\"<\"&AG$2)","v":0},{"$f":"SUMIFS(入出金tbl[金額],入出金tbl[内　容],$D9,入出金tbl[年月日],\">=\"&AG$2,入出金tbl[年月日],\"<\"&AH$2)","v":0},{"$f":"SUMIFS(入出金tbl[金額],入出金tbl[内　容],$D9,入出金tbl[年月日],\">=\"&AH$2,入出金tbl[年月日],\"<\"&AI$2)","v":0},{"$f":"SUMIFS(入出金tbl[金額],入出金tbl[内　容],$D9,入出金tbl[年月日],\">=\"&AI$2,入出金tbl[年月日],\"<\"&AJ$2)","v":0}]
[null,null,null,"収入合計（B)",{"$f":"SUM(E4:E9)","v":0},{"$f":"SUM(F4:F9)","v":0},0,0,0,0,0,0,0,0,0,0,0,1172,1385,213,260,0,0,0,0,1556,1235,124,0,0,0,0,0,0,0]
[null,"支出","(1)",{"$f":"資金繰り表!D12","v":"現金仕入"},{"$f":"SUMIFS(入出金tbl[金額],入出金tbl[内　容],$D11,入出金tbl[年月日],\">=\"&E$2,入出金tbl[年月日],\"<\"&F$2)","v":0},{"$f":"SUMIFS(入出金tbl[金額],入出金tbl[内　容],$D11,入出金tbl[年月日],\">=\"&F$2,入出金tbl[年月日],\"<\"&G$2)","v":0},{"$f":"SUMIFS(入出金tbl[金額],入出金tbl[内　容],$D11,入出金tbl[年月日],\">=\"&G$2,入出金tbl[年月日],\"<\"&H$2)","v":0},{"$f":"SUMIFS(入出金tbl[金額],入出金tbl[内　容],$D11,入出金tbl[年月日],\">=\"&H$2,入出金tbl[年月日],\"<\"&I$2)","v":0},{"$f":"SUMIFS(入出金tbl[金額],入出金tbl[内　容],$D11,入出金tbl[年月日],\">=\"&I$2,入出金tbl[年月日],\"<\"&J$2)","v":0},{"$f":"SUMIFS(入出金tbl[金額],入出金tbl[内　容],$D11,入出金tbl[年月日],\">=\"&J$2,入出金tbl[年月日],\"<\"&K$2)","v":673},{"$f":"SUMIFS(入出金tbl[金額],入出金tbl[内　容],$D11,入出金tbl[年月日],\">=\"&K$2,入出金tbl[年月日],\"<\"&L$2)","v":0},{"$f":"SUMIFS(入出金tbl[金額],入出金tbl[内　容],$D11,入出金tbl[年月日],\">=\"&L$2,入出金tbl[年月日],\"<\"&M$2)","v":0},{"$f":"SUMIFS(入出金tbl[金額],入出金tbl[内　容],$D11,入出金tbl[年月日],\">=\"&M$2,入出金tbl[年月日],\"<\"&N$2)","v":0},{"$f":"SUMIFS(入出金tbl[金額],入出金tbl[内　容],$D11,入出金tbl[年月日],\">=\"&N$2,入出金tbl[年月日],\"<\"&O$2)","v":0},{"$f":"SUMIFS(入出金tbl[金額],入出金tbl[内　容],$D11,入出金tbl[年月日],\">=\"&O$2,入出金tbl[年月日],\"<\"&P$2)","v":0},{"$f":"SUMIFS(入出金tbl[金額],入出金tbl[内　容],$D11,入出金tbl[年月日],\">=\"&P$2,入出金tbl[年月日],\"<\"&Q$2)","v":0},{"$f":"SUMIFS(入出金tbl[金額],入出金tbl[内　容],$D11,入出金tbl[年月日],\">=\"&Q$2,入出金tbl[年月日],\"<\"&R$2)","v":0},{"$f":"SUMIFS(入出金tbl[金額],入出金tbl[内　容],$D11,入出金tbl[年月日],\">=\"&R$2,入出金tbl[年月日],\"<\"&S$2)","v":0},{"$f":"SUMIFS(入出金tbl[金額],入出金tbl[内　容],$D11,入出金tbl[年月日],\">=\"&S$2,入出金tbl[年月日],\"<\"&T$2)","v":0},{"$f":"SUMIFS(入出金tbl[金額],入出金tbl[内　容],$D11,入出金tbl[年月日],\">=\"&T$2,入出金tbl[年月日],\"<\"&U$2)","v":0},{"$f":"SUMIFS(入出金tbl[金額],入出金tbl[内　容],$D11,入出金tbl[年月日],\">=\"&U$2,入出金tbl[年月日],\"<\"&V$2)","v":0},{"$f":"SUMIFS(入出金tbl[金額],入出金tbl[内　容],$D11,入出金tbl[年月日],\">=\"&V$2,入出金tbl[年月日],\"<\"&W$2)","v":0},{"$f":"SUMIFS(入出金tbl[金額],入出金tbl[内　容],$D11,入出金tbl[年月日],\">=\"&W$2,入出金tbl[年月日],\"<\"&X$2)","v":0},{"$f":"SUMIFS(入出金tbl[金額],入出金tbl[内　容],$D11,入出金tbl[年月日],\">=\"&X$2,入出金tbl[年月日],\"<\"&Y$2)","v":0},{"$f":"SUMIFS(入出金tbl[金額],入出金tbl[内　容],$D11,入出金tbl[年月日],\">=\"&Y$2,入出金tbl[年月日],\"<\"&Z$2)","v":0},{"$f":"SUMIFS(入出金tbl[金額],入出金tbl[内　容],$D11,入出金tbl[年月日],\">=\"&Z$2,入出金tbl[年月日],\"<\"&AA$2)","v":0},{"$f":"SUMIFS(入出金tbl[金額],入出金tbl[内　容],$D11,入出金tbl[年月日],\">=\"&AA$2,入出金tbl[年月日],\"<\"&AB$2)","v":0},{"$f":"SUMIFS(入出金tbl[金額],入出金tbl[内　容],$D11,入出金tbl[年月日],\">=\"&AB$2,入出金tbl[年月日],\"<\"&AC$2)","v":0},{"$f":"SUMIFS(入出金tbl[金額],入出金tbl[内　容],$D11,入出金tbl[年月日],\">=\"&AC$2,入出金tbl[年月日],\"<\"&AD$2)","v":529},{"$f":"SUMIFS(入出金tbl[金額],入出金tbl[内　容],$D11,入出金tbl[年月日],\">=\"&AD$2,入出金tbl[年月日],\"<\"&AE$2)","v":0},{"$f":"SUMIFS(入出金tbl[金額],入出金tbl[内　容],$D11,入出金tbl[年月日],\">=\"&AE$2,入出金tbl[年月日],\"<\"&AF$2)","v":0},{"$f":"SUMIFS(入出金tbl[金額],入出金tbl[内　容],$D11,入出金tbl[年月日],\">=\"&AF$2,入出金tbl[年月日],\"<\"&AG$2)","v":536},{"$f":"SUMIFS(入出金tbl[金額],入出金tbl[内　容],$D11,入出金tbl[年月日],\">=\"&AG$2,入出金tbl[年月日],\"<\"&AH$2)","v":0},{"$f":"SUMIFS(入出金tbl[金額],入出金tbl[内　容],$D11,入出金tbl[年月日],\">=\"&AH$2,入出金tbl[年月日],\"<\"&AI$2)","v":0},{"$f":"SUMIFS(入出金tbl[金額],入出金tbl[内　容],$D11,入出金tbl[年月日],\">=\"&AI$2,入出金tbl[年月日],\"<\"&AJ$2)","v":0}]
[null,null,"(2)",{"$f":"資金繰り表!D13","v":"買掛金支払"},{"$f":"SUMIFS(入出金tbl[金額],入出金tbl[内　容],$D12,入出金tbl[年月日],\">=\"&E$2,入出金tbl[年月日],\"<\"&F$2)","v":0},{"$f":"SUMIFS(入出金tbl[金額],入出金tbl[内　容],$D12,入出金tbl[年月日],\">=\"&F$2,入出金tbl[年月日],\"<\"&G$2)","v":0},{"$f":"SUMIFS(入出金tbl[金額],入出金tbl[内　容],$D12,入出金tbl[年月日],\">=\"&G$2,入出金tbl[年月日],\"<\"&H$2)","v":0},{"$f":"SUMIFS(入出金tbl[金額],入出金tbl[内　容],$D12,入出金tbl[年月日],\">=\"&H$2,入出金tbl[年月日],\"<\"&I$2)","v":0},{"$f":"SUMIFS(入出金tbl[金額],入出金tbl[内　容],$D12,入出金tbl[年月日],\">=\"&I$2,入出金tbl[年月日],\"<\"&J$2)","v":0},{"$f":"SUMIFS(入出金tbl[金額],入出金tbl[内　容],$D12,入出金tbl[年月日],\">=\"&J$2,入出金tbl[年月日],\"<\"&K$2)","v":193},{"$f":"SUMIFS(入出金tbl[金額],入出金tbl[内　容],$D12,入出金tbl[年月日],\">=\"&K$2,入出金tbl[年月日],\"<\"&L$2)","v":0},{"$f":"SUMIFS(入出金tbl[金額],入出金tbl[内　容],$D12,入出金tbl[年月日],\">=\"&L$2,入出金tbl[年月日],\"<\"&M$2)","v":0},{"$f":"SUMIFS(入出金tbl[金額],入出金tbl[内　容],$D12,入出金tbl[年月日],\">=\"&M$2,入出金tbl[年月日],\"<\"&N$2)","v":0},{"$f":"SUMIFS(入出金tbl[金額],入出金tbl[内　容],$D12,入出金tbl[年月日],\">=\"&N$2,入出金tbl[年月日],\"<\"&O$2)","v":0},{"$f":"SUMIFS(入出金tbl[金額],入出金tbl[内　容],$D12,入出金tbl[年月日],\">=\"&O$2,入出金tbl[年月日],\"<\"&P$2)","v":0},{"$f":"SUMIFS(入出金tbl[金額],入出金tbl[内　容],$D12,入出金tbl[年月日],\">=\"&P$2,入出金tbl[年月日],\"<\"&Q$2)","v":0},{"$f":"SUMIFS(入出金tbl[金額],入出金tbl[内　容],$D12,入出金tbl[年月日],\">=\"&Q$2,入出金tbl[年月日],\"<\"&R$2)","v":0},{"$f":"SUMIFS(入出金tbl[金額],入出金tbl[内　容],$D12,入出金tbl[年月日],\">=\"&R$2,入出金tbl[年月日],\"<\"&S$2)","v":0},{"$f":"SUMIFS(入出金tbl[金額],入出金tbl[内　容],$D12,入出金tbl[年月日],\">=\"&S$2,入出金tbl[年月日],\"<\"&T$2)","v":0},{"$f":"SUMIFS(入出金tbl[金額],入出金tbl[内　容],$D12,入出金tbl[年月日],\">=\"&T$2,入出金tbl[年月日],\"<\"&U$2)","v":0},{"$f":"SUMIFS(入出金tbl[金額],入出金tbl[内　容],$D12,入出金tbl[年月日],\">=\"&U$2,入出金tbl[年月日],\"<\"&V$2)","v":0},{"$f":"SUMIFS(入出金tbl[金額],入出金tbl[内　容],$D12,入出金tbl[年月日],\">=\"&V$2,入出金tbl[年月日],\"<\"&W$2)","v":0},{"$f":"SUMIFS(入出金tbl[金額],入出金tbl[内　容],$D12,入出金tbl[年月日],\">=\"&W$2,入出金tbl[年月日],\"<\"&X$2)","v":0},{"$f":"SUMIFS(入出金tbl[金額],入出金tbl[内　容],$D12,入出金tbl[年月日],\">=\"&X$2,入出金tbl[年月日],\"<\"&Y$2)","v":0},{"$f":"SUMIFS(入出金tbl[金額],入出金tbl[内　容],$D12,入出金tbl[年月日],\">=\"&Y$2,入出金tbl[年月日],\"<\"&Z$2)","v":0},{"$f":"SUMIFS(入出金tbl[金額],入出金tbl[内　容],$D12,入出金tbl[年月日],\">=\"&Z$2,入出金tbl[年月日],\"<\"&AA$2)","v":0},{"$f":"SUMIFS(入出金tbl[金額],入出金tbl[内　容],$D12,入出金tbl[年月日],\">=\"&AA$2,入出金tbl[年月日],\"<\"&AB$2)","v":0},{"$f":"SUMIFS(入出金tbl[金額],入出金tbl[内　容],$D12,入出金tbl[年月日],\">=\"&AB$2,入出金tbl[年月日],\"<\"&AC$2)","v":0},{"$f":"SUMIFS(入出金tbl[金額],入出金tbl[内　容],$D12,入出金tbl[年月日],\">=\"&AC$2,入出金tbl[年月日],\"<\"&AD$2)","v":0},{"$f":"SUMIFS(入出金tbl[金額],入出金tbl[内　容],$D12,入出金tbl[年月日],\">=\"&AD$2,入出金tbl[年月日],\"<\"&AE$2)","v":529},{"$f":"SUMIFS(入出金tbl[金額],入出金tbl[内　容],$D12,入出金tbl[年月日],\">=\"&AE$2,入出金tbl[年月日],\"<\"&AF$2)","v":0},{"$f":"SUMIFS(入出金tbl[金額],入出金tbl[内　容],$D12,入出金tbl[年月日],\">=\"&AF$2,入出金tbl[年月日],\"<\"&AG$2)","v":473},{"$f":"SUMIFS(入出金tbl[金額],入出金tbl[内　容],$D12,入出金tbl[年月日],\">=\"&AG$2,入出金tbl[年月日],\"<\"&AH$2)","v":0},{"$f":"SUMIFS(入出金tbl[金額],入出金tbl[内　容],$D12,入出金tbl[年月日],\">=\"&AH$2,入出金tbl[年月日],\"<\"&AI$2)","v":0},{"$f":"SUMIFS(入出金tbl[金額],入出金tbl[内　容],$D12,入出金tbl[年月日],\">=\"&AI$2,入出金tbl[年月日],\"<\"&AJ$2)","v":0}]
[null,null,"(3)",{"$f":"資金繰り表!D14","v":"手形支払"},{"$f":"SUMIFS(入出金tbl[金額],入出金tbl[内　容],$D13,入出金tbl[年月日],\">=\"&E$2,入出金tbl[年月日],\"<\"&F$2)","v":0},{"$f":"SUMIFS(入出金tbl[金額],入出金tbl[内　容],$D13,入出金tbl[年月日],\">=\"&F$2,入出金tbl[年月日],\"<\"&G$2)","v":0},{"$f":"SUMIFS(入出金tbl[金額],入出金tbl[内　容],$D13,入出金tbl[年月日],\">=\"&G$2,入出金tbl[年月日],\"<\"&H$2)","v":0},{"$f":"SUMIFS(入出金tbl[金額],入出金tbl[内　容],$D13,入出金tbl[年月日],\">=\"&H$2,入出金tbl[年月日],\"<\"&I$2)","v":0},{"$f":"SUMIFS(入出金tbl[金額],入出金tbl[内　容],$D13,入出金tbl[年月日],\">=\"&I$2,入出金tbl[年月日],\"<\"&J$2)","v":0},{"$f":"SUMIFS(入出金tbl[金額],入出金tbl[内　容],$D13,入出金tbl[年月日],\">=\"&J$2,入出金tbl[年月日],\"<\"&K$2)","v":0},{"$f":"SUMIFS(入出金tbl[金額],入出金tbl[内　容],$D13,入出金tbl[年月日],\">=\"&K$2,入出金tbl[年月日],\"<\"&L$2)","v":561},{"$f":"SUMIFS(入出金tbl[金額],入出金tbl[内　容],$D13,入出金tbl[年月日],\">=\"&L$2,入出金tbl[年月日],\"<\"&M$2)","v":0},{"$f":"SUMIFS(入出金tbl[金額],入出金tbl[内　容],$D13,入出金tbl[年月日],\">=\"&M$2,入出金tbl[年月日],\"<\"&N$2)","v":0},{"$f":"SUMIFS(入出金tbl[金額],入出金tbl[内　容],$D13,入出金tbl[年月日],\">=\"&N$2,入出金tbl[年月日],\"<\"&O$2)","v":0},{"$f":"SUMIFS(入出金tbl[金額],入出金tbl[内　容],$D13,入出金tbl[年月日],\">=\"&O$2,入出金tbl[年月日],\"<\"&P$2)","v":0},{"$f":"SUMIFS(入出金tbl[金額],入出金tbl[内　容],$D13,入出金tbl[年月日],\">=\"&P$2,入出金tbl[年月日],\"<\"&Q$2)","v":0},{"$f":"SUMIFS(入出金tbl[金額],入出金tbl[内　容],$D13,入出金tbl[年月日],\">=\"&Q$2,入出金tbl[年月日],\"<\"&R$2)","v":0},{"$f":"SUMIFS(入出金tbl[金額],入出金tbl[内　容],$D13,入出金tbl[年月日],\">=\"&R$2,入出金tbl[年月日],\"<\"&S$2)","v":0},{"$f":"SUMIFS(入出金tbl[金額],入出金tbl[内　容],$D13,入出金tbl[年月日],\">=\"&S$2,入出金tbl[年月日],\"<\"&T$2)","v":0},{"$f":"SUMIFS(入出金tbl[金額],入出金tbl[内　容],$D13,入出金tbl[年月日],\">=\"&T$2,入出金tbl[年月日],\"<\"&U$2)","v":0},{"$f":"SUMIFS(入出金tbl[金額],入出金tbl[内　容],$D13,入出金tbl[年月日],\">=\"&U$2,入出金tbl[年月日],\"<\"&V$2)","v":0},{"$f":"SUMIFS(入出金tbl[金額],入出金tbl[内　容],$D13,入出金tbl[年月日],\">=\"&V$2,入出金tbl[年月日],\"<\"&W$2)","v":0},{"$f":"SUMIFS(入出金tbl[金額],入出金tbl[内　容],$D13,入出金tbl[年月日],\">=\"&W$2,入出金tbl[年月日],\"<\"&X$2)","v":0},{"$f":"SUMIFS(入出金tbl[金額],入出金tbl[内　容],$D13,入出金tbl[年月日],\">=\"&X$2,入出金tbl[年月日],\"<\"&Y$2)","v":0},{"$f":"SUMIFS(入出金tbl[金額],入出金tbl[内　容],$D13,入出金tbl[年月日],\">=\"&Y$2,入出金tbl[年月日],\"<\"&Z$2)","v":0},{"$f":"SUMIFS(入出金tbl[金額],入出金tbl[内　容],$D13,入出金tbl[年月日],\">=\"&Z$2,入出金tbl[年月日],\"<\"&AA$2)","v":0},{"$f":"SUMIFS(入出金tbl[金額],入出金tbl[内　容],$D13,入出金tbl[年月日],\">=\"&AA$2,入出金tbl[年月日],\"<\"&AB$2)","v":0},{"$f":"SUMIFS(入出金tbl[金額],入出金tbl[内　容],$D13,入出金tbl[年月日],\">=\"&AB$2,入出金tbl[年月日],\"<\"&AC$2)","v":0},{"$f":"SUMIFS(入出金tbl[金額],入出金tbl[内　容],$D13,入出金tbl[年月日],\">=\"&AC$2,入出金tbl[年月日],\"<\"&AD$2)","v":0},{"$f":"SUMIFS(入出金tbl[金額],入出金tbl[内　容],$D13,入出金tbl[年月日],\">=\"&AD$2,入出金tbl[年月日],\"<\"&AE$2)","v":0},{"$f":"SUMIFS(入出金tbl[金額],入出金tbl[内　容],$D13,入出金tbl[年月日],\">=\"&AE$2,入出金tbl[年月日],\"<\"&AF$2)","v":496},{"$f":"SUMIFS(入出金tbl[金額],入出金tbl[内　容],$D13,入出金tbl[年月日],\">=\"&AF$2,入出金tbl[年月日],\"<\"&AG$2)","v":488},{"$f":"SUMIFS(入出金tbl[金額],入出金tbl[内　容],$D13,入出金tbl[年月日],\">=\"&AG$2,入出金tbl[年月日],\"<\"&AH$2)","v":0},{"$f":"SUMIFS(入出金tbl[金額],入出金tbl[内　容],$D13,入出金tbl[年月日],\">=\"&AH$2,入出金tbl[年月日],\"<\"&AI$2)","v":0},{"$f":"SUMIFS(入出金tbl[金額],入出金tbl[内　容],$D13,入出金tbl[年月日],\">=\"&AI$2,入出金tbl[年月日],\"<\"&AJ$2)","v":0}]
[null,null,"(4)",{"$f":"資金繰り表!D15","v":"賃金・給与現金支払"},{"$f":"SUMIFS(入出金tbl[金額],入出金tbl[内　容],$D14,入出金tbl[年月日],\">=\"&E$2,入出金tbl[年月日],\"<\"&F$2)","v":0},{"$f":"SUMIFS(入出金tbl[金額],入出金tbl[内　容],$D14,入出金tbl[年月日],\">=\"&F$2,入出金tbl[年月日],\"<\"&G$2)","v":0},{"$f":"SUMIFS(入出金tbl[金額],入出金tbl[内　容],$D14,入出金tbl[年月日],\">=\"&G$2,入出金tbl[年月日],\"<\"&H$2)","v":0},{"$f":"SUMIFS(入出金tbl[金額],入出金tbl[内　容],$D14,入出金tbl[年月日],\">=\"&H$2,入出金tbl[年月日],\"<\"&I$2)","v":0},{"$f":"SUMIFS(入出金tbl[金額],入出金tbl[内　容],$D14,入出金tbl[年月日],\">=\"&I$2,入出金tbl[年月日],\"<\"&J$2)","v":0},{"$f":"SUMIFS(入出金tbl[金額],入出金tbl[内　容],$D14,入出金tbl[年月日],\">=\"&J$2,入出金tbl[年月日],\"<\"&K$2)","v":0},{"$f":"SUMIFS(入出金tbl[金額],入出金tbl[内　容],$D14,入出金tbl[年月日],\">=\"&K$2,入出金tbl[年月日],\"<\"&L$2)","v":193},{"$f":"SUMIFS(入出金tbl[金額],入出金tbl[内　容],$D14,入出金tbl[年月日],\">=\"&L$2,入出金tbl[年月日],\"<\"&M$2)","v":0},{"$f":"SUMIFS(入出金tbl[金額],入出金tbl[内　容],$D14,入出金tbl[年月日],\">=\"&M$2,入出金tbl[年月日],\"<\"&N$2)","v":0},{"$f":"SUMIFS(入出金tbl[金額],入出金tbl[内　容],$D14,入出金tbl[年月日],\">=\"&N$2,入出金tbl[年月日],\"<\"&O$2)","v":0},{"$f":"SUMIFS(入出金tbl[金額],入出金tbl[内　容],$D14,入出金tbl[年月日],\">=\"&O$2,入出金tbl[年月日],\"<\"&P$2)","v":0},{"$f":"SUMIFS(入出金tbl[金額],入出金tbl[内　容],$D14,入出金tbl[年月日],\">=\"&P$2,入出金tbl[年月日],\"<\"&Q$2)","v":0},{"$f":"SUMIFS(入出金tbl[金額],入出金tbl[内　容],$D14,入出金tbl[年月日],\">=\"&Q$2,入出金tbl[年月日],\"<\"&R$2)","v":0},{"$f":"SUMIFS(入出金tbl[金額],入出金tbl[内　容],$D14,入出金tbl[年月日],\">=\"&R$2,入出金tbl[年月日],\"<\"&S$2)","v":0},{"$f":"SUMIFS(入出金tbl[金額],入出金tbl[内　容],$D14,入出金tbl[年月日],\">=\"&S$2,入出金tbl[年月日],\"<\"&T$2)","v":0},{"$f":"SUMIFS(入出金tbl[金額],入出金tbl[内　容],$D14,入出金tbl[年月日],\">=\"&T$2,入出金tbl[年月日],\"<\"&U$2)","v":0},{"$f":"SUMIFS(入出金tbl[金額],入出金tbl[内　容],$D14,入出金tbl[年月日],\">=\"&U$2,入出金tbl[年月日],\"<\"&V$2)","v":0},{"$f":"SUMIFS(入出金tbl[金額],入出金tbl[内　容],$D14,入出金tbl[年月日],\">=\"&V$2,入出金tbl[年月日],\"<\"&W$2)","v":0},{"$f":"SUMIFS(入出金tbl[金額],入出金tbl[内　容],$D14,入出金tbl[年月日],\">=\"&W$2,入出金tbl[年月日],\"<\"&X$2)","v":0},{"$f":"SUMIFS(入出金tbl[金額],入出金tbl[内　容],$D14,入出金tbl[年月日],\">=\"&X$2,入出金tbl[年月日],\"<\"&Y$2)","v":0},{"$f":"SUMIFS(入出金tbl[金額],入出金tbl[内　容],$D14,入出金tbl[年月日],\">=\"&Y$2,入出金tbl[年月日],\"<\"&Z$2)","v":0},{"$f":"SUMIFS(入出金tbl[金額],入出金tbl[内　容],$D14,入出金tbl[年月日],\">=\"&Z$2,入出金tbl[年月日],\"<\"&AA$2)","v":0},{"$f":"SUMIFS(入出金tbl[金額],入出金tbl[内　容],$D14,入出金tbl[年月日],\">=\"&AA$2,入出金tbl[年月日],\"<\"&AB$2)","v":0},{"$f":"SUMIFS(入出金tbl[金額],入出金tbl[内　容],$D14,入出金tbl[年月日],\">=\"&AB$2,入出金tbl[年月日],\"<\"&AC$2)","v":0},{"$f":"SUMIFS(入出金tbl[金額],入出金tbl[内　容],$D14,入出金tbl[年月日],\">=\"&AC$2,入出金tbl[年月日],\"<\"&AD$2)","v":0},{"$f":"SUMIFS(入出金tbl[金額],入出金tbl[内　容],$D14,入出金tbl[年月日],\">=\"&AD$2,入出金tbl[年月日],\"<\"&AE$2)","v":0},{"$f":"SUMIFS(入出金tbl[金額],入出金tbl[内　容],$D14,入出金tbl[年月日],\">=\"&AE$2,入出金tbl[年月日],\"<\"&AF$2)","v":0},{"$f":"SUMIFS(入出金tbl[金額],入出金tbl[内　容],$D14,入出金tbl[年月日],\">=\"&AF$2,入出金tbl[年月日],\"<\"&AG$2)","v":763},{"$f":"SUMIFS(入出金tbl[金額],入出金tbl[内　容],$D14,入出金tbl[年月日],\">=\"&AG$2,入出金tbl[年月日],\"<\"&AH$2)","v":536},{"$f":"SUMIFS(入出金tbl[金額],入出金tbl[内　容],$D14,入出金tbl[年月日],\">=\"&AH$2,入出金tbl[年月日],\"<\"&AI$2)","v":0},{"$f":"SUMIFS(入出金tbl[金額],入出金tbl[内　容],$D14,入出金tbl[年月日],\">=\"&AI$2,入出金tbl[年月日],\"<\"&AJ$2)","v":0}]
[null,null,"(5)",{"$f":"資金繰り表!D16","v":"賞与支払い"},{"$f":"SUMIFS(入出金tbl[金額],入出金tbl[内　容],$D15,入出金tbl[年月日],\">=\"&E$2,入出金tbl[年月日],\"<\"&F$2)","v":0},{"$f":"SUMIFS(入出金tbl[金額],入出金tbl[内　容],$D15,入出金tbl[年月日],\">=\"&F$2,入出金tbl[年月日],\"<\"&G$2)","v":0},{"$f":"SUMIFS(入出金tbl[金額],入出金tbl[内　容],$D15,入出金tbl[年月日],\">=\"&G$2,入出金tbl[年月日],\"<\"&H$2)","v":0},{"$f":"SUMIFS(入出金tbl[金額],入出金tbl[内　容],$D15,入出金tbl[年月日],\">=\"&H$2,入出金tbl[年月日],\"<\"&I$2)","v":0},{"$f":"SUMIFS(入出金tbl[金額],入出金tbl[内　容],$D15,入出金tbl[年月日],\">=\"&I$2,入出金tbl[年月日],\"<\"&J$2)","v":0},{"$f":"SUMIFS(入出金tbl[金額],入出金tbl[内　容],$D15,入出金tbl[年月日],\">=\"&J$2,入出金tbl[年月日],\"<\"&K$2)","v":0},{"$f":"SUMIFS(入出金tbl[金額],入出金tbl[内　容],$D15,入出金tbl[年月日],\">=\"&K$2,入出金tbl[年月日],\"<\"&L$2)","v":0},{"$f":"SUMIFS(入出金tbl[金額],入出金tbl[内　容],$D15,入出金tbl[年月日],\">=\"&L$2,入出金tbl[年月日],\"<\"&M$2)","v":452},{"$f":"SUMIFS(入出金tbl[金額],入出金tbl[内　容],$D15,入出金tbl[年月日],\">=\"&M$2,入出金tbl[年月日],\"<\"&N$2)","v":0},{"$f":"SUMIFS(入出金tbl[金額],入出金tbl[内　容],$D15,入出金tbl[年月日],\">=\"&N$2,入出金tbl[年月日],\"<\"&O$2)","v":0},{"$f":"SUMIFS(入出金tbl[金額],入出金tbl[内　容],$D15,入出金tbl[年月日],\">=\"&O$2,入出金tbl[年月日],\"<\"&P$2)","v":0},{"$f":"SUMIFS(入出金tbl[金額],入出金tbl[内　容],$D15,入出金tbl[年月日],\">=\"&P$2,入出金tbl[年月日],\"<\"&Q$2)","v":0},{"$f":"SUMIFS(入出金tbl[金額],入出金tbl[内　容],$D15,入出金tbl[年月日],\">=\"&Q$2,入出金tbl[年月日],\"<\"&R$2)","v":0},{"$f":"SUMIFS(入出金tbl[金額],入出金tbl[内　容],$D15,入出金tbl[年月日],\">=\"&R$2,入出金tbl[年月日],\"<\"&S$2)","v":0},{"$f":"SUMIFS(入出金tbl[金額],入出金tbl[内　容],$D15,入出金tbl[年月日],\">=\"&S$2,入出金tbl[年月日],\"<\"&T$2)","v":0},{"$f":"SUMIFS(入出金tbl[金額],入出金tbl[内　容],$D15,入出金tbl[年月日],\">=\"&T$2,入出金tbl[年月日],\"<\"&U$2)","v":0},{"$f":"SUMIFS(入出金tbl[金額],入出金tbl[内　容],$D15,入出金tbl[年月日],\">=\"&U$2,入出金tbl[年月日],\"<\"&V$2)","v":0},{"$f":"SUMIFS(入出金tbl[金額],入出金tbl[内　容],$D15,入出金tbl[年月日],\">=\"&V$2,入出金tbl[年月日],\"<\"&W$2)","v":0},{"$f":"SUMIFS(入出金tbl[金額],入出金tbl[内　容],$D15,入出金tbl[年月日],\">=\"&W$2,入出金tbl[年月日],\"<\"&X$2)","v":0},{"$f":"SUMIFS(入出金tbl[金額],入出金tbl[内　容],$D15,入出金tbl[年月日],\">=\"&X$2,入出金tbl[年月日],\"<\"&Y$2)","v":0},{"$f":"SUMIFS(入出金tbl[金額],入出金tbl[内　容],$D15,入出金tbl[年月日],\">=\"&Y$2,入出金tbl[年月日],\"<\"&Z$2)","v":0},{"$f":"SUMIFS(入出金tbl[金額],入出金tbl[内　容],$D15,入出金tbl[年月日],\">=\"&Z$2,入出金tbl[年月日],\"<\"&AA$2)","v":0},{"$f":"SUMIFS(入出金tbl[金額],入出金tbl[内　容],$D15,入出金tbl[年月日],\">=\"&AA$2,入出金tbl[年月日],\"<\"&AB$2)","v":0},{"$f":"SUMIFS(入出金tbl[金額],入出金tbl[内　容],$D15,入出金tbl[年月日],\">=\"&AB$2,入出金tbl[年月日],\"<\"&AC$2)","v":0},{"$f":"SUMIFS(入出金tbl[金額],入出金tbl[内　容],$D15,入出金tbl[年月日],\">=\"&AC$2,入出金tbl[年月日],\"<\"&AD$2)","v":0},{"$f":"SUMIFS(入出金tbl[金額],入出金tbl[内　容],$D15,入出金tbl[年月日],\">=\"&AD$2,入出金tbl[年月日],\"<\"&AE$2)","v":0},{"$f":"SUMIFS(入出金tbl[金額],入出金tbl[内　容],$D15,入出金tbl[年月日],\">=\"&AE$2,入出金tbl[年月日],\"<\"&AF$2)","v":0},{"$f":"SUMIFS(入出金tbl[金額],入出金tbl[内　容],$D15,入出金tbl[年月日],\">=\"&AF$2,入出金tbl[年月日],\"<\"&AG$2)","v":0},{"$f":"SUMIFS(入出金tbl[金額],入出金tbl[内　容],$D15,入出金tbl[年月日],\">=\"&AG$2,入出金tbl[年月日],\"<\"&AH$2)","v":969},{"$f":"SUMIFS(入出金tbl[金額],入出金tbl[内　容],$D15,入出金tbl[年月日],\">=\"&AH$2,入出金tbl[年月日],\"<\"&AI$2)","v":0},{"$f":"SUMIFS(入出金tbl[金額],入出金tbl[内　容],$D15,入出金tbl[年月日],\">=\"&AI$2,入出金tbl[年月日],\"<\"&AJ$2)","v":0}]
[null,null,"(6)",{"$f":"資金繰り表!D17","v":"支払利息・割引料"},{"$f":"SUMIFS(入出金tbl[金額],入出金tbl[内　容],$D16,入出金tbl[年月日],\">=\"&E$2,入出金tbl[年月日],\"<\"&F$2)","v":0},{"$f":"SUMIFS(入出金tbl[金額],入出金tbl[内　容],$D16,入出金tbl[年月日],\">=\"&F$2,入出金tbl[年月日],\"<\"&G$2)","v":0},{"$f":"SUMIFS(入出金tbl[金額],入出金tbl[内　容],$D16,入出金tbl[年月日],\">=\"&G$2,入出金tbl[年月日],\"<\"&H$2)","v":0},{"$f":"SUMIFS(入出金tbl[金額],入出金tbl[内　容],$D16,入出金tbl[年月日],\">=\"&H$2,入出金tbl[年月日],\"<\"&I$2)","v":0},{"$f":"SUMIFS(入出金tbl[金額],入出金tbl[内　容],$D16,入出金tbl[年月日],\">=\"&I$2,入出金tbl[年月日],\"<\"&J$2)","v":0},{"$f":"SUMIFS(入出金tbl[金額],入出金tbl[内　容],$D16,入出金tbl[年月日],\">=\"&J$2,入出金tbl[年月日],\"<\"&K$2)","v":0},{"$f":"SUMIFS(入出金tbl[金額],入出金tbl[内　容],$D16,入出金tbl[年月日],\">=\"&K$2,入出金tbl[年月日],\"<\"&L$2)","v":0},{"$f":"SUMIFS(入出金tbl[金額],入出金tbl[内　容],$D16,入出金tbl[年月日],\">=\"&L$2,入出金tbl[年月日],\"<\"&M$2)","v":1128},{"$f":"SUMIFS(入出金tbl[金額],入出金tbl[内　容],$D16,入出金tbl[年月日],\">=\"&M$2,入出金tbl[年月日],\"<\"&N$2)","v":0},{"$f":"SUMIFS(入出金tbl[金額],入出金tbl[内　容],$D16,入出金tbl[年月日],\">=\"&N$2,入出金tbl[年月日],\"<\"&O$2)","v":0},{"$f":"SUMIFS(入出金tbl[金額],入出金tbl[内　容],$D16,入出金tbl[年月日],\">=\"&O$2,入出金tbl[年月日],\"<\"&P$2)","v":0},{"$f":"SUMIFS(入出金tbl[金額],入出金tbl[内　容],$D16,入出金tbl[年月日],\">=\"&P$2,入出金tbl[年月日],\"<\"&Q$2)","v":0},{"$f":"SUMIFS(入出金tbl[金額],入出金tbl[内　容],$D16,入出金tbl[年月日],\">=\"&Q$2,入出金tbl[年月日],\"<\"&R$2)","v":0},{"$f":"SUMIFS(入出金tbl[金額],入出金tbl[内　容],$D16,入出金tbl[年月日],\">=\"&R$2,入出金tbl[年月日],\"<\"&S$2)","v":0},{"$f":"SUMIFS(入出金tbl[金額],入出金tbl[内　容],$D16,入出金tbl[年月日],\">=\"&S$2,入出金tbl[年月日],\"<\"&T$2)","v":0},{"$f":"SUMIFS(入出金tbl[金額],入出金tbl[内　容],$D16,入出金tbl[年月日],\">=\"&T$2,入出金tbl[年月日],\"<\"&U$2)","v":0},{"$f":"SUMIFS(入出金tbl[金額],入出金tbl[内　容],$D16,入出金tbl[年月日],\">=\"&U$2,入出金tbl[年月日],\"<\"&V$2)","v":0},{"$f":"SUMIFS(入出金tbl[金額],入出金tbl[内　容],$D16,入出金tbl[年月日],\">=\"&V$2,入出金tbl[年月日],\"<\"&W$2)","v":0},{"$f":"SUMIFS(入出金tbl[金額],入出金tbl[内　容],$D16,入出金tbl[年月日],\">=\"&W$2,入出金tbl[年月日],\"<\"&X$2)","v":0},{"$f":"SUMIFS(入出金tbl[金額],入出金tbl[内　容],$D16,入出金tbl[年月日],\">=\"&X$2,入出金tbl[年月日],\"<\"&Y$2)","v":0},{"$f":"SUMIFS(入出金tbl[金額],入出金tbl[内　容],$D16,入出金tbl[年月日],\">=\"&Y$2,入出金tbl[年月日],\"<\"&Z$2)","v":0},{"$f":"SUMIFS(入出金tbl[金額],入出金tbl[内　容],$D16,入出金tbl[年月日],\">=\"&Z$2,入出金tbl[年月日],\"<\"&AA$2)","v":0},{"$f":"SUMIFS(入出金tbl[金額],入出金tbl[内　容],$D16,入出金tbl[年月日],\">=\"&AA$2,入出金tbl[年月日],\"<\"&AB$2)","v":0},{"$f":"SUMIFS(入出金tbl[金額],入出金tbl[内　容],$D16,入出金tbl[年月日],\">=\"&AB$2,入出金tbl[年月日],\"<\"&AC$2)","v":0},{"$f":"SUMIFS(入出金tbl[金額],入出金tbl[内　容],$D16,入出金tbl[年月日],\">=\"&AC$2,入出金tbl[年月日],\"<\"&AD$2)","v":0},{"$f":"SUMIFS(入出金tbl[金額],入出金tbl[内　容],$D16,入出金tbl[年月日],\">=\"&AD$2,入出金tbl[年月日],\"<\"&AE$2)","v":0},{"$f":"SUMIFS(入出金tbl[金額],入出金tbl[内　容],$D16,入出金tbl[年月日],\">=\"&AE$2,入出金tbl[年月日],\"<\"&AF$2)","v":0},{"$f":"SUMIFS(入出金tbl[金額],入出金tbl[内　容],$D16,入出金tbl[年月日],\">=\"&AF$2,入出金tbl[年月日],\"<\"&AG$2)","v":0},{"$f":"SUMIFS(入出金tbl[金額],入出金tbl[内　容],$D16,入出金tbl[年月日],\">=\"&AG$2,入出金tbl[年月日],\"<\"&AH$2)","v":0},{"$f":"SUMIFS(入出金tbl[金額],入出金tbl[内　容],$D16,入出金tbl[年月日],\">=\"&AH$2,入出金tbl[年月日],\"<\"&AI$2)","v":1299},{"$f":"SUMIFS(入出金tbl[金額],入出金tbl[内　容],$D16,入出金tbl[年月日],\">=\"&AI$2,入出金tbl[年月日],\"<\"&AJ$2)","v":0}]
[null,null,"(7)",{"$f":"資金繰り表!D18","v":"諸経費現金支払"},{"$f":"SUMIFS(入出金tbl[金額],入出金tbl[内　容],$D17,入出金tbl[年月日],\">=\"&E$2,入出金tbl[年月日],\"<\"&F$2)","v":0},{"$f":"SUMIFS(入出金tbl[金額],入出金tbl[内　容],$D17,入出金tbl[年月日],\">=\"&F$2,入出金tbl[年月日],\"<\"&G$2)","v":0},{"$f":"SUMIFS(入出金tbl[金額],入出金tbl[内　容],$D17,入出金tbl[年月日],\">=\"&G$2,入出金tbl[年月日],\"<\"&H$2)","v":0},{"$f":"SUMIFS(入出金tbl[金額],入出金tbl[内　容],$D17,入出金tbl[年月日],\">=\"&H$2,入出金tbl[年月日],\"<\"&I$2)","v":0},{"$f":"SUMIFS(入出金tbl[金額],入出金tbl[内　容],$D17,入出金tbl[年月日],\">=\"&I$2,入出金tbl[年月日],\"<\"&J$2)","v":0},{"$f":"SUMIFS(入出金tbl[金額],入出金tbl[内　容],$D17,入出金tbl[年月日],\">=\"&J$2,入出金tbl[年月日],\"<\"&K$2)","v":0},{"$f":"SUMIFS(入出金tbl[金額],入出金tbl[内　容],$D17,入出金tbl[年月日],\">=\"&K$2,入出金tbl[年月日],\"<\"&L$2)","v":0},{"$f":"SUMIFS(入出金tbl[金額],入出金tbl[内　容],$D17,入出金tbl[年月日],\">=\"&L$2,入出金tbl[年月日],\"<\"&M$2)","v":0},{"$f":"SUMIFS(入出金tbl[金額],入出金tbl[内　容],$D17,入出金tbl[年月日],\">=\"&M$2,入出金tbl[年月日],\"<\"&N$2)","v":561},{"$f":"SUMIFS(入出金tbl[金額],入出金tbl[内　容],$D17,入出金tbl[年月日],\">=\"&N$2,入出金tbl[年月日],\"<\"&O$2)","v":0},{"$f":"SUMIFS(入出金tbl[金額],入出金tbl[内　容],$D17,入出金tbl[年月日],\">=\"&O$2,入出金tbl[年月日],\"<\"&P$2)","v":0},{"$f":"SUMIFS(入出金tbl[金額],入出金tbl[内　容],$D17,入出金tbl[年月日],\">=\"&P$2,入出金tbl[年月日],\"<\"&Q$2)","v":0},{"$f":"SUMIFS(入出金tbl[金額],入出金tbl[内　容],$D17,入出金tbl[年月日],\">=\"&Q$2,入出金tbl[年月日],\"<\"&R$2)","v":0},{"$f":"SUMIFS(入出金tbl[金額],入出金tbl[内　容],$D17,入出金tbl[年月日],\">=\"&R$2,入出金tbl[年月日],\"<\"&S$2)","v":0},{"$f":"SUMIFS(入出金tbl[金額],入出金tbl[内　容],$D17,入出金tbl[年月日],\">=\"&S$2,入出金tbl[年月日],\"<\"&T$2)","v":0},{"$f":"SUMIFS(入出金tbl[金額],入出金tbl[内　容],$D17,入出金tbl[年月日],\">=\"&T$2,入出金tbl[年月日],\"<\"&U$2)","v":0},{"$f":"SUMIFS(入出金tbl[金額],入出金tbl[内　容],$D17,入出金tbl[年月日],\">=\"&U$2,入出金tbl[年月日],\"<\"&V$2)","v":0},{"$f":"SUMIFS(入出金tbl[金額],入出金tbl[内　容],$D17,入出金tbl[年月日],\">=\"&V$2,入出金tbl[年月日],\"<\"&W$2)","v":0},{"$f":"SUMIFS(入出金tbl[金額],入出金tbl[内　容],$D17,入出金tbl[年月日],\">=\"&W$2,入出金tbl[年月日],\"<\"&X$2)","v":0},{"$f":"SUMIFS(入出金tbl[金額],入出金tbl[内　容],$D17,入出金tbl[年月日],\">=\"&X$2,入出金tbl[年月日],\"<\"&Y$2)","v":0},{"$f":"SUMIFS(入出金tbl[金額],入出金tbl[内　容],$D17,入出金tbl[年月日],\">=\"&Y$2,入出金tbl[年月日],\"<\"&Z$2)","v":0},{"$f":"SUMIFS(入出金tbl[金額],入出金tbl[内　容],$D17,入出金tbl[年月日],\">=\"&Z$2,入出金tbl[年月日],\"<\"&AA$2)","v":0},{"$f":"SUMIFS(入出金tbl[金額],入出金tbl[内　容],$D17,入出金tbl[年月日],\">=\"&AA$2,入出金tbl[年月日],\"<\"&AB$2)","v":0},{"$f":"SUMIFS(入出金tbl[金額],入出金tbl[内　容],$D17,入出金tbl[年月日],\">=\"&AB$2,入出金tbl[年月日],\"<\"&AC$2)","v":0},{"$f":"SUMIFS(入出金tbl[金額],入出金tbl[内　容],$D17,入出金tbl[年月日],\">=\"&AC$2,入出金tbl[年月日],\"<\"&AD$2)","v":0},{"$f":"SUMIFS(入出金tbl[金額],入出金tbl[内　容],$D17,入出金tbl[年月日],\">=\"&AD$2,入出金tbl[年月日],\"<\"&AE$2)","v":0},{"$f":"SUMIFS(入出金tbl[金額],入出金tbl[内　容],$D17,入出金tbl[年月日],\">=\"&AE$2,入出金tbl[年月日],\"<\"&AF$2)","v":0},{"$f":"SUMIFS(入出金tbl[金額],入出金tbl[内　容],$D17,入出金tbl[年月日],\">=\"&AF$2,入出金tbl[年月日],\"<\"&AG$2)","v":0},{"$f":"SUMIFS(入出金tbl[金額],入出金tbl[内　容],$D17,入出金tbl[年月日],\">=\"&AG$2,入出金tbl[年月日],\"<\"&AH$2)","v":0},{"$f":"SUMIFS(入出金tbl[金額],入出金tbl[内　容],$D17,入出金tbl[年月日],\">=\"&AH$2,入出金tbl[年月日],\"<\"&AI$2)","v":893},{"$f":"SUMIFS(入出金tbl[金額],入出金tbl[内　容],$D17,入出金tbl[年月日],\">=\"&AI$2,入出金tbl[年月日],\"<\"&AJ$2)","v":1125}]
[null,null,"(8)",{"$f":"資金繰り表!D19","v":"----------"},{"$f":"SUMIFS(入出金tbl[金額],入出金tbl[内　容],$D18,入出金tbl[年月日],\">=\"&E$2,入出金tbl[年月日],\"<\"&F$2)","v":0},{"$f":"SUMIFS(入出金tbl[金額],入出金tbl[内　容],$D18,入出金tbl[年月日],\">=\"&F$2,入出金tbl[年月日],\"<\"&G$2)","v":0},{"$f":"SUMIFS(入出金tbl[金額],入出金tbl[内　容],$D18,入出金tbl[年月日],\">=\"&G$2,入出金tbl[年月日],\"<\"&H$2)","v":0},{"$f":"SUMIFS(入出金tbl[金額],入出金tbl[内　容],$D18,入出金tbl[年月日],\">=\"&H$2,入出金tbl[年月日],\"<\"&I$2)","v":0},{"$f":"SUMIFS(入出金tbl[金額],入出金tbl[内　容],$D18,入出金tbl[年月日],\">=\"&I$2,入出金tbl[年月日],\"<\"&J$2)","v":0},{"$f":"SUMIFS(入出金tbl[金額],入出金tbl[内　容],$D18,入出金tbl[年月日],\">=\"&J$2,入出金tbl[年月日],\"<\"&K$2)","v":0},{"$f":"SUMIFS(入出金tbl[金額],入出金tbl[内　容],$D18,入出金tbl[年月日],\">=\"&K$2,入出金tbl[年月日],\"<\"&L$2)","v":0},{"$f":"SUMIFS(入出金tbl[金額],入出金tbl[内　容],$D18,入出金tbl[年月日],\">=\"&L$2,入出金tbl[年月日],\"<\"&M$2)","v":0},{"$f":"SUMIFS(入出金tbl[金額],入出金tbl[内　容],$D18,入出金tbl[年月日],\">=\"&M$2,入出金tbl[年月日],\"<\"&N$2)","v":0},{"$f":"SUMIFS(入出金tbl[金額],入出金tbl[内　容],$D18,入出金tbl[年月日],\">=\"&N$2,入出金tbl[年月日],\"<\"&O$2)","v":0},{"$f":"SUMIFS(入出金tbl[金額],入出金tbl[内　容],$D18,入出金tbl[年月日],\">=\"&O$2,入出金tbl[年月日],\"<\"&P$2)","v":0},{"$f":"SUMIFS(入出金tbl[金額],入出金tbl[内　容],$D18,入出金tbl[年月日],\">=\"&P$2,入出金tbl[年月日],\"<\"&Q$2)","v":0},{"$f":"SUMIFS(入出金tbl[金額],入出金tbl[内　容],$D18,入出金tbl[年月日],\">=\"&Q$2,入出金tbl[年月日],\"<\"&R$2)","v":0},{"$f":"SUMIFS(入出金tbl[金額],入出金tbl[内　容],$D18,入出金tbl[年月日],\">=\"&R$2,入出金tbl[年月日],\"<\"&S$2)","v":0},{"$f":"SUMIFS(入出金tbl[金額],入出金tbl[内　容],$D18,入出金tbl[年月日],\">=\"&S$2,入出金tbl[年月日],\"<\"&T$2)","v":0},{"$f":"SUMIFS(入出金tbl[金額],入出金tbl[内　容],$D18,入出金tbl[年月日],\">=\"&T$2,入出金tbl[年月日],\"<\"&U$2)","v":0},{"$f":"SUMIFS(入出金tbl[金額],入出金tbl[内　容],$D18,入出金tbl[年月日],\">=\"&U$2,入出金tbl[年月日],\"<\"&V$2)","v":0},{"$f":"SUMIFS(入出金tbl[金額],入出金tbl[内　容],$D18,入出金tbl[年月日],\">=\"&V$2,入出金tbl[年月日],\"<\"&W$2)","v":0},{"$f":"SUMIFS(入出金tbl[金額],入出金tbl[内　容],$D18,入出金tbl[年月日],\">=\"&W$2,入出金tbl[年月日],\"<\"&X$2)","v":0},{"$f":"SUMIFS(入出金tbl[金額],入出金tbl[内　容],$D18,入出金tbl[年月日],\">=\"&X$2,入出金tbl[年月日],\"<\"&Y$2)","v":0},{"$f":"SUMIFS(入出金tbl[金額],入出金tbl[内　容],$D18,入出金tbl[年月日],\">=\"&Y$2,入出金tbl[年月日],\"<\"&Z$2)","v":0},{"$f":"SUMIFS(入出金tbl[金額],入出金tbl[内　容],$D18,入出金tbl[年月日],\">=\"&Z$2,入出金tbl[年月日],\"<\"&AA$2)","v":0},{"$f":"SUMIFS(入出金tbl[金額],入出金tbl[内　容],$D18,入出金tbl[年月日],\">=\"&AA$2,入出金tbl[年月日],\"<\"&AB$2)","v":0},{"$f":"SUMIFS(入出金tbl[金額],入出金tbl[内　容],$D18,入出金tbl[年月日],\">=\"&AB$2,入出金tbl[年月日],\"<\"&AC$2)","v":0},{"$f":"SUMIFS(入出金tbl[金額],入出金tbl[内　容],$D18,入出金tbl[年月日],\">=\"&AC$2,入出金tbl[年月日],\"<\"&AD$2)","v":0},{"$f":"SUMIFS(入出金tbl[金額],入出金tbl[内　容],$D18,入出金tbl[年月日],\">=\"&AD$2,入出金tbl[年月日],\"<\"&AE$2)","v":0},{"$f":"SUMIFS(入出金tbl[金額],入出金tbl[内　容],$D18,入出金tbl[年月日],\">=\"&AE$2,入出金tbl[年月日],\"<\"&AF$2)","v":0},{"$f":"SUMIFS(入出金tbl[金額],入出金tbl[内　容],$D18,入出金tbl[年月日],\">=\"&AF$2,入出金tbl[年月日],\"<\"&AG$2)","v":0},{"$f":"SUMIFS(入出金tbl[金額],入出金tbl[内　容],$D18,入出金tbl[年月日],\">=\"&AG$2,入出金tbl[年月日],\"<\"&AH$2)","v":0},{"$f":"SUMIFS(入出金tbl[金額],入出金tbl[内　容],$D18,入出金tbl[年月日],\">=\"&AH$2,入出金tbl[年月日],\"<\"&AI$2)","v":0},{"$f":"SUMIFS(入出金tbl[金額],入出金tbl[内　容],$D18,入出金tbl[年月日],\">=\"&AI$2,入出金tbl[年月日],\"<\"&AJ$2)","v":0}]
[null,null,null,"支出合計（C）",{"$f":"SUM(E11:E18)","v":0},{"$f":"SUM(F11:F18)","v":0},0,0,0,866,754,1580,561,0,0,0,0,0,0,0,0,0,0,0,0,0,0,0,529,529,496,2260,1505,2192,1125]
[null,"差引過不足(D=B-C)",null,null,{"$f":"E10-E19","v":0},{"$f":"F10-F19","v":0},0,0,0,-866,-754,-1580,-561,0,0,0,0,1172,1385,213,260,0,0,0,0,1556,1235,124,-529,-529,-496,-2260,-1505,-2192,-1125]
["経常外収支","収入","(1)",{"$f":"資金繰り表!D22","v":"固定資産等売却手取"},{"$f":"SUMIFS(入出金tbl[金額],入出金tbl[内　容],$D21,入出金tbl[年月日],\">=\"&E$2,入出金tbl[年月日],\"<\"&F$2)","v":0},{"$f":"SUMIFS(入出金tbl[金額],入出金tbl[内　容],$D21,入出金tbl[年月日],\">=\"&F$2,入出金tbl[年月日],\"<\"&G$2)","v":0},{"$f":"SUMIFS(入出金tbl[金額],入出金tbl[内　容],$D21,入出金tbl[年月日],\">=\"&G$2,入出金tbl[年月日],\"<\"&H$2)","v":0},{"$f":"SUMIFS(入出金tbl[金額],入出金tbl[内　容],$D21,入出金tbl[年月日],\">=\"&H$2,入出金tbl[年月日],\"<\"&I$2)","v":0},{"$f":"SUMIFS(入出金tbl[金額],入出金tbl[内　容],$D21,入出金tbl[年月日],\">=\"&I$2,入出金tbl[年月日],\"<\"&J$2)","v":0},{"$f":"SUMIFS(入出金tbl[金額],入出金tbl[内　容],$D21,入出金tbl[年月日],\">=\"&J$2,入出金tbl[年月日],\"<\"&K$2)","v":0},{"$f":"SUMIFS(入出金tbl[金額],入出金tbl[内　容],$D21,入出金tbl[年月日],\">=\"&K$2,入出金tbl[年月日],\"<\"&L$2)","v":0},{"$f":"SUMIFS(入出金tbl[金額],入出金tbl[内　容],$D21,入出金tbl[年月日],\">=\"&L$2,入出金tbl[年月日],\"<\"&M$2)","v":0},{"$f":"SUMIFS(入出金tbl[金額],入出金tbl[内　容],$D21,入出金tbl[年月日],\">=\"&M$2,入出金tbl[年月日],\"<\"&N$2)","v":0},{"$f":"SUMIFS(入出金tbl[金額],入出金tbl[内　容],$D21,入出金tbl[年月日],\">=\"&N$2,入出金tbl[年月日],\"<\"&O$2)","v":0},{"$f":"SUMIFS(入出金tbl[金額],入出金tbl[内　容],$D21,入出金tbl[年月日],\">=\"&O$2,入出金tbl[年月日],\"<\"&P$2)","v":0},{"$f":"SUMIFS(入出金tbl[金額],入出金tbl[内　容],$D21,入出金tbl[年月日],\">=\"&P$2,入出金tbl[年月日],\"<\"&Q$2)","v":0},{"$f":"SUMIFS(入出金tbl[金額],入出金tbl[内　容],$D21,入出金tbl[年月日],\">=\"&Q$2,入出金tbl[年月日],\"<\"&R$2)","v":0},{"$f":"SUMIFS(入出金tbl[金額],入出金tbl[内　容],$D21,入出金tbl[年月日],\">=\"&R$2,入出金tbl[年月日],\"<\"&S$2)","v":0},{"$f":"SUMIFS(入出金tbl[金額],入出金tbl[内　容],$D21,入出金tbl[年月日],\">=\"&S$2,入出金tbl[年月日],\"<\"&T$2)","v":0},{"$f":"SUMIFS(入出金tbl[金額],入出金tbl[内　容],$D21,入出金tbl[年月日],\">=\"&T$2,入出金tbl[年月日],\"<\"&U$2)","v":0},{"$f":"SUMIFS(入出金tbl[金額],入出金tbl[内　容],$D21,入出金tbl[年月日],\">=\"&U$2,入出金tbl[年月日],\"<\"&V$2)","v":0},{"$f":"SUMIFS(入出金tbl[金額],入出金tbl[内　容],$D21,入出金tbl[年月日],\">=\"&V$2,入出金tbl[年月日],\"<\"&W$2)","v":260},{"$f":"SUMIFS(入出金tbl[金額],入出金tbl[内　容],$D21,入出金tbl[年月日],\">=\"&W$2,入出金tbl[年月日],\"<\"&X$2)","v":0},{"$f":"SUMIFS(入出金tbl[金額],入出金tbl[内　容],$D21,入出金tbl[年月日],\">=\"&X$2,入出金tbl[年月日],\"<\"&Y$2)","v":0},{"$f":"SUMIFS(入出金tbl[金額],入出金tbl[内　容],$D21,入出金tbl[年月日],\">=\"&Y$2,入出金tbl[年月日],\"<\"&Z$2)","v":0},{"$f":"SUMIFS(入出金tbl[金額],入出金tbl[内　容],$D21,入出金tbl[年月日],\">=\"&Z$2,入出金tbl[年月日],\"<\"&AA$2)","v":0},{"$f":"SUMIFS(入出金tbl[金額],入出金tbl[内　容],$D21,入出金tbl[年月日],\">=\"&AA$2,入出金tbl[年月日],\"<\"&AB$2)","v":0},{"$f":"SUMIFS(入出金tbl[金額],入出金tbl[内　容],$D21,入出金tbl[年月日],\">=\"&AB$2,入出金tbl[年月日],\"<\"&AC$2)","v":464},{"$f":"SUMIFS(入出金tbl[金額],入出金tbl[内　容],$D21,入出金tbl[年月日],\">=\"&AC$2,入出金tbl[年月日],\"<\"&AD$2)","v":0},{"$f":"SUMIFS(入出金tbl[金額],入出金tbl[内　容],$D21,入出金tbl[年月日],\">=\"&AD$2,入出金tbl[年月日],\"<\"&AE$2)","v":0},{"$f":"SUMIFS(入出金tbl[金額],入出金tbl[内　容],$D21,入出金tbl[年月日],\">=\"&AE$2,入出金tbl[年月日],\"<\"&AF$2)","v":0},{"$f":"SUMIFS(入出金tbl[金額],入出金tbl[内　容],$D21,入出金tbl[年月日],\">=\"&AF$2,入出金tbl[年月日],\"<\"&AG$2)","v":0},{"$f":"SUMIFS(入出金tbl[金額],入出金tbl[内　容],$D21,入出金tbl[年月日],\">=\"&AG$2,入出金tbl[年月日],\"<\"&AH$2)","v":0},{"$f":"SUMIFS(入出金tbl[金額],入出金tbl[内　容],$D21,入出金tbl[年月日],\">=\"&AH$2,入出金tbl[年月日],\"<\"&AI$2)","v":0},{"$f":"SUMIFS(入出金tbl[金額],入出金tbl[内　容],$D21,入出金tbl[年月日],\">=\"&AI$2,入出金tbl[年月日],\"<\"&AJ$2)","v":0}]
[null,null,"(2)",{"$f":"資金繰り表!D23","v":"定期預金等解約"},{"$f":"SUMIFS(入出金tbl[金額],入出金tbl[内　容],$D22,入出金tbl[年月日],\">=\"&E$2,入出金tbl[年月日],\"<\"&F$2)","v":1151},{"$f":"SUMIFS(入出金tbl[金額],入出金tbl[内　容],$D22,入出金tbl[年月日],\">=\"&F$2,入出金tbl[年月日],\"<\"&G$2)","v":0},{"$f":"SUMIFS(入出金tbl[金額],入出金tbl[内　容],$D22,入出金tbl[年月日],\">=\"&G$2,入出金tbl[年月日],\"<\"&H$2)","v":0},{"$f":"SUMIFS(入出金tbl[金額],入出金tbl[内　容],$D22,入出金tbl[年月日],\">=\"&H$2,入出金tbl[年月日],\"<\"&I$2)","v":0},{"$f":"SUMIFS(入出金tbl[金額],入出金tbl[内　容],$D22,入出金tbl[年月日],\">=\"&I$2,入出金tbl[年月日],\"<\"&J$2)","v":0},{"$f":"SUMIFS(入出金tbl[金額],入出金tbl[内　容],$D22,入出金tbl[年月日],\">=\"&J$2,入出金tbl[年月日],\"<\"&K$2)","v":0},{"$f":"SUMIFS(入出金tbl[金額],入出金tbl[内　容],$D22,入出金tbl[年月日],\">=\"&K$2,入出金tbl[年月日],\"<\"&L$2)","v":0},{"$f":"SUMIFS(入出金tbl[金額],入出金tbl[内　容],$D22,入出金tbl[年月日],\">=\"&L$2,入出金tbl[年月日],\"<\"&M$2)","v":0},{"$f":"SUMIFS(入出金tbl[金額],入出金tbl[内　容],$D22,入出金tbl[年月日],\">=\"&M$2,入出金tbl[年月日],\"<\"&N$2)","v":0},{"$f":"SUMIFS(入出金tbl[金額],入出金tbl[内　容],$D22,入出金tbl[年月日],\">=\"&N$2,入出金tbl[年月日],\"<\"&O$2)","v":0},{"$f":"SUMIFS(入出金tbl[金額],入出金tbl[内　容],$D22,入出金tbl[年月日],\">=\"&O$2,入出金tbl[年月日],\"<\"&P$2)","v":0},{"$f":"SUMIFS(入出金tbl[金額],入出金tbl[内　容],$D22,入出金tbl[年月日],\">=\"&P$2,入出金tbl[年月日],\"<\"&Q$2)","v":0},{"$f":"SUMIFS(入出金tbl[金額],入出金tbl[内　容],$D22,入出金tbl[年月日],\">=\"&Q$2,入出金tbl[年月日],\"<\"&R$2)","v":0},{"$f":"SUMIFS(入出金tbl[金額],入出金tbl[内　容],$D22,入出金tbl[年月日],\">=\"&R$2,入出金tbl[年月日],\"<\"&S$2)","v":0},{"$f":"SUMIFS(入出金tbl[金額],入出金tbl[内　容],$D22,入出金tbl[年月日],\">=\"&S$2,入出金tbl[年月日],\"<\"&T$2)","v":0},{"$f":"SUMIFS(入出金tbl[金額],入出金tbl[内　容],$D22,入出金tbl[年月日],\">=\"&T$2,入出金tbl[年月日],\"<\"&U$2)","v":0},{"$f":"SUMIFS(入出金tbl[金額],入出金tbl[内　容],$D22,入出金tbl[年月日],\">=\"&U$2,入出金tbl[年月日],\"<\"&V$2)","v":0},{"$f":"SUMIFS(入出金tbl[金額],入出金tbl[内　容],$D22,入出金tbl[年月日],\">=\"&V$2,入出金tbl[年月日],\"<\"&W$2)","v":0},{"$f":"SUMIFS(入出金tbl[金額],入出金tbl[内　容],$D22,入出金tbl[年月日],\">=\"&W$2,入出金tbl[年月日],\"<\"&X$2)","v":515},{"$f":"SUMIFS(入出金tbl[金額],入出金tbl[内　容],$D22,入出金tbl[年月日],\">=\"&X$2,入出金tbl[年月日],\"<\"&Y$2)","v":0},{"$f":"SUMIFS(入出金tbl[金額],入出金tbl[内　容],$D22,入出金tbl[年月日],\">=\"&Y$2,入出金tbl[年月日],\"<\"&Z$2)","v":0},{"$f":"SUMIFS(入出金tbl[金額],入出金tbl[内　容],$D22,入出金tbl[年月日],\">=\"&Z$2,入出金tbl[年月日],\"<\"&AA$2)","v":0},{"$f":"SUMIFS(入出金tbl[金額],入出金tbl[内　容],$D22,入出金tbl[年月日],\">=\"&AA$2,入出金tbl[年月日],\"<\"&AB$2)","v":0},{"$f":"SUMIFS(入出金tbl[金額],入出金tbl[内　容],$D22,入出金tbl[年月日],\">=\"&AB$2,入出金tbl[年月日],\"<\"&AC$2)","v":0},{"$f":"SUMIFS(入出金tbl[金額],入出金tbl[内　容],$D22,入出金tbl[年月日],\">=\"&AC$2,入出金tbl[年月日],\"<\"&AD$2)","v":124},{"$f":"SUMIFS(入出金tbl[金額],入出金tbl[内　容],$D22,入出金tbl[年月日],\">=\"&AD$2,入出金tbl[年月日],\"<\"&AE$2)","v":0},{"$f":"SUMIFS(入出金tbl[金額],入出金tbl[内　容],$D22,入出金tbl[年月日],\">=\"&AE$2,入出金tbl[年月日],\"<\"&AF$2)","v":0},{"$f":"SUMIFS(入出金tbl[金額],入出金tbl[内　容],$D22,入出金tbl[年月日],\">=\"&AF$2,入出金tbl[年月日],\"<\"&AG$2)","v":0},{"$f":"SUMIFS(入出金tbl[金額],入出金tbl[内　容],$D22,入出金tbl[年月日],\">=\"&AG$2,入出金tbl[年月日],\"<\"&AH$2)","v":0},{"$f":"SUMIFS(入出金tbl[金額],入出金tbl[内　容],$D22,入出金tbl[年月日],\">=\"&AH$2,入出金tbl[年月日],\"<\"&AI$2)","v":0},{"$f":"SUMIFS(入出金tbl[金額],入出金tbl[内　容],$D22,入出金tbl[年月日],\">=\"&AI$2,入出金tbl[年月日],\"<\"&AJ$2)","v":0}]
[null,null,"(3)",{"$f":"資金繰り表!D24","v":"その他臨時収入"},{"$f":"SUMIFS(入出金tbl[金額],入出金tbl[内　容],$D23,入出金tbl[年月日],\">=\"&E$2,入出金tbl[年月日],\"<\"&F$2)","v":0},{"$f":"SUMIFS(入出金tbl[金額],入出金tbl[内　容],$D23,入出金tbl[年月日],\">=\"&F$2,入出金tbl[年月日],\"<\"&G$2)","v":1125},{"$f":"SUMIFS(入出金tbl[金額],入出金tbl[内　容],$D23,入出金tbl[年月日],\">=\"&G$2,入出金tbl[年月日],\"<\"&H$2)","v":0},{"$f":"SUMIFS(入出金tbl[金額],入出金tbl[内　容],$D23,入出金tbl[年月日],\">=\"&H$2,入出金tbl[年月日],\"<\"&I$2)","v":0},{"$f":"SUMIFS(入出金tbl[金額],入出金tbl[内　容],$D23,入出金tbl[年月日],\">=\"&I$2,入出金tbl[年月日],\"<\"&J$2)","v":0},{"$f":"SUMIFS(入出金tbl[金額],入出金tbl[内　容],$D23,入出金tbl[年月日],\">=\"&J$2,入出金tbl[年月日],\"<\"&K$2)","v":0},{"$f":"SUMIFS(入出金tbl[金額],入出金tbl[内　容],$D23,入出金tbl[年月日],\">=\"&K$2,入出金tbl[年月日],\"<\"&L$2)","v":0},{"$f":"SUMIFS(入出金tbl[金額],入出金tbl[内　容],$D23,入出金tbl[年月日],\">=\"&L$2,入出金tbl[年月日],\"<\"&M$2)","v":0},{"$f":"SUMIFS(入出金tbl[金額],入出金tbl[内　容],$D23,入出金tbl[年月日],\">=\"&M$2,入出金tbl[年月日],\"<\"&N$2)","v":0},{"$f":"SUMIFS(入出金tbl[金額],入出金tbl[内　容],$D23,入出金tbl[年月日],\">=\"&N$2,入出金tbl[年月日],\"<\"&O$2)","v":0},{"$f":"SUMIFS(入出金tbl[金額],入出金tbl[内　容],$D23,入出金tbl[年月日],\">=\"&O$2,入出金tbl[年月日],\"<\"&P$2)","v":0},{"$f":"SUMIFS(入出金tbl[金額],入出金tbl[内　容],$D23,入出金tbl[年月日],\">=\"&P$2,入出金tbl[年月日],\"<\"&Q$2)","v":0},{"$f":"SUMIFS(入出金tbl[金額],入出金tbl[内　容],$D23,入出金tbl[年月日],\">=\"&Q$2,入出金tbl[年月日],\"<\"&R$2)","v":0},{"$f":"SUMIFS(入出金tbl[金額],入出金tbl[内　容],$D23,入出金tbl[年月日],\">=\"&R$2,入出金tbl[年月日],\"<\"&S$2)","v":0},{"$f":"SUMIFS(入出金tbl[金額],入出金tbl[内　容],$D23,入出金tbl[年月日],\">=\"&S$2,入出金tbl[年月日],\"<\"&T$2)","v":0},{"$f":"SUMIFS(入出金tbl[金額],入出金tbl[内　容],$D23,入出金tbl[年月日],\">=\"&T$2,入出金tbl[年月日],\"<\"&U$2)","v":0},{"$f":"SUMIFS(入出金tbl[金額],入出金tbl[内　容],$D23,入出金tbl[年月日],\">=\"&U$2,入出金tbl[年月日],\"<\"&V$2)","v":0},{"$f":"SUMIFS(入出金tbl[金額],入出金tbl[内　容],$D23,入出金tbl[年月日],\">=\"&V$2,入出金tbl[年月日],\"<\"&W$2)","v":0},{"$f":"SUMIFS(入出金tbl[金額],入出金tbl[内　容],$D23,入出金tbl[年月日],\">=\"&W$2,入出金tbl[年月日],\"<\"&X$2)","v":0},{"$f":"SUMIFS(入出金tbl[金額],入出金tbl[内　容],$D23,入出金tbl[年月日],\">=\"&X$2,入出金tbl[年月日],\"<\"&Y$2)","v":515},{"$f":"SUMIFS(入出金tbl[金額],入出金tbl[内　容],$D23,入出金tbl[年月日],\">=\"&Y$2,入出金tbl[年月日],\"<\"&Z$2)","v":0},{"$f":"SUMIFS(入出金tbl[金額],入出金tbl[内　容],$D23,入出金tbl[年月日],\">=\"&Z$2,入出金tbl[年月日],\"<\"&AA$2)","v":0},{"$f":"SUMIFS(入出金tbl[金額],入出金tbl[内　容],$D23,入出金tbl[年月日],\">=\"&AA$2,入出金tbl[年月日],\"<\"&AB$2)","v":0},{"$f":"SUMIFS(入出金tbl[金額],入出金tbl[内　容],$D23,入出金tbl[年月日],\">=\"&AB$2,入出金tbl[年月日],\"<\"&AC$2)","v":0},{"$f":"SUMIFS(入出金tbl[金額],入出金tbl[内　容],$D23,入出金tbl[年月日],\">=\"&AC$2,入出金tbl[年月日],\"<\"&AD$2)","v":464},{"$f":"SUMIFS(入出金tbl[金額],入出金tbl[内　容],$D23,入出金tbl[年月日],\">=\"&AD$2,入出金tbl[年月日],\"<\"&AE$2)","v":0},{"$f":"SUMIFS(入出金tbl[金額],入出金tbl[内　容],$D23,入出金tbl[年月日],\">=\"&AE$2,入出金tbl[年月日],\"<\"&AF$2)","v":0},{"$f":"SUMIFS(入出金tbl[金額],入出金tbl[内　容],$D23,入出金tbl[年月日],\">=\"&AF$2,入出金tbl[年月日],\"<\"&AG$2)","v":0},{"$f":"SUMIFS(入出金tbl[金額],入出金tbl[内　容],$D23,入出金tbl[年月日],\">=\"&AG$2,入出金tbl[年月日],\"<\"&AH$2)","v":0},{"$f":"SUMIFS(入出金tbl[金額],入出金tbl[内　容],$D23,入出金tbl[年月日],\">=\"&AH$2,入出金tbl[年月日],\"<\"&AI$2)","v":0},{"$f":"SUMIFS(入出金tbl[金額],入出金tbl[内　容],$D23,入出金tbl[年月日],\">=\"&AI$2,入出金tbl[年月日],\"<\"&AJ$2)","v":0}]
[null,null,"(4)",{"$f":"資金繰り表!D25","v":"----------"},{"$f":"SUMIFS(入出金tbl[金額],入出金tbl[内　容],$D24,入出金tbl[年月日],\">=\"&E$2,入出金tbl[年月日],\"<\"&F$2)","v":0},{"$f":"SUMIFS(入出金tbl[金額],入出金tbl[内　容],$D24,入出金tbl[年月日],\">=\"&F$2,入出金tbl[年月日],\"<\"&G$2)","v":0},{"$f":"SUMIFS(入出金tbl[金額],入出金tbl[内　容],$D24,入出金tbl[年月日],\">=\"&G$2,入出金tbl[年月日],\"<\"&H$2)","v":0},{"$f":"SUMIFS(入出金tbl[金額],入出金tbl[内　容],$D24,入出金tbl[年月日],\">=\"&H$2,入出金tbl[年月日],\"<\"&I$2)","v":0},{"$f":"SUMIFS(入出金tbl[金額],入出金tbl[内　容],$D24,入出金tbl[年月日],\">=\"&I$2,入出金tbl[年月日],\"<\"&J$2)","v":0},{"$f":"SUMIFS(入出金tbl[金額],入出金tbl[内　容],$D24,入出金tbl[年月日],\">=\"&J$2,入出金tbl[年月日],\"<\"&K$2)","v":0},{"$f":"SUMIFS(入出金tbl[金額],入出金tbl[内　容],$D24,入出金tbl[年月日],\">=\"&K$2,入出金tbl[年月日],\"<\"&L$2)","v":0},{"$f":"SUMIFS(入出金tbl[金額],入出金tbl[内　容],$D24,入出金tbl[年月日],\">=\"&L$2,入出金tbl[年月日],\"<\"&M$2)","v":0},{"$f":"SUMIFS(入出金tbl[金額],入出金tbl[内　容],$D24,入出金tbl[年月日],\">=\"&M$2,入出金tbl[年月日],\"<\"&N$2)","v":0},{"$f":"SUMIFS(入出金tbl[金額],入出金tbl[内　容],$D24,入出金tbl[年月日],\">=\"&N$2,入出金tbl[年月日],\"<\"&O$2)","v":0},{"$f":"SUMIFS(入出金tbl[金額],入出金tbl[内　容],$D24,入出金tbl[年月日],\">=\"&O$2,入出金tbl[年月日],\"<\"&P$2)","v":0},{"$f":"SUMIFS(入出金tbl[金額],入出金tbl[内　容],$D24,入出金tbl[年月日],\">=\"&P$2,入出金tbl[年月日],\"<\"&Q$2)","v":0},{"$f":"SUMIFS(入出金tbl[金額],入出金tbl[内　容],$D24,入出金tbl[年月日],\">=\"&Q$2,入出金tbl[年月日],\"<\"&R$2)","v":0},{"$f":"SUMIFS(入出金tbl[金額],入出金tbl[内　容],$D24,入出金tbl[年月日],\">=\"&R$2,入出金tbl[年月日],\"<\"&S$2)","v":0},{"$f":"SUMIFS(入出金tbl[金額],入出金tbl[内　容],$D24,入出金tbl[年月日],\">=\"&S$2,入出金tbl[年月日],\"<\"&T$2)","v":0},{"$f":"SUMIFS(入出金tbl[金額],入出金tbl[内　容],$D24,入出金tbl[年月日],\">=\"&T$2,入出金tbl[年月日],\"<\"&U$2)","v":0},{"$f":"SUMIFS(入出金tbl[金額],入出金tbl[内　容],$D24,入出金tbl[年月日],\">=\"&U$2,入出金tbl[年月日],\"<\"&V$2)","v":0},{"$f":"SUMIFS(入出金tbl[金額],入出金tbl[内　容],$D24,入出金tbl[年月日],\">=\"&V$2,入出金tbl[年月日],\"<\"&W$2)","v":0},{"$f":"SUMIFS(入出金tbl[金額],入出金tbl[内　容],$D24,入出金tbl[年月日],\">=\"&W$2,入出金tbl[年月日],\"<\"&X$2)","v":0},{"$f":"SUMIFS(入出金tbl[金額],入出金tbl[内　容],$D24,入出金tbl[年月日],\">=\"&X$2,入出金tbl[年月日],\"<\"&Y$2)","v":0},{"$f":"SUMIFS(入出金tbl[金額],入出金tbl[内　容],$D24,入出金tbl[年月日],\">=\"&Y$2,入出金tbl[年月日],\"<\"&Z$2)","v":0},{"$f":"SUMIFS(入出金tbl[金額],入出金tbl[内　容],$D24,入出金tbl[年月日],\">=\"&Z$2,入出金tbl[年月日],\"<\"&AA$2)","v":0},{"$f":"SUMIFS(入出金tbl[金額],入出金tbl[内　容],$D24,入出金tbl[年月日],\">=\"&AA$2,入出金tbl[年月日],\"<\"&AB$2)","v":0},{"$f":"SUMIFS(入出金tbl[金額],入出金tbl[内　容],$D24,入出金tbl[年月日],\">=\"&AB$2,入出金tbl[年月日],\"<\"&AC$2)","v":0},{"$f":"SUMIFS(入出金tbl[金額],入出金tbl[内　容],$D24,入出金tbl[年月日],\">=\"&AC$2,入出金tbl[年月日],\"<\"&AD$2)","v":0},{"$f":"SUMIFS(入出金tbl[金額],入出金tbl[内　容],$D24,入出金tbl[年月日],\">=\"&AD$2,入出金tbl[年月日],\"<\"&AE$2)","v":0},{"$f":"SUMIFS(入出金tbl[金額],入出金tbl[内　容],$D24,入出金tbl[年月日],\">=\"&AE$2,入出金tbl[年月日],\"<\"&AF$2)","v":0},{"$f":"SUMIFS(入出金tbl[金額],入出金tbl[内　容],$D24,入出金tbl[年月日],\">=\"&AF$2,入出金tbl[年月日],\"<\"&AG$2)","v":0},{"$f":"SUMIFS(入出金tbl[金額],入出金tbl[内　容],$D24,入出金tbl[年月日],\">=\"&AG$2,入出金tbl[年月日],\"<\"&AH$2)","v":0},{"$f":"SUMIFS(入出金tbl[金額],入出金tbl[内　容],$D24,入出金tbl[年月日],\">=\"&AH$2,入出金tbl[年月日],\"<\"&AI$2)","v":0},{"$f":"SUMIFS(入出金tbl[金額],入出金tbl[内　容],$D24,入出金tbl[年月日],\">=\"&AI$2,入出金tbl[年月日],\"<\"&AJ$2)","v":0}]
[null,null,null,"収入合計(E)",{"$f":"SUM(E21:E24)","v":1151},{"$f":"SUM(F21:F24)","v":1125},0,0,0,0,0,0,0,0,0,0,0,0,0,0,0,260,515,515,0,0,0,464,588,0,0,0,0,0,0]
[null,"支出","(1)",{"$f":"資金繰り表!D27","v":"税金"},{"$f":"SUMIFS(入出金tbl[金額],入出金tbl[内　容],$D26,入出金tbl[年月日],\">=\"&E$2,入出金tbl[年月日],\"<\"&F$2)","v":0},{"$f":"SUMIFS(入出金tbl[金額],入出金tbl[内　容],$D26,入出金tbl[年月日],\">=\"&F$2,入出金tbl[年月日],\"<\"&G$2)","v":0},{"$f":"SUMIFS(入出金tbl[金額],入出金tbl[内　容],$D26,入出金tbl[年月日],\">=\"&G$2,入出金tbl[年月日],\"<\"&H$2)","v":0},{"$f":"SUMIFS(入出金tbl[金額],入出金tbl[内　容],$D26,入出金tbl[年月日],\">=\"&H$2,入出金tbl[年月日],\"<\"&I$2)","v":0},{"$f":"SUMIFS(入出金tbl[金額],入出金tbl[内　容],$D26,入出金tbl[年月日],\">=\"&I$2,入出金tbl[年月日],\"<\"&J$2)","v":0},{"$f":"SUMIFS(入出金tbl[金額],入出金tbl[内　容],$D26,入出金tbl[年月日],\">=\"&J$2,入出金tbl[年月日],\"<\"&K$2)","v":0},{"$f":"SUMIFS(入出金tbl[金額],入出金tbl[内　容],$D26,入出金tbl[年月日],\">=\"&K$2,入出金tbl[年月日],\"<\"&L$2)","v":0},{"$f":"SUMIFS(入出金tbl[金額],入出金tbl[内　容],$D26,入出金tbl[年月日],\">=\"&L$2,入出金tbl[年月日],\"<\"&M$2)","v":0},{"$f":"SUMIFS(入出金tbl[金額],入出金tbl[内　容],$D26,入出金tbl[年月日],\">=\"&M$2,入出金tbl[年月日],\"<\"&N$2)","v":735},{"$f":"SUMIFS(入出金tbl[金額],入出金tbl[内　容],$D26,入出金tbl[年月日],\">=\"&N$2,入出金tbl[年月日],\"<\"&O$2)","v":0},{"$f":"SUMIFS(入出金tbl[金額],入出金tbl[内　容],$D26,入出金tbl[年月日],\">=\"&O$2,入出金tbl[年月日],\"<\"&P$2)","v":0},{"$f":"SUMIFS(入出金tbl[金額],入出金tbl[内　容],$D26,入出金tbl[年月日],\">=\"&P$2,入出金tbl[年月日],\"<\"&Q$2)","v":0},{"$f":"SUMIFS(入出金tbl[金額],入出金tbl[内　容],$D26,入出金tbl[年月日],\">=\"&Q$2,入出金tbl[年月日],\"<\"&R$2)","v":0},{"$f":"SUMIFS(入出金tbl[金額],入出金tbl[内　容],$D26,入出金tbl[年月日],\">=\"&R$2,入出金tbl[年月日],\"<\"&S$2)","v":0},{"$f":"SUMIFS(入出金tbl[金額],入出金tbl[内　容],$D26,入出金tbl[年月日],\">=\"&S$2,入出金tbl[年月日],\"<\"&T$2)","v":0},{"$f":"SUMIFS(入出金tbl[金額],入出金tbl[内　容],$D26,入出金tbl[年月日],\">=\"&T$2,入出金tbl[年月日],\"<\"&U$2)","v":0},{"$f":"SUMIFS(入出金tbl[金額],入出金tbl[内　容],$D26,入出金tbl[年月日],\">=\"&U$2,入出金tbl[年月日],\"<\"&V$2)","v":0},{"$f":"SUMIFS(入出金tbl[金額],入出金tbl[内　容],$D26,入出金tbl[年月日],\">=\"&V$2,入出金tbl[年月日],\"<\"&W$2)","v":0},{"$f":"SUMIFS(入出金tbl[金額],入出金tbl[内　容],$D26,入出金tbl[年月日],\">=\"&W$2,入出金tbl[年月日],\"<\"&X$2)","v":0},{"$f":"SUMIFS(入出金tbl[金額],入出金tbl[内　容],$D26,入出金tbl[年月日],\">=\"&X$2,入出金tbl[年月日],\"<\"&Y$2)","v":0},{"$f":"SUMIFS(入出金tbl[金額],入出金tbl[内　容],$D26,入出金tbl[年月日],\">=\"&Y$2,入出金tbl[年月日],\"<\"&Z$2)","v":0},{"$f":"SUMIFS(入出金tbl[金額],入出金tbl[内　容],$D26,入出金tbl[年月日],\">=\"&Z$2,入出金tbl[年月日],\"<\"&AA$2)","v":0},{"$f":"SUMIFS(入出金tbl[金額],入出金tbl[内　容],$D26,入出金tbl[年月日],\">=\"&AA$2,入出金tbl[年月日],\"<\"&AB$2)","v":0},{"$f":"SUMIFS(入出金tbl[金額],入出金tbl[内　容],$D26,入出金tbl[年月日],\">=\"&AB$2,入出金tbl[年月日],\"<\"&AC$2)","v":0},{"$f":"SUMIFS(入出金tbl[金額],入出金tbl[内　容],$D26,入出金tbl[年月日],\">=\"&AC$2,入出金tbl[年月日],\"<\"&AD$2)","v":0},{"$f":"SUMIFS(入出金tbl[金額],入出金tbl[内　容],$D26,入出金tbl[年月日],\">=\"&AD$2,入出金tbl[年月日],\"<\"&AE$2)","v":0},{"$f":"SUMIFS(入出金tbl[金額],入出金tbl[内　容],$D26,入出金tbl[年月日],\">=\"&AE$2,入出金tbl[年月日],\"<\"&AF$2)","v":0},{"$f":"SUMIFS(入出金tbl[金額],入出金tbl[内　容],$D26,入出金tbl[年月日],\">=\"&AF$2,入出金tbl[年月日],\"<\"&AG$2)","v":0},{"$f":"SUMIFS(入出金tbl[金額],入出金tbl[内　容],$D26,入出金tbl[年月日],\">=\"&AG$2,入出金tbl[年月日],\"<\"&AH$2)","v":0},{"$f":"SUMIFS(入出金tbl[金額],入出金tbl[内　容],$D26,入出金tbl[年月日],\">=\"&AH$2,入出金tbl[年月日],\"<\"&AI$2)","v":0},{"$f":"SUMIFS(入出金tbl[金額],入出金tbl[内　容],$D26,入出金tbl[年月日],\">=\"&AI$2,入出金tbl[年月日],\"<\"&AJ$2)","v":818}]
[null,null,"(2)",{"$f":"資金繰り表!D28","v":"役員賞与"},{"$f":"SUMIFS(入出金tbl[金額],入出金tbl[内　容],$D27,入出金tbl[年月日],\">=\"&E$2,入出金tbl[年月日],\"<\"&F$2)","v":0},{"$f":"SUMIFS(入出金tbl[金額],入出金tbl[内　容],$D27,入出金tbl[年月日],\">=\"&F$2,入出金tbl[年月日],\"<\"&G$2)","v":0},{"$f":"SUMIFS(入出金tbl[金額],入出金tbl[内　容],$D27,入出金tbl[年月日],\">=\"&G$2,入出金tbl[年月日],\"<\"&H$2)","v":0},{"$f":"SUMIFS(入出金tbl[金額],入出金tbl[内　容],$D27,入出金tbl[年月日],\">=\"&H$2,入出金tbl[年月日],\"<\"&I$2)","v":0},{"$f":"SUMIFS(入出金tbl[金額],入出金tbl[内　容],$D27,入出金tbl[年月日],\">=\"&I$2,入出金tbl[年月日],\"<\"&J$2)","v":0},{"$f":"SUMIFS(入出金tbl[金額],入出金tbl[内　容],$D27,入出金tbl[年月日],\">=\"&J$2,入出金tbl[年月日],\"<\"&K$2)","v":0},{"$f":"SUMIFS(入出金tbl[金額],入出金tbl[内　容],$D27,入出金tbl[年月日],\">=\"&K$2,入出金tbl[年月日],\"<\"&L$2)","v":0},{"$f":"SUMIFS(入出金tbl[金額],入出金tbl[内　容],$D27,入出金tbl[年月日],\">=\"&L$2,入出金tbl[年月日],\"<\"&M$2)","v":0},{"$f":"SUMIFS(入出金tbl[金額],入出金tbl[内　容],$D27,入出金tbl[年月日],\">=\"&M$2,入出金tbl[年月日],\"<\"&N$2)","v":0},{"$f":"SUMIFS(入出金tbl[金額],入出金tbl[内　容],$D27,入出金tbl[年月日],\">=\"&N$2,入出金tbl[年月日],\"<\"&O$2)","v":452},{"$f":"SUMIFS(入出金tbl[金額],入出金tbl[内　容],$D27,入出金tbl[年月日],\">=\"&O$2,入出金tbl[年月日],\"<\"&P$2)","v":0},{"$f":"SUMIFS(入出金tbl[金額],入出金tbl[内　容],$D27,入出金tbl[年月日],\">=\"&P$2,入出金tbl[年月日],\"<\"&Q$2)","v":0},{"$f":"SUMIFS(入出金tbl[金額],入出金tbl[内　容],$D27,入出金tbl[年月日],\">=\"&Q$2,入出金tbl[年月日],\"<\"&R$2)","v":0},{"$f":"SUMIFS(入出金tbl[金額],入出金tbl[内　容],$D27,入出金tbl[年月日],\">=\"&R$2,入出金tbl[年月日],\"<\"&S$2)","v":0},{"$f":"SUMIFS(入出金tbl[金額],入出金tbl[内　容],$D27,入出金tbl[年月日],\">=\"&S$2,入出金tbl[年月日],\"<\"&T$2)","v":0},{"$f":"SUMIFS(入出金tbl[金額],入出金tbl[内　容],$D27,入出金tbl[年月日],\">=\"&T$2,入出金tbl[年月日],\"<\"&U$2)","v":0},{"$f":"SUMIFS(入出金tbl[金額],入出金tbl[内　容],$D27,入出金tbl[年月日],\">=\"&U$2,入出金tbl[年月日],\"<\"&V$2)","v":0},{"$f":"SUMIFS(入出金tbl[金額],入出金tbl[内　容],$D27,入出金tbl[年月日],\">=\"&V$2,入出金tbl[年月日],\"<\"&W$2)","v":0},{"$f":"SUMIFS(入出金tbl[金額],入出金tbl[内　容],$D27,入出金tbl[年月日],\">=\"&W$2,入出金tbl[年月日],\"<\"&X$2)","v":0},{"$f":"SUMIFS(入出金tbl[金額],入出金tbl[内　容],$D27,入出金tbl[年月日],\">=\"&X$2,入出金tbl[年月日],\"<\"&Y$2)","v":0},{"$f":"SUMIFS(入出金tbl[金額],入出金tbl[内　容],$D27,入出金tbl[年月日],\">=\"&Y$2,入出金tbl[年月日],\"<\"&Z$2)","v":0},{"$f":"SUMIFS(入出金tbl[金額],入出金tbl[内　容],$D27,入出金tbl[年月日],\">=\"&Z$2,入出金tbl[年月日],\"<\"&AA$2)","v":0},{"$f":"SUMIFS(入出金tbl[金額],入出金tbl[内　容],$D27,入出金tbl[年月日],\">=\"&AA$2,入出金tbl[年月日],\"<\"&AB$2)","v":0},{"$f":"SUMIFS(入出金tbl[金額],入出金tbl[内　容],$D27,入出金tbl[年月日],\">=\"&AB$2,入出金tbl[年月日],\"<\"&AC$2)","v":0},{"$f":"SUMIFS(入出金tbl[金額],入出金tbl[内　容],$D27,入出金tbl[年月日],\">=\"&AC$2,入出金tbl[年月日],\"<\"&AD$2)","v":0},{"$f":"SUMIFS(入出金tbl[金額],入出金tbl[内　容],$D27,入出金tbl[年月日],\">=\"&AD$2,入出金tbl[年月日],\"<\"&AE$2)","v":0},{"$f":"SUMIFS(入出金tbl[金額],入出金tbl[内　容],$D27,入出金tbl[年月日],\">=\"&AE$2,入出金tbl[年月日],\"<\"&AF$2)","v":0},{"$f":"SUMIFS(入出金tbl[金額],入出金tbl[内　容],$D27,入出金tbl[年月日],\">=\"&AF$2,入出金tbl[年月日],\"<\"&AG$2)","v":0},{"$f":"SUMIFS(入出金tbl[金額],入出金tbl[内　容],$D27,入出金tbl[年月日],\">=\"&AG$2,入出金tbl[年月日],\"<\"&AH$2)","v":0},{"$f":"SUMIFS(入出金tbl[金額],入出金tbl[内　容],$D27,入出金tbl[年月日],\">=\"&AH$2,入出金tbl[年月日],\"<\"&AI$2)","v":0},{"$f":"SUMIFS(入出金tbl[金額],入出金tbl[内　容],$D27,入出金tbl[年月日],\">=\"&AI$2,入出金tbl[年月日],\"<\"&AJ$2)","v":893}]
[null,null,"(3)",{"$f":"資金繰り表!D29","v":"配当"},{"$f":"SUMIFS(入出金tbl[金額],入出金tbl[内　容],$D28,入出金tbl[年月日],\">=\"&E$2,入出金tbl[年月日],\"<\"&F$2)","v":0},{"$f":"SUMIFS(入出金tbl[金額],入出金tbl[内　容],$D28,入出金tbl[年月日],\">=\"&F$2,入出金tbl[年月日],\"<\"&G$2)","v":0},{"$f":"SUMIFS(入出金tbl[金額],入出金tbl[内　容],$D28,入出金tbl[年月日],\">=\"&G$2,入出金tbl[年月日],\"<\"&H$2)","v":0},{"$f":"SUMIFS(入出金tbl[金額],入出金tbl[内　容],$D28,入出金tbl[年月日],\">=\"&H$2,入出金tbl[年月日],\"<\"&I$2)","v":0},{"$f":"SUMIFS(入出金tbl[金額],入出金tbl[内　容],$D28,入出金tbl[年月日],\">=\"&I$2,入出金tbl[年月日],\"<\"&J$2)","v":0},{"$f":"SUMIFS(入出金tbl[金額],入出金tbl[内　容],$D28,入出金tbl[年月日],\">=\"&J$2,入出金tbl[年月日],\"<\"&K$2)","v":0},{"$f":"SUMIFS(入出金tbl[金額],入出金tbl[内　容],$D28,入出金tbl[年月日],\">=\"&K$2,入出金tbl[年月日],\"<\"&L$2)","v":0},{"$f":"SUMIFS(入出金tbl[金額],入出金tbl[内　容],$D28,入出金tbl[年月日],\">=\"&L$2,入出金tbl[年月日],\"<\"&M$2)","v":0},{"$f":"SUMIFS(入出金tbl[金額],入出金tbl[内　容],$D28,入出金tbl[年月日],\">=\"&M$2,入出金tbl[年月日],\"<\"&N$2)","v":0},{"$f":"SUMIFS(入出金tbl[金額],入出金tbl[内　容],$D28,入出金tbl[年月日],\">=\"&N$2,入出金tbl[年月日],\"<\"&O$2)","v":1128},{"$f":"SUMIFS(入出金tbl[金額],入出金tbl[内　容],$D28,入出金tbl[年月日],\">=\"&O$2,入出金tbl[年月日],\"<\"&P$2)","v":0},{"$f":"SUMIFS(入出金tbl[金額],入出金tbl[内　容],$D28,入出金tbl[年月日],\">=\"&P$2,入出金tbl[年月日],\"<\"&Q$2)","v":0},{"$f":"SUMIFS(入出金tbl[金額],入出金tbl[内　容],$D28,入出金tbl[年月日],\">=\"&Q$2,入出金tbl[年月日],\"<\"&R$2)","v":0},{"$f":"SUMIFS(入出金tbl[金額],入出金tbl[内　容],$D28,入出金tbl[年月日],\">=\"&R$2,入出金tbl[年月日],\"<\"&S$2)","v":0},{"$f":"SUMIFS(入出金tbl[金額],入出金tbl[内　容],$D28,入出金tbl[年月日],\">=\"&S$2,入出金tbl[年月日],\"<\"&T$2)","v":0},{"$f":"SUMIFS(入出金tbl[金額],入出金tbl[内　容],$D28,入出金tbl[年月日],\">=\"&T$2,入出金tbl[年月日],\"<\"&U$2)","v":0},{"$f":"SUMIFS(入出金tbl[金額],入出金tbl[内　容],$D28,入出金tbl[年月日],\">=\"&U$2,入出金tbl[年月日],\"<\"&V$2)","v":0},{"$f":"SUMIFS(入出金tbl[金額],入出金tbl[内　容],$D28,入出金tbl[年月日],\">=\"&V$2,入出金tbl[年月日],\"<\"&W$2)","v":0},{"$f":"SUMIFS(入出金tbl[金額],入出金tbl[内　容],$D28,入出金tbl[年月日],\">=\"&W$2,入出金tbl[年月日],\"<\"&X$2)","v":0},{"$f":"SUMIFS(入出金tbl[金額],入出金tbl[内　容],$D28,入出金tbl[年月日],\">=\"&X$2,入出金tbl[年月日],\"<\"&Y$2)","v":0},{"$f":"SUMIFS(入出金tbl[金額],入出金tbl[内　容],$D28,入出金tbl[年月日],\">=\"&Y$2,入出金tbl[年月日],\"<\"&Z$2)","v":0},{"$f":"SUMIFS(入出金tbl[金額],入出金tbl[内　容],$D28,入出金tbl[年月日],\">=\"&Z$2,入出金tbl[年月日],\"<\"&AA$2)","v":0},{"$f":"SUMIFS(入出金tbl[金額],入出金tbl[内　容],$D28,入出金tbl[年月日],\">=\"&AA$2,入出金tbl[年月日],\"<\"&AB$2)","v":0},{"$f":"SUMIFS(入出金tbl[金額],入出金tbl[内　容],$D28,入出金tbl[年月日],\">=\"&AB$2,入出金tbl[年月日],\"<\"&AC$2)","v":0},{"$f":"SUMIFS(入出金tbl[金額],入出金tbl[内　容],$D28,入出金tbl[年月日],\">=\"&AC$2,入出金tbl[年月日],\"<\"&AD$2)","v":0},{"$f":"SUMIFS(入出金tbl[金額],入出金tbl[内　容],$D28,入出金tbl[年月日],\">=\"&AD$2,入出金tbl[年月日],\"<\"&AE$2)","v":0},{"$f":"SUMIFS(入出金tbl[金額],入出金tbl[内　容],$D28,入出金tbl[年月日],\">=\"&AE$2,入出金tbl[年月日],\"<\"&AF$2)","v":0},{"$f":"SUMIFS(入出金tbl[金額],入出金tbl[内　容],$D28,入出金tbl[年月日],\">=\"&AF$2,入出金tbl[年月日],\"<\"&AG$2)","v":0},{"$f":"SUMIFS(入出金tbl[金額],入出金tbl[内　容],$D28,入出金tbl[年月日],\">=\"&AG$2,入出金tbl[年月日],\"<\"&AH$2)","v":0},{"$f":"SUMIFS(入出金tbl[金額],入出金tbl[内　容],$D28,入出金tbl[年月日],\">=\"&AH$2,入出金tbl[年月日],\"<\"&AI$2)","v":0},{"$f":"SUMIFS(入出金tbl[金額],入出金tbl[内　容],$D28,入出金tbl[年月日],\">=\"&AI$2,入出金tbl[年月日],\"<\"&AJ$2)","v":0}]
[null,null,"(4)",{"$f":"資金繰り表!D30","v":"固定資産購入支出"},{"$f":"SUMIFS(入出金tbl[金額],入出金tbl[内　容],$D29,入出金tbl[年月日],\">=\"&E$2,入出金tbl[年月日],\"<\"&F$2)","v":0},{"$f":"SUMIFS(入出金tbl[金額],入出金tbl[内　容],$D29,入出金tbl[年月日],\">=\"&F$2,入出金tbl[年月日],\"<\"&G$2)","v":0},{"$f":"SUMIFS(入出金tbl[金額],入出金tbl[内　容],$D29,入出金tbl[年月日],\">=\"&G$2,入出金tbl[年月日],\"<\"&H$2)","v":0},{"$f":"SUMIFS(入出金tbl[金額],入出金tbl[内　容],$D29,入出金tbl[年月日],\">=\"&H$2,入出金tbl[年月日],\"<\"&I$2)","v":0},{"$f":"SUMIFS(入出金tbl[金額],入出金tbl[内　容],$D29,入出金tbl[年月日],\">=\"&I$2,入出金tbl[年月日],\"<\"&J$2)","v":0},{"$f":"SUMIFS(入出金tbl[金額],入出金tbl[内　容],$D29,入出金tbl[年月日],\">=\"&J$2,入出金tbl[年月日],\"<\"&K$2)","v":0},{"$f":"SUMIFS(入出金tbl[金額],入出金tbl[内　容],$D29,入出金tbl[年月日],\">=\"&K$2,入出金tbl[年月日],\"<\"&L$2)","v":0},{"$f":"SUMIFS(入出金tbl[金額],入出金tbl[内　容],$D29,入出金tbl[年月日],\">=\"&L$2,入出金tbl[年月日],\"<\"&M$2)","v":0},{"$f":"SUMIFS(入出金tbl[金額],入出金tbl[内　容],$D29,入出金tbl[年月日],\">=\"&M$2,入出金tbl[年月日],\"<\"&N$2)","v":0},{"$f":"SUMIFS(入出金tbl[金額],入出金tbl[内　容],$D29,入出金tbl[年月日],\">=\"&N$2,入出金tbl[年月日],\"<\"&O$2)","v":0},{"$f":"SUMIFS(入出金tbl[金額],入出金tbl[内　容],$D29,入出金tbl[年月日],\">=\"&O$2,入出金tbl[年月日],\"<\"&P$2)","v":604},{"$f":"SUMIFS(入出金tbl[金額],入出金tbl[内　容],$D29,入出金tbl[年月日],\">=\"&P$2,入出金tbl[年月日],\"<\"&Q$2)","v":0},{"$f":"SUMIFS(入出金tbl[金額],入出金tbl[内　容],$D29,入出金tbl[年月日],\">=\"&Q$2,入出金tbl[年月日],\"<\"&R$2)","v":0},{"$f":"SUMIFS(入出金tbl[金額],入出金tbl[内　容],$D29,入出金tbl[年月日],\">=\"&R$2,入出金tbl[年月日],\"<\"&S$2)","v":0},{"$f":"SUMIFS(入出金tbl[金額],入出金tbl[内　容],$D29,入出金tbl[年月日],\">=\"&S$2,入出金tbl[年月日],\"<\"&T$2)","v":0},{"$f":"SUMIFS(入出金tbl[金額],入出金tbl[内　容],$D29,入出金tbl[年月日],\">=\"&T$2,入出金tbl[年月日],\"<\"&U$2)","v":0},{"$f":"SUMIFS(入出金tbl[金額],入出金tbl[内　容],$D29,入出金tbl[年月日],\">=\"&U$2,入出金tbl[年月日],\"<\"&V$2)","v":0},{"$f":"SUMIFS(入出金tbl[金額],入出金tbl[内　容],$D29,入出金tbl[年月日],\">=\"&V$2,入出金tbl[年月日],\"<\"&W$2)","v":0},{"$f":"SUMIFS(入出金tbl[金額],入出金tbl[内　容],$D29,入出金tbl[年月日],\">=\"&W$2,入出金tbl[年月日],\"<\"&X$2)","v":0},{"$f":"SUMIFS(入出金tbl[金額],入出金tbl[内　容],$D29,入出金tbl[年月日],\">=\"&X$2,入出金tbl[年月日],\"<\"&Y$2)","v":0},{"$f":"SUMIFS(入出金tbl[金額],入出金tbl[内　容],$D29,入出金tbl[年月日],\">=\"&Y$2,入出金tbl[年月日],\"<\"&Z$2)","v":0},{"$f":"SUMIFS(入出金tbl[金額],入出金tbl[内　容],$D29,入出金tbl[年月日],\">=\"&Z$2,入出金tbl[年月日],\"<\"&AA$2)","v":0},{"$f":"SUMIFS(入出金tbl[金額],入出金tbl[内　容],$D29,入出金tbl[年月日],\">=\"&AA$2,入出金tbl[年月日],\"<\"&AB$2)","v":0},{"$f":"SUMIFS(入出金tbl[金額],入出金tbl[内　容],$D29,入出金tbl[年月日],\">=\"&AB$2,入出金tbl[年月日],\"<\"&AC$2)","v":0},{"$f":"SUMIFS(入出金tbl[金額],入出金tbl[内　容],$D29,入出金tbl[年月日],\">=\"&AC$2,入出金tbl[年月日],\"<\"&AD$2)","v":0},{"$f":"SUMIFS(入出金tbl[金額],入出金tbl[内　容],$D29,入出金tbl[年月日],\">=\"&AD$2,入出金tbl[年月日],\"<\"&AE$2)","v":0},{"$f":"SUMIFS(入出金tbl[金額],入出金tbl[内　容],$D29,入出金tbl[年月日],\">=\"&AE$2,入出金tbl[年月日],\"<\"&AF$2)","v":0},{"$f":"SUMIFS(入出金tbl[金額],入出金tbl[内　容],$D29,入出金tbl[年月日],\">=\"&AF$2,入出金tbl[年月日],\"<\"&AG$2)","v":0},{"$f":"SUMIFS(入出金tbl[金額],入出金tbl[内　容],$D29,入出金tbl[年月日],\">=\"&AG$2,入出金tbl[年月日],\"<\"&AH$2)","v":0},{"$f":"SUMIFS(入出金tbl[金額],入出金tbl[内　容],$D29,入出金tbl[年月日],\">=\"&AH$2,入出金tbl[年月日],\"<\"&AI$2)","v":0},{"$f":"SUMIFS(入出金tbl[金額],入出金tbl[内　容],$D29,入出金tbl[年月日],\">=\"&AI$2,入出金tbl[年月日],\"<\"&AJ$2)","v":0}]
[null,null,"(5)",{"$f":"資金繰り表!D31","v":"定期預金等設定"},{"$f":"SUMIFS(入出金tbl[金額],入出金tbl[内　容],$D30,入出金tbl[年月日],\">=\"&E$2,入出金tbl[年月日],\"<\"&F$2)","v":0},{"$f":"SUMIFS(入出金tbl[金額],入出金tbl[内　容],$D30,入出金tbl[年月日],\">=\"&F$2,入出金tbl[年月日],\"<\"&G$2)","v":0},{"$f":"SUMIFS(入出金tbl[金額],入出金tbl[内　容],$D30,入出金tbl[年月日],\">=\"&G$2,入出金tbl[年月日],\"<\"&H$2)","v":0},{"$f":"SUMIFS(入出金tbl[金額],入出金tbl[内　容],$D30,入出金tbl[年月日],\">=\"&H$2,入出金tbl[年月日],\"<\"&I$2)","v":0},{"$f":"SUMIFS(入出金tbl[金額],入出金tbl[内　容],$D30,入出金tbl[年月日],\">=\"&I$2,入出金tbl[年月日],\"<\"&J$2)","v":0},{"$f":"SUMIFS(入出金tbl[金額],入出金tbl[内　容],$D30,入出金tbl[年月日],\">=\"&J$2,入出金tbl[年月日],\"<\"&K$2)","v":0},{"$f":"SUMIFS(入出金tbl[金額],入出金tbl[内　容],$D30,入出金tbl[年月日],\">=\"&K$2,入出金tbl[年月日],\"<\"&L$2)","v":0},{"$f":"SUMIFS(入出金tbl[金額],入出金tbl[内　容],$D30,入出金tbl[年月日],\">=\"&L$2,入出金tbl[年月日],\"<\"&M$2)","v":0},{"$f":"SUMIFS(入出金tbl[金額],入出金tbl[内　容],$D30,入出金tbl[年月日],\">=\"&M$2,入出金tbl[年月日],\"<\"&N$2)","v":0},{"$f":"SUMIFS(入出金tbl[金額],入出金tbl[内　容],$D30,入出金tbl[年月日],\">=\"&N$2,入出金tbl[年月日],\"<\"&O$2)","v":0},{"$f":"SUMIFS(入出金tbl[金額],入出金tbl[内　容],$D30,入出金tbl[年月日],\">=\"&O$2,入出金tbl[年月日],\"<\"&P$2)","v":735},{"$f":"SUMIFS(入出金tbl[金額],入出金tbl[内　容],$D30,入出金tbl[年月日],\">=\"&P$2,入出金tbl[年月日],\"<\"&Q$2)","v":0},{"$f":"SUMIFS(入出金tbl[金額],入出金tbl[内　容],$D30,入出金tbl[年月日],\">=\"&Q$2,入出金tbl[年月日],\"<\"&R$2)","v":0},{"$f":"SUMIFS(入出金tbl[金額],入出金tbl[内　容],$D30,入出金tbl[年月日],\">=\"&R$2,入出金tbl[年月日],\"<\"&S$2)","v":0},{"$f":"SUMIFS(入出金tbl[金額],入出金tbl[内　容],$D30,入出金tbl[年月日],\">=\"&S$2,入出金tbl[年月日],\"<\"&T$2)","v":0},{"$f":"SUMIFS(入出金tbl[金額],入出金tbl[内　容],$D30,入出金tbl[年月日],\">=\"&T$2,入出金tbl[年月日],\"<\"&U$2)","v":0},{"$f":"SUMIFS(入出金tbl[金額],入出金tbl[内　容],$D30,入出金tbl[年月日],\">=\"&U$2,入出金tbl[年月日],\"<\"&V$2)","v":0},{"$f":"SUMIFS(入出金tbl[金額],入出金tbl[内　容],$D30,入出金tbl[年月日],\">=\"&V$2,入出金tbl[年月日],\"<\"&W$2)","v":0},{"$f":"SUMIFS(入出金tbl[金額],入出金tbl[内　容],$D30,入出金tbl[年月日],\">=\"&W$2,入出金tbl[年月日],\"<\"&X$2)","v":0},{"$f":"SUMIFS(入出金tbl[金額],入出金tbl[内　容],$D30,入出金tbl[年月日],\">=\"&X$2,入出金tbl[年月日],\"<\"&Y$2)","v":0},{"$f":"SUMIFS(入出金tbl[金額],入出金tbl[内　容],$D30,入出金tbl[年月日],\">=\"&Y$2,入出金tbl[年月日],\"<\"&Z$2)","v":0},{"$f":"SUMIFS(入出金tbl[金額],入出金tbl[内　容],$D30,入出金tbl[年月日],\">=\"&Z$2,入出金tbl[年月日],\"<\"&AA$2)","v":0},{"$f":"SUMIFS(入出金tbl[金額],入出金tbl[内　容],$D30,入出金tbl[年月日],\">=\"&AA$2,入出金tbl[年月日],\"<\"&AB$2)","v":0},{"$f":"SUMIFS(入出金tbl[金額],入出金tbl[内　容],$D30,入出金tbl[年月日],\">=\"&AB$2,入出金tbl[年月日],\"<\"&AC$2)","v":0},{"$f":"SUMIFS(入出金tbl[金額],入出金tbl[内　容],$D30,入出金tbl[年月日],\">=\"&AC$2,入出金tbl[年月日],\"<\"&AD$2)","v":0},{"$f":"SUMIFS(入出金tbl[金額],入出金tbl[内　容],$D30,入出金tbl[年月日],\">=\"&AD$2,入出金tbl[年月日],\"<\"&AE$2)","v":0},{"$f":"SUMIFS(入出金tbl[金額],入出金tbl[内　容],$D30,入出金tbl[年月日],\">=\"&AE$2,入出金tbl[年月日],\"<\"&AF$2)","v":0},{"$f":"SUMIFS(入出金tbl[金額],入出金tbl[内　容],$D30,入出金tbl[年月日],\">=\"&AF$2,入出金tbl[年月日],\"<\"&AG$2)","v":0},{"$f":"SUMIFS(入出金tbl[金額],入出金tbl[内　容],$D30,入出金tbl[年月日],\">=\"&AG$2,入出金tbl[年月日],\"<\"&AH$2)","v":0},{"$f":"SUMIFS(入出金tbl[金額],入出金tbl[内　容],$D30,入出金tbl[年月日],\">=\"&AH$2,入出金tbl[年月日],\"<\"&AI$2)","v":0},{"$f":"SUMIFS(入出金tbl[金額],入出金tbl[内　容],$D30,入出金tbl[年月日],\">=\"&AI$2,入出金tbl[年月日],\"<\"&AJ$2)","v":0}]
[null,null,"(6)",{"$f":"資金繰り表!D32","v":"その他臨時支出"},{"$f":"SUMIFS(入出金tbl[金額],入出金tbl[内　容],$D31,入出金tbl[年月日],\">=\"&E$2,入出金tbl[年月日],\"<\"&F$2)","v":0},{"$f":"SUMIFS(入出金tbl[金額],入出金tbl[内　容],$D31,入出金tbl[年月日],\">=\"&F$2,入出金tbl[年月日],\"<\"&G$2)","v":0},{"$f":"SUMIFS(入出金tbl[金額],入出金tbl[内　容],$D31,入出金tbl[年月日],\">=\"&G$2,入出金tbl[年月日],\"<\"&H$2)","v":0},{"$f":"SUMIFS(入出金tbl[金額],入出金tbl[内　容],$D31,入出金tbl[年月日],\">=\"&H$2,入出金tbl[年月日],\"<\"&I$2)","v":0},{"$f":"SUMIFS(入出金tbl[金額],入出金tbl[内　容],$D31,入出金tbl[年月日],\">=\"&I$2,入出金tbl[年月日],\"<\"&J$2)","v":0},{"$f":"SUMIFS(入出金tbl[金額],入出金tbl[内　容],$D31,入出金tbl[年月日],\">=\"&J$2,入出金tbl[年月日],\"<\"&K$2)","v":0},{"$f":"SUMIFS(入出金tbl[金額],入出金tbl[内　容],$D31,入出金tbl[年月日],\">=\"&K$2,入出金tbl[年月日],\"<\"&L$2)","v":0},{"$f":"SUMIFS(入出金tbl[金額],入出金tbl[内　容],$D31,入出金tbl[年月日],\">=\"&L$2,入出金tbl[年月日],\"<\"&M$2)","v":0},{"$f":"SUMIFS(入出金tbl[金額],入出金tbl[内　容],$D31,入出金tbl[年月日],\">=\"&M$2,入出金tbl[年月日],\"<\"&N$2)","v":0},{"$f":"SUMIFS(入出金tbl[金額],入出金tbl[内　容],$D31,入出金tbl[年月日],\">=\"&N$2,入出金tbl[年月日],\"<\"&O$2)","v":0},{"$f":"SUMIFS(入出金tbl[金額],入出金tbl[内　容],$D31,入出金tbl[年月日],\">=\"&O$2,入出金tbl[年月日],\"<\"&P$2)","v":0},{"$f":"SUMIFS(入出金tbl[金額],入出金tbl[内　容],$D31,入出金tbl[年月日],\">=\"&P$2,入出金tbl[年月日],\"<\"&Q$2)","v":604},{"$f":"SUMIFS(入出金tbl[金額],入出金tbl[内　容],$D31,入出金tbl[年月日],\">=\"&Q$2,入出金tbl[年月日],\"<\"&R$2)","v":0},{"$f":"SUMIFS(入出金tbl[金額],入出金tbl[内　容],$D31,入出金tbl[年月日],\">=\"&R$2,入出金tbl[年月日],\"<\"&S$2)","v":0},{"$f":"SUMIFS(入出金tbl[金額],入出金tbl[内　容],$D31,入出金tbl[年月日],\">=\"&S$2,入出金tbl[年月日],\"<\"&T$2)","v":0},{"$f":"SUMIFS(入出金tbl[金額],入出金tbl[内　容],$D31,入出金tbl[年月日],\">=\"&T$2,入出金tbl[年月日],\"<\"&U$2)","v":0},{"$f":"SUMIFS(入出金tbl[金額],入出金tbl[内　容],$D31,入出金tbl[年月日],\">=\"&U$2,入出金tbl[年月日],\"<\"&V$2)","v":0},{"$f":"SUMIFS(入出金tbl[金額],入出金tbl[内　容],$D31,入出金tbl[年月日],\">=\"&V$2,入出金tbl[年月日],\"<\"&W$2)","v":0},{"$f":"SUMIFS(入出金tbl[金額],入出金tbl[内　容],$D31,入出金tbl[年月日],\">=\"&W$2,入出金tbl[年月日],\"<\"&X$2)","v":0},{"$f":"SUMIFS(入出金tbl[金額],入出金tbl[内　容],$D31,入出金tbl[年月日],\">=\"&X$2,入出金tbl[年月日],\"<\"&Y$2)","v":0},{"$f":"SUMIFS(入出金tbl[金額],入出金tbl[内　容],$D31,入出金tbl[年月日],\">=\"&Y$2,入出金tbl[年月日],\"<\"&Z$2)","v":0},{"$f":"SUMIFS(入出金tbl[金額],入出金tbl[内　容],$D31,入出金tbl[年月日],\">=\"&Z$2,入出金tbl[年月日],\"<\"&AA$2)","v":0},{"$f":"SUMIFS(入出金tbl[金額],入出金tbl[内　容],$D31,入出金tbl[年月日],\">=\"&AA$2,入出金tbl[年月日],\"<\"&AB$2)","v":0},{"$f":"SUMIFS(入出金tbl[金額],入出金tbl[内　容],$D31,入出金tbl[年月日],\">=\"&AB$2,入出金tbl[年月日],\"<\"&AC$2)","v":0},{"$f":"SUMIFS(入出金tbl[金額],入出金tbl[内　容],$D31,入出金tbl[年月日],\">=\"&AC$2,入出金tbl[年月日],\"<\"&AD$2)","v":0},{"$f":"SUMIFS(入出金tbl[金額],入出金tbl[内　容],$D31,入出金tbl[年月日],\">=\"&AD$2,入出金tbl[年月日],\"<\"&AE$2)","v":0},{"$f":"SUMIFS(入出金tbl[金額],入出金tbl[内　容],$D31,入出金tbl[年月日],\">=\"&AE$2,入出金tbl[年月日],\"<\"&AF$2)","v":0},{"$f":"SUMIFS(入出金tbl[金額],入出金tbl[内　容],$D31,入出金tbl[年月日],\">=\"&AF$2,入出金tbl[年月日],\"<\"&AG$2)","v":0},{"$f":"SUMIFS(入出金tbl[金額],入出金tbl[内　容],$D31,入出金tbl[年月日],\">=\"&AG$2,入出金tbl[年月日],\"<\"&AH$2)","v":0},{"$f":"SUMIFS(入出金tbl[金額],入出金tbl[内　容],$D31,入出金tbl[年月日],\">=\"&AH$2,入出金tbl[年月日],\"<\"&AI$2)","v":0},{"$f":"SUMIFS(入出金tbl[金額],入出金tbl[内　容],$D31,入出金tbl[年月日],\">=\"&AI$2,入出金tbl[年月日],\"<\"&AJ$2)","v":0}]
[null,null,"(7)",{"$f":"資金繰り表!D33","v":"テスト4"},{"$f":"SUMIFS(入出金tbl[金額],入出金tbl[内　容],$D32,入出金tbl[年月日],\">=\"&E$2,入出金tbl[年月日],\"<\"&F$2)","v":0},{"$f":"SUMIFS(入出金tbl[金額],入出金tbl[内　容],$D32,入出金tbl[年月日],\">=\"&F$2,入出金tbl[年月日],\"<\"&G$2)","v":0},{"$f":"SUMIFS(入出金tbl[金額],入出金tbl[内　容],$D32,入出金tbl[年月日],\">=\"&G$2,入出金tbl[年月日],\"<\"&H$2)","v":0},{"$f":"SUMIFS(入出金tbl[金額],入出金tbl[内　容],$D32,入出金tbl[年月日],\">=\"&H$2,入出金tbl[年月日],\"<\"&I$2)","v":0},{"$f":"SUMIFS(入出金tbl[金額],入出金tbl[内　容],$D32,入出金tbl[年月日],\">=\"&I$2,入出金tbl[年月日],\"<\"&J$2)","v":0},{"$f":"SUMIFS(入出金tbl[金額],入出金tbl[内　容],$D32,入出金tbl[年月日],\">=\"&J$2,入出金tbl[年月日],\"<\"&K$2)","v":0},{"$f":"SUMIFS(入出金tbl[金額],入出金tbl[内　容],$D32,入出金tbl[年月日],\">=\"&K$2,入出金tbl[年月日],\"<\"&L$2)","v":0},{"$f":"SUMIFS(入出金tbl[金額],入出金tbl[内　容],$D32,入出金tbl[年月日],\">=\"&L$2,入出金tbl[年月日],\"<\"&M$2)","v":0},{"$f":"SUMIFS(入出金tbl[金額],入出金tbl[内　容],$D32,入出金tbl[年月日],\">=\"&M$2,入出金tbl[年月日],\"<\"&N$2)","v":0},{"$f":"SUMIFS(入出金tbl[金額],入出金tbl[内　容],$D32,入出金tbl[年月日],\">=\"&N$2,入出金tbl[年月日],\"<\"&O$2)","v":0},{"$f":"SUMIFS(入出金tbl[金額],入出金tbl[内　容],$D32,入出金tbl[年月日],\">=\"&O$2,入出金tbl[年月日],\"<\"&P$2)","v":0},{"$f":"SUMIFS(入出金tbl[金額],入出金tbl[内　容],$D32,入出金tbl[年月日],\">=\"&P$2,入出金tbl[年月日],\"<\"&Q$2)","v":0},{"$f":"SUMIFS(入出金tbl[金額],入出金tbl[内　容],$D32,入出金tbl[年月日],\">=\"&Q$2,入出金tbl[年月日],\"<\"&R$2)","v":0},{"$f":"SUMIFS(入出金tbl[金額],入出金tbl[内　容],$D32,入出金tbl[年月日],\">=\"&R$2,入出金tbl[年月日],\"<\"&S$2)","v":0},{"$f":"SUMIFS(入出金tbl[金額],入出金tbl[内　容],$D32,入出金tbl[年月日],\">=\"&S$2,入出金tbl[年月日],\"<\"&T$2)","v":0},{"$f":"SUMIFS(入出金tbl[金額],入出金tbl[内　容],$D32,入出金tbl[年月日],\">=\"&T$2,入出金tbl[年月日],\"<\"&U$2)","v":0},{"$f":"SUMIFS(入出金tbl[金額],入出金tbl[内　容],$D32,入出金tbl[年月日],\">=\"&U$2,入出金tbl[年月日],\"<\"&V$2)","v":0},{"$f":"SUMIFS(入出金tbl[金額],入出金tbl[内　容],$D32,入出金tbl[年月日],\">=\"&V$2,入出金tbl[年月日],\"<\"&W$2)","v":0},{"$f":"SUMIFS(入出金tbl[金額],入出金tbl[内　容],$D32,入出金tbl[年月日],\">=\"&W$2,入出金tbl[年月日],\"<\"&X$2)","v":0},{"$f":"SUMIFS(入出金tbl[金額],入出金tbl[内　容],$D32,入出金tbl[年月日],\">=\"&X$2,入出金tbl[年月日],\"<\"&Y$2)","v":0},{"$f":"SUMIFS(入出金tbl[金額],入出金tbl[内　容],$D32,入出金tbl[年月日],\">=\"&Y$2,入出金tbl[年月日],\"<\"&Z$2)","v":0},{"$f":"SUMIFS(入出金tbl[金額],入出金tbl[内　容],$D32,入出金tbl[年月日],\">=\"&Z$2,入出金tbl[年月日],\"<\"&AA$2)","v":0},{"$f":"SUMIFS(入出金tbl[金額],入出金tbl[内　容],$D32,入出金tbl[年月日],\">=\"&AA$2,入出金tbl[年月日],\"<\"&AB$2)","v":0},{"$f":"SUMIFS(入出金tbl[金額],入出金tbl[内　容],$D32,入出金tbl[年月日],\">=\"&AB$2,入出金tbl[年月日],\"<\"&AC$2)","v":0},{"$f":"SUMIFS(入出金tbl[金額],入出金tbl[内　容],$D32,入出金tbl[年月日],\">=\"&AC$2,入出金tbl[年月日],\"<\"&AD$2)","v":0},{"$f":"SUMIFS(入出金tbl[金額],入出金tbl[内　容],$D32,入出金tbl[年月日],\">=\"&AD$2,入出金tbl[年月日],\"<\"&AE$2)","v":0},{"$f":"SUMIFS(入出金tbl[金額],入出金tbl[内　容],$D32,入出金tbl[年月日],\">=\"&AE$2,入出金tbl[年月日],\"<\"&AF$2)","v":0},{"$f":"SUMIFS(入出金tbl[金額],入出金tbl[内　容],$D32,入出金tbl[年月日],\">=\"&AF$2,入出金tbl[年月日],\"<\"&AG$2)","v":0},{"$f":"SUMIFS(入出金tbl[金額],入出金tbl[内　容],$D32,入出金tbl[年月日],\">=\"&AG$2,入出金tbl[年月日],\"<\"&AH$2)","v":0},{"$f":"SUMIFS(入出金tbl[金額],入出金tbl[内　容],$D32,入出金tbl[年月日],\">=\"&AH$2,入出金tbl[年月日],\"<\"&AI$2)","v":0},{"$f":"SUMIFS(入出金tbl[金額],入出金tbl[内　容],$D32,入出金tbl[年月日],\">=\"&AI$2,入出金tbl[年月日],\"<\"&AJ$2)","v":0}]
[null,null,null,"支出合計(F)",{"$f":"SUM(E26:E32)","v":0},{"$f":"SUM(F26:F32)","v":0},0,0,0,0,0,0,735,1580,1339,604,0,0,0,0,0,0,0,0,0,0,0,0,0,0,0,0,0,0,1711]
[null,"差引過不足(G=E-F)",null,null,{"$f":"E25-E33","v":1151},{"$f":"F25-F33","v":1125},0,0,0,0,0,0,-735,-1580,-1339,-604,0,0,0,0,0,260,515,515,0,0,0,464,588,0,0,0,0,0,-1711]
["財務収支","収入","(1)",{"$f":"資金繰り表!D36","v":"短期借入金調達"},{"$f":"SUMIFS(入出金tbl[金額],入出金tbl[内　容],$D35,入出金tbl[年月日],\">=\"&E$2,入出金tbl[年月日],\"<\"&F$2)","v":0},{"$f":"SUMIFS(入出金tbl[金額],入出金tbl[内　容],$D35,入出金tbl[年月日],\">=\"&F$2,入出金tbl[年月日],\"<\"&G$2)","v":0},{"$f":"SUMIFS(入出金tbl[金額],入出金tbl[内　容],$D35,入出金tbl[年月日],\">=\"&G$2,入出金tbl[年月日],\"<\"&H$2)","v":1151},{"$f":"SUMIFS(入出金tbl[金額],入出金tbl[内　容],$D35,入出金tbl[年月日],\">=\"&H$2,入出金tbl[年月日],\"<\"&I$2)","v":0},{"$f":"SUMIFS(入出金tbl[金額],入出金tbl[内　容],$D35,入出金tbl[年月日],\">=\"&I$2,入出金tbl[年月日],\"<\"&J$2)","v":0},{"$f":"SUMIFS(入出金tbl[金額],入出金tbl[内　容],$D35,入出金tbl[年月日],\">=\"&J$2,入出金tbl[年月日],\"<\"&K$2)","v":0},{"$f":"SUMIFS(入出金tbl[金額],入出金tbl[内　容],$D35,入出金tbl[年月日],\">=\"&K$2,入出金tbl[年月日],\"<\"&L$2)","v":0},{"$f":"SUMIFS(入出金tbl[金額],入出金tbl[内　容],$D35,入出金tbl[年月日],\">=\"&L$2,入出金tbl[年月日],\"<\"&M$2)","v":0},{"$f":"SUMIFS(入出金tbl[金額],入出金tbl[内　容],$D35,入出金tbl[年月日],\">=\"&M$2,入出金tbl[年月日],\"<\"&N$2)","v":0},{"$f":"SUMIFS(入出金tbl[金額],入出金tbl[内　容],$D35,入出金tbl[年月日],\">=\"&N$2,入出金tbl[年月日],\"<\"&O$2)","v":0},{"$f":"SUMIFS(入出金tbl[金額],入出金tbl[内　容],$D35,入出金tbl[年月日],\">=\"&O$2,入出金tbl[年月日],\"<\"&P$2)","v":0},{"$f":"SUMIFS(入出金tbl[金額],入出金tbl[内　容],$D35,入出金tbl[年月日],\">=\"&P$2,入出金tbl[年月日],\"<\"&Q$2)","v":0},{"$f":"SUMIFS(入出金tbl[金額],入出金tbl[内　容],$D35,入出金tbl[年月日],\">=\"&Q$2,入出金tbl[年月日],\"<\"&R$2)","v":0},{"$f":"SUMIFS(入出金tbl[金額],入出金tbl[内　容],$D35,入出金tbl[年月日],\">=\"&R$2,入出金tbl[年月日],\"<\"&S$2)","v":0},{"$f":"SUMIFS(入出金tbl[金額],入出金tbl[内　容],$D35,入出金tbl[年月日],\">=\"&S$2,入出金tbl[年月日],\"<\"&T$2)","v":0},{"$f":"SUMIFS(入出金tbl[金額],入出金tbl[内　容],$D35,入出金tbl[年月日],\">=\"&T$2,入出金tbl[年月日],\"<\"&U$2)","v":0},{"$f":"SUMIFS(入出金tbl[金額],入出金tbl[内　容],$D35,入出金tbl[年月日],\">=\"&U$2,入出金tbl[年月日],\"<\"&V$2)","v":0},{"$f":"SUMIFS(入出金tbl[金額],入出金tbl[内　容],$D35,入出金tbl[年月日],\">=\"&V$2,入出金tbl[年月日],\"<\"&W$2)","v":0},{"$f":"SUMIFS(入出金tbl[金額],入出金tbl[内　容],$D35,入出金tbl[年月日],\">=\"&W$2,入出金tbl[年月日],\"<\"&X$2)","v":0},{"$f":"SUMIFS(入出金tbl[金額],入出金tbl[内　容],$D35,入出金tbl[年月日],\">=\"&X$2,入出金tbl[年月日],\"<\"&Y$2)","v":0},{"$f":"SUMIFS(入出金tbl[金額],入出金tbl[内　容],$D35,入出金tbl[年月日],\">=\"&Y$2,入出金tbl[年月日],\"<\"&Z$2)","v":789},{"$f":"SUMIFS(入出金tbl[金額],入出金tbl[内　容],$D35,入出金tbl[年月日],\">=\"&Z$2,入出金tbl[年月日],\"<\"&AA$2)","v":0},{"$f":"SUMIFS(入出金tbl[金額],入出金tbl[内　容],$D35,入出金tbl[年月日],\">=\"&AA$2,入出金tbl[年月日],\"<\"&AB$2)","v":0},{"$f":"SUMIFS(入出金tbl[金額],入出金tbl[内　容],$D35,入出金tbl[年月日],\">=\"&AB$2,入出金tbl[年月日],\"<\"&AC$2)","v":0},{"$f":"SUMIFS(入出金tbl[金額],入出金tbl[内　容],$D35,入出金tbl[年月日],\">=\"&AC$2,入出金tbl[年月日],\"<\"&AD$2)","v":0},{"$f":"SUMIFS(入出金tbl[金額],入出金tbl[内　容],$D35,入出金tbl[年月日],\">=\"&AD$2,入出金tbl[年月日],\"<\"&AE$2)","v":124},{"$f":"SUMIFS(入出金tbl[金額],入出金tbl[内　容],$D35,入出金tbl[年月日],\">=\"&AE$2,入出金tbl[年月日],\"<\"&AF$2)","v":0},{"$f":"SUMIFS(入出金tbl[金額],入出金tbl[内　容],$D35,入出金tbl[年月日],\">=\"&AF$2,入出金tbl[年月日],\"<\"&AG$2)","v":0},{"$f":"SUMIFS(入出金tbl[金額],入出金tbl[内　容],$D35,入出金tbl[年月日],\">=\"&AG$2,入出金tbl[年月日],\"<\"&AH$2)","v":0},{"$f":"SUMIFS(入出金tbl[金額],入出金tbl[内　容],$D35,入出金tbl[年月日],\">=\"&AH$2,入出金tbl[年月日],\"<\"&AI$2)","v":0},{"$f":"SUMIFS(入出金tbl[金額],入出金tbl[内　容],$D35,入出金tbl[年月日],\">=\"&AI$2,入出金tbl[年月日],\"<\"&AJ$2)","v":0}]
[null,null,"(2)",{"$f":"資金繰り表!D37","v":"長期借入金調達"},{"$f":"SUMIFS(入出金tbl[金額],入出金tbl[内　容],$D36,入出金tbl[年月日],\">=\"&E$2,入出金tbl[年月日],\"<\"&F$2)","v":0},{"$f":"SUMIFS(入出金tbl[金額],入出金tbl[内　容],$D36,入出金tbl[年月日],\">=\"&F$2,入出金tbl[年月日],\"<\"&G$2)","v":0},{"$f":"SUMIFS(入出金tbl[金額],入出金tbl[内　容],$D36,入出金tbl[年月日],\">=\"&G$2,入出金tbl[年月日],\"<\"&H$2)","v":0},{"$f":"SUMIFS(入出金tbl[金額],入出金tbl[内　容],$D36,入出金tbl[年月日],\">=\"&H$2,入出金tbl[年月日],\"<\"&I$2)","v":565},{"$f":"SUMIFS(入出金tbl[金額],入出金tbl[内　容],$D36,入出金tbl[年月日],\">=\"&I$2,入出金tbl[年月日],\"<\"&J$2)","v":0},{"$f":"SUMIFS(入出金tbl[金額],入出金tbl[内　容],$D36,入出金tbl[年月日],\">=\"&J$2,入出金tbl[年月日],\"<\"&K$2)","v":0},{"$f":"SUMIFS(入出金tbl[金額],入出金tbl[内　容],$D36,入出金tbl[年月日],\">=\"&K$2,入出金tbl[年月日],\"<\"&L$2)","v":0},{"$f":"SUMIFS(入出金tbl[金額],入出金tbl[内　容],$D36,入出金tbl[年月日],\">=\"&L$2,入出金tbl[年月日],\"<\"&M$2)","v":0},{"$f":"SUMIFS(入出金tbl[金額],入出金tbl[内　容],$D36,入出金tbl[年月日],\">=\"&M$2,入出金tbl[年月日],\"<\"&N$2)","v":0},{"$f":"SUMIFS(入出金tbl[金額],入出金tbl[内　容],$D36,入出金tbl[年月日],\">=\"&N$2,入出金tbl[年月日],\"<\"&O$2)","v":0},{"$f":"SUMIFS(入出金tbl[金額],入出金tbl[内　容],$D36,入出金tbl[年月日],\">=\"&O$2,入出金tbl[年月日],\"<\"&P$2)","v":0},{"$f":"SUMIFS(入出金tbl[金額],入出金tbl[内　容],$D36,入出金tbl[年月日],\">=\"&P$2,入出金tbl[年月日],\"<\"&Q$2)","v":0},{"$f":"SUMIFS(入出金tbl[金額],入出金tbl[内　容],$D36,入出金tbl[年月日],\">=\"&Q$2,入出金tbl[年月日],\"<\"&R$2)","v":0},{"$f":"SUMIFS(入出金tbl[金額],入出金tbl[内　容],$D36,入出金tbl[年月日],\">=\"&R$2,入出金tbl[年月日],\"<\"&S$2)","v":0},{"$f":"SUMIFS(入出金tbl[金額],入出金tbl[内　容],$D36,入出金tbl[年月日],\">=\"&S$2,入出金tbl[年月日],\"<\"&T$2)","v":0},{"$f":"SUMIFS(入出金tbl[金額],入出金tbl[内　容],$D36,入出金tbl[年月日],\">=\"&T$2,入出金tbl[年月日],\"<\"&U$2)","v":0},{"$f":"SUMIFS(入出金tbl[金額],入出金tbl[内　容],$D36,入出金tbl[年月日],\">=\"&U$2,入出金tbl[年月日],\"<\"&V$2)","v":0},{"$f":"SUMIFS(入出金tbl[金額],入出金tbl[内　容],$D36,入出金tbl[年月日],\">=\"&V$2,入出金tbl[年月日],\"<\"&W$2)","v":0},{"$f":"SUMIFS(入出金tbl[金額],入出金tbl[内　容],$D36,入出金tbl[年月日],\">=\"&W$2,入出金tbl[年月日],\"<\"&X$2)","v":0},{"$f":"SUMIFS(入出金tbl[金額],入出金tbl[内　容],$D36,入出金tbl[年月日],\">=\"&X$2,入出金tbl[年月日],\"<\"&Y$2)","v":0},{"$f":"SUMIFS(入出金tbl[金額],入出金tbl[内　容],$D36,入出金tbl[年月日],\">=\"&Y$2,入出金tbl[年月日],\"<\"&Z$2)","v":0},{"$f":"SUMIFS(入出金tbl[金額],入出金tbl[内　容],$D36,入出金tbl[年月日],\">=\"&Z$2,入出金tbl[年月日],\"<\"&AA$2)","v":789},{"$f":"SUMIFS(入出金tbl[金額],入出金tbl[内　容],$D36,入出金tbl[年月日],\">=\"&AA$2,入出金tbl[年月日],\"<\"&AB$2)","v":0},{"$f":"SUMIFS(入出金tbl[金額],入出金tbl[内　容],$D36,入出金tbl[年月日],\">=\"&AB$2,入出金tbl[年月日],\"<\"&AC$2)","v":0},{"$f":"SUMIFS(入出金tbl[金額],入出金tbl[内　容],$D36,入出金tbl[年月日],\">=\"&AC$2,入出金tbl[年月日],\"<\"&AD$2)","v":0},{"$f":"SUMIFS(入出金tbl[金額],入出金tbl[内　容],$D36,入出金tbl[年月日],\">=\"&AD$2,入出金tbl[年月日],\"<\"&AE$2)","v":488},{"$f":"SUMIFS(入出金tbl[金額],入出金tbl[内　容],$D36,入出金tbl[年月日],\">=\"&AE$2,入出金tbl[年月日],\"<\"&AF$2)","v":0},{"$f":"SUMIFS(入出金tbl[金額],入出金tbl[内　容],$D36,入出金tbl[年月日],\">=\"&AF$2,入出金tbl[年月日],\"<\"&AG$2)","v":0},{"$f":"SUMIFS(入出金tbl[金額],入出金tbl[内　容],$D36,入出金tbl[年月日],\">=\"&AG$2,入出金tbl[年月日],\"<\"&AH$2)","v":0},{"$f":"SUMIFS(入出金tbl[金額],入出金tbl[内　容],$D36,入出金tbl[年月日],\">=\"&AH$2,入出金tbl[年月日],\"<\"&AI$2)","v":0},{"$f":"SUMIFS(入出金tbl[金額],入出金tbl[内　容],$D36,入出金tbl[年月日],\">=\"&AI$2,入出金tbl[年月日],\"<\"&AJ$2)","v":0}]
[null,null,"(3)",{"$f":"資金繰り表!D38","v":"社長借入金調達"},{"$f":"SUMIFS(入出金tbl[金額],入出金tbl[内　容],$D37,入出金tbl[年月日],\">=\"&E$2,入出金tbl[年月日],\"<\"&F$2)","v":0},{"$f":"SUMIFS(入出金tbl[金額],入出金tbl[内　容],$D37,入出金tbl[年月日],\">=\"&F$2,入出金tbl[年月日],\"<\"&G$2)","v":0},{"$f":"SUMIFS(入出金tbl[金額],入出金tbl[内　容],$D37,入出金tbl[年月日],\">=\"&G$2,入出金tbl[年月日],\"<\"&H$2)","v":0},{"$f":"SUMIFS(入出金tbl[金額],入出金tbl[内　容],$D37,入出金tbl[年月日],\">=\"&H$2,入出金tbl[年月日],\"<\"&I$2)","v":0},{"$f":"SUMIFS(入出金tbl[金額],入出金tbl[内　容],$D37,入出金tbl[年月日],\">=\"&I$2,入出金tbl[年月日],\"<\"&J$2)","v":673},{"$f":"SUMIFS(入出金tbl[金額],入出金tbl[内　容],$D37,入出金tbl[年月日],\">=\"&J$2,入出金tbl[年月日],\"<\"&K$2)","v":0},{"$f":"SUMIFS(入出金tbl[金額],入出金tbl[内　容],$D37,入出金tbl[年月日],\">=\"&K$2,入出金tbl[年月日],\"<\"&L$2)","v":0},{"$f":"SUMIFS(入出金tbl[金額],入出金tbl[内　容],$D37,入出金tbl[年月日],\">=\"&L$2,入出金tbl[年月日],\"<\"&M$2)","v":0},{"$f":"SUMIFS(入出金tbl[金額],入出金tbl[内　容],$D37,入出金tbl[年月日],\">=\"&M$2,入出金tbl[年月日],\"<\"&N$2)","v":0},{"$f":"SUMIFS(入出金tbl[金額],入出金tbl[内　容],$D37,入出金tbl[年月日],\">=\"&N$2,入出金tbl[年月日],\"<\"&O$2)","v":0},{"$f":"SUMIFS(入出金tbl[金額],入出金tbl[内　容],$D37,入出金tbl[年月日],\">=\"&O$2,入出金tbl[年月日],\"<\"&P$2)","v":0},{"$f":"SUMIFS(入出金tbl[金額],入出金tbl[内　容],$D37,入出金tbl[年月日],\">=\"&P$2,入出金tbl[年月日],\"<\"&Q$2)","v":0},{"$f":"SUMIFS(入出金tbl[金額],入出金tbl[内　容],$D37,入出金tbl[年月日],\">=\"&Q$2,入出金tbl[年月日],\"<\"&R$2)","v":0},{"$f":"SUMIFS(入出金tbl[金額],入出金tbl[内　容],$D37,入出金tbl[年月日],\">=\"&R$2,入出金tbl[年月日],\"<\"&S$2)","v":0},{"$f":"SUMIFS(入出金tbl[金額],入出金tbl[内　容],$D37,入出金tbl[年月日],\">=\"&S$2,入出金tbl[年月日],\"<\"&T$2)","v":0},{"$f":"SUMIFS(入出金tbl[金額],入出金tbl[内　容],$D37,入出金tbl[年月日],\">=\"&T$2,入出金tbl[年月日],\"<\"&U$2)","v":0},{"$f":"SUMIFS(入出金tbl[金額],入出金tbl[内　容],$D37,入出金tbl[年月日],\">=\"&U$2,入出金tbl[年月日],\"<\"&V$2)","v":0},{"$f":"SUMIFS(入出金tbl[金額],入出金tbl[内　容],$D37,入出金tbl[年月日],\">=\"&V$2,入出金tbl[年月日],\"<\"&W$2)","v":0},{"$f":"SUMIFS(入出金tbl[金額],入出金tbl[内　容],$D37,入出金tbl[年月日],\">=\"&W$2,入出金tbl[年月日],\"<\"&X$2)","v":0},{"$f":"SUMIFS(入出金tbl[金額],入出金tbl[内　容],$D37,入出金tbl[年月日],\">=\"&X$2,入出金tbl[年月日],\"<\"&Y$2)","v":0},{"$f":"SUMIFS(入出金tbl[金額],入出金tbl[内　容],$D37,入出金tbl[年月日],\">=\"&Y$2,入出金tbl[年月日],\"<\"&Z$2)","v":0},{"$f":"SUMIFS(入出金tbl[金額],入出金tbl[内　容],$D37,入出金tbl[年月日],\">=\"&Z$2,入出金tbl[年月日],\"<\"&AA$2)","v":0},{"$f":"SUMIFS(入出金tbl[金額],入出金tbl[内　容],$D37,入出金tbl[年月日],\">=\"&AA$2,入出金tbl[年月日],\"<\"&AB$2)","v":63},{"$f":"SUMIFS(入出金tbl[金額],入出金tbl[内　容],$D37,入出金tbl[年月日],\">=\"&AB$2,入出金tbl[年月日],\"<\"&AC$2)","v":0},{"$f":"SUMIFS(入出金tbl[金額],入出金tbl[内　容],$D37,入出金tbl[年月日],\">=\"&AC$2,入出金tbl[年月日],\"<\"&AD$2)","v":0},{"$f":"SUMIFS(入出金tbl[金額],入出金tbl[内　容],$D37,入出金tbl[年月日],\">=\"&AD$2,入出金tbl[年月日],\"<\"&AE$2)","v":0},{"$f":"SUMIFS(入出金tbl[金額],入出金tbl[内　容],$D37,入出金tbl[年月日],\">=\"&AE$2,入出金tbl[年月日],\"<\"&AF$2)","v":473},{"$f":"SUMIFS(入出金tbl[金額],入出金tbl[内　容],$D37,入出金tbl[年月日],\">=\"&AF$2,入出金tbl[年月日],\"<\"&AG$2)","v":0},{"$f":"SUMIFS(入出金tbl[金額],入出金tbl[内　容],$D37,入出金tbl[年月日],\">=\"&AG$2,入出金tbl[年月日],\"<\"&AH$2)","v":0},{"$f":"SUMIFS(入出金tbl[金額],入出金tbl[内　容],$D37,入出金tbl[年月日],\">=\"&AH$2,入出金tbl[年月日],\"<\"&AI$2)","v":0},{"$f":"SUMIFS(入出金tbl[金額],入出金tbl[内　容],$D37,入出金tbl[年月日],\">=\"&AI$2,入出金tbl[年月日],\"<\"&AJ$2)","v":0}]
[null,null,"(4)",{"$f":"資金繰り表!D39","v":"その他調達"},{"$f":"SUMIFS(入出金tbl[金額],入出金tbl[内　容],$D38,入出金tbl[年月日],\">=\"&E$2,入出金tbl[年月日],\"<\"&F$2)","v":0},{"$f":"SUMIFS(入出金tbl[金額],入出金tbl[内　容],$D38,入出金tbl[年月日],\">=\"&F$2,入出金tbl[年月日],\"<\"&G$2)","v":0},{"$f":"SUMIFS(入出金tbl[金額],入出金tbl[内　容],$D38,入出金tbl[年月日],\">=\"&G$2,入出金tbl[年月日],\"<\"&H$2)","v":0},{"$f":"SUMIFS(入出金tbl[金額],入出金tbl[内　容],$D38,入出金tbl[年月日],\">=\"&H$2,入出金tbl[年月日],\"<\"&I$2)","v":0},{"$f":"SUMIFS(入出金tbl[金額],入出金tbl[内　容],$D38,入出金tbl[年月日],\">=\"&I$2,入出金tbl[年月日],\"<\"&J$2)","v":565},{"$f":"SUMIFS(入出金tbl[金額],入出金tbl[内　容],$D38,入出金tbl[年月日],\">=\"&J$2,入出金tbl[年月日],\"<\"&K$2)","v":0},{"$f":"SUMIFS(入出金tbl[金額],入出金tbl[内　容],$D38,入出金tbl[年月日],\">=\"&K$2,入出金tbl[年月日],\"<\"&L$2)","v":0},{"$f":"SUMIFS(入出金tbl[金額],入出金tbl[内　容],$D38,入出金tbl[年月日],\">=\"&L$2,入出金tbl[年月日],\"<\"&M$2)","v":0},{"$f":"SUMIFS(入出金tbl[金額],入出金tbl[内　容],$D38,入出金tbl[年月日],\">=\"&M$2,入出金tbl[年月日],\"<\"&N$2)","v":0},{"$f":"SUMIFS(入出金tbl[金額],入出金tbl[内　容],$D38,入出金tbl[年月日],\">=\"&N$2,入出金tbl[年月日],\"<\"&O$2)","v":0},{"$f":"SUMIFS(入出金tbl[金額],入出金tbl[内　容],$D38,入出金tbl[年月日],\">=\"&O$2,入出金tbl[年月日],\"<\"&P$2)","v":0},{"$f":"SUMIFS(入出金tbl[金額],入出金tbl[内　容],$D38,入出金tbl[年月日],\">=\"&P$2,入出金tbl[年月日],\"<\"&Q$2)","v":0},{"$f":"SUMIFS(入出金tbl[金額],入出金tbl[内　容],$D38,入出金tbl[年月日],\">=\"&Q$2,入出金tbl[年月日],\"<\"&R$2)","v":0},{"$f":"SUMIFS(入出金tbl[金額],入出金tbl[内　容],$D38,入出金tbl[年月日],\">=\"&R$2,入出金tbl[年月日],\"<\"&S$2)","v":0},{"$f":"SUMIFS(入出金tbl[金額],入出金tbl[内　容],$D38,入出金tbl[年月日],\">=\"&S$2,入出金tbl[年月日],\"<\"&T$2)","v":0},{"$f":"SUMIFS(入出金tbl[金額],入出金tbl[内　容],$D38,入出金tbl[年月日],\">=\"&T$2,入出金tbl[年月日],\"<\"&U$2)","v":0},{"$f":"SUMIFS(入出金tbl[金額],入出金tbl[内　容],$D38,入出金tbl[年月日],\">=\"&U$2,入出金tbl[年月日],\"<\"&V$2)","v":0},{"$f":"SUMIFS(入出金tbl[金額],入出金tbl[内　容],$D38,入出金tbl[年月日],\">=\"&V$2,入出金tbl[年月日],\"<\"&W$2)","v":0},{"$f":"SUMIFS(入出金tbl[金額],入出金tbl[内　容],$D38,入出金tbl[年月日],\">=\"&W$2,入出金tbl[年月日],\"<\"&X$2)","v":0},{"$f":"SUMIFS(入出金tbl[金額],入出金tbl[内　容],$D38,入出金tbl[年月日],\">=\"&X$2,入出金tbl[年月日],\"<\"&Y$2)","v":0},{"$f":"SUMIFS(入出金tbl[金額],入出金tbl[内　容],$D38,入出金tbl[年月日],\">=\"&Y$2,入出金tbl[年月日],\"<\"&Z$2)","v":0},{"$f":"SUMIFS(入出金tbl[金額],入出金tbl[内　容],$D38,入出金tbl[年月日],\">=\"&Z$2,入出金tbl[年月日],\"<\"&AA$2)","v":0},{"$f":"SUMIFS(入出金tbl[金額],入出金tbl[内　容],$D38,入出金tbl[年月日],\">=\"&AA$2,入出金tbl[年月日],\"<\"&AB$2)","v":0},{"$f":"SUMIFS(入出金tbl[金額],入出金tbl[内　容],$D38,入出金tbl[年月日],\">=\"&AB$2,入出金tbl[年月日],\"<\"&AC$2)","v":63},{"$f":"SUMIFS(入出金tbl[金額],入出金tbl[内　容],$D38,入出金tbl[年月日],\">=\"&AC$2,入出金tbl[年月日],\"<\"&AD$2)","v":0},{"$f":"SUMIFS(入出金tbl[金額],入出金tbl[内　容],$D38,入出金tbl[年月日],\">=\"&AD$2,入出金tbl[年月日],\"<\"&AE$2)","v":0},{"$f":"SUMIFS(入出金tbl[金額],入出金tbl[内　容],$D38,入出金tbl[年月日],\">=\"&AE$2,入出金tbl[年月日],\"<\"&AF$2)","v":488},{"$f":"SUMIFS(入出金tbl[金額],入出金tbl[内　容],$D38,入出金tbl[年月日],\">=\"&AF$2,入出金tbl[年月日],\"<\"&AG$2)","v":0},{"$f":"SUMIFS(入出金tbl[金額],入出金tbl[内　容],$D38,入出金tbl[年月日],\">=\"&AG$2,入出金tbl[年月日],\"<\"&AH$2)","v":0},{"$f":"SUMIFS(入出金tbl[金額],入出金tbl[内　容],$D38,入出金tbl[年月日],\">=\"&AH$2,入出金tbl[年月日],\"<\"&AI$2)","v":0},{"$f":"SUMIFS(入出金tbl[金額],入出金tbl[内　容],$D38,入出金tbl[年月日],\">=\"&AI$2,入出金tbl[年月日],\"<\"&AJ$2)","v":0}]
[null,null,"(5)",{"$f":"資金繰り表!D40","v":"----------"},{"$f":"SUMIFS(入出金tbl[金額],入出金tbl[内　容],$D39,入出金tbl[年月日],\">=\"&E$2,入出金tbl[年月日],\"<\"&F$2)","v":0},{"$f":"SUMIFS(入出金tbl[金額],入出金tbl[内　容],$D39,入出金tbl[年月日],\">=\"&F$2,入出金tbl[年月日],\"<\"&G$2)","v":0},{"$f":"SUMIFS(入出金tbl[金額],入出金tbl[内　容],$D39,入出金tbl[年月日],\">=\"&G$2,入出金tbl[年月日],\"<\"&H$2)","v":0},{"$f":"SUMIFS(入出金tbl[金額],入出金tbl[内　容],$D39,入出金tbl[年月日],\">=\"&H$2,入出金tbl[年月日],\"<\"&I$2)","v":0},{"$f":"SUMIFS(入出金tbl[金額],入出金tbl[内　容],$D39,入出金tbl[年月日],\">=\"&I$2,入出金tbl[年月日],\"<\"&J$2)","v":0},{"$f":"SUMIFS(入出金tbl[金額],入出金tbl[内　容],$D39,入出金tbl[年月日],\">=\"&J$2,入出金tbl[年月日],\"<\"&K$2)","v":0},{"$f":"SUMIFS(入出金tbl[金額],入出金tbl[内　容],$D39,入出金tbl[年月日],\">=\"&K$2,入出金tbl[年月日],\"<\"&L$2)","v":0},{"$f":"SUMIFS(入出金tbl[金額],入出金tbl[内　容],$D39,入出金tbl[年月日],\">=\"&L$2,入出金tbl[年月日],\"<\"&M$2)","v":0},{"$f":"SUMIFS(入出金tbl[金額],入出金tbl[内　容],$D39,入出金tbl[年月日],\">=\"&M$2,入出金tbl[年月日],\"<\"&N$2)","v":0},{"$f":"SUMIFS(入出金tbl[金額],入出金tbl[内　容],$D39,入出金tbl[年月日],\">=\"&N$2,入出金tbl[年月日],\"<\"&O$2)","v":0},{"$f":"SUMIFS(入出金tbl[金額],入出金tbl[内　容],$D39,入出金tbl[年月日],\">=\"&O$2,入出金tbl[年月日],\"<\"&P$2)","v":0},{"$f":"SUMIFS(入出金tbl[金額],入出金tbl[内　容],$D39,入出金tbl[年月日],\">=\"&P$2,入出金tbl[年月日],\"<\"&Q$2)","v":0},{"$f":"SUMIFS(入出金tbl[金額],入出金tbl[内　容],$D39,入出金tbl[年月日],\">=\"&Q$2,入出金tbl[年月日],\"<\"&R$2)","v":0},{"$f":"SUMIFS(入出金tbl[金額],入出金tbl[内　容],$D39,入出金tbl[年月日],\">=\"&R$2,入出金tbl[年月日],\"<\"&S$2)","v":0},{"$f":"SUMIFS(入出金tbl[金額],入出金tbl[内　容],$D39,入出金tbl[年月日],\">=\"&S$2,入出金tbl[年月日],\"<\"&T$2)","v":0},{"$f":"SUMIFS(入出金tbl[金額],入出金tbl[内　容],$D39,入出金tbl[年月日],\">=\"&T$2,入出金tbl[年月日],\"<\"&U$2)","v":0},{"$f":"SUMIFS(入出金tbl[金額],入出金tbl[内　容],$D39,入出金tbl[年月日],\">=\"&U$2,入出金tbl[年月日],\"<\"&V$2)","v":0},{"$f":"SUMIFS(入出金tbl[金額],入出金tbl[内　容],$D39,入出金tbl[年月日],\">=\"&V$2,入出金tbl[年月日],\"<\"&W$2)","v":0},{"$f":"SUMIFS(入出金tbl[金額],入出金tbl[内　容],$D39,入出金tbl[年月日],\">=\"&W$2,入出金tbl[年月日],\"<\"&X$2)","v":0},{"$f":"SUMIFS(入出金tbl[金額],入出金tbl[内　容],$D39,入出金tbl[年月日],\">=\"&X$2,入出金tbl[年月日],\"<\"&Y$2)","v":0},{"$f":"SUMIFS(入出金tbl[金額],入出金tbl[内　容],$D39,入出金tbl[年月日],\">=\"&Y$2,入出金tbl[年月日],\"<\"&Z$2)","v":0},{"$f":"SUMIFS(入出金tbl[金額],入出金tbl[内　容],$D39,入出金tbl[年月日],\">=\"&Z$2,入出金tbl[年月日],\"<\"&AA$2)","v":0},{"$f":"SUMIFS(入出金tbl[金額],入出金tbl[内　容],$D39,入出金tbl[年月日],\">=\"&AA$2,入出金tbl[年月日],\"<\"&AB$2)","v":0},{"$f":"SUMIFS(入出金tbl[金額],入出金tbl[内　容],$D39,入出金tbl[年月日],\">=\"&AB$2,入出金tbl[年月日],\"<\"&AC$2)","v":0},{"$f":"SUMIFS(入出金tbl[金額],入出金tbl[内　容],$D39,入出金tbl[年月日],\">=\"&AC$2,入出金tbl[年月日],\"<\"&AD$2)","v":0},{"$f":"SUMIFS(入出金tbl[金額],入出金tbl[内　容],$D39,入出金tbl[年月日],\">=\"&AD$2,入出金tbl[年月日],\"<\"&AE$2)","v":0},{"$f":"SUMIFS(入出金tbl[金額],入出金tbl[内　容],$D39,入出金tbl[年月日],\">=\"&AE$2,入出金tbl[年月日],\"<\"&AF$2)","v":0},{"$f":"SUMIFS(入出金tbl[金額],入出金tbl[内　容],$D39,入出金tbl[年月日],\">=\"&AF$2,入出金tbl[年月日],\"<\"&AG$2)","v":0},{"$f":"SUMIFS(入出金tbl[金額],入出金tbl[内　容],$D39,入出金tbl[年月日],\">=\"&AG$2,入出金tbl[年月日],\"<\"&AH$2)","v":0},{"$f":"SUMIFS(入出金tbl[金額],入出金tbl[内　容],$D39,入出金tbl[年月日],\">=\"&AH$2,入出金tbl[年月日],\"<\"&AI$2)","v":0},{"$f":"SUMIFS(入出金tbl[金額],入出金tbl[内　容],$D39,入出金tbl[年月日],\">=\"&AI$2,入出金tbl[年月日],\"<\"&AJ$2)","v":0}]
[null,null,null,"収入合計(H)",{"$f":"SUM(E35:E39)","v":0},{"$f":"SUM(F35:F39)","v":0},1151,565,1238,0,0,0,0,0,0,0,0,0,0,0,0,0,0,0,789,789,63,63,0,612,961,0,0,0,0]
[null,"支出","(1)",{"$f":"資金繰り表!D42","v":"短期借入金返済"},{"$f":"SUMIFS(入出金tbl[金額],入出金tbl[内　容],$D41,入出金tbl[年月日],\">=\"&E$2,入出金tbl[年月日],\"<\"&F$2)","v":0},{"$f":"SUMIFS(入出金tbl[金額],入出金tbl[内　容],$D41,入出金tbl[年月日],\">=\"&F$2,入出金tbl[年月日],\"<\"&G$2)","v":0},{"$f":"SUMIFS(入出金tbl[金額],入出金tbl[内　容],$D41,入出金tbl[年月日],\">=\"&G$2,入出金tbl[年月日],\"<\"&H$2)","v":0},{"$f":"SUMIFS(入出金tbl[金額],入出金tbl[内　容],$D41,入出金tbl[年月日],\">=\"&H$2,入出金tbl[年月日],\"<\"&I$2)","v":0},{"$f":"SUMIFS(入出金tbl[金額],入出金tbl[内　容],$D41,入出金tbl[年月日],\">=\"&I$2,入出金tbl[年月日],\"<\"&J$2)","v":0},{"$f":"SUMIFS(入出金tbl[金額],入出金tbl[内　容],$D41,入出金tbl[年月日],\">=\"&J$2,入出金tbl[年月日],\"<\"&K$2)","v":0},{"$f":"SUMIFS(入出金tbl[金額],入出金tbl[内　容],$D41,入出金tbl[年月日],\">=\"&K$2,入出金tbl[年月日],\"<\"&L$2)","v":0},{"$f":"SUMIFS(入出金tbl[金額],入出金tbl[内　容],$D41,入出金tbl[年月日],\">=\"&L$2,入出金tbl[年月日],\"<\"&M$2)","v":0},{"$f":"SUMIFS(入出金tbl[金額],入出金tbl[内　容],$D41,入出金tbl[年月日],\">=\"&M$2,入出金tbl[年月日],\"<\"&N$2)","v":0},{"$f":"SUMIFS(入出金tbl[金額],入出金tbl[内　容],$D41,入出金tbl[年月日],\">=\"&N$2,入出金tbl[年月日],\"<\"&O$2)","v":0},{"$f":"SUMIFS(入出金tbl[金額],入出金tbl[内　容],$D41,入出金tbl[年月日],\">=\"&O$2,入出金tbl[年月日],\"<\"&P$2)","v":0},{"$f":"SUMIFS(入出金tbl[金額],入出金tbl[内　容],$D41,入出金tbl[年月日],\">=\"&P$2,入出金tbl[年月日],\"<\"&Q$2)","v":433},{"$f":"SUMIFS(入出金tbl[金額],入出金tbl[内　容],$D41,入出金tbl[年月日],\">=\"&Q$2,入出金tbl[年月日],\"<\"&R$2)","v":0},{"$f":"SUMIFS(入出金tbl[金額],入出金tbl[内　容],$D41,入出金tbl[年月日],\">=\"&R$2,入出金tbl[年月日],\"<\"&S$2)","v":0},{"$f":"SUMIFS(入出金tbl[金額],入出金tbl[内　容],$D41,入出金tbl[年月日],\">=\"&S$2,入出金tbl[年月日],\"<\"&T$2)","v":0},{"$f":"SUMIFS(入出金tbl[金額],入出金tbl[内　容],$D41,入出金tbl[年月日],\">=\"&T$2,入出金tbl[年月日],\"<\"&U$2)","v":0},{"$f":"SUMIFS(入出金tbl[金額],入出金tbl[内　容],$D41,入出金tbl[年月日],\">=\"&U$2,入出金tbl[年月日],\"<\"&V$2)","v":0},{"$f":"SUMIFS(入出金tbl[金額],入出金tbl[内　容],$D41,入出金tbl[年月日],\">=\"&V$2,入出金tbl[年月日],\"<\"&W$2)","v":0},{"$f":"SUMIFS(入出金tbl[金額],入出金tbl[内　容],$D41,入出金tbl[年月日],\">=\"&W$2,入出金tbl[年月日],\"<\"&X$2)","v":0},{"$f":"SUMIFS(入出金tbl[金額],入出金tbl[内　容],$D41,入出金tbl[年月日],\">=\"&X$2,入出金tbl[年月日],\"<\"&Y$2)","v":0},{"$f":"SUMIFS(入出金tbl[金額],入出金tbl[内　容],$D41,入出金tbl[年月日],\">=\"&Y$2,入出金tbl[年月日],\"<\"&Z$2)","v":0},{"$f":"SUMIFS(入出金tbl[金額],入出金tbl[内　容],$D41,入出金tbl[年月日],\">=\"&Z$2,入出金tbl[年月日],\"<\"&AA$2)","v":0},{"$f":"SUMIFS(入出金tbl[金額],入出金tbl[内　容],$D41,入出金tbl[年月日],\">=\"&AA$2,入出金tbl[年月日],\"<\"&AB$2)","v":0},{"$f":"SUMIFS(入出金tbl[金額],入出金tbl[内　容],$D41,入出金tbl[年月日],\">=\"&AB$2,入出金tbl[年月日],\"<\"&AC$2)","v":0},{"$f":"SUMIFS(入出金tbl[金額],入出金tbl[内　容],$D41,入出金tbl[年月日],\">=\"&AC$2,入出金tbl[年月日],\"<\"&AD$2)","v":0},{"$f":"SUMIFS(入出金tbl[金額],入出金tbl[内　容],$D41,入出金tbl[年月日],\">=\"&AD$2,入出金tbl[年月日],\"<\"&AE$2)","v":0},{"$f":"SUMIFS(入出金tbl[金額],入出金tbl[内　容],$D41,入出金tbl[年月日],\">=\"&AE$2,入出金tbl[年月日],\"<\"&AF$2)","v":0},{"$f":"SUMIFS(入出金tbl[金額],入出金tbl[内　容],$D41,入出金tbl[年月日],\">=\"&AF$2,入出金tbl[年月日],\"<\"&AG$2)","v":0},{"$f":"SUMIFS(入出金tbl[金額],入出金tbl[内　容],$D41,入出金tbl[年月日],\">=\"&AG$2,入出金tbl[年月日],\"<\"&AH$2)","v":0},{"$f":"SUMIFS(入出金tbl[金額],入出金tbl[内　容],$D41,入出金tbl[年月日],\">=\"&AH$2,入出金tbl[年月日],\"<\"&AI$2)","v":0},{"$f":"SUMIFS(入出金tbl[金額],入出金tbl[内　容],$D41,入出金tbl[年月日],\">=\"&AI$2,入出金tbl[年月日],\"<\"&AJ$2)","v":0}]
[null,null,"(2)",{"$f":"資金繰り表!D43","v":"長期借入金返済"},{"$f":"SUMIFS(入出金tbl[金額],入出金tbl[内　容],$D42,入出金tbl[年月日],\">=\"&E$2,入出金tbl[年月日],\"<\"&F$2)","v":0},{"$f":"SUMIFS(入出金tbl[金額],入出金tbl[内　容],$D42,入出金tbl[年月日],\">=\"&F$2,入出金tbl[年月日],\"<\"&G$2)","v":0},{"$f":"SUMIFS(入出金tbl[金額],入出金tbl[内　容],$D42,入出金tbl[年月日],\">=\"&G$2,入出金tbl[年月日],\"<\"&H$2)","v":0},{"$f":"SUMIFS(入出金tbl[金額],入出金tbl[内　容],$D42,入出金tbl[年月日],\">=\"&H$2,入出金tbl[年月日],\"<\"&I$2)","v":0},{"$f":"SUMIFS(入出金tbl[金額],入出金tbl[内　容],$D42,入出金tbl[年月日],\">=\"&I$2,入出金tbl[年月日],\"<\"&J$2)","v":0},{"$f":"SUMIFS(入出金tbl[金額],入出金tbl[内　容],$D42,入出金tbl[年月日],\">=\"&J$2,入出金tbl[年月日],\"<\"&K$2)","v":0},{"$f":"SUMIFS(入出金tbl[金額],入出金tbl[内　容],$D42,入出金tbl[年月日],\">=\"&K$2,入出金tbl[年月日],\"<\"&L$2)","v":0},{"$f":"SUMIFS(入出金tbl[金額],入出金tbl[内　容],$D42,入出金tbl[年月日],\">=\"&L$2,入出金tbl[年月日],\"<\"&M$2)","v":0},{"$f":"SUMIFS(入出金tbl[金額],入出金tbl[内　容],$D42,入出金tbl[年月日],\">=\"&M$2,入出金tbl[年月日],\"<\"&N$2)","v":0},{"$f":"SUMIFS(入出金tbl[金額],入出金tbl[内　容],$D42,入出金tbl[年月日],\">=\"&N$2,入出金tbl[年月日],\"<\"&O$2)","v":0},{"$f":"SUMIFS(入出金tbl[金額],入出金tbl[内　容],$D42,入出金tbl[年月日],\">=\"&O$2,入出金tbl[年月日],\"<\"&P$2)","v":0},{"$f":"SUMIFS(入出金tbl[金額],入出金tbl[内　容],$D42,入出金tbl[年月日],\">=\"&P$2,入出金tbl[年月日],\"<\"&Q$2)","v":0},{"$f":"SUMIFS(入出金tbl[金額],入出金tbl[内　容],$D42,入出金tbl[年月日],\">=\"&Q$2,入出金tbl[年月日],\"<\"&R$2)","v":256},{"$f":"SUMIFS(入出金tbl[金額],入出金tbl[内　容],$D42,入出金tbl[年月日],\">=\"&R$2,入出金tbl[年月日],\"<\"&S$2)","v":0},{"$f":"SUMIFS(入出金tbl[金額],入出金tbl[内　容],$D42,入出金tbl[年月日],\">=\"&S$2,入出金tbl[年月日],\"<\"&T$2)","v":0},{"$f":"SUMIFS(入出金tbl[金額],入出金tbl[内　容],$D42,入出金tbl[年月日],\">=\"&T$2,入出金tbl[年月日],\"<\"&U$2)","v":0},{"$f":"SUMIFS(入出金tbl[金額],入出金tbl[内　容],$D42,入出金tbl[年月日],\">=\"&U$2,入出金tbl[年月日],\"<\"&V$2)","v":0},{"$f":"SUMIFS(入出金tbl[金額],入出金tbl[内　容],$D42,入出金tbl[年月日],\">=\"&V$2,入出金tbl[年月日],\"<\"&W$2)","v":0},{"$f":"SUMIFS(入出金tbl[金額],入出金tbl[内　容],$D42,入出金tbl[年月日],\">=\"&W$2,入出金tbl[年月日],\"<\"&X$2)","v":0},{"$f":"SUMIFS(入出金tbl[金額],入出金tbl[内　容],$D42,入出金tbl[年月日],\">=\"&X$2,入出金tbl[年月日],\"<\"&Y$2)","v":0},{"$f":"SUMIFS(入出金tbl[金額],入出金tbl[内　容],$D42,入出金tbl[年月日],\">=\"&Y$2,入出金tbl[年月日],\"<\"&Z$2)","v":0},{"$f":"SUMIFS(入出金tbl[金額],入出金tbl[内　容],$D42,入出金tbl[年月日],\">=\"&Z$2,入出金tbl[年月日],\"<\"&AA$2)","v":0},{"$f":"SUMIFS(入出金tbl[金額],入出金tbl[内　容],$D42,入出金tbl[年月日],\">=\"&AA$2,入出金tbl[年月日],\"<\"&AB$2)","v":0},{"$f":"SUMIFS(入出金tbl[金額],入出金tbl[内　容],$D42,入出金tbl[年月日],\">=\"&AB$2,入出金tbl[年月日],\"<\"&AC$2)","v":0},{"$f":"SUMIFS(入出金tbl[金額],入出金tbl[内　容],$D42,入出金tbl[年月日],\">=\"&AC$2,入出金tbl[年月日],\"<\"&AD$2)","v":0},{"$f":"SUMIFS(入出金tbl[金額],入出金tbl[内　容],$D42,入出金tbl[年月日],\">=\"&AD$2,入出金tbl[年月日],\"<\"&AE$2)","v":0},{"$f":"SUMIFS(入出金tbl[金額],入出金tbl[内　容],$D42,入出金tbl[年月日],\">=\"&AE$2,入出金tbl[年月日],\"<\"&AF$2)","v":0},{"$f":"SUMIFS(入出金tbl[金額],入出金tbl[内　容],$D42,入出金tbl[年月日],\">=\"&AF$2,入出金tbl[年月日],\"<\"&AG$2)","v":0},{"$f":"SUMIFS(入出金tbl[金額],入出金tbl[内　容],$D42,入出金tbl[年月日],\">=\"&AG$2,入出金tbl[年月日],\"<\"&AH$2)","v":0},{"$f":"SUMIFS(入出金tbl[金額],入出金tbl[内　容],$D42,入出金tbl[年月日],\">=\"&AH$2,入出金tbl[年月日],\"<\"&AI$2)","v":0},{"$f":"SUMIFS(入出金tbl[金額],入出金tbl[内　容],$D42,入出金tbl[年月日],\">=\"&AI$2,入出金tbl[年月日],\"<\"&AJ$2)","v":0}]
[null,null,"(3)",{"$f":"資金繰り表!D44","v":"社長借入金返済"},{"$f":"SUMIFS(入出金tbl[金額],入出金tbl[内　容],$D43,入出金tbl[年月日],\">=\"&E$2,入出金tbl[年月日],\"<\"&F$2)","v":0},{"$f":"SUMIFS(入出金tbl[金額],入出金tbl[内　容],$D43,入出金tbl[年月日],\">=\"&F$2,入出金tbl[年月日],\"<\"&G$2)","v":0},{"$f":"SUMIFS(入出金tbl[金額],入出金tbl[内　容],$D43,入出金tbl[年月日],\">=\"&G$2,入出金tbl[年月日],\"<\"&H$2)","v":0},{"$f":"SUMIFS(入出金tbl[金額],入出金tbl[内　容],$D43,入出金tbl[年月日],\">=\"&H$2,入出金tbl[年月日],\"<\"&I$2)","v":0},{"$f":"SUMIFS(入出金tbl[金額],入出金tbl[内　容],$D43,入出金tbl[年月日],\">=\"&I$2,入出金tbl[年月日],\"<\"&J$2)","v":0},{"$f":"SUMIFS(入出金tbl[金額],入出金tbl[内　容],$D43,入出金tbl[年月日],\">=\"&J$2,入出金tbl[年月日],\"<\"&K$2)","v":0},{"$f":"SUMIFS(入出金tbl[金額],入出金tbl[内　容],$D43,入出金tbl[年月日],\">=\"&K$2,入出金tbl[年月日],\"<\"&L$2)","v":0},{"$f":"SUMIFS(入出金tbl[金額],入出金tbl[内　容],$D43,入出金tbl[年月日],\">=\"&L$2,入出金tbl[年月日],\"<\"&M$2)","v":0},{"$f":"SUMIFS(入出金tbl[金額],入出金tbl[内　容],$D43,入出金tbl[年月日],\">=\"&M$2,入出金tbl[年月日],\"<\"&N$2)","v":0},{"$f":"SUMIFS(入出金tbl[金額],入出金tbl[内　容],$D43,入出金tbl[年月日],\">=\"&N$2,入出金tbl[年月日],\"<\"&O$2)","v":0},{"$f":"SUMIFS(入出金tbl[金額],入出金tbl[内　容],$D43,入出金tbl[年月日],\">=\"&O$2,入出金tbl[年月日],\"<\"&P$2)","v":0},{"$f":"SUMIFS(入出金tbl[金額],入出金tbl[内　容],$D43,入出金tbl[年月日],\">=\"&P$2,入出金tbl[年月日],\"<\"&Q$2)","v":0},{"$f":"SUMIFS(入出金tbl[金額],入出金tbl[内　容],$D43,入出金tbl[年月日],\">=\"&Q$2,入出金tbl[年月日],\"<\"&R$2)","v":433},{"$f":"SUMIFS(入出金tbl[金額],入出金tbl[内　容],$D43,入出金tbl[年月日],\">=\"&R$2,入出金tbl[年月日],\"<\"&S$2)","v":0},{"$f":"SUMIFS(入出金tbl[金額],入出金tbl[内　容],$D43,入出金tbl[年月日],\">=\"&S$2,入出金tbl[年月日],\"<\"&T$2)","v":0},{"$f":"SUMIFS(入出金tbl[金額],入出金tbl[内　容],$D43,入出金tbl[年月日],\">=\"&T$2,入出金tbl[年月日],\"<\"&U$2)","v":0},{"$f":"SUMIFS(入出金tbl[金額],入出金tbl[内　容],$D43,入出金tbl[年月日],\">=\"&U$2,入出金tbl[年月日],\"<\"&V$2)","v":0},{"$f":"SUMIFS(入出金tbl[金額],入出金tbl[内　容],$D43,入出金tbl[年月日],\">=\"&V$2,入出金tbl[年月日],\"<\"&W$2)","v":0},{"$f":"SUMIFS(入出金tbl[金額],入出金tbl[内　容],$D43,入出金tbl[年月日],\">=\"&W$2,入出金tbl[年月日],\"<\"&X$2)","v":0},{"$f":"SUMIFS(入出金tbl[金額],入出金tbl[内　容],$D43,入出金tbl[年月日],\">=\"&X$2,入出金tbl[年月日],\"<\"&Y$2)","v":0},{"$f":"SUMIFS(入出金tbl[金額],入出金tbl[内　容],$D43,入出金tbl[年月日],\">=\"&Y$2,入出金tbl[年月日],\"<\"&Z$2)","v":0},{"$f":"SUMIFS(入出金tbl[金額],入出金tbl[内　容],$D43,入出金tbl[年月日],\">=\"&Z$2,入出金tbl[年月日],\"<\"&AA$2)","v":0},{"$f":"SUMIFS(入出金tbl[金額],入出金tbl[内　容],$D43,入出金tbl[年月日],\">=\"&AA$2,入出金tbl[年月日],\"<\"&AB$2)","v":0},{"$f":"SUMIFS(入出金tbl[金額],入出金tbl[内　容],$D43,入出金tbl[年月日],\">=\"&AB$2,入出金tbl[年月日],\"<\"&AC$2)","v":0},{"$f":"SUMIFS(入出金tbl[金額],入出金tbl[内　容],$D43,入出金tbl[年月日],\">=\"&AC$2,入出金tbl[年月日],\"<\"&AD$2)","v":0},{"$f":"SUMIFS(入出金tbl[金額],入出金tbl[内　容],$D43,入出金tbl[年月日],\">=\"&AD$2,入出金tbl[年月日],\"<\"&AE$2)","v":0},{"$f":"SUMIFS(入出金tbl[金額],入出金tbl[内　容],$D43,入出金tbl[年月日],\">=\"&AE$2,入出金tbl[年月日],\"<\"&AF$2)","v":0},{"$f":"SUMIFS(入出金tbl[金額],入出金tbl[内　容],$D43,入出金tbl[年月日],\">=\"&AF$2,入出金tbl[年月日],\"<\"&AG$2)","v":0},{"$f":"SUMIFS(入出金tbl[金額],入出金tbl[内　容],$D43,入出金tbl[年月日],\">=\"&AG$2,入出金tbl[年月日],\"<\"&AH$2)","v":0},{"$f":"SUMIFS(入出金tbl[金額],入出金tbl[内　容],$D43,入出金tbl[年月日],\">=\"&AH$2,入出金tbl[年月日],\"<\"&AI$2)","v":0},{"$f":"SUMIFS(入出金tbl[金額],入出金tbl[内　容],$D43,入出金tbl[年月日],\">=\"&AI$2,入出金tbl[年月日],\"<\"&AJ$2)","v":0}]
[null,null,"(4)",{"$f":"資金繰り表!D45","v":"その他返済"},{"$f":"SUMIFS(入出金tbl[金額],入出金tbl[内　容],$D44,入出金tbl[年月日],\">=\"&E$2,入出金tbl[年月日],\"<\"&F$2)","v":0},{"$f":"SUMIFS(入出金tbl[金額],入出金tbl[内　容],$D44,入出金tbl[年月日],\">=\"&F$2,入出金tbl[年月日],\"<\"&G$2)","v":0},{"$f":"SUMIFS(入出金tbl[金額],入出金tbl[内　容],$D44,入出金tbl[年月日],\">=\"&G$2,入出金tbl[年月日],\"<\"&H$2)","v":0},{"$f":"SUMIFS(入出金tbl[金額],入出金tbl[内　容],$D44,入出金tbl[年月日],\">=\"&H$2,入出金tbl[年月日],\"<\"&I$2)","v":0},{"$f":"SUMIFS(入出金tbl[金額],入出金tbl[内　容],$D44,入出金tbl[年月日],\">=\"&I$2,入出金tbl[年月日],\"<\"&J$2)","v":0},{"$f":"SUMIFS(入出金tbl[金額],入出金tbl[内　容],$D44,入出金tbl[年月日],\">=\"&J$2,入出金tbl[年月日],\"<\"&K$2)","v":0},{"$f":"SUMIFS(入出金tbl[金額],入出金tbl[内　容],$D44,入出金tbl[年月日],\">=\"&K$2,入出金tbl[年月日],\"<\"&L$2)","v":0},{"$f":"SUMIFS(入出金tbl[金額],入出金tbl[内　容],$D44,入出金tbl[年月日],\">=\"&L$2,入出金tbl[年月日],\"<\"&M$2)","v":0},{"$f":"SUMIFS(入出金tbl[金額],入出金tbl[内　容],$D44,入出金tbl[年月日],\">=\"&M$2,入出金tbl[年月日],\"<\"&N$2)","v":0},{"$f":"SUMIFS(入出金tbl[金額],入出金tbl[内　容],$D44,入出金tbl[年月日],\">=\"&N$2,入出金tbl[年月日],\"<\"&O$2)","v":0},{"$f":"SUMIFS(入出金tbl[金額],入出金tbl[内　容],$D44,入出金tbl[年月日],\">=\"&O$2,入出金tbl[年月日],\"<\"&P$2)","v":0},{"$f":"SUMIFS(入出金tbl[金額],入出金tbl[内　容],$D44,入出金tbl[年月日],\">=\"&P$2,入出金tbl[年月日],\"<\"&Q$2)","v":0},{"$f":"SUMIFS(入出金tbl[金額],入出金tbl[内　容],$D44,入出金tbl[年月日],\">=\"&Q$2,入出金tbl[年月日],\"<\"&R$2)","v":0},{"$f":"SUMIFS(入出金tbl[金額],入出金tbl[内　容],$D44,入出金tbl[年月日],\">=\"&R$2,入出金tbl[年月日],\"<\"&S$2)","v":256},{"$f":"SUMIFS(入出金tbl[金額],入出金tbl[内　容],$D44,入出金tbl[年月日],\">=\"&S$2,入出金tbl[年月日],\"<\"&T$2)","v":0},{"$f":"SUMIFS(入出金tbl[金額],入出金tbl[内　容],$D44,入出金tbl[年月日],\">=\"&T$2,入出金tbl[年月日],\"<\"&U$2)","v":0},{"$f":"SUMIFS(入出金tbl[金額],入出金tbl[内　容],$D44,入出金tbl[年月日],\">=\"&U$2,入出金tbl[年月日],\"<\"&V$2)","v":0},{"$f":"SUMIFS(入出金tbl[金額],入出金tbl[内　容],$D44,入出金tbl[年月日],\">=\"&V$2,入出金tbl[年月日],\"<\"&W$2)","v":0},{"$f":"SUMIFS(入出金tbl[金額],入出金tbl[内　容],$D44,入出金tbl[年月日],\">=\"&W$2,入出金tbl[年月日],\"<\"&X$2)","v":0},{"$f":"SUMIFS(入出金tbl[金額],入出金tbl[内　容],$D44,入出金tbl[年月日],\">=\"&X$2,入出金tbl[年月日],\"<\"&Y$2)","v":0},{"$f":"SUMIFS(入出金tbl[金額],入出金tbl[内　容],$D44,入出金tbl[年月日],\">=\"&Y$2,入出金tbl[年月日],\"<\"&Z$2)","v":0},{"$f":"SUMIFS(入出金tbl[金額],入出金tbl[内　容],$D44,入出金tbl[年月日],\">=\"&Z$2,入出金tbl[年月日],\"<\"&AA$2)","v":0},{"$f":"SUMIFS(入出金tbl[金額],入出金tbl[内　容],$D44,入出金tbl[年月日],\">=\"&AA$2,入出金tbl[年月日],\"<\"&AB$2)","v":0},{"$f":"SUMIFS(入出金tbl[金額],入出金tbl[内　容],$D44,入出金tbl[年月日],\">=\"&AB$2,入出金tbl[年月日],\"<\"&AC$2)","v":0},{"$f":"SUMIFS(入出金tbl[金額],入出金tbl[内　容],$D44,入出金tbl[年月日],\">=\"&AC$2,入出金tbl[年月日],\"<\"&AD$2)","v":0},{"$f":"SUMIFS(入出金tbl[金額],入出金tbl[内　容],$D44,入出金tbl[年月日],\">=\"&AD$2,入出金tbl[年月日],\"<\"&AE$2)","v":0},{"$f":"SUMIFS(入出金tbl[金額],入出金tbl[内　容],$D44,入出金tbl[年月日],\">=\"&AE$2,入出金tbl[年月日],\"<\"&AF$2)","v":0},{"$f":"SUMIFS(入出金tbl[金額],入出金tbl[内　容],$D44,入出金tbl[年月日],\">=\"&AF$2,入出金tbl[年月日],\"<\"&AG$2)","v":0},{"$f":"SUMIFS(入出金tbl[金額],入出金tbl[内　容],$D44,入出金tbl[年月日],\">=\"&AG$2,入出金tbl[年月日],\"<\"&AH$2)","v":0},{"$f":"SUMIFS(入出金tbl[金額],入出金tbl[内　容],$D44,入出金tbl[年月日],\">=\"&AH$2,入出金tbl[年月日],\"<\"&AI$2)","v":0},{"$f":"SUMIFS(入出金tbl[金額],入出金tbl[内　容],$D44,入出金tbl[年月日],\">=\"&AI$2,入出金tbl[年月日],\"<\"&AJ$2)","v":0}]
[null,null,"(5)",{"$f":"資金繰り表!D46","v":"----------"},{"$f":"SUMIFS(入出金tbl[金額],入出金tbl[内　容],$D45,入出金tbl[年月日],\">=\"&E$2,入出金tbl[年月日],\"<\"&F$2)","v":0},{"$f":"SUMIFS(入出金tbl[金額],入出金tbl[内　容],$D45,入出金tbl[年月日],\">=\"&F$2,入出金tbl[年月日],\"<\"&G$2)","v":0},{"$f":"SUMIFS(入出金tbl[金額],入出金tbl[内　容],$D45,入出金tbl[年月日],\">=\"&G$2,入出金tbl[年月日],\"<\"&H$2)","v":0},{"$f":"SUMIFS(入出金tbl[金額],入出金tbl[内　容],$D45,入出金tbl[年月日],\">=\"&H$2,入出金tbl[年月日],\"<\"&I$2)","v":0},{"$f":"SUMIFS(入出金tbl[金額],入出金tbl[内　容],$D45,入出金tbl[年月日],\">=\"&I$2,入出金tbl[年月日],\"<\"&J$2)","v":0},{"$f":"SUMIFS(入出金tbl[金額],入出金tbl[内　容],$D45,入出金tbl[年月日],\">=\"&J$2,入出金tbl[年月日],\"<\"&K$2)","v":0},{"$f":"SUMIFS(入出金tbl[金額],入出金tbl[内　容],$D45,入出金tbl[年月日],\">=\"&K$2,入出金tbl[年月日],\"<\"&L$2)","v":0},{"$f":"SUMIFS(入出金tbl[金額],入出金tbl[内　容],$D45,入出金tbl[年月日],\">=\"&L$2,入出金tbl[年月日],\"<\"&M$2)","v":0},{"$f":"SUMIFS(入出金tbl[金額],入出金tbl[内　容],$D45,入出金tbl[年月日],\">=\"&M$2,入出金tbl[年月日],\"<\"&N$2)","v":0},{"$f":"SUMIFS(入出金tbl[金額],入出金tbl[内　容],$D45,入出金tbl[年月日],\">=\"&N$2,入出金tbl[年月日],\"<\"&O$2)","v":0},{"$f":"SUMIFS(入出金tbl[金額],入出金tbl[内　容],$D45,入出金tbl[年月日],\">=\"&O$2,入出金tbl[年月日],\"<\"&P$2)","v":0},{"$f":"SUMIFS(入出金tbl[金額],入出金tbl[内　容],$D45,入出金tbl[年月日],\">=\"&P$2,入出金tbl[年月日],\"<\"&Q$2)","v":0},{"$f":"SUMIFS(入出金tbl[金額],入出金tbl[内　容],$D45,入出金tbl[年月日],\">=\"&Q$2,入出金tbl[年月日],\"<\"&R$2)","v":0},{"$f":"SUMIFS(入出金tbl[金額],入出金tbl[内　容],$D45,入出金tbl[年月日],\">=\"&R$2,入出金tbl[年月日],\"<\"&S$2)","v":0},{"$f":"SUMIFS(入出金tbl[金額],入出金tbl[内　容],$D45,入出金tbl[年月日],\">=\"&S$2,入出金tbl[年月日],\"<\"&T$2)","v":0},{"$f":"SUMIFS(入出金tbl[金額],入出金tbl[内　容],$D45,入出金tbl[年月日],\">=\"&T$2,入出金tbl[年月日],\"<\"&U$2)","v":0},{"$f":"SUMIFS(入出金tbl[金額],入出金tbl[内　容],$D45,入出金tbl[年月日],\">=\"&U$2,入出金tbl[年月日],\"<\"&V$2)","v":0},{"$f":"SUMIFS(入出金tbl[金額],入出金tbl[内　容],$D45,入出金tbl[年月日],\">=\"&V$2,入出金tbl[年月日],\"<\"&W$2)","v":0},{"$f":"SUMIFS(入出金tbl[金額],入出金tbl[内　容],$D45,入出金tbl[年月日],\">=\"&W$2,入出金tbl[年月日],\"<\"&X$2)","v":0},{"$f":"SUMIFS(入出金tbl[金額],入出金tbl[内　容],$D45,入出金tbl[年月日],\">=\"&X$2,入出金tbl[年月日],\"<\"&Y$2)","v":0},{"$f":"SUMIFS(入出金tbl[金額],入出金tbl[内　容],$D45,入出金tbl[年月日],\">=\"&Y$2,入出金tbl[年月日],\"<\"&Z$2)","v":0},{"$f":"SUMIFS(入出金tbl[金額],入出金tbl[内　容],$D45,入出金tbl[年月日],\">=\"&Z$2,入出金tbl[年月日],\"<\"&AA$2)","v":0},{"$f":"SUMIFS(入出金tbl[金額],入出金tbl[内　容],$D45,入出金tbl[年月日],\">=\"&AA$2,入出金tbl[年月日],\"<\"&AB$2)","v":0},{"$f":"SUMIFS(入出金tbl[金額],入出金tbl[内　容],$D45,入出金tbl[年月日],\">=\"&AB$2,入出金tbl[年月日],\"<\"&AC$2)","v":0},{"$f":"SUMIFS(入出金tbl[金額],入出金tbl[内　容],$D45,入出金tbl[年月日],\">=\"&AC$2,入出金tbl[年月日],\"<\"&AD$2)","v":0},{"$f":"SUMIFS(入出金tbl[金額],入出金tbl[内　容],$D45,入出金tbl[年月日],\">=\"&AD$2,入出金tbl[年月日],\"<\"&AE$2)","v":0},{"$f":"SUMIFS(入出金tbl[金額],入出金tbl[内　容],$D45,入出金tbl[年月日],\">=\"&AE$2,入出金tbl[年月日],\"<\"&AF$2)","v":0},{"$f":"SUMIFS(入出金tbl[金額],入出金tbl[内　容],$D45,入出金tbl[年月日],\">=\"&AF$2,入出金tbl[年月日],\"<\"&AG$2)","v":0},{"$f":"SUMIFS(入出金tbl[金額],入出金tbl[内　容],$D45,入出金tbl[年月日],\">=\"&AG$2,入出金tbl[年月日],\"<\"&AH$2)","v":0},{"$f":"SUMIFS(入出金tbl[金額],入出金tbl[内　容],$D45,入出金tbl[年月日],\">=\"&AH$2,入出金tbl[年月日],\"<\"&AI$2)","v":0},{"$f":"SUMIFS(入出金tbl[金額],入出金tbl[内　容],$D45,入出金tbl[年月日],\">=\"&AI$2,入出金tbl[年月日],\"<\"&AJ$2)","v":0}]
[null,null,null,"支出合計(I)",{"$f":"SUM(E41:E45)","v":0},{"$f":"SUM(F41:F45)","v":0},0,0,0,0,0,0,0,0,0,433,689,256,0,0,0,0,0,0,0,0,0,0,0,0,0,0,0,0,0]
[null,"差引過不足(J=H-I)",null,null,{"$f":"E40-E46","v":0},{"$f":"F40-F46","v":0},1151,565,1238,0,0,0,0,0,0,-433,-689,-256,0,0,0,0,0,0,789,789,63,63,0,612,961,0,0,0,0]
["収入合計(B+E+H)",null,null,null,{"$f":"E10+E25+E40","v":1151},{"$f":"F10+F25+F40","v":1125},1151,565,1238,0,0,0,0,0,0,0,0,1172,1385,213,260,260,515,515,789,2345,1298,651,588,612,961,0,0,0,0]
["支出合計(C+F+I)",null,null,null,{"$f":"E19+E33+E46","v":0},{"$f":"F19+F33+F46","v":0},0,0,0,866,754,1580,1296,1580,1339,1037,689,256,0,0,0,0,0,0,0,0,0,0,529,529,496,2260,1505,2192,2836]
["総合資金収支過不足",null,null,null,{"$f":"E48-E49","v":1151},{"$f":"F48-F49","v":1125},1151,{"$f":"H48-H49","v":565},{"$f":"I48-I49","v":1238},{"$f":"J48-J49","v":-866},{"$f":"K48-K49","v":-754},{"$f":"L48-L49","v":-1580},{"$f":"M48-M49","v":-1296},{"$f":"N48-N49","v":-1580},{"$f":"O48-O49","v":-1339},{"$f":"P48-P49","v":-1037},{"$f":"Q48-Q49","v":-689},{"$f":"R48-R49","v":916},{"$f":"S48-S49","v":1385},{"$f":"T48-T49","v":213},{"$f":"U48-U49","v":260},{"$f":"V48-V49","v":260},{"$f":"W48-W49","v":515},{"$f":"X48-X49","v":515},{"$f":"Y48-Y49","v":789},{"$f":"Z48-Z49","v":2345},{"$f":"AA48-AA49","v":1298},{"$f":"AB48-AB49","v":651},{"$f":"AC48-AC49","v":59},{"$f":"AD48-AD49","v":83},{"$f":"AE48-AE49","v":465},{"$f":"AF48-AF49","v":-2260},{"$f":"AG48-AG49","v":-1505},{"$f":"AH48-AH49","v":-2192},{"$f":"AI48-AI49","v":-2836}]
["繰越現金・当座資金(A+D+G+J)",null,null,null,{"$f":"E3+E20+E34+E47","v":909769},{"$f":"F3+F20+F34+F47","v":910894},912045,912610,913848,912982,912228,910648,909352,907772,906433,905396,904707,905623,907008,907221,907481,907741,908256,908771,909560,911905,913203,913854,913913,913996,914461,912201,910696,908504,905668]
["繰越調整",null,null,null,{"$f":"SUMIFS(入出金tbl[金額],入出金tbl[内　容],$A52,入出金tbl[年月日],\">=\"&E$2,入出金tbl[年月日],\"<\"&F$2)","v":0},{"$f":"SUMIFS(入出金tbl[金額],入出金tbl[内　容],$A52,入出金tbl[年月日],\">=\"&F$2,入出金tbl[年月日],\"<\"&G$2)","v":0},{"$f":"SUMIFS(入出金tbl[金額],入出金tbl[内　容],$A52,入出金tbl[年月日],\">=\"&G$2,入出金tbl[年月日],\"<\"&H$2)","v":0},{"$f":"SUMIFS(入出金tbl[金額],入出金tbl[内　容],$A52,入出金tbl[年月日],\">=\"&H$2,入出金tbl[年月日],\"<\"&I$2)","v":0},{"$f":"SUMIFS(入出金tbl[金額],入出金tbl[内　容],$A52,入出金tbl[年月日],\">=\"&I$2,入出金tbl[年月日],\"<\"&J$2)","v":0},{"$f":"SUMIFS(入出金tbl[金額],入出金tbl[内　容],$A52,入出金tbl[年月日],\">=\"&J$2,入出金tbl[年月日],\"<\"&K$2)","v":0},{"$f":"SUMIFS(入出金tbl[金額],入出金tbl[内　容],$A52,入出金tbl[年月日],\">=\"&K$2,入出金tbl[年月日],\"<\"&L$2)","v":0},{"$f":"SUMIFS(入出金tbl[金額],入出金tbl[内　容],$A52,入出金tbl[年月日],\">=\"&L$2,入出金tbl[年月日],\"<\"&M$2)","v":0},{"$f":"SUMIFS(入出金tbl[金額],入出金tbl[内　容],$A52,入出金tbl[年月日],\">=\"&M$2,入出金tbl[年月日],\"<\"&N$2)","v":0},{"$f":"SUMIFS(入出金tbl[金額],入出金tbl[内　容],$A52,入出金tbl[年月日],\">=\"&N$2,入出金tbl[年月日],\"<\"&O$2)","v":0},{"$f":"SUMIFS(入出金tbl[金額],入出金tbl[内　容],$A52,入出金tbl[年月日],\">=\"&O$2,入出金tbl[年月日],\"<\"&P$2)","v":0},{"$f":"SUMIFS(入出金tbl[金額],入出金tbl[内　容],$A52,入出金tbl[年月日],\">=\"&P$2,入出金tbl[年月日],\"<\"&Q$2)","v":0},{"$f":"SUMIFS(入出金tbl[金額],入出金tbl[内　容],$A52,入出金tbl[年月日],\">=\"&Q$2,入出金tbl[年月日],\"<\"&R$2)","v":0},{"$f":"SUMIFS(入出金tbl[金額],入出金tbl[内　容],$A52,入出金tbl[年月日],\">=\"&R$2,入出金tbl[年月日],\"<\"&S$2)","v":0},{"$f":"SUMIFS(入出金tbl[金額],入出金tbl[内　容],$A52,入出金tbl[年月日],\">=\"&S$2,入出金tbl[年月日],\"<\"&T$2)","v":0},{"$f":"SUMIFS(入出金tbl[金額],入出金tbl[内　容],$A52,入出金tbl[年月日],\">=\"&T$2,入出金tbl[年月日],\"<\"&U$2)","v":0},{"$f":"SUMIFS(入出金tbl[金額],入出金tbl[内　容],$A52,入出金tbl[年月日],\">=\"&U$2,入出金tbl[年月日],\"<\"&V$2)","v":0},{"$f":"SUMIFS(入出金tbl[金額],入出金tbl[内　容],$A52,入出金tbl[年月日],\">=\"&V$2,入出金tbl[年月日],\"<\"&W$2)","v":0},{"$f":"SUMIFS(入出金tbl[金額],入出金tbl[内　容],$A52,入出金tbl[年月日],\">=\"&W$2,入出金tbl[年月日],\"<\"&X$2)","v":0},{"$f":"SUMIFS(入出金tbl[金額],入出金tbl[内　容],$A52,入出金tbl[年月日],\">=\"&X$2,入出金tbl[年月日],\"<\"&Y$2)","v":0},{"$f":"SUMIFS(入出金tbl[金額],入出金tbl[内　容],$A52,入出金tbl[年月日],\">=\"&Y$2,入出金tbl[年月日],\"<\"&Z$2)","v":0},{"$f":"SUMIFS(入出金tbl[金額],入出金tbl[内　容],$A52,入出金tbl[年月日],\">=\"&Z$2,入出金tbl[年月日],\"<\"&AA$2)","v":0},{"$f":"SUMIFS(入出金tbl[金額],入出金tbl[内　容],$A52,入出金tbl[年月日],\">=\"&AA$2,入出金tbl[年月日],\"<\"&AB$2)","v":0},{"$f":"SUMIFS(入出金tbl[金額],入出金tbl[内　容],$A52,入出金tbl[年月日],\">=\"&AB$2,入出金tbl[年月日],\"<\"&AC$2)","v":0},{"$f":"SUMIFS(入出金tbl[金額],入出金tbl[内　容],$A52,入出金tbl[年月日],\">=\"&AC$2,入出金tbl[年月日],\"<\"&AD$2)","v":0},{"$f":"SUMIFS(入出金tbl[金額],入出金tbl[内　容],$A52,入出金tbl[年月日],\">=\"&AD$2,入出金tbl[年月日],\"<\"&AE$2)","v":0},{"$f":"SUMIFS(入出金tbl[金額],入出金tbl[内　容],$A52,入出金tbl[年月日],\">=\"&AE$2,入出金tbl[年月日],\"<\"&AF$2)","v":0},{"$f":"SUMIFS(入出金tbl[金額],入出金tbl[内　容],$A52,入出金tbl[年月日],\">=\"&AF$2,入出金tbl[年月日],\"<\"&AG$2)","v":0},{"$f":"SUMIFS(入出金tbl[金額],入出金tbl[内　容],$A52,入出金tbl[年月日],\">=\"&AG$2,入出金tbl[年月日],\"<\"&AH$2)","v":0},{"$f":"SUMIFS(入出金tbl[金額],入出金tbl[内　容],$A52,入出金tbl[年月日],\">=\"&AH$2,入出金tbl[年月日],\"<\"&AI$2)","v":0},{"$f":"SUMIFS(入出金tbl[金額],入出金tbl[内　容],$A52,入出金tbl[年月日],\">=\"&AI$2,入出金tbl[年月日],\"<\"&AJ$2)","v":0}]

{"sheet":"科目","index":3,"n_rows":39,"n_cols":25,"rows_kept":39,"cut":false,"hidden":false,"merged":[[8,22,8,23],[3,22,3,23],[4,22,4,23],[5,22,5,23],[6,22,6,23],[7,22,7,23]]}
[null,"ドロップダウンリスト用勘定科目テーブル",null,null,"このテーブルはバックグラウンドでデータベーステーブルとして処理するものなので、非表示とする。",null,null,null,"経常・財務+収支look_up用テーブル",null,null,null,null,null,null,"収支look_up用テーブル",null,null,null,null,null,null,"メニュー　今日の収支用コピー元セル"]
[]
[null,"ID","内　容","経常・財務","収支","番号",null,null,"ID","内　容","経常・財務","収支","番号",null,null,"ID","内　容","経常・財務","収支","番号"]
[null,1,{"$f":"IF(資金繰り表!D5=\"\",\"\",資金繰り表!D5)","v":"現金売上"},"経常収支","収入","(1)",null,null,6,"----------","経常収支","収入","(6)",null,null,18,"----------","経常外収支","収入","(4)",null,null,{"$f":"NOW()","v":"2018-05-30T23:07:10.700"}]
[null,2,{"$f":"IF(資金繰り表!D6=\"\",\"\",資金繰り表!D6)","v":"売掛金回収"},"経常収支","収入","(2)",null,null,14,"----------","経常収支","支出","(8)",null,null,30,"----------","財務収支","収入","(5)",null,null,{"$f":"HLOOKUP(W4,日繰り表!$E$2:$AI$3,2,TRUE)","v":910696}]
[null,3,{"$f":"IF(資金繰り表!D7=\"\",\"\",資金繰り表!D7)","v":"受取手形回収"},"経常収支","収入","(3)",null,null,18,"----------","経常外収支","収入","(4)",null,null,6,"----------","経常収支","収入","(6)",null,null,{"$f":"HLOOKUP(W4,日繰り表!$E$2:$AI$20,19,TRUE)","v":-2192}]
[null,4,{"$f":"IF(資金繰り表!D8=\"\",\"\",資金繰り表!D8)","v":"手形割引"},"経常収支","収入","(4)",null,null,30,"----------","財務収支","収入","(5)",null,null,35,"----------","財務収支","支出","(5)",null,null,{"$f":"HLOOKUP(W4,日繰り表!$E$2:$AI$34,33,TRUE)","v":0}]
[null,5,{"$f":"IF(資金繰り表!D9=\"\",\"\",資金繰り表!D9)","v":"その他収入"},"経常収支","収入","(5)",null,null,35,"----------","財務収支","支出","(5)",null,null,14,"----------","経常収支","支出","(8)",null,null,{"$f":"HLOOKUP(W4,日繰り表!$E$2:$AI$47,46,TRUE)","v":0}]
[null,6,{"$f":"IF(資金繰り表!D10=\"\",\"\",資金繰り表!D10)","v":"----------"},"経常収支","収入","(6)",null,null,5,"その他収入","経常収支","収入","(5)",null,null,5,"その他収入","経常収支","収入","(5)",null,null,{"$f":"HLOOKUP(W4,日繰り表!$E$2:$AI$51,50,TRUE)","v":908504}]
[null,7,{"$f":"IF(資金繰り表!D12=\"\",\"\",資金繰り表!D12)","v":"現金仕入"},"経常収支","支出","(1)",null,null,29,"その他調達","財務収支","収入","(4)",null,null,29,"その他調達","財務収支","収入","(4)"]
[null,8,{"$f":"IF(資金繰り表!D13=\"\",\"\",資金繰り表!D13)","v":"買掛金支払"},"経常収支","支出","(2)",null,null,34,"その他返済","財務収支","支出","(4)",null,null,34,"その他返済","財務収支","支出","(4)"]
[null,9,{"$f":"IF(資金繰り表!D14=\"\",\"\",資金繰り表!D14)","v":"手形支払"},"経常収支","支出","(3)",null,null,24,"その他臨時支出","経常外収支","支出","(6)",null,null,24,"その他臨時支出","経常外収支","支出","(6)",null,null,"事業所名登録"]
[null,10,{"$f":"IF(資金繰り表!D15=\"\",\"\",資金繰り表!D15)","v":"賃金・給与現金支払"},"経常収支","支出","(4)",null,null,17,"その他臨時収入","経常外収支","収入","(3)",null,null,17,"その他臨時収入","経常外収支","収入","(3)",null,null,"K-Oneコンサルティング"]
[null,11,{"$f":"IF(資金繰り表!D16=\"\",\"\",資金繰り表!D16)","v":"賞与支払い"},"経常収支","支出","(5)",null,null,25,"テスト4","経常外収支","支出","(7)",null,null,25,"テスト4","経常外収支","支出","(7)"]
[null,12,{"$f":"IF(資金繰り表!D17=\"\",\"\",資金繰り表!D17)","v":"支払利息・割引料"},"経常収支","支出","(6)",null,null,36,"繰越調整","-","-",null,null,null,36,"繰越調整","-","-",null,null,null,"決算期登録"]
[null,13,{"$f":"IF(資金繰り表!D18=\"\",\"\",資金繰り表!D18)","v":"諸経費現金支払"},"経常収支","支出","(7)",null,null,7,"現金仕入","経常収支","支出","(1)",null,null,7,"現金仕入","経常収支","支出","(1)",null,null,"12月"]
[null,14,{"$f":"IF(資金繰り表!D19=\"\",\"\",資金繰り表!D19)","v":"----------"},"経常収支","支出","(8)",null,null,1,"現金売上","経常収支","収入","(1)",null,null,1,"現金売上","経常収支","収入","(1)"]
[null,15,{"$f":"IF(資金繰り表!D22=\"\",\"\",資金繰り表!D22)","v":"固定資産等売却手取"},"経常外収支","収入","(1)",null,null,22,"固定資産購入支出","経常外収支","支出","(4)",null,null,22,"固定資産購入支出","経常外収支","支出","(4)",null,null,"ver:"]
[null,16,{"$f":"IF(資金繰り表!D23=\"\",\"\",資金繰り表!D23)","v":"定期預金等解約"},"経常外収支","収入","(2)",null,null,15,"固定資産等売却手取","経常外収支","収入","(1)",null,null,15,"固定資産等売却手取","経常外収支","収入","(1)",null,null,1.04]
[null,17,{"$f":"IF(資金繰り表!D24=\"\",\"\",資金繰り表!D24)","v":"その他臨時収入"},"経常外収支","収入","(3)",null,null,12,"支払利息・割引料","経常収支","支出","(6)",null,null,12,"支払利息・割引料","経常収支","支出","(6)"]
[null,18,{"$f":"IF(資金繰り表!D25=\"\",\"\",資金繰り表!D25)","v":"----------"},"経常外収支","収入","(4)",null,null,28,"社長借入金調達","財務収支","収入","(3)",null,null,28,"社長借入金調達","財務収支","収入","(3)",null,null,"コピーライト"]
[null,19,{"$f":"IF(資金繰り表!D27=\"\",\"\",資金繰り表!D27)","v":"税金"},"経常外収支","支出","(1)",null,null,33,"社長借入金返済","財務収支","支出","(3)",null,null,33,"社長借入金返済","財務収支","支出","(3)",null,null,"©K-Oneコンサルティング"]
[null,20,{"$f":"IF(資金繰り表!D28=\"\",\"\",資金繰り表!D28)","v":"役員賞与"},"経常外収支","支出","(2)",null,null,4,"手形割引","経常収支","収入","(4)",null,null,4,"手形割引","経常収支","収入","(4)"]
[null,21,{"$f":"IF(資金繰り表!D29=\"\",\"\",資金繰り表!D29)","v":"配当"},"経常外収支","支出","(3)",null,null,9,"手形支払","経常収支","支出","(3)",null,null,9,"手形支払","経常収支","支出","(3)",null,null,"ver"]
[null,22,{"$f":"IF(資金繰り表!D30=\"\",\"\",資金繰り表!D30)","v":"固定資産購入支出"},"経常外収支","支出","(4)",null,null,3,"受取手形回収","経常収支","収入","(3)",null,null,3,"受取手形回収","経常収支","収入","(3)",null,null,"1.00","2018-04-06","リリース"]
[null,23,{"$f":"IF(資金繰り表!D31=\"\",\"\",資金繰り表!D31)","v":"定期預金等設定"},"経常外収支","支出","(5)",null,null,13,"諸経費現金支払","経常収支","支出","(7)",null,null,13,"諸経費現金支払","経常収支","支出","(7)",null,null,1.01,"2018-04-12","初期入力を拒否するとほかに開いていたbookも道連れに終了するのを防ぐ。"]
[null,24,{"$f":"IF(資金繰り表!D32=\"\",\"\",資金繰り表!D32)","v":"その他臨時支出"},"経常外収支","支出","(6)",null,null,11,"賞与支払い","経常収支","支出","(5)",null,null,11,"賞与支払い","経常収支","支出","(5)",null,null,1.02,"2018-04-16","入出金データを全削除すると、入出金フォームが出てこないエラーを修正"]
[null,25,{"$f":"IF(資金繰り表!D33=\"\",\"\",資金繰り表!D33)","v":"テスト4"},"経常外収支","支出","(7)",null,null,19,"税金","経常外収支","支出","(1)",null,null,19,"税金","経常外収支","支出","(1)",null,null,null,null,"入出金データテーブルのシート保護を解除しないとデータ削除できない事象の対応"]
[null,26,{"$f":"IF(資金繰り表!D36=\"\",\"\",資金繰り表!D36)","v":"短期借入金調達"},"財務収支","収入","(1)",null,null,26,"短期借入金調達","財務収支","収入","(1)",null,null,26,"短期借入金調達","財務収支","収入","(1)",null,null,1.03,"2018-05-25","入出金入力フォームで数値以外が入力されることを防止"]
[null,27,{"$f":"IF(資金繰り表!D37=\"\",\"\",資金繰り表!D37)","v":"長期借入金調達"},"財務収支","収入","(2)",null,null,31,"短期借入金返済","財務収支","支出","(1)",null,null,31,"短期借入金返済","財務収支","支出","(1)",null,null,1.04,"2018-05-30","入出金tblにデータが無いとき、「最上位行へ移動」「最下行へ移動」をするとエラーが出ることに対処"]
[null,28,{"$f":"IF(資金繰り表!D38=\"\",\"\",資金繰り表!D38)","v":"社長借入金調達"},"財務収支","収入","(3)",null,null,27,"長期借入金調達","財務収支","収入","(2)",null,null,27,"長期借入金調達","財務収支","収入","(2)"]
[null,29,{"$f":"IF(資金繰り表!D39=\"\",\"\",資金繰り表!D39)","v":"その他調達"},"財務収支","収入","(4)",null,null,32,"長期借入金返済","財務収支","支出","(2)",null,null,32,"長期借入金返済","財務収支","支出","(2)"]
[null,30,{"$f":"IF(資金繰り表!D40=\"\",\"\",資金繰り表!D40)","v":"----------"},"財務収支","収入","(5)",null,null,10,"賃金・給与現金支払","経常収支","支出","(4)",null,null,10,"賃金・給与現金支払","経常収支","支出","(4)"]
[null,31,{"$f":"IF(資金繰り表!D42=\"\",\"\",資金繰り表!D42)","v":"短期借入金返済"},"財務収支","支出","(1)",null,null,16,"定期預金等解約","経常外収支","収入","(2)",null,null,16,"定期預金等解約","経常外収支","収入","(2)"]
[null,32,{"$f":"IF(資金繰り表!D43=\"\",\"\",資金繰り表!D43)","v":"長期借入金返済"},"財務収支","支出","(2)",null,null,23,"定期預金等設定","経常外収支","支出","(5)",null,null,23,"定期預金等設定","経常外収支","支出","(5)"]
[null,33,{"$f":"IF(資金繰り表!D44=\"\",\"\",資金繰り表!D44)","v":"社長借入金返済"},"財務収支","支出","(3)",null,null,21,"配当","経常外収支","支出","(3)",null,null,21,"配当","経常外収支","支出","(3)"]
[null,34,{"$f":"IF(資金繰り表!D45=\"\",\"\",資金繰り表!D45)","v":"その他返済"},"財務収支","支出","(4)",null,null,8,"買掛金支払","経常収支","支出","(2)",null,null,8,"買掛金支払","経常収支","支出","(2)"]
[null,35,{"$f":"IF(資金繰り表!D46=\"\",\"\",資金繰り表!D46)","v":"----------"},"財務収支","支出","(5)",null,null,2,"売掛金回収","経常収支","収入","(2)",null,null,2,"売掛金回収","経常収支","収入","(2)"]
[null,36,{"$f":"IF(資金繰り表!A53=\"\",\"\",資金繰り表!A53)","v":"繰越調整"},"-","-",null,null,null,20,"役員賞与","経常外収支","支出","(2)",null,null,20,"役員賞与","経常外収支","支出","(2)"]

{"sheet":"入出金tbl","index":4,"n_rows":2265,"n_cols":7,"rows_kept":2265,"cut":false,"hidden":false,"merged":[[0,0,0,2],[1,0,1,2]]}
[{"$f":"科目!W13","v":"K-Oneコンサルティング"}]
["入出金データ"]
[]
["№","年月日","経常・財務","収支","内　容","摘　　要","金額"]
[1,"2018-05-22",{"$f":"VLOOKUP(入出金tbl[[#This Row],[内　容]],科目tbl[[内　容]:[番号]],2,TRUE)","v":"経常収支"},{"$f":"VLOOKUP(入出金tbl[[#This Row],[内　容]],科目tbl[[内　容]:[番号]],3,TRUE)","v":"収入"},"現金売上","摘要を記載する　212",771]
[2,"2018-05-22",{"$f":"VLOOKUP(入出金tbl[[#This Row],[内　容]],科目tbl[[内　容]:[番号]],2,TRUE)","v":"経常収支"},{"$f":"VLOOKUP(入出金tbl[[#This Row],[内　容]],科目tbl[[内　容]:[番号]],3,TRUE)","v":"収入"},"売掛金回収","摘要を記載する　253",785]
[3,"2018-05-23",{"$f":"VLOOKUP(入出金tbl[[#This Row],[内　容]],科目tbl[[内　容]:[番号]],2,TRUE)","v":"経常収支"},{"$f":"VLOOKUP(入出金tbl[[#This Row],[内　容]],科目tbl[[内　容]:[番号]],3,TRUE)","v":"収入"},"受取手形回収","摘要を記載する　212",771]
[4,"2018-05-23",{"$f":"VLOOKUP(入出金tbl[[#This Row],[内　容]],科目tbl[[内　容]:[番号]],2,TRUE)","v":"経常収支"},{"$f":"VLOOKUP(入出金tbl[[#This Row],[内　容]],科目tbl[[内　容]:[番号]],3,TRUE)","v":"収入"},"手形割引","摘要を記載する　410",464]
[5,"2018-05-24",{"$f":"VLOOKUP(入出金tbl[[#This Row],[内　容]],科目tbl[[内　容]:[番号]],2,TRUE)","v":"経常収支"},{"$f":"VLOOKUP(入出金tbl[[#This Row],[内　容]],科目tbl[[内　容]:[番号]],3,TRUE)","v":"収入"},"その他収入","摘要を記載する　209",124]
[6,"2018-05-24",{"$f":"VLOOKUP(入出金tbl[[#This Row],[内　容]],科目tbl[[内　容]:[番号]],2,TRUE)","v":"経常外収支"},{"$f":"VLOOKUP(入出金tbl[[#This Row],[内　容]],科目tbl[[内　容]:[番号]],3,TRUE)","v":"収入"},"固定資産等売却手取","摘要を記載する　410",464]
[7,"2018-05-25",{"$f":"VLOOKUP(入出金tbl[[#This Row],[内　容]],科目tbl[[内　容]:[番号]],2,TRUE)","v":"経常外収支"},{"$f":"VLOOKUP(入出金tbl[[#This Row],[内　容]],科目tbl[[内　容]:[番号]],3,TRUE)","v":"収入"},"定期預金等解約","摘要を記載する　209",124]
[8,"2018-05-25",{"$f":"VLOOKUP(入出金tbl[[#This Row],[内　容]],科目tbl[[内　容]:[番号]],2,TRUE)","v":"経常外収支"},{"$f":"VLOOKUP(入出金tbl[[#This Row],[内　容]],科目tbl[[内　容]:[番号]],3,TRUE)","v":"収入"},"その他臨時収入","摘要を記載する　410",464]
[9,"2018-05-26",{"$f":"VLOOKUP(入出金tbl[[#This Row],[内　容]],科目tbl[[内　容]:[番号]],2,TRUE)","v":"財務収支"},{"$f":"VLOOKUP(入出金tbl[[#This Row],[内　容]],科目tbl[[内　容]:[番号]],3,TRUE)","v":"収入"},"短期借入金調達","摘要を記載する　209",124]
[10,"2018-05-26",{"$f":"VLOOKUP(入出金tbl[[#This Row],[内　容]],科目tbl[[内　容]:[番号]],2,TRUE)","v":"財務収支"},{"$f":"VLOOKUP(入出金tbl[[#This Row],[内　容]],科目tbl[[内　容]:[番号]],3,TRUE)","v":"収入"},"長期借入金調達","摘要を記載する　276",488]
[11,"2018-05-27",{"$f":"VLOOKUP(入出金tbl[[#This Row],[内　容]],科目tbl[[内　容]:[番号]],2,TRUE)","v":"財務収支"},{"$f":"VLOOKUP(入出金tbl[[#This Row],[内　容]],科目tbl[[内　容]:[番号]],3,TRUE)","v":"収入"},"社長借入金調達","摘要を記載する　280",473]
[12,"2018-05-27",{"$f":"VLOOKUP(入出金tbl[[#This Row],[内　容]],科目tbl[[内　容]:[番号]],2,TRUE)","v":"財務収支"},{"$f":"VLOOKUP(入出金tbl[[#This Row],[内　容]],科目tbl[[内　容]:[番号]],3,TRUE)","v":"収入"},"その他調達","摘要を記載する　276",488]
[13,"2018-05-28",{"$f":"VLOOKUP(入出金tbl[[#This Row],[内　容]],科目tbl[[内　容]:[番号]],2,TRUE)","v":"経常収支"},{"$f":"VLOOKUP(入出金tbl[[#This Row],[内　容]],科目tbl[[内　容]:[番号]],3,TRUE)","v":"支出"},"現金仕入","摘要を記載する　230",536]
[14,"2018-05-28",{"$f":"VLOOKUP(入出金tbl[[#This Row],[内　容]],科目tbl[[内　容]:[番号]],2,TRUE)","v":"経常収支"},{"$f":"VLOOKUP(入出金tbl[[#This Row],[内　容]],科目tbl[[内　容]:[番号]],3,TRUE)","v":"支出"},"買掛金支払","摘要を記載する　280",473]
[15,"2018-05-28",{"$f":"VLOOKUP(入出金tbl[[#This Row],[内　容]],科目tbl[[内　容]:[番号]],2,TRUE)","v":"経常収支"},{"$f":"VLOOKUP(入出金tbl[[#This Row],[内　容]],科目tbl[[内　容]:[番号]],3,TRUE)","v":"支出"},"手形支払","摘要を記載する　276",488]
[16,"2018-05-29",{"$f":"VLOOKUP(入出金tbl[[#This Row],[内　容]],科目tbl[[内　容]:[番号]],2,TRUE)","v":"経常収支"},{"$f":"VLOOKUP(入出金tbl[[#This Row],[内　容]],科目tbl[[内　容]:[番号]],3,TRUE)","v":"支出"},"賃金・給与現金支払","摘要を記載する　230",536]
[17,"2018-05-29",{"$f":"VLOOKUP(入出金tbl[[#This Row],[内　容]],科目tbl[[内　容]:[番号]],2,TRUE)","v":"経常収支"},{"$f":"VLOOKUP(入出金tbl[[#This Row],[内　容]],科目tbl[[内　容]:[番号]],3,TRUE)","v":"支出"},"賞与支払い","摘要を記載する　280",473]
[18,"2018-05-30",{"$f":"VLOOKUP(入出金tbl[[#This Row],[内　容]],科目tbl[[内　容]:[番号]],2,TRUE)","v":"経常収支"},{"$f":"VLOOKUP(入出金tbl[[#This Row],[内　容]],科目tbl[[内　容]:[番号]],3,TRUE)","v":"支出"},"支払利息・割引料","摘要を記載する　230",536]
[19,"2018-05-30",{"$f":"VLOOKUP(入出金tbl[[#This Row],[内　容]],科目tbl[[内　容]:[番号]],2,TRUE)","v":"経常収支"},{"$f":"VLOOKUP(入出金tbl[[#This Row],[内　容]],科目tbl[[内　容]:[番号]],3,TRUE)","v":"支出"},"諸経費現金支払","摘要を記載する　260",893]
[20,"2018-05-31",{"$f":"VLOOKUP(入出金tbl[[#This Row],[内　容]],科目tbl[[内　容]:[番号]],2,TRUE)","v":"経常外収支"},{"$f":"VLOOKUP(入出金tbl[[#This Row],[内　容]],科目tbl[[内　容]:[番号]],3,TRUE)","v":"支出"},"税金","摘要を記載する　082",818]
[21,"2018-05-31",{"$f":"VLOOKUP(入出金tbl[[#This Row],[内　容]],科目tbl[[内　容]:[番号]],2,TRUE)","v":"経常外収支"},{"$f":"VLOOKUP(入出金tbl[[#This Row],[内　容]],科目tbl[[内　容]:[番号]],3,TRUE)","v":"支出"},"役員賞与","摘要を記載する　260",893]
[22,"2018-06-01",{"$f":"VLOOKUP(入出金tbl[[#This Row],[内　容]],科目tbl[[内　容]:[番号]],2,TRUE)","v":"経常外収支"},{"$f":"VLOOKUP(入出金tbl[[#This Row],[内　容]],科目tbl[[内　容]:[番号]],3,TRUE)","v":"支出"},"配当","摘要を記載する　288",1190]
[23,"2018-06-01",{"$f":"VLOOKUP(入出金tbl[[#This Row],[内　容]],科目tbl[[内　容]:[番号]],2,TRUE)","v":"経常外収支"},{"$f":"VLOOKUP(入出金tbl[[#This Row],[内　容]],科目tbl[[内　容]:[番号]],3,TRUE)","v":"支出"},"固定資産購入支出","摘要を記載する　243",830]
[24,"2018-06-02",{"$f":"VLOOKUP(入出金tbl[[#This Row],[内　容]],科目tbl[[内　容]:[番号]],2,TRUE)","v":"経常外収支"},{"$f":"VLOOKUP(入出金tbl[[#This Row],[内　容]],科目tbl[[内　容]:[番号]],3,TRUE)","v":"支出"},"定期預金等設定","摘要を記載する　254",426]
[25,"2018-06-02",{"$f":"VLOOKUP(入出金tbl[[#This Row],[内　容]],科目tbl[[内　容]:[番号]],2,TRUE)","v":"経常外収支"},{"$f":"VLOOKUP(入出金tbl[[#This Row],[内　容]],科目tbl[[内　容]:[番号]],3,TRUE)","v":"支出"},"その他臨時支出","摘要を記載する　243",830]
[26,"2018-06-03",{"$f":"VLOOKUP(入出金tbl[[#This Row],[内　容]],科目tbl[[内　容]:[番号]],2,TRUE)","v":"財務収支"},{"$f":"VLOOKUP(入出金tbl[[#This Row],[内　容]],科目tbl[[内　容]:[番号]],3,TRUE)","v":"支出"},"短期借入金返済","摘要を記載する　288",1190]
[27,"2018-06-03",{"$f":"VLOOKUP(入出金tbl[[#This Row],[内　容]],科目tbl[[内　容]:[番号]],2,TRUE)","v":"財務収支"},{"$f":"VLOOKUP(入出金tbl[[#This Row],[内　容]],科目tbl[[内　容]:[番号]],3,TRUE)","v":"支出"},"長期借入金返済","摘要を記載する　453",53]
[28,"2018-06-04",{"$f":"VLOOKUP(入出金tbl[[#This Row],[内　容]],科目tbl[[内　容]:[番号]],2,TRUE)","v":"財務収支"},{"$f":"VLOOKUP(入出金tbl[[#This Row],[内　容]],科目tbl[[内　容]:[番号]],3,TRUE)","v":"支出"},"社長借入金返済","摘要を記載する　102",105]
[29,"2018-06-04",{"$f":"VLOOKUP(入出金tbl[[#This Row],[内　容]],科目tbl[[内　容]:[番号]],2,TRUE)","v":"財務収支"},{"$f":"VLOOKUP(入出金tbl[[#This Row],[内　容]],科目tbl[[内　容]:[番号]],3,TRUE)","v":"支出"},"その他返済","摘要を記載する　477",650]
[30,"2018-06-05",{"$f":"VLOOKUP(入出金tbl[[#This Row],[内　容]],科目tbl[[内　容]:[番号]],2,TRUE)","v":"経常収支"},{"$f":"VLOOKUP(入出金tbl[[#This Row],[内　容]],科目tbl[[内　容]:[番号]],3,TRUE)","v":"収入"},"現金売上","摘要を記載する　102",105]
[31,"2018-06-05",{"$f":"VLOOKUP(入出金tbl[[#This Row],[内　容]],科目tbl[[内　容]:[番号]],2,TRUE)","v":"経常収支"},{"$f":"VLOOKUP(入出金tbl[[#This Row],[内　容]],科目tbl[[内　容]:[番号]],3,TRUE)","v":"収入"},"売掛金回収","摘要を記載する　453",53]
[32,"2018-06-06",{"$f":"VLOOKUP(入出金tbl[[#This Row],[内　容]],科目tbl[[内　容]:[番号]],2,TRUE)","v":"経常収支"},{"$f":"VLOOKUP(入出金tbl[[#This Row],[内　容]],科目tbl[[内　容]:[番号]],3,TRUE)","v":"収入"},"受取手形回収","摘要を記載する　102",105]
[33,"2018-06-06",{"$f":"VLOOKUP(入出金tbl[[#This Row],[内　容]],科目tbl[[内　容]:[番号]],2,TRUE)","v":"経常収支"},{"$f":"VLOOKUP(入出金tbl[[#This Row],[内　容]],科目tbl[[内　容]:[番号]],3,TRUE)","v":"収入"},"手形割引","摘要を記載する　477",650]
[34,"2018-06-07",{"$f":"VLOOKUP(入出金tbl[[#This Row],[内　容]],科目tbl[[内　容]:[番号]],2,TRUE)","v":"経常収支"},{"$f":"VLOOKUP(入出金tbl[[#This Row],[内　容]],科目tbl[[内　容]:[番号]],3,TRUE)","v":"収入"},"その他収入","摘要を記載する　067",638]
[35,"2018-06-07",{"$f":"VLOOKUP(入出金tbl[[#This Row],[内　容]],科目tbl[[内　容]:[番号]],2,TRUE)","v":"経常外収支"},{"$f":"VLOOKUP(入出金tbl[[#This Row],[内　容]],科目tbl[[内　容]:[番号]],3,TRUE)","v":"収入"},"固定資産等売却手取","摘要を記載する　453",53]
[36,"2018-06-08",{"$f":"VLOOKUP(入出金tbl[[#This Row],[内　容]],科目tbl[[内　容]:[番号]],2,TRUE)","v":"経常外収支"},{"$f":"VLOOKUP(入出金tbl[[#This Row],[内　容]],科目tbl[[内　容]:[番号]],3,TRUE)","v":"収入"},"定期預金等解約","摘要を記載する　331",889]
[37,"2018-06-08",{"$f":"VLOOKUP(入出金tbl[[#This Row],[内　容]],科目tbl[[内　容]:[番号]],2,TRUE)","v":"経常外収支"},{"$f":"VLOOKUP(入出金tbl[[#This Row],[内　容]],科目tbl[[内　容]:[番号]],3,TRUE)","v":"収入"},"その他臨時収入","摘要を記載する　477",650]
[38,"2018-06-09",{"$f":"VLOOKUP(入出金tbl[[#This Row],[内　容]],科目tbl[[内　容]:[番号]],2,TRUE)","v":"財務収支"},{"$f":"VLOOKUP(入出金tbl[[#This Row],[内　容]],科目tbl[[内　容]:[番号]],3,TRUE)","v":"収入"},"短期借入金調達","摘要を記載する　067",638]
[39,"2018-06-09",{"$f":"VLOOKUP(入出金tbl[[#This Row],[内　容]],科目tbl[[内　容]:[番号]],2,TRUE)","v":"財務収支"},{"$f":"VLOOKUP(入出金tbl[[#This Row],[内　容]],科目tbl[[内　容]:[番号]],3,TRUE)","v":"収入"},"長期借入金調達","摘要を記載する　511",924]
[40,"2018-06-10",{"$f":"VLOOKUP(入出金tbl[[#This Row],[内　容]],科目tbl[[内　容]:[番号]],2,TRUE)","v":"財務収支"},{"$f":"VLOOKUP(入出金tbl[[#This Row],[内　容]],科目tbl[[内　容]:[番号]],3,TRUE)","v":"収入"},"社長借入金調達","摘要を記載する　331",889]
[41,"2018-06-10",{"$f":"VLOOKUP(入出金tbl[[#This Row],[内　容]],科目tbl[[内　容]:[番号]],2,TRUE)","v":"財務収支"},{"$f":"VLOOKUP(入出金tbl[[#This Row],[内　容]],科目tbl[[内　容]:[番号]],3,TRUE)","v":"収入"},"その他調達","摘要を記載する　511",924]
[42,"2018-06-11",{"$f":"VLOOKUP(入出金tbl[[#This Row],[内　容]],科目tbl[[内　容]:[番号]],2,TRUE)","v":"経常収支"},{"$f":"VLOOKUP(入出金tbl[[#This Row],[内　容]],科目tbl[[内　容]:[番号]],3,TRUE)","v":"支出"},"現金仕入","摘要を記載する　067",638]
[43,"2018-06-11",{"$f":"VLOOKUP(入出金tbl[[#This Row],[内　容]],科目tbl[[内　容]:[番号]],2,TRUE)","v":"経常収支"},{"$f":"VLOOKUP(入出金tbl[[#This Row],[内　容]],科目tbl[[内　容]:[番号]],3,TRUE)","v":"支出"},"買掛金支払","摘要を記載する　511",924]
[44,"2018-06-12",{"$f":"VLOOKUP(入出金tbl[[#This Row],[内　容]],科目tbl[[内　容]:[番号]],2,TRUE)","v":"経常収支"},{"$f":"VLOOKUP(入出金tbl[[#This Row],[内　容]],科目tbl[[内　容]:[番号]],3,TRUE)","v":"支出"},"手形支払","摘要を記載する　331",889]
[45,"2018-06-12",{"$f":"VLOOKUP(入出金tbl[[#This Row],[内　容]],科目tbl[[内　容]:[番号]],2,TRUE)","v":"経常収支"},{"$f":"VLOOKUP(入出金tbl[[#This Row],[内　容]],科目tbl[[内　容]:[番号]],3,TRUE)","v":"支出"},"賃金・給与現金支払","摘要を記載する　159",80]
[46,"2018-06-13",{"$f":"VLOOKUP(入出金tbl[[#This Row],[内　容]],科目tbl[[内　容]:[番号]],2,TRUE)","v":"経常収支"},{"$f":"VLOOKUP(入出金tbl[[#This Row],[内　容]],科目tbl[[内　容]:[番号]],3,TRUE)","v":"支出"},"賞与支払い","摘要を記載する　051",784]
[47,"2018-06-13",{"$f":"VLOOKUP(入出金tbl[[#This Row],[内　容]],科目tbl[[内　容]:[番号]],2,TRUE)","v":"経常収支"},{"$f":"VLOOKUP(入出金tbl[[#This Row],[内　容]],科目tbl[[内　容]:[番号]],3,TRUE)","v":"支出"},"支払利息・割引料","摘要を記載する　159",80]
[48,"2018-06-14",{"$f":"VLOOKUP(入出金tbl[[#This Row],[内　容]],科目tbl[[内　容]:[番号]],2,TRUE)","v":"経常収支"},{"$f":"VLOOKUP(入出金tbl[[#This Row],[内　容]],科目tbl[[内　容]:[番号]],3,TRUE)","v":"支出"},"諸経費現金支払","摘要を記載する　051",784]
[49,"2018-06-14",{"$f":"VLOOKUP(入出金tbl[[#This Row],[内　容]],科目tbl[[内　容]:[番号]],2,TRUE)","v":"経常外収支"},{"$f":"VLOOKUP(入出金tbl[[#This Row],[内　容]],科目tbl[[内　容]:[番号]],3,TRUE)","v":"支出"},"税金","摘要を記載する　159",80]
[50,"2018-06-15",{"$f":"VLOOKUP(入出金tbl[[#This Row],[内　容]],科目tbl[[内　容]:[番号]],2,TRUE)","v":"経常外収支"},{"$f":"VLOOKUP(入出金tbl[[#This Row],[内　容]],科目tbl[[内　容]:[番号]],3,TRUE)","v":"支出"},"役員賞与","摘要を記載する　051",784]
[51,"2018-06-15",{"$f":"VLOOKUP(入出金tbl[[#This Row],[内　容]],科目tbl[[内　容]:[番号]],2,TRUE)","v":"経常外収支"},{"$f":"VLOOKUP(入出金tbl[[#This Row],[内　容]],科目tbl[[内　容]:[番号]],3,TRUE)","v":"支出"},"配当","摘要を記載する　291",132]
[52,"2018-06-16",{"$f":"VLOOKUP(入出金tbl[[#This Row],[内　容]],科目tbl[[内　容]:[番号]],2,TRUE)","v":"経常外収支"},{"$f":"VLOOKUP(入出金tbl[[#This Row],[内　容]],科目tbl[[内　容]:[番号]],3,TRUE)","v":"支出"},"固定資産購入支出","摘要を記載する　248",896]
[53,"2018-06-16",{"$f":"VLOOKUP(入出金tbl[[#This Row],[内　容]],科目tbl[[内　容]:[番号]],2,TRUE)","v":"経常外収支"},{"$f":"VLOOKUP(入出金tbl[[#This Row],[内　容]],科目tbl[[内　容]:[番号]],3,TRUE)","v":"支出"},"定期預金等設定","摘要を記載する　242",313]
[54,"2018-06-17",{"$f":"VLOOKUP(入出金tbl[[#This Row],[内　容]],科目tbl[[内　容]:[番号]],2,TRUE)","v":"経常外収支"},{"$f":"VLOOKUP(入出金tbl[[#This Row],[内　容]],科目tbl[[内　容]:[番号]],3,TRUE)","v":"支出"},"その他臨時支出","摘要を記載する　248",896]
[55,"2018-06-17",{"$f":"VLOOKUP(入出金tbl[[#This Row],[内　容]],科目tbl[[内　容]:[番号]],2,TRUE)","v":"財務収支"},{"$f":"VLOOKUP(入出金tbl[[#This Row],[内　容]],科目tbl[[内　容]:[番号]],3,TRUE)","v":"支出"},"短期借入金返済","摘要を記載する　291",132]
[56,"2018-06-18",{"$f":"VLOOKUP(入出金tbl[[#This Row],[内　容]],科目tbl[[内　容]:[番号]],2,TRUE)","v":"財務収支"},{"$f":"VLOOKUP(入出金tbl[[#This Row],[内　容]],科目tbl[[内　容]:[番号]],3,TRUE)","v":"支出"},"長期借入金返済","摘要を記載する　248",896]
[57,"2018-06-18",{"$f":"VLOOKUP(入出金tbl[[#This Row],[内　容]],科目tbl[[内　容]:[番号]],2,TRUE)","v":"財務収支"},{"$f":"VLOOKUP(入出金tbl[[#This Row],[内　容]],科目tbl[[内　容]:[番号]],3,TRUE)","v":"支出"},"社長借入金返済","摘要を記載する　242",313]
[58,"2018-06-19",{"$f":"VLOOKUP(入出金tbl[[#This Row],[内　容]],科目tbl[[内　容]:[番号]],2,TRUE)","v":"財務収支"},{"$f":"VLOOKUP(入出金tbl[[#This Row],[内　容]],科目tbl[[内　容]:[番号]],3,TRUE)","v":"支出"},"その他返済","摘要を記載する　347",732]
[59,"2018-06-19",{"$f":"VLOOKUP(入出金tbl[[#This Row],[内　容]],科目tbl[[内　容]:[番号]],2,TRUE)","v":"経常収支"},{"$f":"VLOOKUP(入出金tbl[[#This Row],[内　容]],科目tbl[[内　容]:[番号]],3,TRUE)","v":"収入"},"現金売上","摘要を記載する　291",132]
[60,"2018-06-20",{"$f":"VLOOKUP(入出金tbl[[#This Row],[内　容]],科目tbl[[内　容]:[番号]],2,TRUE)","v":"経常収支"},{"$f":"VLOOKUP(入出金tbl[[#This Row],[内　容]],科目tbl[[内　容]:[番号]],3,TRUE)","v":"収入"},"売掛金回収","摘要を記載する　347",732]
[61,"2018-06-20",{"$f":"VLOOKUP(入出金tbl[[#This Row],[内　容]],科目tbl[[内　容]:[番号]],2,TRUE)","v":"経常収支"},{"$f":"VLOOKUP(入出金tbl[[#This Row],[内　容]],科目tbl[[内　容]:[番号]],3,TRUE)","v":"収入"},"受取手形回収","摘要を記載する　242",313]
[62,"2018-06-21",{"$f":"VLOOKUP(入出金tbl[[#This Row],[内　容]],科目tbl[[内　容]:[番号]],2,TRUE)","v":"経常収支"},{"$f":"VLOOKUP(入出金tbl[[#This Row],[内　容]],科目tbl[[内　容]:[番号]],3,TRUE)","v":"収入"},"手形割引","摘要を記載する　347",732]
[63,"2018-06-21",{"$f":"VLOOKUP(入出金tbl[[#This Row],[内　容]],科目tbl[[内　容]:[番号]],2,TRUE)","v":"経常収支"},{"$f":"VLOOKUP(入出金tbl[[#This Row],[内　容]],科目tbl[[内　容]:[番号]],3,TRUE)","v":"収入"},"その他収入","摘要を記載する　440",379]
[64,"2018-06-22",{"$f":"VLOOKUP(入出金tbl[[#This Row],[内　容]],科目tbl[[内　容]:[番号]],2,TRUE)","v":"経常外収支"},{"$f":"VLOOKUP(入出金tbl[[#This Row],[内　容]],科目tbl[[内　容]:[番号]],3,TRUE)","v":"収入"},"固定資産等売却手取","摘要を記載する　198",230]
[65,"2018-06-22",{"$f":"VLOOKUP(入出金tbl[[#This Row],[内　容]],科目tbl[[内　容]:[番号]],2,TRUE)","v":"経常外収支"},{"$f":"VLOOKUP(入出金tbl[[#This Row],[内　容]],科目tbl[[内　容]:[番号]],3,TRUE)","v":"収入"},"定期預金等解約","摘要を記載する　440",379]
[66,"2018-06-23",{"$f":"VLOOKUP(入出金tbl[[#This Row],[内　容]],科目tbl[[内　容]:[番号]],2,TRUE)","v":"経常外収支"},{"$f":"VLOOKUP(入出金tbl[[#This Row],[内　容]],科目tbl[[内　容]:[番号]],3,TRUE)","v":"収入"},"その他臨時収入","摘要を記載する　198",230]
[67,"2018-06-23",{"$f":"VLOOKUP(入出金tbl[[#This Row],[内　容]],科目tbl[[内　容]:[番号]],2,TRUE)","v":"財務収支"},{"$f":"VLOOKUP(入出金tbl[[#This Row],[内　容]],科目tbl[[内　容]:[番号]],3,TRUE)","v":"収入"},"短期借入金調達","摘要を記載する　440",379]
[68,"2018-06-24",{"$f":"VLOOKUP(入出金tbl[[#This Row],[内　容]],科目tbl[[内　容]:[番号]],2,TRUE)","v":"財務収支"},{"$f":"VLOOKUP(入出金tbl[[#This Row],[内　容]],科目tbl[[内　容]:[番号]],3,TRUE)","v":"収入"},"長期借入金調達","摘要を記載する　198",230]
[69,"2018-06-24",{"$f":"VLOOKUP(入出金tbl[[#This Row],[内　容]],科目tbl[[内　容]:[番号]],2,TRUE)","v":"財務収支"},{"$f":"VLOOKUP(入出金tbl[[#This Row],[内　容]],科目tbl[[内　容]:[番号]],3,TRUE)","v":"収入"},"社長借入金調達","摘要を記載する　080",169]
[70,"2018-06-25",{"$f":"VLOOKUP(入出金tbl[[#This Row],[内　容]],科目tbl[[内　容]:[番号]],2,TRUE)","v":"財務収支"},{"$f":"VLOOKUP(入出金tbl[[#This Row],[内　容]],科目tbl[[内　容]:[番号]],3,TRUE)","v":"収入"},"その他調達","摘要を記載する　058",872]
[71,"2018-06-25",{"$f":"VLOOKUP(入出金tbl[[#This Row],[内　容]],科目tbl[[内　容]:[番号]],2,TRUE)","v":"経常収支"},{"$f":"VLOOKUP(入出金tbl[[#This Row],[内　容]],科目tbl[[内　容]:[番号]],3,TRUE)","v":"支出"},"現金仕入","摘要を記載する　080",169]
[72,"2018-06-26",{"$f":"VLOOKUP(入出金tbl[[#This Row],[内　容]],科目tbl[[内　容]:[番号]],2,TRUE)","v":"経常収支"},{"$f":"VLOOKUP(入出金tbl[[#This Row],[内　容]],科目tbl[[内　容]:[番号]],3,TRUE)","v":"支出"},"買掛金支払","摘要を記載する　058",872]
[73,"2018-06-26",{"$f":"VLOOKUP(入出金tbl[[#This Row],[内　容]],科目tbl[[内　容]:[番号]],2,TRUE)","v":"経常収支"},{"$f":"VLOOKUP(入出金tbl[[#This Row],[内　容]],科目tbl[[内　容]:[番号]],3,TRUE)","v":"支出"},"手形支払","摘要を記載する　080",169]
[74,"2018-06-27",{"$f":"VLOOKUP(入出金tbl[[#This Row],[内　容]],科目tbl[[内　容]:[番号]],2,TRUE)","v":"経常収支"},{"$f":"VLOOKUP(入出金tbl[[#This Row],[内　容]],科目tbl[[内　容]:[番号]],3,TRUE)","v":"支出"},"賃金・給与現金支払","摘要を記載する　058",872]
[75,"2018-06-27",{"$f":"VLOOKUP(入出金tbl[[#This Row],[内　容]],科目tbl[[内　容]:[番号]],2,TRUE)","v":"経常収支"},{"$f":"VLOOKUP(入出金tbl[[#This Row],[内　容]],科目tbl[[内　容]:[番号]],3,TRUE)","v":"支出"},"賞与支払い","摘要を記載する　351",442]
[76,"2018-06-28",{"$f":"VLOOKUP(入出金tbl[[#This Row],[内　容]],科目tbl[[内　容]:[番号]],2,TRUE)","v":"経常収支"},{"$f":"VLOOKUP(入出金tbl[[#This Row],[内　容]],科目tbl[[内　容]:[番号]],3,TRUE)","v":"支出"},"支払利息・割引料","摘要を記載する　330",527]
[77,"2018-06-28",{"$f":"VLOOKUP(入出金tbl[[#This Row],[内　容]],科目tbl[[内　容]:[番号]],2,TRUE)","v":"経常収支"},{"$f":"VLOOKUP(入出金tbl[[#This Row],[内　容]],科目tbl[[内　容]:[番号]],3,TRUE)","v":"支出"},"諸経費現金支払","摘要を記載する　351",442]
[78,"2018-06-29",{"$f":"VLOOKUP(入出金tbl[[#This Row],[内　容]],科目tbl[[内　容]:[番号]],2,TRUE)","v":"経常外収支"},{"$f":"VLOOKUP(入出金tbl[[#This Row],[内　容]],科目tbl[[内　容]:[番号]],3,TRUE)","v":"支出"},"税金","摘要を記載する　254",426]
[79,"2018-06-29",{"$f":"VLOOKUP(入出金tbl[[#This Row],[内　容]],科目tbl[[内　容]:[番号]],2,TRUE)","v":"経常外収支"},{"$f":"VLOOKUP(入出金tbl[[#This Row],[内　容]],科目tbl[[内　容]:[番号]],3,TRUE)","v":"支出"},"役員賞与","摘要を記載する　330",527]
[80,"2018-06-29",{"$f":"VLOOKUP(入出金tbl[[#This Row],[内　容]],科目tbl[[内　容]:[番号]],2,TRUE)","v":"経常外収支"},{"$f":"VLOOKUP(入出金tbl[[#This Row],[内　容]],科目tbl[[内　容]:[番号]],3,TRUE)","v":"支出"},"配当","摘要を記載する　351",442]
[81,"2018-06-30",{"$f":"VLOOKUP(入出金tbl[[#This Row],[内　容]],科目tbl[[内　容]:[番号]],2,TRUE)","v":"経常外収支"},{"$f":"VLOOKUP(入出金tbl[[#This Row],[内　容]],科目tbl[[内　容]:[番号]],3,TRUE)","v":"支出"},"固定資産購入支出","摘要を記載する　288",1190]
[82,"2018-06-30",{"$f":"VLOOKUP(入出金tbl[[#This Row],[内　容]],科目tbl[[内　容]:[番号]],2,TRUE)","v":"経常外収支"},{"$f":"VLOOKUP(入出金tbl[[#This Row],[内　容]],科目tbl[[内　容]:[番号]],3,TRUE)","v":"支出"},"定期預金等設定","摘要を記載する　330",527]
[83,"2018-06-30",{"$f":"VLOOKUP(入出金tbl[[#This Row],[内　容]],科目tbl[[内　容]:[番号]],2,TRUE)","v":"経常外収支"},{"$f":"VLOOKUP(入出金tbl[[#This Row],[内　容]],科目tbl[[内　容]:[番号]],3,TRUE)","v":"支出"},"その他臨時支出","摘要を記載する　254",426]
[84,"2018-06-30",{"$f":"VLOOKUP(入出金tbl[[#This Row],[内　容]],科目tbl[[内　容]:[番号]],2,TRUE)","v":"財務収支"},{"$f":"VLOOKUP(入出金tbl[[#This Row],[内　容]],科目tbl[[内　容]:[番号]],3,TRUE)","v":"支出"},"短期借入金返済","摘要を記載する　243",830]
[85,"2018-07-01",{"$f":"VLOOKUP(入出金tbl[[#This Row],[内　容]],科目tbl[[内　容]:[番号]],2,TRUE)","v":"財務収支"},{"$f":"VLOOKUP(入出金tbl[[#This Row],[内　容]],科目tbl[[内　容]:[番号]],3,TRUE)","v":"支出"},"長期借入金返済","摘要を記載する　458",443]
[86,"2018-07-01",{"$f":"VLOOKUP(入出金tbl[[#This Row],[内　容]],科目tbl[[内　容]:[番号]],2,TRUE)","v":"財務収支"},{"$f":"VLOOKUP(入出金tbl[[#This Row],[内　容]],科目tbl[[内　容]:[番号]],3,TRUE)","v":"支出"},"社長借入金返済","摘要を記載する　334",452]
[87,"2018-07-02",{"$f":"VLOOKUP(入出金tbl[[#This Row],[内　容]],科目tbl[[内　容]:[番号]],2,TRUE)","v":"財務収支"},{"$f":"VLOOKUP(入出金tbl[[#This Row],[内　容]],科目tbl[[内　容]:[番号]],3,TRUE)","v":"支出"},"その他返済","摘要を記載する　316",923]
[88,"2018-07-02",{"$f":"VLOOKUP(入出金tbl[[#This Row],[内　容]],科目tbl[[内　容]:[番号]],2,TRUE)","v":"経常収支"},{"$f":"VLOOKUP(入出金tbl[[#This Row],[内　容]],科目tbl[[内　容]:[番号]],3,TRUE)","v":"収入"},"現金売上","摘要を記載する　334",452]
[89,"2018-07-03",{"$f":"VLOOKUP(入出金tbl[[#This Row],[内　容]],科目tbl[[内　容]:[番号]],2,TRUE)","v":"経常収支"},{"$f":"VLOOKUP(入出金tbl[[#This Row],[内　容]],科目tbl[[内　容]:[番号]],3,TRUE)","v":"収入"},"売掛金回収","摘要を記載する　316",923]
[90,"2018-07-03",{"$f":"VLOOKUP(入出金tbl[[#This Row],[内　容]],科目tbl[[内　容]:[番号]],2,TRUE)","v":"経常収支"},{"$f":"VLOOKUP(入出金tbl[[#This Row],[内　容]],科目tbl[[内　容]:[番号]],3,TRUE)","v":"収入"},"受取手形回収","摘要を記載する　334",452]
[91,"2018-07-04",{"$f":"VLOOKUP(入出金tbl[[#This Row],[内　容]],科目tbl[[内　容]:[番号]],2,TRUE)","v":"経常収支"},{"$f":"VLOOKUP(入出金tbl[[#This Row],[内　容]],科目tbl[[内　容]:[番号]],3,TRUE)","v":"収入"},"手形割引","摘要を記載する　316",923]
[92,"2018-07-04",{"$f":"VLOOKUP(入出金tbl[[#This Row],[内　容]],科目tbl[[内　容]:[番号]],2,TRUE)","v":"経常収支"},{"$f":"VLOOKUP(入出金tbl[[#This Row],[内　容]],科目tbl[[内　容]:[番号]],3,TRUE)","v":"収入"},"その他収入","摘要を記載する　402",631]
[93,"2018-07-05",{"$f":"VLOOKUP(入出金tbl[[#This Row],[内　容]],科目tbl[[内　容]:[番号]],2,TRUE)","v":"経常外収支"},{"$f":"VLOOKUP(入出金tbl[[#This Row],[内　容]],科目tbl[[内　容]:[番号]],3,TRUE)","v":"収入"},"固定資産等売却手取","摘要を記載する　353",516]
[94,"2018-07-05",{"$f":"VLOOKUP(入出金tbl[[#This Row],[内　容]],科目tbl[[内　容]:[番号]],2,TRUE)","v":"経常外収支"},{"$f":"VLOOKUP(入出金tbl[[#This Row],[内　容]],科目tbl[[内　容]:[番号]],3,TRUE)","v":"収入"},"定期預金等解約","摘要を記載する　443",148]
[95,"2018-07-06",{"$f":"VLOOKUP(入出金tbl[[#This Row],[内　容]],科目tbl[[内　容]:[番号]],2,TRUE)","v":"経常外収支"},{"$f":"VLOOKUP(入出金tbl[[#This Row],[内　容]],科目tbl[[内　容]:[番号]],3,TRUE)","v":"収入"},"その他臨時収入","摘要を記載する　353",516]
[96,"2018-07-06",{"$f":"VLOOKUP(入出金tbl[[#This Row],[内　容]],科目tbl[[内　容]:[番号]],2,TRUE)","v":"財務収支"},{"$f":"VLOOKUP(入出金tbl[[#This Row],[内　容]],科目tbl[[内　容]:[番号]],3,TRUE)","v":"収入"},"短期借入金調達","摘要を記載する　402",631]
[97,"2018-07-07",{"$f":"VLOOKUP(入出金tbl[[#This Row],[内　容]],科目tbl[[内　容]:[番号]],2,TRUE)","v":"財務収支"},{"$f":"VLOOKUP(入出金tbl[[#This Row],[内　容]],科目tbl[[内　容]:[番号]],3,TRUE)","v":"収入"},"長期借入金調達","摘要を記載する　353",516]
[98,"2018-07-07",{"$f":"VLOOKUP(入出金tbl[[#This Row],[内　容]],科目tbl[[内　容]:[番号]],2,TRUE)","v":"財務収支"},{"$f":"VLOOKUP(入出金tbl[[#This Row],[内　容]],科目tbl[[内　容]:[番号]],3,TRUE)","v":"収入"},"社長借入金調達","摘要を記載する　443",148]
[99,"2018-07-08",{"$f":"VLOOKUP(入出金tbl[[#This Row],[内　容]],科目tbl[[内　容]:[番号]],2,TRUE)","v":"財務収支"},{"$f":"VLOOKUP(入出金tbl[[#This Row],[内　容]],科目tbl[[内　容]:[番号]],3,TRUE)","v":"収入"},"その他調達","摘要を記載する　376",931]
[100,"2018-07-08",{"$f":"VLOOKUP(入出金tbl[[#This Row],[内　容]],科目tbl[[内　容]:[番号]],2,TRUE)","v":"経常収支"},{"$f":"VLOOKUP(入出金tbl[[#This Row],[内　容]],科目tbl[[内　容]:[番号]],3,TRUE)","v":"支出"},"現金仕入","摘要を記載する　402",631]
[101,"2018-07-09",{"$f":"VLOOKUP(入出金tbl[[#This Row],[内　容]],科目tbl[[内　容]:[番号]],2,TRUE)","v":"経常収支"},{"$f":"VLOOKUP(入出金tbl[[#This Row],[内　容]],科目tbl[[内　容]:[番号]],3,TRUE)","v":"支出"},"買掛金支払","摘要を記載する　376",931]
[102,"2018-07-09",{"$f":"VLOOKUP(入出金tbl[[#This Row],[内　容]],科目tbl[[内　容]:[番号]],2,TRUE)","v":"経常収支"},{"$f":"VLOOKUP(入出金tbl[[#This Row],[内　容]],科目tbl[[内　容]:[番号]],3,TRUE)","v":"支出"},"手形支払","摘要を記載する　443",148]
[103,"2018-07-10",{"$f":"VLOOKUP(入出金tbl[[#This Row],[内　容]],科目tbl[[内　容]:[番号]],2,TRUE)","v":"経常収支"},{"$f":"VLOOKUP(入出金tbl[[#This Row],[内　容]],科目tbl[[内　容]:[番号]],3,TRUE)","v":"支出"},"賃金・給与現金支払","摘要を記載する　376",931]
[104,"2018-07-10",{"$f":"VLOOKUP(入出金tbl[[#This Row],[内　容]],科目tbl[[内　容]:[番号]],2,TRUE)","v":"経常収支"},{"$f":"VLOOKUP(入出金tbl[[#This Row],[内　容]],科目tbl[[内　容]:[番号]],3,TRUE)","v":"支出"},"賞与支払い","摘要を記載する　500",348]
[105,"2018-07-11",{"$f":"VLOOKUP(入出金tbl[[#This Row],[内　容]],科目tbl[[内　容]:[番号]],2,TRUE)","v":"経常収支"},{"$f":"VLOOKUP(入出金tbl[[#This Row],[内　容]],科目tbl[[内　容]:[番号]],3,TRUE)","v":"支出"},"支払利息・割引料","摘要を記載する　167",1040]
[106,"2018-07-11",{"$f":"VLOOKUP(入出金tbl[[#This Row],[内　容]],科目tbl[[内　容]:[番号]],2,TRUE)","v":"経常収支"},{"$f":"VLOOKUP(入出金tbl[[#This Row],[内　容]],科目tbl[[内　容]:[番号]],3,TRUE)","v":"支出"},"諸経費現金支払","摘要を記載する　500",348]
[107,"2018-07-12",{"$f":"VLOOKUP(入出金tbl[[#This Row],[内　容]],科目tbl[[内　容]:[番号]],2,TRUE)","v":"経常外収支"},{"$f":"VLOOKUP(入出金tbl[[#This Row],[内　容]],科目tbl[[内　容]:[番号]],3,TRUE)","v":"支出"},"税金","摘要を記載する　167",1040]
[108,"2018-07-12",{"$f":"VLOOKUP(入出金tbl[[#This Row],[内　容]],科目tbl[[内　容]:[番号]],2,TRUE)","v":"経常外収支"},{"$f":"VLOOKUP(入出金tbl[[#This Row],[内　容]],科目tbl[[内　容]:[番号]],3,TRUE)","v":"支出"},"役員賞与","摘要を記載する　500",348]
[109,"2018-07-13",{"$f":"VLOOKUP(入出金tbl[[#This Row],[内　容]],科目tbl[[内　容]:[番号]],2,TRUE)","v":"経常外収支"},{"$f":"VLOOKUP(入出金tbl[[#This Row],[内　容]],科目tbl[[内　容]:[番号]],3,TRUE)","v":"支出"},"配当","摘要を記載する　167",1040]
[110,"2018-07-13",{"$f":"VLOOKUP(入出金tbl[[#This Row],[内　容]],科目tbl[[内　容]:[番号]],2,TRUE)","v":"経常外収支"},{"$f":"VLOOKUP(入出金tbl[[#This Row],[内　容]],科目tbl[[内　容]:[番号]],3,TRUE)","v":"支出"},"固定資産購入支出","摘要を記載する　438",477]
[111,"2018-07-14",{"$f":"VLOOKUP(入出金tbl[[#This Row],[内　容]],科目tbl[[内　容]:[番号]],2,TRUE)","v":"経常外収支"},{"$f":"VLOOKUP(入出金tbl[[#This Row],[内　容]],科目tbl[[内　容]:[番号]],3,TRUE)","v":"支出"},"定期預金等設定","摘要を記載する　185",956]
[112,"2018-07-14",{"$f":"VLOOKUP(入出金tbl[[#This Row],[内　容]],科目tbl[[内　容]:[番号]],2,TRUE)","v":"経常外収支"},{"$f":"VLOOKUP(入出金tbl[[#This Row],[内　容]],科目tbl[[内　容]:[番号]],3,TRUE)","v":"支出"},"その他臨時支出","摘要を記載する　241",419]
[113,"2018-07-15",{"$f":"VLOOKUP(入出金tbl[[#This Row],[内　容]],科目tbl[[内　容]:[番号]],2,TRUE)","v":"財務収支"},{"$f":"VLOOKUP(入出金tbl[[#This Row],[内　容]],科目tbl[[内　容]:[番号]],3,TRUE)","v":"支出"},"短期借入金返済","摘要を記載する　185",956]
[114,"2018-07-15",{"$f":"VLOOKUP(入出金tbl[[#This Row],[内　容]],科目tbl[[内　容]:[番号]],2,TRUE)","v":"財務収支"},{"$f":"VLOOKUP(入出金tbl[[#This Row],[内　容]],科目tbl[[内　容]:[番号]],3,TRUE)","v":"支出"},"長期借入金返済","摘要を記載する　438",477]
[115,"2018-07-16",{"$f":"VLOOKUP(入出金tbl[[#This Row],[内　容]],科目tbl[[内　容]:[番号]],2,TRUE)","v":"財務収支"},{"$f":"VLOOKUP(入出金tbl[[#This Row],[内　容]],科目tbl[[内　容]:[番号]],3,TRUE)","v":"支出"},"社長借入金返済","摘要を記載する　185",956]
[116,"2018-07-16",{"$f":"VLOOKUP(入出金tbl[[#This Row],[内　容]],科目tbl[[内　容]:[番号]],2,TRUE)","v":"財務収支"},{"$f":"VLOOKUP(入出金tbl[[#This Row],[内　容]],科目tbl[[内　容]:[番号]],3,TRUE)","v":"支出"},"その他返済","摘要を記載する　241",419]
[117,"2018-07-17",{"$f":"VLOOKUP(入出金tbl[[#This Row],[内　容]],科目tbl[[内　容]:[番号]],2,TRUE)","v":"経常収支"},{"$f":"VLOOKUP(入出金tbl[[#This Row],[内　容]],科目tbl[[内　容]:[番号]],3,TRUE)","v":"収入"},"現金売上","摘要を記載する　393",292]
[118,"2018-07-17",{"$f":"VLOOKUP(入出金tbl[[#This Row],[内　容]],科目tbl[[内　容]:[番号]],2,TRUE)","v":"経常収支"},{"$f":"VLOOKUP(入出金tbl[[#This Row],[内　容]],科目tbl[[内　容]:[番号]],3,TRUE)","v":"収入"},"売掛金回収","摘要を記載する　438",477]
[119,"2018-07-18",{"$f":"VLOOKUP(入出金tbl[[#This Row],[内　容]],科目tbl[[内　容]:[番号]],2,TRUE)","v":"経常収支"},{"$f":"VLOOKUP(入出金tbl[[#This Row],[内　容]],科目tbl[[内　容]:[番号]],3,TRUE)","v":"収入"},"受取手形回収","摘要を記載する　393",292]
[120,"2018-07-18",{"$f":"VLOOKUP(入出金tbl[[#This Row],[内　容]],科目tbl[[内　容]:[番号]],2,TRUE)","v":"経常収支"},{"$f":"VLOOKUP(入出金tbl[[#This Row],[内　容]],科目tbl[[内　容]:[番号]],3,TRUE)","v":"収入"},"手形割引","摘要を記載する　241",419]
[121,"2018-07-19",{"$f":"VLOOKUP(入出金tbl[[#This Row],[内　容]],科目tbl[[内　容]:[番号]],2,TRUE)","v":"経常収支"},{"$f":"VLOOKUP(入出金tbl[[#This Row],[内　容]],科目tbl[[内　容]:[番号]],3,TRUE)","v":"収入"},"その他収入","摘要を記載する　393",292]
[122,"2018-07-19",{"$f":"VLOOKUP(入出金tbl[[#This Row],[内　容]],科目tbl[[内　容]:[番号]],2,TRUE)","v":"経常外収支"},{"$f":"VLOOKUP(入出金tbl[[#This Row],[内　容]],科目tbl[[内　容]:[番号]],3,TRUE)","v":"収入"},"固定資産等売却手取","摘要を記載する　101",437]
[123,"2018-07-20",{"$f":"VLOOKUP(入出金tbl[[#This Row],[内　容]],科目tbl[[内　容]:[番号]],2,TRUE)","v":"経常外収支"},{"$f":"VLOOKUP(入出金tbl[[#This Row],[内　容]],科目tbl[[内　容]:[番号]],3,TRUE)","v":"収入"},"定期預金等解約","摘要を記載する　234",1101]
[124,"2018-07-20",{"$f":"VLOOKUP(入出金tbl[[#This Row],[内　容]],科目tbl[[内　容]:[番号]],2,TRUE)","v":"経常外収支"},{"$f":"VLOOKUP(入出金tbl[[#This Row],[内　容]],科目tbl[[内　容]:[番号]],3,TRUE)","v":"収入"},"その他臨時収入","摘要を記載する　101",437]
[125,"2018-07-21",{"$f":"VLOOKUP(入出金tbl[[#This Row],[内　容]],科目tbl[[内　容]:[番号]],2,TRUE)","v":"財務収支"},{"$f":"VLOOKUP(入出金tbl[[#This Row],[内　容]],科目tbl[[内　容]:[番号]],3,TRUE)","v":"収入"},"短期借入金調達","摘要を記載する　234",1101]
[126,"2018-07-21",{"$f":"VLOOKUP(入出金tbl[[#This Row],[内　容]],科目tbl[[内　容]:[番号]],2,TRUE)","v":"財務収支"},{"$f":"VLOOKUP(入出金tbl[[#This Row],[内　容]],科目tbl[[内　容]:[番号]],3,TRUE)","v":"収入"},"長期借入金調達","摘要を記載する　101",437]
[127,"2018-07-22",{"$f":"VLOOKUP(入出金tbl[[#This Row],[内　容]],科目tbl[[内　容]:[番号]],2,TRUE)","v":"財務収支"},{"$f":"VLOOKUP(入出金tbl[[#This Row],[内　容]],科目tbl[[内　容]:[番号]],3,TRUE)","v":"収入"},"社長借入金調達","摘要を記載する　234",1101]
[128,"2018-07-22",{"$f":"VLOOKUP(入出金tbl[[#This Row],[内　容]],科目tbl[[内　容]:[番号]],2,TRUE)","v":"財務収支"},{"$f":"VLOOKUP(入出金tbl[[#This Row],[内　容]],科目tbl[[内　容]:[番号]],3,TRUE)","v":"収入"},"その他調達","摘要を記載する　386",818]
[129,"2018-07-23",{"$f":"VLOOKUP(入出金tbl[[#This Row],[内　容]],科目tbl[[内　容]:[番号]],2,TRUE)","v":"経常収支"},{"$f":"VLOOKUP(入出金tbl[[#This Row],[内　容]],科目tbl[[内　容]:[番号]],3,TRUE)","v":"支出"},"現金仕入","摘要を記載する　203",387]
[130,"2018-07-23",{"$f":"VLOOKUP(入出金tbl[[#This Row],[内　容]],科目tbl[[内　容]:[番号]],2,TRUE)","v":"経常収支"},{"$f":"VLOOKUP(入出金tbl[[#This Row],[内　容]],科目tbl[[内　容]:[番号]],3,TRUE)","v":"支出"},"買掛金支払","摘要を記載する　386",818]
[131,"2018-07-24",{"$f":"VLOOKUP(入出金tbl[[#This Row],[内　容]],科目tbl[[内　容]:[番号]],2,TRUE)","v":"経常収支"},{"$f":"VLOOKUP(入出金tbl[[#This Row],[内　容]],科目tbl[[内　容]:[番号]],3,TRUE)","v":"支出"},"手形支払","摘要を記載する　203",387]
[132,"2018-07-24",{"$f":"VLOOKUP(入出金tbl[[#This Row],[内　容]],科目tbl[[内　容]:[番号]],2,TRUE)","v":"経常収支"},{"$f":"VLOOKUP(入出金tbl[[#This Row],[内　容]],科目tbl[[内　容]:[番号]],3,TRUE)","v":"支出"},"賃金・給与現金支払","摘要を記載する　386",818]
[133,"2018-07-25",{"$f":"VLOOKUP(入出金tbl[[#This Row],[内　容]],科目tbl[[内　容]:[番号]],2,TRUE)","v":"経常収支"},{"$f":"VLOOKUP(入出金tbl[[#This Row],[内　容]],科目tbl[[内　容]:[番号]],3,TRUE)","v":"支出"},"賞与支払い","摘要を記載する　203",387]
[134,"2018-07-25",{"$f":"VLOOKUP(入出金tbl[[#This Row],[内　容]],科目tbl[[内　容]:[番号]],2,TRUE)","v":"経常収支"},{"$f":"VLOOKUP(入出金tbl[[#This Row],[内　容]],科目tbl[[内　容]:[番号]],3,TRUE)","v":"支出"},"支払利息・割引料","摘要を記載する　427",276]
[135,"2018-07-26",{"$f":"VLOOKUP(入出金tbl[[#This Row],[内　容]],科目tbl[[内　容]:[番号]],2,TRUE)","v":"経常収支"},{"$f":"VLOOKUP(入出金tbl[[#This Row],[内　容]],科目tbl[[内　容]:[番号]],3,TRUE)","v":"支出"},"諸経費現金支払","摘要を記載する　228",1150]
[136,"2018-07-26",{"$f":"VLOOKUP(入出金tbl[[#This Row],[内　容]],科目tbl[[内　容]:[番号]],2,TRUE)","v":"経常外収支"},{"$f":"VLOOKUP(入出金tbl[[#This Row],[内　容]],科目tbl[[内　容]:[番号]],3,TRUE)","v":"支出"},"税金","摘要を記載する　427",276]
[137,"2018-07-27",{"$f":"VLOOKUP(入出金tbl[[#This Row],[内　容]],科目tbl[[内　容]:[番号]],2,TRUE)","v":"経常外収支"},{"$f":"VLOOKUP(入出金tbl[[#This Row],[内　容]],科目tbl[[内　容]:[番号]],3,TRUE)","v":"支出"},"役員賞与","摘要を記載する　228",1150]
[138,"2018-07-27",{"$f":"VLOOKUP(入出金tbl[[#This Row],[内　容]],科目tbl[[内　容]:[番号]],2,TRUE)","v":"経常外収支"},{"$f":"VLOOKUP(入出金tbl[[#This Row],[内　容]],科目tbl[[内　容]:[番号]],3,TRUE)","v":"支出"},"配当","摘要を記載する　427",276]
[139,"2018-07-28",{"$f":"VLOOKUP(入出金tbl[[#This Row],[内　容]],科目tbl[[内　容]:[番号]],2,TRUE)","v":"経常外収支"},{"$f":"VLOOKUP(入出金tbl[[#This Row],[内　容]],科目tbl[[内　容]:[番号]],3,TRUE)","v":"支出"},"固定資産購入支出","摘要を記載する　228",1150]
[140,"2018-07-28",{"$f":"VLOOKUP(入出金tbl[[#This Row],[内　容]],科目tbl[[内　容]:[番号]],2,TRUE)","v":"経常外収支"},{"$f":"VLOOKUP(入出金tbl[[#This Row],[内　容]],科目tbl[[内　容]:[番号]],3,TRUE)","v":"支出"},"定期預金等設定","摘要を記載する　079",58]
[141,"2018-07-29",{"$f":"VLOOKUP(入出金tbl[[#This Row],[内　容]],科目tbl[[内　容]:[番号]],2,TRUE)","v":"経常外収支"},{"$f":"VLOOKUP(入出金tbl[[#This Row],[内　容]],科目tbl[[内　容]:[番号]],3,TRUE)","v":"支出"},"その他臨時支出","摘要を記載する　314",1028]
[142,"2018-07-29",{"$f":"VLOOKUP(入出金tbl[[#This Row],[内　容]],科目tbl[[内　容]:[番号]],2,TRUE)","v":"財務収支"},{"$f":"VLOOKUP(入出金tbl[[#This Row],[内　容]],科目tbl[[内　容]:[番号]],3,TRUE)","v":"支出"},"短期借入金返済","摘要を記載する　079",58]
[143,"2018-07-30",{"$f":"VLOOKUP(入出金tbl[[#This Row],[内　容]],科目tbl[[内　容]:[番号]],2,TRUE)","v":"財務収支"},{"$f":"VLOOKUP(入出金tbl[[#This Row],[内　容]],科目tbl[[内　容]:[番号]],3,TRUE)","v":"支出"},"長期借入金返済","摘要を記載する　458",443]
[144,"2018-07-30",{"$f":"VLOOKUP(入出金tbl[[#This Row],[内　容]],科目tbl[[内　容]:[番号]],2,TRUE)","v":"財務収支"},{"$f":"VLOOKUP(入出金tbl[[#This Row],[内　容]],科目tbl[[内　容]:[番号]],3,TRUE)","v":"支出"},"社長借入金返済","摘要を記載する　314",1028]
[145,"2018-07-30",{"$f":"VLOOKUP(入出金tbl[[#This Row],[内　容]],科目tbl[[内　容]:[番号]],2,TRUE)","v":"財務収支"},{"$f":"VLOOKUP(入出金tbl[[#This Row],[内　容]],科目tbl[[内　容]:[番号]],3,TRUE)","v":"支出"},"その他返済","摘要を記載する　079",58]
[146,"2018-07-31",{"$f":"VLOOKUP(入出金tbl[[#This Row],[内　容]],科目tbl[[内　容]:[番号]],2,TRUE)","v":"経常収支"},{"$f":"VLOOKUP(入出金tbl[[#This Row],[内　容]],科目tbl[[内　容]:[番号]],3,TRUE)","v":"収入"},"現金売上","摘要を記載する　458",443]
[147,"2018-07-31",{"$f":"VLOOKUP(入出金tbl[[#This Row],[内　容]],科目tbl[[内　容]:[番号]],2,TRUE)","v":"経常収支"},{"$f":"VLOOKUP(入出金tbl[[#This Row],[内　容]],科目tbl[[内　容]:[番号]],3,TRUE)","v":"収入"},"売掛金回収","摘要を記載する　314",1028]
[148,"2018-08-01",{"$f":"VLOOKUP(入出金tbl[[#This Row],[内　容]],科目tbl[[内　容]:[番号]],2,TRUE)","v":"経常収支"},{"$f":"VLOOKUP(入出金tbl[[#This Row],[内　容]],科目tbl[[内　容]:[番号]],3,TRUE)","v":"収入"},"受取手形回収","摘要を記載する　404",57]
[149,"2018-08-01",{"$f":"VLOOKUP(入出金tbl[[#This Row],[内　容]],科目tbl[[内　容]:[番号]],2,TRUE)","v":"経常収支"},{"$f":"VLOOKUP(入出金tbl[[#This Row],[内　容]],科目tbl[[内　容]:[番号]],3,TRUE)","v":"収入"},"手形割引","摘要を記載する　308",325]
[150,"2018-08-02",{"$f":"VLOOKUP(入出金tbl[[#This Row],[内　容]],科目tbl[[内　容]:[番号]],2,TRUE)","v":"経常収支"},{"$f":"VLOOKUP(入出金tbl[[#This Row],[内　容]],科目tbl[[内　容]:[番号]],3,TRUE)","v":"収入"},"その他収入","摘要を記載する　404",57]
[151,"2018-08-02",{"$f":"VLOOKUP(入出金tbl[[#This Row],[内　容]],科目tbl[[内　容]:[番号]],2,TRUE)","v":"経常外収支"},{"$f":"VLOOKUP(入出金tbl[[#This Row],[内　容]],科目tbl[[内　容]:[番号]],3,TRUE)","v":"収入"},"固定資産等売却手取","摘要を記載する　237",159]
[152,"2018-08-03",{"$f":"VLOOKUP(入出金tbl[[#This Row],[内　容]],科目tbl[[内　容]:[番号]],2,TRUE)","v":"経常外収支"},{"$f":"VLOOKUP(入出金tbl[[#This Row],[内　容]],科目tbl[[内　容]:[番号]],3,TRUE)","v":"収入"},"定期預金等解約","摘要を記載する　354",511]
[153,"2018-08-03",{"$f":"VLOOKUP(入出金tbl[[#This Row],[内　容]],科目tbl[[内　容]:[番号]],2,TRUE)","v":"経常外収支"},{"$f":"VLOOKUP(入出金tbl[[#This Row],[内　容]],科目tbl[[内　容]:[番号]],3,TRUE)","v":"収入"},"その他臨時収入","摘要を記載する　237",159]
[154,"2018-08-04",{"$f":"VLOOKUP(入出金tbl[[#This Row],[内　容]],科目tbl[[内　容]:[番号]],2,TRUE)","v":"財務収支"},{"$f":"VLOOKUP(入出金tbl[[#This Row],[内　容]],科目tbl[[内　容]:[番号]],3,TRUE)","v":"収入"},"短期借入金調達","摘要を記載する　354",511]
[155,"2018-08-04",{"$f":"VLOOKUP(入出金tbl[[#This Row],[内　容]],科目tbl[[内　容]:[番号]],2,TRUE)","v":"財務収支"},{"$f":"VLOOKUP(入出金tbl[[#This Row],[内　容]],科目tbl[[内　容]:[番号]],3,TRUE)","v":"収入"},"長期借入金調達","摘要を記載する　237",159]
[156,"2018-08-05",{"$f":"VLOOKUP(入出金tbl[[#This Row],[内　容]],科目tbl[[内　容]:[番号]],2,TRUE)","v":"財務収支"},{"$f":"VLOOKUP(入出金tbl[[#This Row],[内　容]],科目tbl[[内　容]:[番号]],3,TRUE)","v":"収入"},"社長借入金調達","摘要を記載する　354",511]
[157,"2018-08-05",{"$f":"VLOOKUP(入出金tbl[[#This Row],[内　容]],科目tbl[[内　容]:[番号]],2,TRUE)","v":"財務収支"},{"$f":"VLOOKUP(入出金tbl[[#This Row],[内　容]],科目tbl[[内　容]:[番号]],3,TRUE)","v":"収入"},"その他調達","摘要を記載する　099",397]
[158,"2018-08-06",{"$f":"VLOOKUP(入出金tbl[[#This Row],[内　容]],科目tbl[[内　容]:[番号]],2,TRUE)","v":"経常収支"},{"$f":"VLOOKUP(入出金tbl[[#This Row],[内　容]],科目tbl[[内　容]:[番号]],3,TRUE)","v":"支出"},"現金仕入","摘要を記載する　507",422]
[159,"2018-08-06",{"$f":"VLOOKUP(入出金tbl[[#This Row],[内　容]],科目tbl[[内　容]:[番号]],2,TRUE)","v":"経常収支"},{"$f":"VLOOKUP(入出金tbl[[#This Row],[内　容]],科目tbl[[内　容]:[番号]],3,TRUE)","v":"支出"},"買掛金支払","摘要を記載する　099",397]
[160,"2018-08-07",{"$f":"VLOOKUP(入出金tbl[[#This Row],[内　容]],科目tbl[[内　容]:[番号]],2,TRUE)","v":"経常収支"},{"$f":"VLOOKUP(入出金tbl[[#This Row],[内　容]],科目tbl[[内　容]:[番号]],3,TRUE)","v":"支出"},"手形支払","摘要を記載する　507",422]
[161,"2018-08-07",{"$f":"VLOOKUP(入出金tbl[[#This Row],[内　容]],科目tbl[[内　容]:[番号]],2,TRUE)","v":"経常収支"},{"$f":"VLOOKUP(入出金tbl[[#This Row],[内　容]],科目tbl[[内　容]:[番号]],3,TRUE)","v":"支出"},"賃金・給与現金支払","摘要を記載する　099",397]
[162,"2018-08-08",{"$f":"VLOOKUP(入出金tbl[[#This Row],[内　容]],科目tbl[[内　容]:[番号]],2,TRUE)","v":"経常収支"},{"$f":"VLOOKUP(入出金tbl[[#This Row],[内　容]],科目tbl[[内　容]:[番号]],3,TRUE)","v":"支出"},"賞与支払い","摘要を記載する　507",422]
[163,"2018-08-08",{"$f":"VLOOKUP(入出金tbl[[#This Row],[内　容]],科目tbl[[内　容]:[番号]],2,TRUE)","v":"経常収支"},{"$f":"VLOOKUP(入出金tbl[[#This Row],[内　容]],科目tbl[[内　容]:[番号]],3,TRUE)","v":"支出"},"支払利息・割引料","摘要を記載する　387",545]
[164,"2018-08-09",{"$f":"VLOOKUP(入出金tbl[[#This Row],[内　容]],科目tbl[[内　容]:[番号]],2,TRUE)","v":"経常収支"},{"$f":"VLOOKUP(入出金tbl[[#This Row],[内　容]],科目tbl[[内　容]:[番号]],3,TRUE)","v":"支出"},"諸経費現金支払","摘要を記載する　239",160]
[165,"2018-08-09",{"$f":"VLOOKUP(入出金tbl[[#This Row],[内　容]],科目tbl[[内　容]:[番号]],2,TRUE)","v":"経常外収支"},{"$f":"VLOOKUP(入出金tbl[[#This Row],[内　容]],科目tbl[[内　容]:[番号]],3,TRUE)","v":"支出"},"税金","摘要を記載する　387",545]
[166,"2018-08-10",{"$f":"VLOOKUP(入出金tbl[[#This Row],[内　容]],科目tbl[[内　容]:[番号]],2,TRUE)","v":"経常外収支"},{"$f":"VLOOKUP(入出金tbl[[#This Row],[内　容]],科目tbl[[内　容]:[番号]],3,TRUE)","v":"支出"},"役員賞与","摘要を記載する　239",160]
[167,"2018-08-10",{"$f":"VLOOKUP(入出金tbl[[#This Row],[内　容]],科目tbl[[内　容]:[番号]],2,TRUE)","v":"経常外収支"},{"$f":"VLOOKUP(入出金tbl[[#This Row],[内　容]],科目tbl[[内　容]:[番号]],3,TRUE)","v":"支出"},"配当","摘要を記載する　387",545]
[168,"2018-08-11",{"$f":"VLOOKUP(入出金tbl[[#This Row],[内　容]],科目tbl[[内　容]:[番号]],2,TRUE)","v":"経常外収支"},{"$f":"VLOOKUP(入出金tbl[[#This Row],[内　容]],科目tbl[[内　容]:[番号]],3,TRUE)","v":"支出"},"固定資産購入支出","摘要を記載する　239",160]
[169,"2018-08-11",{"$f":"VLOOKUP(入出金tbl[[#This Row],[内　容]],科目tbl[[内　容]:[番号]],2,TRUE)","v":"経常外収支"},{"$f":"VLOOKUP(入出金tbl[[#This Row],[内　容]],科目tbl[[内　容]:[番号]],3,TRUE)","v":"支出"},"定期預金等設定","摘要を記載する　216",610]
[170,"2018-08-12",{"$f":"VLOOKUP(入出金tbl[[#This Row],[内　容]],科目tbl[[内　容]:[番号]],2,TRUE)","v":"経常外収支"},{"$f":"VLOOKUP(入出金tbl[[#This Row],[内　容]],科目tbl[[内　容]:[番号]],3,TRUE)","v":"支出"},"その他臨時支出","摘要を記載する　168",813]
[171,"2018-08-12",{"$f":"VLOOKUP(入出金tbl[[#This Row],[内　容]],科目tbl[[内　容]:[番号]],2,TRUE)","v":"財務収支"},{"$f":"VLOOKUP(入出金tbl[[#This Row],[内　容]],科目tbl[[内　容]:[番号]],3,TRUE)","v":"支出"},"短期借入金返済","摘要を記載する　216",610]
[172,"2018-08-13",{"$f":"VLOOKUP(入出金tbl[[#This Row],[内　容]],科目tbl[[内　容]:[番号]],2,TRUE)","v":"財務収支"},{"$f":"VLOOKUP(入出金tbl[[#This Row],[内　容]],科目tbl[[内　容]:[番号]],3,TRUE)","v":"支出"},"長期借入金返済","摘要を記載する　168",813]
[173,"2018-08-13",{"$f":"VLOOKUP(入出金tbl[[#This Row],[内　容]],科目tbl[[内　容]:[番号]],2,TRUE)","v":"財務収支"},{"$f":"VLOOKUP(入出金tbl[[#This Row],[内　容]],科目tbl[[内　容]:[番号]],3,TRUE)","v":"支出"},"社長借入金返済","摘要を記載する　216",610]
[174,"2018-08-14",{"$f":"VLOOKUP(入出金tbl[[#This Row],[内　容]],科目tbl[[内　容]:[番号]],2,TRUE)","v":"財務収支"},{"$f":"VLOOKUP(入出金tbl[[#This Row],[内　容]],科目tbl[[内　容]:[番号]],3,TRUE)","v":"支出"},"その他返済","摘要を記載する　168",813]
[175,"2018-08-14",{"$f":"VLOOKUP(入出金tbl[[#This Row],[内　容]],科目tbl[[内　容]:[番号]],2,TRUE)","v":"経常収支"},{"$f":"VLOOKUP(入出金tbl[[#This Row],[内　容]],科目tbl[[内　容]:[番号]],3,TRUE)","v":"収入"},"現金売上","摘要を記載する　359",295]
[176,"2018-08-15",{"$f":"VLOOKUP(入出金tbl[[#This Row],[内　容]],科目tbl[[内　容]:[番号]],2,TRUE)","v":"経常収支"},{"$f":"VLOOKUP(入出金tbl[[#This Row],[内　容]],科目tbl[[内　容]:[番号]],3,TRUE)","v":"収入"},"売掛金回収","摘要を記載する　362",597]
[177,"2018-08-15",{"$f":"VLOOKUP(入出金tbl[[#This Row],[内　容]],科目tbl[[内　容]:[番号]],2,TRUE)","v":"経常収支"},{"$f":"VLOOKUP(入出金tbl[[#This Row],[内　容]],科目tbl[[内　容]:[番号]],3,TRUE)","v":"収入"},"受取手形回収","摘要を記載する　359",295]
[178,"2018-08-16",{"$f":"VLOOKUP(入出金tbl[[#This Row],[内　容]],科目tbl[[内　容]:[番号]],2,TRUE)","v":"経常収支"},{"$f":"VLOOKUP(入出金tbl[[#This Row],[内　容]],科目tbl[[内　容]:[番号]],3,TRUE)","v":"収入"},"手形割引","摘要を記載する　362",597]
[179,"2018-08-16",{"$f":"VLOOKUP(入出金tbl[[#This Row],[内　容]],科目tbl[[内　容]:[番号]],2,TRUE)","v":"経常収支"},{"$f":"VLOOKUP(入出金tbl[[#This Row],[内　容]],科目tbl[[内　容]:[番号]],3,TRUE)","v":"収入"},"その他収入","摘要を記載する　359",295]
[180,"2018-08-17",{"$f":"VLOOKUP(入出金tbl[[#This Row],[内　容]],科目tbl[[内　容]:[番号]],2,TRUE)","v":"経常外収支"},{"$f":"VLOOKUP(入出金tbl[[#This Row],[内　容]],科目tbl[[内　容]:[番号]],3,TRUE)","v":"収入"},"固定資産等売却手取","摘要を記載する　362",597]
[181,"2018-08-17",{"$f":"VLOOKUP(入出金tbl[[#This Row],[内　容]],科目tbl[[内　容]:[番号]],2,TRUE)","v":"経常外収支"},{"$f":"VLOOKUP(入出金tbl[[#This Row],[内　容]],科目tbl[[内　容]:[番号]],3,TRUE)","v":"収入"},"定期預金等解約","摘要を記載する　160",927]
[182,"2018-08-18",{"$f":"VLOOKUP(入出金tbl[[#This Row],[内　容]],科目tbl[[内　容]:[番号]],2,TRUE)","v":"経常外収支"},{"$f":"VLOOKUP(入出金tbl[[#This Row],[内　容]],科目tbl[[内　容]:[番号]],3,TRUE)","v":"収入"},"その他臨時収入","摘要を記載する　454",1168]
[183,"2018-08-18",{"$f":"VLOOKUP(入出金tbl[[#This Row],[内　容]],科目tbl[[内　容]:[番号]],2,TRUE)","v":"財務収支"},{"$f":"VLOOKUP(入出金tbl[[#This Row],[内　容]],科目tbl[[内　容]:[番号]],3,TRUE)","v":"収入"},"短期借入金調達","摘要を記載する　160",927]
[184,"2018-08-19",{"$f":"VLOOKUP(入出金tbl[[#This Row],[内　容]],科目tbl[[内　容]:[番号]],2,TRUE)","v":"財務収支"},{"$f":"VLOOKUP(入出金tbl[[#This Row],[内　容]],科目tbl[[内　容]:[番号]],3,TRUE)","v":"収入"},"長期借入金調達","摘要を記載する　454",1168]
[185,"2018-08-19",{"$f":"VLOOKUP(入出金tbl[[#This Row],[内　容]],科目tbl[[内　容]:[番号]],2,TRUE)","v":"財務収支"},{"$f":"VLOOKUP(入出金tbl[[#This Row],[内　容]],科目tbl[[内　容]:[番号]],3,TRUE)","v":"収入"},"社長借入金調達","摘要を記載する　160",927]
[186,"2018-08-20",{"$f":"VLOOKUP(入出金tbl[[#This Row],[内　容]],科目tbl[[内　容]:[番号]],2,TRUE)","v":"財務収支"},{"$f":"VLOOKUP(入出金tbl[[#This Row],[内　容]],科目tbl[[内　容]:[番号]],3,TRUE)","v":"収入"},"その他調達","摘要を記載する　454",1168]
[187,"2018-08-20",{"$f":"VLOOKUP(入出金tbl[[#This Row],[内　容]],科目tbl[[内　容]:[番号]],2,TRUE)","v":"経常収支"},{"$f":"VLOOKUP(入出金tbl[[#This Row],[内　容]],科目tbl[[内　容]:[番号]],3,TRUE)","v":"支出"},"現金仕入","摘要を記載する　245",363]
[188,"2018-08-21",{"$f":"VLOOKUP(入出金tbl[[#This Row],[内　容]],科目tbl[[内　容]:[番号]],2,TRUE)","v":"経常収支"},{"$f":"VLOOKUP(入出金tbl[[#This Row],[内　容]],科目tbl[[内　容]:[番号]],3,TRUE)","v":"支出"},"買掛金支払","摘要を記載する　207",553]
[189,"2018-08-21",{"$f":"VLOOKUP(入出金tbl[[#This Row],[内　容]],科目tbl[[内　容]:[番号]],2,TRUE)","v":"経常収支"},{"$f":"VLOOKUP(入出金tbl[[#This Row],[内　容]],科目tbl[[内　容]:[番号]],3,TRUE)","v":"支出"},"手形支払","摘要を記載する　245",363]
[190,"2018-08-22",{"$f":"VLOOKUP(入出金tbl[[#This Row],[内　容]],科目tbl[[内　容]:[番号]],2,TRUE)","v":"経常収支"},{"$f":"VLOOKUP(入出金tbl[[#This Row],[内　容]],科目tbl[[内　容]:[番号]],3,TRUE)","v":"支出"},"賃金・給与現金支払","摘要を記載する　207",553]
[191,"2018-08-22",{"$f":"VLOOKUP(入出金tbl[[#This Row],[内　容]],科目tbl[[内　容]:[番号]],2,TRUE)","v":"経常収支"},{"$f":"VLOOKUP(入出金tbl[[#This Row],[内　容]],科目tbl[[内　容]:[番号]],3,TRUE)","v":"支出"},"賞与支払い","摘要を記載する　245",363]
[192,"2018-08-23",{"$f":"VLOOKUP(入出金tbl[[#This Row],[内　容]],科目tbl[[内　容]:[番号]],2,TRUE)","v":"経常収支"},{"$f":"VLOOKUP(入出金tbl[[#This Row],[内　容]],科目tbl[[内　容]:[番号]],3,TRUE)","v":"支出"},"支払利息・割引料","摘要を記載する　207",553]
[193,"2018-08-23",{"$f":"VLOOKUP(入出金tbl[[#This Row],[内　容]],科目tbl[[内　容]:[番号]],2,TRUE)","v":"経常収支"},{"$f":"VLOOKUP(入出金tbl[[#This Row],[内　容]],科目tbl[[内　容]:[番号]],3,TRUE)","v":"支出"},"諸経費現金支払","摘要を記載する　371",632]
[194,"2018-08-24",{"$f":"VLOOKUP(入出金tbl[[#This Row],[内　容]],科目tbl[[内　容]:[番号]],2,TRUE)","v":"経常外収支"},{"$f":"VLOOKUP(入出金tbl[[#This Row],[内　容]],科目tbl[[内　容]:[番号]],3,TRUE)","v":"支出"},"税金","摘要を記載する　298",1024]
[195,"2018-08-24",{"$f":"VLOOKUP(入出金tbl[[#This Row],[内　容]],科目tbl[[内　容]:[番号]],2,TRUE)","v":"経常外収支"},{"$f":"VLOOKUP(入出金tbl[[#This Row],[内　容]],科目tbl[[内　容]:[番号]],3,TRUE)","v":"支出"},"役員賞与","摘要を記載する　434",194]
[196,"2018-08-25",{"$f":"VLOOKUP(入出金tbl[[#This Row],[内　容]],科目tbl[[内　容]:[番号]],2,TRUE)","v":"経常外収支"},{"$f":"VLOOKUP(入出金tbl[[#This Row],[内　容]],科目tbl[[内　容]:[番号]],3,TRUE)","v":"支出"},"配当","摘要を記載する　298",1024]
[197,"2018-08-25",{"$f":"VLOOKUP(入出金tbl[[#This Row],[内　容]],科目tbl[[内　容]:[番号]],2,TRUE)","v":"経常外収支"},{"$f":"VLOOKUP(入出金tbl[[#This Row],[内　容]],科目tbl[[内　容]:[番号]],3,TRUE)","v":"支出"},"固定資産購入支出","摘要を記載する　371",632]
[198,"2018-08-26",{"$f":"VLOOKUP(入出金tbl[[#This Row],[内　容]],科目tbl[[内　容]:[番号]],2,TRUE)","v":"経常外収支"},{"$f":"VLOOKUP(入出金tbl[[#This Row],[内　容]],科目tbl[[内　容]:[番号]],3,TRUE)","v":"支出"},"定期預金等設定","摘要を記載する　298",1024]
[199,"2018-08-26",{"$f":"VLOOKUP(入出金tbl[[#This Row],[内　容]],科目tbl[[内　容]:[番号]],2,TRUE)","v":"経常外収支"},{"$f":"VLOOKUP(入出金tbl[[#This Row],[内　容]],科目tbl[[内　容]:[番号]],3,TRUE)","v":"支出"},"その他臨時支出","摘要を記載する　434",194]
[200,"2018-08-27",{"$f":"VLOOKUP(入出金tbl[[#This Row],[内　容]],科目tbl[[内　容]:[番号]],2,TRUE)","v":"財務収支"},{"$f":"VLOOKUP(入出金tbl[[#This Row],[内　容]],科目tbl[[内　容]:[番号]],3,TRUE)","v":"支出"},"短期借入金返済","摘要を記載する　196",667]
[201,"2018-08-27",{"$f":"VLOOKUP(入出金tbl[[#This Row],[内　容]],科目tbl[[内　容]:[番号]],2,TRUE)","v":"財務収支"},{"$f":"VLOOKUP(入出金tbl[[#This Row],[内　容]],科目tbl[[内　容]:[番号]],3,TRUE)","v":"支出"},"長期借入金返済","摘要を記載する　371",632]
[202,"2018-08-28",{"$f":"VLOOKUP(入出金tbl[[#This Row],[内　容]],科目tbl[[内　容]:[番号]],2,TRUE)","v":"財務収支"},{"$f":"VLOOKUP(入出金tbl[[#This Row],[内　容]],科目tbl[[内　容]:[番号]],3,TRUE)","v":"支出"},"社長借入金返済","摘要を記載する　196",667]
[203,"2018-08-28",{"$f":"VLOOKUP(入出金tbl[[#This Row],[内　容]],科目tbl[[内　容]:[番号]],2,TRUE)","v":"財務収支"},{"$f":"VLOOKUP(入出金tbl[[#This Row],[内　容]],科目tbl[[内　容]:[番号]],3,TRUE)","v":"支出"},"その他返済","摘要を記載する　434",194]
[204,"2018-08-29",{"$f":"VLOOKUP(入出金tbl[[#This Row],[内　容]],科目tbl[[内　容]:[番号]],2,TRUE)","v":"経常収支"},{"$f":"VLOOKUP(入出金tbl[[#This Row],[内　容]],科目tbl[[内　容]:[番号]],3,TRUE)","v":"収入"},"現金売上","摘要を記載する　196",667]
[205,"2018-08-29",{"$f":"VLOOKUP(入出金tbl[[#This Row],[内　容]],科目tbl[[内　容]:[番号]],2,TRUE)","v":"経常収支"},{"$f":"VLOOKUP(入出金tbl[[#This Row],[内　容]],科目tbl[[内　容]:[番号]],3,TRUE)","v":"収入"},"売掛金回収","摘要を記載する　289",883]
[206,"2018-08-30",{"$f":"VLOOKUP(入出金tbl[[#This Row],[内　容]],科目tbl[[内　容]:[番号]],2,TRUE)","v":"経常収支"},{"$f":"VLOOKUP(入出金tbl[[#This Row],[内　容]],科目tbl[[内　容]:[番号]],3,TRUE)","v":"収入"},"受取手形回収","摘要を記載する　308",325]
[207,"2018-08-30",{"$f":"VLOOKUP(入出金tbl[[#This Row],[内　容]],科目tbl[[内　容]:[番号]],2,TRUE)","v":"経常収支"},{"$f":"VLOOKUP(入出金tbl[[#This Row],[内　容]],科目tbl[[内　容]:[番号]],3,TRUE)","v":"収入"},"手形割引","摘要を記載する　289",883]
[208,"2018-08-31",{"$f":"VLOOKUP(入出金tbl[[#This Row],[内　容]],科目tbl[[内　容]:[番号]],2,TRUE)","v":"経常収支"},{"$f":"VLOOKUP(入出金tbl[[#This Row],[内　容]],科目tbl[[内　容]:[番号]],3,TRUE)","v":"収入"},"その他収入","摘要を記載する　404",57]
[209,"2018-08-31",{"$f":"VLOOKUP(入出金tbl[[#This Row],[内　容]],科目tbl[[内　容]:[番号]],2,TRUE)","v":"経常外収支"},{"$f":"VLOOKUP(入出金tbl[[#This Row],[内　容]],科目tbl[[内　容]:[番号]],3,TRUE)","v":"収入"},"固定資産等売却手取","摘要を記載する　308",325]
[210,"2018-08-31",{"$f":"VLOOKUP(入出金tbl[[#This Row],[内　容]],科目tbl[[内　容]:[番号]],2,TRUE)","v":"経常外収支"},{"$f":"VLOOKUP(入出金tbl[[#This Row],[内　容]],科目tbl[[内　容]:[番号]],3,TRUE)","v":"収入"},"定期預金等解約","摘要を記載する　289",883]
[211,"2018-09-01",{"$f":"VLOOKUP(入出金tbl[[#This Row],[内　容]],科目tbl[[内　容]:[番号]],2,TRUE)","v":"経常外収支"},{"$f":"VLOOKUP(入出金tbl[[#This Row],[内　容]],科目tbl[[内　容]:[番号]],3,TRUE)","v":"収入"},"その他臨時収入","摘要を記載する　424",1141]
[212,"2018-09-01",{"$f":"VLOOKUP(入出金tbl[[#This Row],[内　容]],科目tbl[[内　容]:[番号]],2,TRUE)","v":"財務収支"},{"$f":"VLOOKUP(入出金tbl[[#This Row],[内　容]],科目tbl[[内　容]:[番号]],3,TRUE)","v":"収入"},"短期借入金調達","摘要を記載する　090",61]
[213,"2018-09-01",{"$f":"VLOOKUP(入出金tbl[[#This Row],[内　容]],科目tbl[[内　容]:[番号]],2,TRUE)","v":"財務収支"},{"$f":"VLOOKUP(入出金tbl[[#This Row],[内　容]],科目tbl[[内　容]:[番号]],3,TRUE)","v":"収入"},"長期借入金調達","摘要を記載する　378",166]
[214,"2018-09-02",{"$f":"VLOOKUP(入出金tbl[[#This Row],[内　容]],科目tbl[[内　容]:[番号]],2,TRUE)","v":"財務収支"},{"$f":"VLOOKUP(入出金tbl[[#This Row],[内　容]],科目tbl[[内　容]:[番号]],3,TRUE)","v":"収入"},"社長借入金調達","摘要を記載する　424",1141]
[215,"2018-09-02",{"$f":"VLOOKUP(入出金tbl[[#This Row],[内　容]],科目tbl[[内　容]:[番号]],2,TRUE)","v":"財務収支"},{"$f":"VLOOKUP(入出金tbl[[#This Row],[内　容]],科目tbl[[内　容]:[番号]],3,TRUE)","v":"収入"},"その他調達","摘要を記載する　090",61]
[216,"2018-09-03",{"$f":"VLOOKUP(入出金tbl[[#This Row],[内　容]],科目tbl[[内　容]:[番号]],2,TRUE)","v":"経常収支"},{"$f":"VLOOKUP(入出金tbl[[#This Row],[内　容]],科目tbl[[内　容]:[番号]],3,TRUE)","v":"支出"},"現金仕入","摘要を記載する　424",1141]
[217,"2018-09-03",{"$f":"VLOOKUP(入出金tbl[[#This Row],[内　容]],科目tbl[[内　容]:[番号]],2,TRUE)","v":"経常収支"},{"$f":"VLOOKUP(入出金tbl[[#This Row],[内　容]],科目tbl[[内　容]:[番号]],3,TRUE)","v":"支出"},"買掛金支払","摘要を記載する　194",205]
[218,"2018-09-04",{"$f":"VLOOKUP(入出金tbl[[#This Row],[内　容]],科目tbl[[内　容]:[番号]],2,TRUE)","v":"経常収支"},{"$f":"VLOOKUP(入出金tbl[[#This Row],[内　容]],科目tbl[[内　容]:[番号]],3,TRUE)","v":"支出"},"手形支払","摘要を記載する　240",1165]
[219,"2018-09-04",{"$f":"VLOOKUP(入出金tbl[[#This Row],[内　容]],科目tbl[[内　容]:[番号]],2,TRUE)","v":"経常収支"},{"$f":"VLOOKUP(入出金tbl[[#This Row],[内　容]],科目tbl[[内　容]:[番号]],3,TRUE)","v":"支出"},"賃金・給与現金支払","摘要を記載する　194",205]
[220,"2018-09-05",{"$f":"VLOOKUP(入出金tbl[[#This Row],[内　容]],科目tbl[[内　容]:[番号]],2,TRUE)","v":"経常収支"},{"$f":"VLOOKUP(入出金tbl[[#This Row],[内　容]],科目tbl[[内　容]:[番号]],3,TRUE)","v":"支出"},"賞与支払い","摘要を記載する　240",1165]
[221,"2018-09-05",{"$f":"VLOOKUP(入出金tbl[[#This Row],[内　容]],科目tbl[[内　容]:[番号]],2,TRUE)","v":"経常収支"},{"$f":"VLOOKUP(入出金tbl[[#This Row],[内　容]],科目tbl[[内　容]:[番号]],3,TRUE)","v":"支出"},"支払利息・割引料","摘要を記載する　194",205]
[222,"2018-09-06",{"$f":"VLOOKUP(入出金tbl[[#This Row],[内　容]],科目tbl[[内　容]:[番号]],2,TRUE)","v":"経常収支"},{"$f":"VLOOKUP(入出金tbl[[#This Row],[内　容]],科目tbl[[内　容]:[番号]],3,TRUE)","v":"支出"},"諸経費現金支払","摘要を記載する　240",1165]
[223,"2018-09-06",{"$f":"VLOOKUP(入出金tbl[[#This Row],[内　容]],科目tbl[[内　容]:[番号]],2,TRUE)","v":"経常外収支"},{"$f":"VLOOKUP(入出金tbl[[#This Row],[内　容]],科目tbl[[内　容]:[番号]],3,TRUE)","v":"支出"},"税金","摘要を記載する　113",545]
[224,"2018-09-07",{"$f":"VLOOKUP(入出金tbl[[#This Row],[内　容]],科目tbl[[内　容]:[番号]],2,TRUE)","v":"経常外収支"},{"$f":"VLOOKUP(入出金tbl[[#This Row],[内　容]],科目tbl[[内　容]:[番号]],3,TRUE)","v":"支出"},"役員賞与","摘要を記載する　405",1085]
[225,"2018-09-07",{"$f":"VLOOKUP(入出金tbl[[#This Row],[内　容]],科目tbl[[内　容]:[番号]],2,TRUE)","v":"経常外収支"},{"$f":"VLOOKUP(入出金tbl[[#This Row],[内　容]],科目tbl[[内　容]:[番号]],3,TRUE)","v":"支出"},"配当","摘要を記載する　113",545]
[226,"2018-09-08",{"$f":"VLOOKUP(入出金tbl[[#This Row],[内　容]],科目tbl[[内　容]:[番号]],2,TRUE)","v":"経常外収支"},{"$f":"VLOOKUP(入出金tbl[[#This Row],[内　容]],科目tbl[[内　容]:[番号]],3,TRUE)","v":"支出"},"固定資産購入支出","摘要を記載する　518",469]
[227,"2018-09-08",{"$f":"VLOOKUP(入出金tbl[[#This Row],[内　容]],科目tbl[[内　容]:[番号]],2,TRUE)","v":"経常外収支"},{"$f":"VLOOKUP(入出金tbl[[#This Row],[内　容]],科目tbl[[内　容]:[番号]],3,TRUE)","v":"支出"},"定期預金等設定","摘要を記載する　113",545]
[228,"2018-09-09",{"$f":"VLOOKUP(入出金tbl[[#This Row],[内　容]],科目tbl[[内　容]:[番号]],2,TRUE)","v":"経常外収支"},{"$f":"VLOOKUP(入出金tbl[[#This Row],[内　容]],科目tbl[[内　容]:[番号]],3,TRUE)","v":"支出"},"その他臨時支出","摘要を記載する　405",1085]
[229,"2018-09-09",{"$f":"VLOOKUP(入出金tbl[[#This Row],[内　容]],科目tbl[[内　容]:[番号]],2,TRUE)","v":"財務収支"},{"$f":"VLOOKUP(入出金tbl[[#This Row],[内　容]],科目tbl[[内　容]:[番号]],3,TRUE)","v":"支出"},"短期借入金返済","摘要を記載する　496",407]
[230,"2018-09-10",{"$f":"VLOOKUP(入出金tbl[[#This Row],[内　容]],科目tbl[[内　容]:[番号]],2,TRUE)","v":"財務収支"},{"$f":"VLOOKUP(入出金tbl[[#This Row],[内　容]],科目tbl[[内　容]:[番号]],3,TRUE)","v":"支出"},"長期借入金返済","摘要を記載する　518",469]
[231,"2018-09-10",{"$f":"VLOOKUP(入出金tbl[[#This Row],[内　容]],科目tbl[[内　容]:[番号]],2,TRUE)","v":"財務収支"},{"$f":"VLOOKUP(入出金tbl[[#This Row],[内　容]],科目tbl[[内　容]:[番号]],3,TRUE)","v":"支出"},"社長借入金返済","摘要を記載する　496",407]
[232,"2018-09-11",{"$f":"VLOOKUP(入出金tbl[[#This Row],[内　容]],科目tbl[[内　容]:[番号]],2,TRUE)","v":"財務収支"},{"$f":"VLOOKUP(入出金tbl[[#This Row],[内　容]],科目tbl[[内　容]:[番号]],3,TRUE)","v":"支出"},"その他返済","摘要を記載する　405",1085]
[233,"2018-09-11",{"$f":"VLOOKUP(入出金tbl[[#This Row],[内　容]],科目tbl[[内　容]:[番号]],2,TRUE)","v":"経常収支"},{"$f":"VLOOKUP(入出金tbl[[#This Row],[内　容]],科目tbl[[内　容]:[番号]],3,TRUE)","v":"収入"},"現金売上","摘要を記載する　496",407]
[234,"2018-09-12",{"$f":"VLOOKUP(入出金tbl[[#This Row],[内　容]],科目tbl[[内　容]:[番号]],2,TRUE)","v":"経常収支"},{"$f":"VLOOKUP(入出金tbl[[#This Row],[内　容]],科目tbl[[内　容]:[番号]],3,TRUE)","v":"収入"},"売掛金回収","摘要を記載する　518",469]
[235,"2018-09-12",{"$f":"VLOOKUP(入出金tbl[[#This Row],[内　容]],科目tbl[[内　容]:[番号]],2,TRUE)","v":"経常収支"},{"$f":"VLOOKUP(入出金tbl[[#This Row],[内　容]],科目tbl[[内　容]:[番号]],3,TRUE)","v":"収入"},"受取手形回収","摘要を記載する　163",1006]
[236,"2018-09-13",{"$f":"VLOOKUP(入出金tbl[[#This Row],[内　容]],科目tbl[[内　容]:[番号]],2,TRUE)","v":"経常収支"},{"$f":"VLOOKUP(入出金tbl[[#This Row],[内　容]],科目tbl[[内　容]:[番号]],3,TRUE)","v":"収入"},"手形割引","摘要を記載する　431",692]
[237,"2018-09-13",{"$f":"VLOOKUP(入出金tbl[[#This Row],[内　容]],科目tbl[[内　容]:[番号]],2,TRUE)","v":"経常収支"},{"$f":"VLOOKUP(入出金tbl[[#This Row],[内　容]],科目tbl[[内　容]:[番号]],3,TRUE)","v":"収入"},"その他収入","摘要を記載する　163",1006]
[238,"2018-09-14",{"$f":"VLOOKUP(入出金tbl[[#This Row],[内　容]],科目tbl[[内　容]:[番号]],2,TRUE)","v":"経常外収支"},{"$f":"VLOOKUP(入出金tbl[[#This Row],[内　容]],科目tbl[[内　容]:[番号]],3,TRUE)","v":"収入"},"固定資産等売却手取","摘要を記載する　390",1162]
[239,"2018-09-14",{"$f":"VLOOKUP(入出金tbl[[#This Row],[内　容]],科目tbl[[内　容]:[番号]],2,TRUE)","v":"経常外収支"},{"$f":"VLOOKUP(入出金tbl[[#This Row],[内　容]],科目tbl[[内　容]:[番号]],3,TRUE)","v":"収入"},"定期預金等解約","摘要を記載する　163",1006]
[240,"2018-09-15",{"$f":"VLOOKUP(入出金tbl[[#This Row],[内　容]],科目tbl[[内　容]:[番号]],2,TRUE)","v":"経常外収支"},{"$f":"VLOOKUP(入出金tbl[[#This Row],[内　容]],科目tbl[[内　容]:[番号]],3,TRUE)","v":"収入"},"その他臨時収入","摘要を記載する　431",692]
[241,"2018-09-15",{"$f":"VLOOKUP(入出金tbl[[#This Row],[内　容]],科目tbl[[内　容]:[番号]],2,TRUE)","v":"財務収支"},{"$f":"VLOOKUP(入出金tbl[[#This Row],[内　容]],科目tbl[[内　容]:[番号]],3,TRUE)","v":"収入"},"短期借入金調達","摘要を記載する　282",53]
[242,"2018-09-16",{"$f":"VLOOKUP(入出金tbl[[#This Row],[内　容]],科目tbl[[内　容]:[番号]],2,TRUE)","v":"財務収支"},{"$f":"VLOOKUP(入出金tbl[[#This Row],[内　容]],科目tbl[[内　容]:[番号]],3,TRUE)","v":"収入"},"長期借入金調達","摘要を記載する　390",1162]
[243,"2018-09-16",{"$f":"VLOOKUP(入出金tbl[[#This Row],[内　容]],科目tbl[[内　容]:[番号]],2,TRUE)","v":"財務収支"},{"$f":"VLOOKUP(入出金tbl[[#This Row],[内　容]],科目tbl[[内　容]:[番号]],3,TRUE)","v":"収入"},"社長借入金調達","摘要を記載する　282",53]
[244,"2018-09-17",{"$f":"VLOOKUP(入出金tbl[[#This Row],[内　容]],科目tbl[[内　容]:[番号]],2,TRUE)","v":"財務収支"},{"$f":"VLOOKUP(入出金tbl[[#This Row],[内　容]],科目tbl[[内　容]:[番号]],3,TRUE)","v":"収入"},"その他調達","摘要を記載する　431",692]
[245,"2018-09-17",{"$f":"VLOOKUP(入出金tbl[[#This Row],[内　容]],科目tbl[[内　容]:[番号]],2,TRUE)","v":"経常収支"},{"$f":"VLOOKUP(入出金tbl[[#This Row],[内　容]],科目tbl[[内　容]:[番号]],3,TRUE)","v":"支出"},"現金仕入","摘要を記載する　282",53]
[246,"2018-09-18",{"$f":"VLOOKUP(入出金tbl[[#This Row],[内　容]],科目tbl[[内　容]:[番号]],2,TRUE)","v":"経常収支"},{"$f":"VLOOKUP(入出金tbl[[#This Row],[内　容]],科目tbl[[内　容]:[番号]],3,TRUE)","v":"支出"},"買掛金支払","摘要を記載する　390",1162]
[247,"2018-09-18",{"$f":"VLOOKUP(入出金tbl[[#This Row],[内　容]],科目tbl[[内　容]:[番号]],2,TRUE)","v":"経常収支"},{"$f":"VLOOKUP(入出金tbl[[#This Row],[内　容]],科目tbl[[内　容]:[番号]],3,TRUE)","v":"支出"},"手形支払","摘要を記載する　481",1110]
[248,"2018-09-19",{"$f":"VLOOKUP(入出金tbl[[#This Row],[内　容]],科目tbl[[内　容]:[番号]],2,TRUE)","v":"経常収支"},{"$f":"VLOOKUP(入出金tbl[[#This Row],[内　容]],科目tbl[[内　容]:[番号]],3,TRUE)","v":"支出"},"賃金・給与現金支払","摘要を記載する　416",358]
[249,"2018-09-19",{"$f":"VLOOKUP(入出金tbl[[#This Row],[内　容]],科目tbl[[内　容]:[番号]],2,TRUE)","v":"経常収支"},{"$f":"VLOOKUP(入出金tbl[[#This Row],[内　容]],科目tbl[[内　容]:[番号]],3,TRUE)","v":"支出"},"賞与支払い","摘要を記載する　356",694]
[250,"2018-09-20",{"$f":"VLOOKUP(入出金tbl[[#This Row],[内　容]],科目tbl[[内　容]:[番号]],2,TRUE)","v":"経常収支"},{"$f":"VLOOKUP(入出金tbl[[#This Row],[内　容]],科目tbl[[内　容]:[番号]],3,TRUE)","v":"支出"},"支払利息・割引料","摘要を記載する　416",358]
[251,"2018-09-20",{"$f":"VLOOKUP(入出金tbl[[#This Row],[内　容]],科目tbl[[内　容]:[番号]],2,TRUE)","v":"経常収支"},{"$f":"VLOOKUP(入出金tbl[[#This Row],[内　容]],科目tbl[[内　容]:[番号]],3,TRUE)","v":"支出"},"諸経費現金支払","摘要を記載する　481",1110]
[252,"2018-09-21",{"$f":"VLOOKUP(入出金tbl[[#This Row],[内　容]],科目tbl[[内　容]:[番号]],2,TRUE)","v":"経常外収支"},{"$f":"VLOOKUP(入出金tbl[[#This Row],[内　容]],科目tbl[[内　容]:[番号]],3,TRUE)","v":"支出"},"税金","摘要を記載する　416",358]
[253,"2018-09-21",{"$f":"VLOOKUP(入出金tbl[[#This Row],[内　容]],科目tbl[[内　容]:[番号]],2,TRUE)","v":"経常外収支"},{"$f":"VLOOKUP(入出金tbl[[#This Row],[内　容]],科目tbl[[内　容]:[番号]],3,TRUE)","v":"支出"},"役員賞与","摘要を記載する　356",694]
[254,"2018-09-22",{"$f":"VLOOKUP(入出金tbl[[#This Row],[内　容]],科目tbl[[内　容]:[番号]],2,TRUE)","v":"経常外収支"},{"$f":"VLOOKUP(入出金tbl[[#This Row],[内　容]],科目tbl[[内　容]:[番号]],3,TRUE)","v":"支出"},"配当","摘要を記載する　404",436]
[255,"2018-09-22",{"$f":"VLOOKUP(入出金tbl[[#This Row],[内　容]],科目tbl[[内　容]:[番号]],2,TRUE)","v":"経常外収支"},{"$f":"VLOOKUP(入出金tbl[[#This Row],[内　容]],科目tbl[[内　容]:[番号]],3,TRUE)","v":"支出"},"固定資産購入支出","摘要を記載する　481",1110]
[256,"2018-09-23",{"$f":"VLOOKUP(入出金tbl[[#This Row],[内　容]],科目tbl[[内　容]:[番号]],2,TRUE)","v":"経常外収支"},{"$f":"VLOOKUP(入出金tbl[[#This Row],[内　容]],科目tbl[[内　容]:[番号]],3,TRUE)","v":"支出"},"定期預金等設定","摘要を記載する　404",436]
[257,"2018-09-23",{"$f":"VLOOKUP(入出金tbl[[#This Row],[内　容]],科目tbl[[内　容]:[番号]],2,TRUE)","v":"経常外収支"},{"$f":"VLOOKUP(入出金tbl[[#This Row],[内　容]],科目tbl[[内　容]:[番号]],3,TRUE)","v":"支出"},"その他臨時支出","摘要を記載する　356",694]
[258,"2018-09-24",{"$f":"VLOOKUP(入出金tbl[[#This Row],[内　容]],科目tbl[[内　容]:[番号]],2,TRUE)","v":"財務収支"},{"$f":"VLOOKUP(入出金tbl[[#This Row],[内　容]],科目tbl[[内　容]:[番号]],3,TRUE)","v":"支出"},"短期借入金返済","摘要を記載する　404",436]
[259,"2018-09-24",{"$f":"VLOOKUP(入出金tbl[[#This Row],[内　容]],科目tbl[[内　容]:[番号]],2,TRUE)","v":"財務収支"},{"$f":"VLOOKUP(入出金tbl[[#This Row],[内　容]],科目tbl[[内　容]:[番号]],3,TRUE)","v":"支出"},"長期借入金返済","摘要を記載する　355",640]
[260,"2018-09-25",{"$f":"VLOOKUP(入出金tbl[[#This Row],[内　容]],科目tbl[[内　容]:[番号]],2,TRUE)","v":"財務収支"},{"$f":"VLOOKUP(入出金tbl[[#This Row],[内　容]],科目tbl[[内　容]:[番号]],3,TRUE)","v":"支出"},"社長借入金返済","摘要を記載する　201",363]
[261,"2018-09-25",{"$f":"VLOOKUP(入出金tbl[[#This Row],[内　容]],科目tbl[[内　容]:[番号]],2,TRUE)","v":"財務収支"},{"$f":"VLOOKUP(入出金tbl[[#This Row],[内　容]],科目tbl[[内　容]:[番号]],3,TRUE)","v":"支出"},"その他返済","摘要を記載する　355",640]
[262,"2018-09-26",{"$f":"VLOOKUP(入出金tbl[[#This Row],[内　容]],科目tbl[[内　容]:[番号]],2,TRUE)","v":"経常収支"},{"$f":"VLOOKUP(入出金tbl[[#This Row],[内　容]],科目tbl[[内　容]:[番号]],3,TRUE)","v":"収入"},"現金売上","摘要を記載する　201",363]
[263,"2018-09-26",{"$f":"VLOOKUP(入出金tbl[[#This Row],[内　容]],科目tbl[[内　容]:[番号]],2,TRUE)","v":"経常収支"},{"$f":"VLOOKUP(入出金tbl[[#This Row],[内　容]],科目tbl[[内　容]:[番号]],3,TRUE)","v":"収入"},"売掛金回収","摘要を記載する　355",640]
[264,"2018-09-27",{"$f":"VLOOKUP(入出金tbl[[#This Row],[内　容]],科目tbl[[内　容]:[番号]],2,TRUE)","v":"経常収支"},{"$f":"VLOOKUP(入出金tbl[[#This Row],[内　容]],科目tbl[[内　容]:[番号]],3,TRUE)","v":"収入"},"受取手形回収","摘要を記載する　201",363]
[265,"2018-09-27",{"$f":"VLOOKUP(入出金tbl[[#This Row],[内　容]],科目tbl[[内　容]:[番号]],2,TRUE)","v":"経常収支"},{"$f":"VLOOKUP(入出金tbl[[#This Row],[内　容]],科目tbl[[内　容]:[番号]],3,TRUE)","v":"収入"},"手形割引","摘要を記載する　169",255]
[266,"2018-09-28",{"$f":"VLOOKUP(入出金tbl[[#This Row],[内　容]],科目tbl[[内　容]:[番号]],2,TRUE)","v":"経常収支"},{"$f":"VLOOKUP(入出金tbl[[#This Row],[内　容]],科目tbl[[内　容]:[番号]],3,TRUE)","v":"収入"},"その他収入","摘要を記載する　273",879]
[267,"2018-09-28",{"$f":"VLOOKUP(入出金tbl[[#This Row],[内　容]],科目tbl[[内　容]:[番号]],2,TRUE)","v":"経常外収支"},{"$f":"VLOOKUP(入出金tbl[[#This Row],[内　容]],科目tbl[[内　容]:[番号]],3,TRUE)","v":"収入"},"固定資産等売却手取","摘要を記載する　378",166]
[268,"2018-09-29",{"$f":"VLOOKUP(入出金tbl[[#This Row],[内　容]],科目tbl[[内　容]:[番号]],2,TRUE)","v":"経常外収支"},{"$f":"VLOOKUP(入出金tbl[[#This Row],[内　容]],科目tbl[[内　容]:[番号]],3,TRUE)","v":"収入"},"定期預金等解約","摘要を記載する　273",879]
[269,"2018-09-29",{"$f":"VLOOKUP(入出金tbl[[#This Row],[内　容]],科目tbl[[内　容]:[番号]],2,TRUE)","v":"経常外収支"},{"$f":"VLOOKUP(入出金tbl[[#This Row],[内　容]],科目tbl[[内　容]:[番号]],3,TRUE)","v":"収入"},"その他臨時収入","摘要を記載する　169",255]
[270,"2018-09-30",{"$f":"VLOOKUP(入出金tbl[[#This Row],[内　容]],科目tbl[[内　容]:[番号]],2,TRUE)","v":"財務収支"},{"$f":"VLOOKUP(入出金tbl[[#This Row],[内　容]],科目tbl[[内　容]:[番号]],3,TRUE)","v":"収入"},"短期借入金調達","摘要を記載する　273",879]
[271,"2018-09-30",{"$f":"VLOOKUP(入出金tbl[[#This Row],[内　容]],科目tbl[[内　容]:[番号]],2,TRUE)","v":"財務収支"},{"$f":"VLOOKUP(入出金tbl[[#This Row],[内　容]],科目tbl[[内　容]:[番号]],3,TRUE)","v":"収入"},"長期借入金調達","摘要を記載する　378",166]
[272,"2018-09-30",{"$f":"VLOOKUP(入出金tbl[[#This Row],[内　容]],科目tbl[[内　容]:[番号]],2,TRUE)","v":"財務収支"},{"$f":"VLOOKUP(入出金tbl[[#This Row],[内　容]],科目tbl[[内　容]:[番号]],3,TRUE)","v":"収入"},"社長借入金調達","摘要を記載する　090",61]
[273,"2018-09-30",{"$f":"VLOOKUP(入出金tbl[[#This Row],[内　容]],科目tbl[[内　容]:[番号]],2,TRUE)","v":"財務収支"},{"$f":"VLOOKUP(入出金tbl[[#This Row],[内　容]],科目tbl[[内　容]:[番号]],3,TRUE)","v":"収入"},"その他調達","摘要を記載する　169",255]
[274,"2018-10-01",{"$f":"VLOOKUP(入出金tbl[[#This Row],[内　容]],科目tbl[[内　容]:[番号]],2,TRUE)","v":"経常収支"},{"$f":"VLOOKUP(入出金tbl[[#This Row],[内　容]],科目tbl[[内　容]:[番号]],3,TRUE)","v":"支出"},"現金仕入","摘要を記載する　488",488]
[275,"2018-10-01",{"$f":"VLOOKUP(入出金tbl[[#This Row],[内　容]],科目tbl[[内　容]:[番号]],2,TRUE)","v":"経常収支"},{"$f":"VLOOKUP(入出金tbl[[#This Row],[内　容]],科目tbl[[内　容]:[番号]],3,TRUE)","v":"支出"},"買掛金支払","摘要を記載する　341",341]
[276,"2018-10-02",{"$f":"VLOOKUP(入出金tbl[[#This Row],[内　容]],科目tbl[[内　容]:[番号]],2,TRUE)","v":"経常収支"},{"$f":"VLOOKUP(入出金tbl[[#This Row],[内　容]],科目tbl[[内　容]:[番号]],3,TRUE)","v":"支出"},"手形支払","摘要を記載する　402",640]
[277,"2018-10-02",{"$f":"VLOOKUP(入出金tbl[[#This Row],[内　容]],科目tbl[[内　容]:[番号]],2,TRUE)","v":"経常収支"},{"$f":"VLOOKUP(入出金tbl[[#This Row],[内　容]],科目tbl[[内　容]:[番号]],3,TRUE)","v":"支出"},"賃金・給与現金支払","摘要を記載する　108",180]
[278,"2018-10-02",{"$f":"VLOOKUP(入出金tbl[[#This Row],[内　容]],科目tbl[[内　容]:[番号]],2,TRUE)","v":"経常収支"},{"$f":"VLOOKUP(入出金tbl[[#This Row],[内　容]],科目tbl[[内　容]:[番号]],3,TRUE)","v":"支出"},"賞与支払い","摘要を記載する　341",341]
[279,"2018-10-03",{"$f":"VLOOKUP(入出金tbl[[#This Row],[内　容]],科目tbl[[内　容]:[番号]],2,TRUE)","v":"経常収支"},{"$f":"VLOOKUP(入出金tbl[[#This Row],[内　容]],科目tbl[[内　容]:[番号]],3,TRUE)","v":"支出"},"支払利息・割引料","摘要を記載する　402",640]
[280,"2018-10-03",{"$f":"VLOOKUP(入出金tbl[[#This Row],[内　容]],科目tbl[[内　容]:[番号]],2,TRUE)","v":"経常収支"},{"$f":"VLOOKUP(入出金tbl[[#This Row],[内　容]],科目tbl[[内　容]:[番号]],3,TRUE)","v":"支出"},"諸経費現金支払","摘要を記載する　488",488]
[281,"2018-10-04",{"$f":"VLOOKUP(入出金tbl[[#This Row],[内　容]],科目tbl[[内　容]:[番号]],2,TRUE)","v":"経常外収支"},{"$f":"VLOOKUP(入出金tbl[[#This Row],[内　容]],科目tbl[[内　容]:[番号]],3,TRUE)","v":"支出"},"税金","摘要を記載する　402",640]
[282,"2018-10-04",{"$f":"VLOOKUP(入出金tbl[[#This Row],[内　容]],科目tbl[[内　容]:[番号]],2,TRUE)","v":"経常外収支"},{"$f":"VLOOKUP(入出金tbl[[#This Row],[内　容]],科目tbl[[内　容]:[番号]],3,TRUE)","v":"支出"},"役員賞与","摘要を記載する　247",138]
[283,"2018-10-05",{"$f":"VLOOKUP(入出金tbl[[#This Row],[内　容]],科目tbl[[内　容]:[番号]],2,TRUE)","v":"経常外収支"},{"$f":"VLOOKUP(入出金tbl[[#This Row],[内　容]],科目tbl[[内　容]:[番号]],3,TRUE)","v":"支出"},"配当","摘要を記載する　077",222]
[284,"2018-10-05",{"$f":"VLOOKUP(入出金tbl[[#This Row],[内　容]],科目tbl[[内　容]:[番号]],2,TRUE)","v":"経常外収支"},{"$f":"VLOOKUP(入出金tbl[[#This Row],[内　容]],科目tbl[[内　容]:[番号]],3,TRUE)","v":"支出"},"固定資産購入支出","摘要を記載する　247",138]
[285,"2018-10-06",{"$f":"VLOOKUP(入出金tbl[[#This Row],[内　容]],科目tbl[[内　容]:[番号]],2,TRUE)","v":"経常外収支"},{"$f":"VLOOKUP(入出金tbl[[#This Row],[内　容]],科目tbl[[内　容]:[番号]],3,TRUE)","v":"支出"},"定期預金等設定","摘要を記載する　077",222]
[286,"2018-10-06",{"$f":"VLOOKUP(入出金tbl[[#This Row],[内　容]],科目tbl[[内　容]:[番号]],2,TRUE)","v":"経常外収支"},{"$f":"VLOOKUP(入出金tbl[[#This Row],[内　容]],科目tbl[[内　容]:[番号]],3,TRUE)","v":"支出"},"その他臨時支出","摘要を記載する　247",138]
[287,"2018-10-07",{"$f":"VLOOKUP(入出金tbl[[#This Row],[内　容]],科目tbl[[内　容]:[番号]],2,TRUE)","v":"財務収支"},{"$f":"VLOOKUP(入出金tbl[[#This Row],[内　容]],科目tbl[[内　容]:[番号]],3,TRUE)","v":"支出"},"短期借入金返済","摘要を記載する　077",222]
[288,"2018-10-07",{"$f":"VLOOKUP(入出金tbl[[#This Row],[内　容]],科目tbl[[内　容]:[番号]],2,TRUE)","v":"財務収支"},{"$f":"VLOOKUP(入出金tbl[[#This Row],[内　容]],科目tbl[[内　容]:[番号]],3,TRUE)","v":"支出"},"長期借入金返済","摘要を記載する　098",449]
[289,"2018-10-08",{"$f":"VLOOKUP(入出金tbl[[#This Row],[内　容]],科目tbl[[内　容]:[番号]],2,TRUE)","v":"財務収支"},{"$f":"VLOOKUP(入出金tbl[[#This Row],[内　容]],科目tbl[[内　容]:[番号]],3,TRUE)","v":"支出"},"社長借入金返済","摘要を記載する　158",186]
[290,"2018-10-08",{"$f":"VLOOKUP(入出金tbl[[#This Row],[内　容]],科目tbl[[内　容]:[番号]],2,TRUE)","v":"財務収支"},{"$f":"VLOOKUP(入出金tbl[[#This Row],[内　容]],科目tbl[[内　容]:[番号]],3,TRUE)","v":"支出"},"その他返済","摘要を記載する　098",449]
[291,"2018-10-09",{"$f":"VLOOKUP(入出金tbl[[#This Row],[内　容]],科目tbl[[内　容]:[番号]],2,TRUE)","v":"経常収支"},{"$f":"VLOOKUP(入出金tbl[[#This Row],[内　容]],科目tbl[[内　容]:[番号]],3,TRUE)","v":"収入"},"現金売上","摘要を記載する　346",747]
[292,"2018-10-09",{"$f":"VLOOKUP(入出金tbl[[#This Row],[内　容]],科目tbl[[内　容]:[番号]],2,TRUE)","v":"経常収支"},{"$f":"VLOOKUP(入出金tbl[[#This Row],[内　容]],科目tbl[[内　容]:[番号]],3,TRUE)","v":"収入"},"売掛金回収","摘要を記載する　098",449]
[293,"2018-10-10",{"$f":"VLOOKUP(入出金tbl[[#This Row],[内　容]],科目tbl[[内　容]:[番号]],2,TRUE)","v":"経常収支"},{"$f":"VLOOKUP(入出金tbl[[#This Row],[内　容]],科目tbl[[内　容]:[番号]],3,TRUE)","v":"収入"},"受取手形回収","摘要を記載する　158",186]
[294,"2018-10-10",{"$f":"VLOOKUP(入出金tbl[[#This Row],[内　容]],科目tbl[[内　容]:[番号]],2,TRUE)","v":"経常収支"},{"$f":"VLOOKUP(入出金tbl[[#This Row],[内　容]],科目tbl[[内　容]:[番号]],3,TRUE)","v":"収入"},"手形割引","摘要を記載する　223",1100]
[295,"2018-10-11",{"$f":"VLOOKUP(入出金tbl[[#This Row],[内　容]],科目tbl[[内　容]:[番号]],2,TRUE)","v":"経常収支"},{"$f":"VLOOKUP(入出金tbl[[#This Row],[内　容]],科目tbl[[内　容]:[番号]],3,TRUE)","v":"収入"},"その他収入","摘要を記載する　346",747]
[296,"2018-10-11",{"$f":"VLOOKUP(入出金tbl[[#This Row],[内　容]],科目tbl[[内　容]:[番号]],2,TRUE)","v":"経常外収支"},{"$f":"VLOOKUP(入出金tbl[[#This Row],[内　容]],科目tbl[[内　容]:[番号]],3,TRUE)","v":"収入"},"固定資産等売却手取","摘要を記載する　223",1100]
[297,"2018-10-12",{"$f":"VLOOKUP(入出金tbl[[#This Row],[内　容]],科目tbl[[内　容]:[番号]],2,TRUE)","v":"経常外収支"},{"$f":"VLOOKUP(入出金tbl[[#This Row],[内　容]],科目tbl[[内　容]:[番号]],3,TRUE)","v":"収入"},"定期預金等解約","摘要を記載する　158",186]
[298,"2018-10-12",{"$f":"VLOOKUP(入出金tbl[[#This Row],[内　容]],科目tbl[[内　容]:[番号]],2,TRUE)","v":"経常外収支"},{"$f":"VLOOKUP(入出金tbl[[#This Row],[内　容]],科目tbl[[内　容]:[番号]],3,TRUE)","v":"収入"},"その他臨時収入","摘要を記載する　223",1100]
[299,"2018-10-13",{"$f":"VLOOKUP(入出金tbl[[#This Row],[内　容]],科目tbl[[内　容]:[番号]],2,TRUE)","v":"財務収支"},{"$f":"VLOOKUP(入出金tbl[[#This Row],[内　容]],科目tbl[[内　容]:[番号]],3,TRUE)","v":"収入"},"短期借入金調達","摘要を記載する　346",747]
[300,"2018-10-13",{"$f":"VLOOKUP(入出金tbl[[#This Row],[内　容]],科目tbl[[内　容]:[番号]],2,TRUE)","v":"財務収支"},{"$f":"VLOOKUP(入出金tbl[[#This Row],[内　容]],科目tbl[[内　容]:[番号]],3,TRUE)","v":"収入"},"長期借入金調達","摘要を記載する　213",944]
[301,"2018-10-14",{"$f":"VLOOKUP(入出金tbl[[#This Row],[内　容]],科目tbl[[内　容]:[番号]],2,TRUE)","v":"財務収支"},{"$f":"VLOOKUP(入出金tbl[[#This Row],[内　容]],科目tbl[[内　容]:[番号]],3,TRUE)","v":"収入"},"社長借入金調達","摘要を記載する　363",258]
[302,"2018-10-14",{"$f":"VLOOKUP(入出金tbl[[#This Row],[内　容]],科目tbl[[内　容]:[番号]],2,TRUE)","v":"財務収支"},{"$f":"VLOOKUP(入出金tbl[[#This Row],[内　容]],科目tbl[[内　容]:[番号]],3,TRUE)","v":"収入"},"その他調達","摘要を記載する　213",944]
[303,"2018-10-15",{"$f":"VLOOKUP(入出金tbl[[#This Row],[内　容]],科目tbl[[内　容]:[番号]],2,TRUE)","v":"経常収支"},{"$f":"VLOOKUP(入出金tbl[[#This Row],[内　容]],科目tbl[[内　容]:[番号]],3,TRUE)","v":"支出"},"現金仕入","摘要を記載する　363",258]
[304,"2018-10-15",{"$f":"VLOOKUP(入出金tbl[[#This Row],[内　容]],科目tbl[[内　容]:[番号]],2,TRUE)","v":"経常収支"},{"$f":"VLOOKUP(入出金tbl[[#This Row],[内　容]],科目tbl[[内　容]:[番号]],3,TRUE)","v":"支出"},"買掛金支払","摘要を記載する　213",944]
[305,"2018-10-16",{"$f":"VLOOKUP(入出金tbl[[#This Row],[内　容]],科目tbl[[内　容]:[番号]],2,TRUE)","v":"経常収支"},{"$f":"VLOOKUP(入出金tbl[[#This Row],[内　容]],科目tbl[[内　容]:[番号]],3,TRUE)","v":"支出"},"手形支払","摘要を記載する　363",258]
[306,"2018-10-16",{"$f":"VLOOKUP(入出金tbl[[#This Row],[内　容]],科目tbl[[内　容]:[番号]],2,TRUE)","v":"経常収支"},{"$f":"VLOOKUP(入出金tbl[[#This Row],[内　容]],科目tbl[[内　容]:[番号]],3,TRUE)","v":"支出"},"賃金・給与現金支払","摘要を記載する　226",951]
[307,"2018-10-17",{"$f":"VLOOKUP(入出金tbl[[#This Row],[内　容]],科目tbl[[内　容]:[番号]],2,TRUE)","v":"経常収支"},{"$f":"VLOOKUP(入出金tbl[[#This Row],[内　容]],科目tbl[[内　容]:[番号]],3,TRUE)","v":"支出"},"賞与支払い","摘要を記載する　348",953]
[308,"2018-10-17",{"$f":"VLOOKUP(入出金tbl[[#This Row],[内　容]],科目tbl[[内　容]:[番号]],2,TRUE)","v":"経常収支"},{"$f":"VLOOKUP(入出金tbl[[#This Row],[内　容]],科目tbl[[内　容]:[番号]],3,TRUE)","v":"支出"},"支払利息・割引料","摘要を記載する　226",951]
[309,"2018-10-18",{"$f":"VLOOKUP(入出金tbl[[#This Row],[内　容]],科目tbl[[内　容]:[番号]],2,TRUE)","v":"経常収支"},{"$f":"VLOOKUP(入出金tbl[[#This Row],[内　容]],科目tbl[[内　容]:[番号]],3,TRUE)","v":"支出"},"諸経費現金支払","摘要を記載する　348",953]
[310,"2018-10-18",{"$f":"VLOOKUP(入出金tbl[[#This Row],[内　容]],科目tbl[[内　容]:[番号]],2,TRUE)","v":"経常外収支"},{"$f":"VLOOKUP(入出金tbl[[#This Row],[内　容]],科目tbl[[内　容]:[番号]],3,TRUE)","v":"支出"},"税金","摘要を記載する　226",951]
[311,"2018-10-19",{"$f":"VLOOKUP(入出金tbl[[#This Row],[内　容]],科目tbl[[内　容]:[番号]],2,TRUE)","v":"経常外収支"},{"$f":"VLOOKUP(入出金tbl[[#This Row],[内　容]],科目tbl[[内　容]:[番号]],3,TRUE)","v":"支出"},"役員賞与","摘要を記載する　348",953]
[312,"2018-10-19",{"$f":"VLOOKUP(入出金tbl[[#This Row],[内　容]],科目tbl[[内　容]:[番号]],2,TRUE)","v":"経常外収支"},{"$f":"VLOOKUP(入出金tbl[[#This Row],[内　容]],科目tbl[[内　容]:[番号]],3,TRUE)","v":"支出"},"配当","摘要を記載する　111",684]
[313,"2018-10-20",{"$f":"VLOOKUP(入出金tbl[[#This Row],[内　容]],科目tbl[[内　容]:[番号]],2,TRUE)","v":"経常外収支"},{"$f":"VLOOKUP(入出金tbl[[#This Row],[内　容]],科目tbl[[内　容]:[番号]],3,TRUE)","v":"支出"},"固定資産購入支出","摘要を記載する　422",352]
[314,"2018-10-20",{"$f":"VLOOKUP(入出金tbl[[#This Row],[内　容]],科目tbl[[内　容]:[番号]],2,TRUE)","v":"経常外収支"},{"$f":"VLOOKUP(入出金tbl[[#This Row],[内　容]],科目tbl[[内　容]:[番号]],3,TRUE)","v":"支出"},"定期預金等設定","摘要を記載する　111",684]
[315,"2018-10-21",{"$f":"VLOOKUP(入出金tbl[[#This Row],[内　容]],科目tbl[[内　容]:[番号]],2,TRUE)","v":"経常外収支"},{"$f":"VLOOKUP(入出金tbl[[#This Row],[内　容]],科目tbl[[内　容]:[番号]],3,TRUE)","v":"支出"},"その他臨時支出","摘要を記載する　284",861]
[316,"2018-10-21",{"$f":"VLOOKUP(入出金tbl[[#This Row],[内　容]],科目tbl[[内　容]:[番号]],2,TRUE)","v":"財務収支"},{"$f":"VLOOKUP(入出金tbl[[#This Row],[内　容]],科目tbl[[内　容]:[番号]],3,TRUE)","v":"支出"},"短期借入金返済","摘要を記載する　111",684]
[317,"2018-10-22",{"$f":"VLOOKUP(入出金tbl[[#This Row],[内　容]],科目tbl[[内　容]:[番号]],2,TRUE)","v":"財務収支"},{"$f":"VLOOKUP(入出金tbl[[#This Row],[内　容]],科目tbl[[内　容]:[番号]],3,TRUE)","v":"支出"},"長期借入金返済","摘要を記載する　422",352]
[318,"2018-10-22",{"$f":"VLOOKUP(入出金tbl[[#This Row],[内　容]],科目tbl[[内　容]:[番号]],2,TRUE)","v":"財務収支"},{"$f":"VLOOKUP(入出金tbl[[#This Row],[内　容]],科目tbl[[内　容]:[番号]],3,TRUE)","v":"支出"},"社長借入金返済","摘要を記載する　522",559]
[319,"2018-10-23",{"$f":"VLOOKUP(入出金tbl[[#This Row],[内　容]],科目tbl[[内　容]:[番号]],2,TRUE)","v":"財務収支"},{"$f":"VLOOKUP(入出金tbl[[#This Row],[内　容]],科目tbl[[内　容]:[番号]],3,TRUE)","v":"支出"},"その他返済","摘要を記載する　284",861]
[320,"2018-10-23",{"$f":"VLOOKUP(入出金tbl[[#This Row],[内　容]],科目tbl[[内　容]:[番号]],2,TRUE)","v":"経常収支"},{"$f":"VLOOKUP(入出金tbl[[#This Row],[内　容]],科目tbl[[内　容]:[番号]],3,TRUE)","v":"収入"},"現金売上","摘要を記載する　522",559]
[321,"2018-10-24",{"$f":"VLOOKUP(入出金tbl[[#This Row],[内　容]],科目tbl[[内　容]:[番号]],2,TRUE)","v":"経常収支"},{"$f":"VLOOKUP(入出金tbl[[#This Row],[内　容]],科目tbl[[内　容]:[番号]],3,TRUE)","v":"収入"},"売掛金回収","摘要を記載する　422",352]
[322,"2018-10-24",{"$f":"VLOOKUP(入出金tbl[[#This Row],[内　容]],科目tbl[[内　容]:[番号]],2,TRUE)","v":"経常収支"},{"$f":"VLOOKUP(入出金tbl[[#This Row],[内　容]],科目tbl[[内　容]:[番号]],3,TRUE)","v":"収入"},"受取手形回収","摘要を記載する　522",559]
[323,"2018-10-25",{"$f":"VLOOKUP(入出金tbl[[#This Row],[内　容]],科目tbl[[内　容]:[番号]],2,TRUE)","v":"経常収支"},{"$f":"VLOOKUP(入出金tbl[[#This Row],[内　容]],科目tbl[[内　容]:[番号]],3,TRUE)","v":"収入"},"手形割引","摘要を記載する　284",861]
[324,"2018-10-25",{"$f":"VLOOKUP(入出金tbl[[#This Row],[内　容]],科目tbl[[内　容]:[番号]],2,TRUE)","v":"経常収支"},{"$f":"VLOOKUP(入出金tbl[[#This Row],[内　容]],科目tbl[[内　容]:[番号]],3,TRUE)","v":"収入"},"その他収入","摘要を記載する　413",1169]
[325,"2018-10-26",{"$f":"VLOOKUP(入出金tbl[[#This Row],[内　容]],科目tbl[[内　容]:[番号]],2,TRUE)","v":"経常外収支"},{"$f":"VLOOKUP(入出金tbl[[#This Row],[内　容]],科目tbl[[内　容]:[番号]],3,TRUE)","v":"収入"},"固定資産等売却手取","摘要を記載する　406",70]
[326,"2018-10-26",{"$f":"VLOOKUP(入出金tbl[[#This Row],[内　容]],科目tbl[[内　容]:[番号]],2,TRUE)","v":"経常外収支"},{"$f":"VLOOKUP(入出金tbl[[#This Row],[内　容]],科目tbl[[内　容]:[番号]],3,TRUE)","v":"収入"},"定期預金等解約","摘要を記載する　413",1169]
[327,"2018-10-27",{"$f":"VLOOKUP(入出金tbl[[#This Row],[内　容]],科目tbl[[内　容]:[番号]],2,TRUE)","v":"経常外収支"},{"$f":"VLOOKUP(入出金tbl[[#This Row],[内　容]],科目tbl[[内　容]:[番号]],3,TRUE)","v":"収入"},"その他臨時収入","摘要を記載する　406",70]
[328,"2018-10-27",{"$f":"VLOOKUP(入出金tbl[[#This Row],[内　容]],科目tbl[[内　容]:[番号]],2,TRUE)","v":"財務収支"},{"$f":"VLOOKUP(入出金tbl[[#This Row],[内　容]],科目tbl[[内　容]:[番号]],3,TRUE)","v":"収入"},"短期借入金調達","摘要を記載する　413",1169]
[329,"2018-10-28",{"$f":"VLOOKUP(入出金tbl[[#This Row],[内　容]],科目tbl[[内　容]:[番号]],2,TRUE)","v":"財務収支"},{"$f":"VLOOKUP(入出金tbl[[#This Row],[内　容]],科目tbl[[内　容]:[番号]],3,TRUE)","v":"収入"},"長期借入金調達","摘要を記載する　406",70]
[330,"2018-10-28",{"$f":"VLOOKUP(入出金tbl[[#This Row],[内　容]],科目tbl[[内　容]:[番号]],2,TRUE)","v":"財務収支"},{"$f":"VLOOKUP(入出金tbl[[#This Row],[内　容]],科目tbl[[内　容]:[番号]],3,TRUE)","v":"収入"},"社長借入金調達","摘要を記載する　072",62]
[331,"2018-10-29",{"$f":"VLOOKUP(入出金tbl[[#This Row],[内　容]],科目tbl[[内　容]:[番号]],2,TRUE)","v":"財務収支"},{"$f":"VLOOKUP(入出金tbl[[#This Row],[内　容]],科目tbl[[内　容]:[番号]],3,TRUE)","v":"収入"},"その他調達","摘要を記載する　108",180]
[332,"2018-10-29",{"$f":"VLOOKUP(入出金tbl[[#This Row],[内　容]],科目tbl[[内　容]:[番号]],2,TRUE)","v":"経常収支"},{"$f":"VLOOKUP(入出金tbl[[#This Row],[内　容]],科目tbl[[内　容]:[番号]],3,TRUE)","v":"支出"},"現金仕入","摘要を記載する　072",62]
[333,"2018-10-30",{"$f":"VLOOKUP(入出金tbl[[#This Row],[内　容]],科目tbl[[内　容]:[番号]],2,TRUE)","v":"経常収支"},{"$f":"VLOOKUP(入出金tbl[[#This Row],[内　容]],科目tbl[[内　容]:[番号]],3,TRUE)","v":"支出"},"買掛金支払","摘要を記載する　488",488]
[334,"2018-10-30",{"$f":"VLOOKUP(入出金tbl[[#This Row],[内　容]],科目tbl[[内　容]:[番号]],2,TRUE)","v":"経常収支"},{"$f":"VLOOKUP(入出金tbl[[#This Row],[内　容]],科目tbl[[内　容]:[番号]],3,TRUE)","v":"支出"},"手形支払","摘要を記載する　072",62]
[335,"2018-10-31",{"$f":"VLOOKUP(入出金tbl[[#This Row],[内　容]],科目tbl[[内　容]:[番号]],2,TRUE)","v":"経常収支"},{"$f":"VLOOKUP(入出金tbl[[#This Row],[内　容]],科目tbl[[内　容]:[番号]],3,TRUE)","v":"支出"},"賃金・給与現金支払","摘要を記載する　108",180]
[336,"2018-10-31",{"$f":"VLOOKUP(入出金tbl[[#This Row],[内　容]],科目tbl[[内　容]:[番号]],2,TRUE)","v":"経常収支"},{"$f":"VLOOKUP(入出金tbl[[#This Row],[内　容]],科目tbl[[内　容]:[番号]],3,TRUE)","v":"支出"},"賞与支払い","摘要を記載する　341",341]
[337,"2018-11-01",{"$f":"VLOOKUP(入出金tbl[[#This Row],[内　容]],科目tbl[[内　容]:[番号]],2,TRUE)","v":"経常収支"},{"$f":"VLOOKUP(入出金tbl[[#This Row],[内　容]],科目tbl[[内　容]:[番号]],3,TRUE)","v":"支出"},"支払利息・割引料","摘要を記載する　181",774]
[338,"2018-11-02",{"$f":"VLOOKUP(入出金tbl[[#This Row],[内　容]],科目tbl[[内　容]:[番号]],2,TRUE)","v":"経常収支"},{"$f":"VLOOKUP(入出金tbl[[#This Row],[内　容]],科目tbl[[内　容]:[番号]],3,TRUE)","v":"支出"},"諸経費現金支払","摘要を記載する　210",586]
[339,"2018-11-03",{"$f":"VLOOKUP(入出金tbl[[#This Row],[内　容]],科目tbl[[内　容]:[番号]],2,TRUE)","v":"経常外収支"},{"$f":"VLOOKUP(入出金tbl[[#This Row],[内　容]],科目tbl[[内　容]:[番号]],3,TRUE)","v":"支出"},"税金","摘要を記載する　432",971]
[340,"2018-11-03",{"$f":"VLOOKUP(入出金tbl[[#This Row],[内　容]],科目tbl[[内　容]:[番号]],2,TRUE)","v":"経常外収支"},{"$f":"VLOOKUP(入出金tbl[[#This Row],[内　容]],科目tbl[[内　容]:[番号]],3,TRUE)","v":"支出"},"役員賞与","摘要を記載する　210",586]
[341,"2018-11-04",{"$f":"VLOOKUP(入出金tbl[[#This Row],[内　容]],科目tbl[[内　容]:[番号]],2,TRUE)","v":"経常外収支"},{"$f":"VLOOKUP(入出金tbl[[#This Row],[内　容]],科目tbl[[内　容]:[番号]],3,TRUE)","v":"支出"},"配当","摘要を記載する　432",971]
[342,"2018-11-04",{"$f":"VLOOKUP(入出金tbl[[#This Row],[内　容]],科目tbl[[内　容]:[番号]],2,TRUE)","v":"経常外収支"},{"$f":"VLOOKUP(入出金tbl[[#This Row],[内　容]],科目tbl[[内　容]:[番号]],3,TRUE)","v":"支出"},"固定資産購入支出","摘要を記載する　225",284]
[343,"2018-11-05",{"$f":"VLOOKUP(入出金tbl[[#This Row],[内　容]],科目tbl[[内　容]:[番号]],2,TRUE)","v":"経常外収支"},{"$f":"VLOOKUP(入出金tbl[[#This Row],[内　容]],科目tbl[[内　容]:[番号]],3,TRUE)","v":"支出"},"定期預金等設定","摘要を記載する　264",492]
[344,"2018-11-05",{"$f":"VLOOKUP(入出金tbl[[#This Row],[内　容]],科目tbl[[内　容]:[番号]],2,TRUE)","v":"経常外収支"},{"$f":"VLOOKUP(入出金tbl[[#This Row],[内　容]],科目tbl[[内　容]:[番号]],3,TRUE)","v":"支出"},"その他臨時支出","摘要を記載する　225",284]
[345,"2018-11-06",{"$f":"VLOOKUP(入出金tbl[[#This Row],[内　容]],科目tbl[[内　容]:[番号]],2,TRUE)","v":"財務収支"},{"$f":"VLOOKUP(入出金tbl[[#This Row],[内　容]],科目tbl[[内　容]:[番号]],3,TRUE)","v":"支出"},"短期借入金返済","摘要を記載する　435",445]
[346,"2018-11-06",{"$f":"VLOOKUP(入出金tbl[[#This Row],[内　容]],科目tbl[[内　容]:[番号]],2,TRUE)","v":"財務収支"},{"$f":"VLOOKUP(入出金tbl[[#This Row],[内　容]],科目tbl[[内　容]:[番号]],3,TRUE)","v":"支出"},"長期借入金返済","摘要を記載する　172",1050]
[347,"2018-11-07",{"$f":"VLOOKUP(入出金tbl[[#This Row],[内　容]],科目tbl[[内　容]:[番号]],2,TRUE)","v":"財務収支"},{"$f":"VLOOKUP(入出金tbl[[#This Row],[内　容]],科目tbl[[内　容]:[番号]],3,TRUE)","v":"支出"},"社長借入金返済","摘要を記載する　264",492]
[348,"2018-11-07",{"$f":"VLOOKUP(入出金tbl[[#This Row],[内　容]],科目tbl[[内　容]:[番号]],2,TRUE)","v":"財務収支"},{"$f":"VLOOKUP(入出金tbl[[#This Row],[内　容]],科目tbl[[内　容]:[番号]],3,TRUE)","v":"支出"},"その他返済","摘要を記載する　172",1050]
[349,"2018-11-08",{"$f":"VLOOKUP(入出金tbl[[#This Row],[内　容]],科目tbl[[内　容]:[番号]],2,TRUE)","v":"経常収支"},{"$f":"VLOOKUP(入出金tbl[[#This Row],[内　容]],科目tbl[[内　容]:[番号]],3,TRUE)","v":"収入"},"現金売上","摘要を記載する　435",445]
[350,"2018-11-08",{"$f":"VLOOKUP(入出金tbl[[#This Row],[内　容]],科目tbl[[内　容]:[番号]],2,TRUE)","v":"経常収支"},{"$f":"VLOOKUP(入出金tbl[[#This Row],[内　容]],科目tbl[[内　容]:[番号]],3,TRUE)","v":"収入"},"売掛金回収","摘要を記載する　250",983]
[351,"2018-11-09",{"$f":"VLOOKUP(入出金tbl[[#This Row],[内　容]],科目tbl[[内　容]:[番号]],2,TRUE)","v":"経常収支"},{"$f":"VLOOKUP(入出金tbl[[#This Row],[内　容]],科目tbl[[内　容]:[番号]],3,TRUE)","v":"収入"},"受取手形回収","摘要を記載する　107",157]
[352,"2018-11-09",{"$f":"VLOOKUP(入出金tbl[[#This Row],[内　容]],科目tbl[[内　容]:[番号]],2,TRUE)","v":"経常収支"},{"$f":"VLOOKUP(入出金tbl[[#This Row],[内　容]],科目tbl[[内　容]:[番号]],3,TRUE)","v":"収入"},"手形割引","摘要を記載する　250",983]
[353,"2018-11-10",{"$f":"VLOOKUP(入出金tbl[[#This Row],[内　容]],科目tbl[[内　容]:[番号]],2,TRUE)","v":"経常収支"},{"$f":"VLOOKUP(入出金tbl[[#This Row],[内　容]],科目tbl[[内　容]:[番号]],3,TRUE)","v":"収入"},"その他収入","摘要を記載する　107",157]
[354,"2018-11-10",{"$f":"VLOOKUP(入出金tbl[[#This Row],[内　容]],科目tbl[[内　容]:[番号]],2,TRUE)","v":"経常外収支"},{"$f":"VLOOKUP(入出金tbl[[#This Row],[内　容]],科目tbl[[内　容]:[番号]],3,TRUE)","v":"収入"},"固定資産等売却手取","摘要を記載する　444",932]
[355,"2018-11-11",{"$f":"VLOOKUP(入出金tbl[[#This Row],[内　容]],科目tbl[[内　容]:[番号]],2,TRUE)","v":"経常外収支"},{"$f":"VLOOKUP(入出金tbl[[#This Row],[内　容]],科目tbl[[内　容]:[番号]],3,TRUE)","v":"収入"},"定期預金等解約","摘要を記載する　506",715]
[356,"2018-11-11",{"$f":"VLOOKUP(入出金tbl[[#This Row],[内　容]],科目tbl[[内　容]:[番号]],2,TRUE)","v":"経常外収支"},{"$f":"VLOOKUP(入出金tbl[[#This Row],[内　容]],科目tbl[[内　容]:[番号]],3,TRUE)","v":"収入"},"その他臨時収入","摘要を記載する　444",932]
[357,"2018-11-12",{"$f":"VLOOKUP(入出金tbl[[#This Row],[内　容]],科目tbl[[内　容]:[番号]],2,TRUE)","v":"財務収支"},{"$f":"VLOOKUP(入出金tbl[[#This Row],[内　容]],科目tbl[[内　容]:[番号]],3,TRUE)","v":"収入"},"短期借入金調達","摘要を記載する　506",715]
[358,"2018-11-13",{"$f":"VLOOKUP(入出金tbl[[#This Row],[内　容]],科目tbl[[内　容]:[番号]],2,TRUE)","v":"財務収支"},{"$f":"VLOOKUP(入出金tbl[[#This Row],[内　容]],科目tbl[[内　容]:[番号]],3,TRUE)","v":"収入"},"長期借入金調達","摘要を記載する　379",184]
[359,"2018-11-14",{"$f":"VLOOKUP(入出金tbl[[#This Row],[内　容]],科目tbl[[内　容]:[番号]],2,TRUE)","v":"財務収支"},{"$f":"VLOOKUP(入出金tbl[[#This Row],[内　容]],科目tbl[[内　容]:[番号]],3,TRUE)","v":"収入"},"社長借入金調達","摘要を記載する　379",184]
[360,"2018-11-15",{"$f":"VLOOKUP(入出金tbl[[#This Row],[内　容]],科目tbl[[内　容]:[番号]],2,TRUE)","v":"財務収支"},{"$f":"VLOOKUP(入出金tbl[[#This Row],[内　容]],科目tbl[[内　容]:[番号]],3,TRUE)","v":"収入"},"その他調達","摘要を記載する　302",506]
[361,"2018-11-16",{"$f":"VLOOKUP(入出金tbl[[#This Row],[内　容]],科目tbl[[内　容]:[番号]],2,TRUE)","v":"経常収支"},{"$f":"VLOOKUP(入出金tbl[[#This Row],[内　容]],科目tbl[[内　容]:[番号]],3,TRUE)","v":"支出"},"現金仕入","摘要を記載する　302",506]
[362,"2018-11-17",{"$f":"VLOOKUP(入出金tbl[[#This Row],[内　容]],科目tbl[[内　容]:[番号]],2,TRUE)","v":"経常収支"},{"$f":"VLOOKUP(入出金tbl[[#This Row],[内　容]],科目tbl[[内　容]:[番号]],3,TRUE)","v":"支出"},"買掛金支払","摘要を記載する　326",1122]
[363,"2018-11-18",{"$f":"VLOOKUP(入出金tbl[[#This Row],[内　容]],科目tbl[[内　容]:[番号]],2,TRUE)","v":"経常収支"},{"$f":"VLOOKUP(入出金tbl[[#This Row],[内　容]],科目tbl[[内　容]:[番号]],3,TRUE)","v":"支出"},"手形支払","摘要を記載する　326",1122]
[364,"2018-11-19",{"$f":"VLOOKUP(入出金tbl[[#This Row],[内　容]],科目tbl[[内　容]:[番号]],2,TRUE)","v":"経常収支"},{"$f":"VLOOKUP(入出金tbl[[#This Row],[内　容]],科目tbl[[内　容]:[番号]],3,TRUE)","v":"支出"},"賃金・給与現金支払","摘要を記載する　285",881]
[365,"2018-11-20",{"$f":"VLOOKUP(入出金tbl[[#This Row],[内　容]],科目tbl[[内　容]:[番号]],2,TRUE)","v":"経常収支"},{"$f":"VLOOKUP(入出金tbl[[#This Row],[内　容]],科目tbl[[内　容]:[番号]],3,TRUE)","v":"支出"},"賞与支払い","摘要を記載する　285",881]
[366,"2018-11-21",{"$f":"VLOOKUP(入出金tbl[[#This Row],[内　容]],科目tbl[[内　容]:[番号]],2,TRUE)","v":"経常収支"},{"$f":"VLOOKUP(入出金tbl[[#This Row],[内　容]],科目tbl[[内　容]:[番号]],3,TRUE)","v":"支出"},"支払利息・割引料","摘要を記載する　222",1146]
[367,"2018-11-22",{"$f":"VLOOKUP(入出金tbl[[#This Row],[内　容]],科目tbl[[内　容]:[番号]],2,TRUE)","v":"経常収支"},{"$f":"VLOOKUP(入出金tbl[[#This Row],[内　容]],科目tbl[[内　容]:[番号]],3,TRUE)","v":"支出"},"諸経費現金支払","摘要を記載する　222",1146]
[368,"2018-11-23",{"$f":"VLOOKUP(入出金tbl[[#This Row],[内　容]],科目tbl[[内　容]:[番号]],2,TRUE)","v":"経常外収支"},{"$f":"VLOOKUP(入出金tbl[[#This Row],[内　容]],科目tbl[[内　容]:[番号]],3,TRUE)","v":"支出"},"税金","摘要を記載する　292",1185]
[369,"2018-11-24",{"$f":"VLOOKUP(入出金tbl[[#This Row],[内　容]],科目tbl[[内　容]:[番号]],2,TRUE)","v":"経常外収支"},{"$f":"VLOOKUP(入出金tbl[[#This Row],[内　容]],科目tbl[[内　容]:[番号]],3,TRUE)","v":"支出"},"役員賞与","摘要を記載する　292",1185]
[370,"2018-11-25",{"$f":"VLOOKUP(入出金tbl[[#This Row],[内　容]],科目tbl[[内　容]:[番号]],2,TRUE)","v":"経常外収支"},{"$f":"VLOOKUP(入出金tbl[[#This Row],[内　容]],科目tbl[[内　容]:[番号]],3,TRUE)","v":"支出"},"配当","摘要を記載する　498",544]
[371,"2018-11-26",{"$f":"VLOOKUP(入出金tbl[[#This Row],[内　容]],科目tbl[[内　容]:[番号]],2,TRUE)","v":"経常外収支"},{"$f":"VLOOKUP(入出金tbl[[#This Row],[内　容]],科目tbl[[内　容]:[番号]],3,TRUE)","v":"支出"},"固定資産購入支出","摘要を記載する　056",99]
[372,"2018-11-27",{"$f":"VLOOKUP(入出金tbl[[#This Row],[内　容]],科目tbl[[内　容]:[番号]],2,TRUE)","v":"経常外収支"},{"$f":"VLOOKUP(入出金tbl[[#This Row],[内　容]],科目tbl[[内　容]:[番号]],3,TRUE)","v":"支出"},"定期預金等設定","摘要を記載する　498",544]
[373,"2018-11-28",{"$f":"VLOOKUP(入出金tbl[[#This Row],[内　容]],科目tbl[[内　容]:[番号]],2,TRUE)","v":"経常外収支"},{"$f":"VLOOKUP(入出金tbl[[#This Row],[内　容]],科目tbl[[内　容]:[番号]],3,TRUE)","v":"支出"},"その他臨時支出","摘要を記載する　056",99]
[374,"2018-11-29",{"$f":"VLOOKUP(入出金tbl[[#This Row],[内　容]],科目tbl[[内　容]:[番号]],2,TRUE)","v":"財務収支"},{"$f":"VLOOKUP(入出金tbl[[#This Row],[内　容]],科目tbl[[内　容]:[番号]],3,TRUE)","v":"支出"},"短期借入金返済","摘要を記載する　192",1133]
[375,"2018-11-30",{"$f":"VLOOKUP(入出金tbl[[#This Row],[内　容]],科目tbl[[内　容]:[番号]],2,TRUE)","v":"財務収支"},{"$f":"VLOOKUP(入出金tbl[[#This Row],[内　容]],科目tbl[[内　容]:[番号]],3,TRUE)","v":"支出"},"長期借入金返済","摘要を記載する　192",1133]
[376,"2018-11-30",{"$f":"VLOOKUP(入出金tbl[[#This Row],[内　容]],科目tbl[[内　容]:[番号]],2,TRUE)","v":"財務収支"},{"$f":"VLOOKUP(入出金tbl[[#This Row],[内　容]],科目tbl[[内　容]:[番号]],3,TRUE)","v":"支出"},"社長借入金返済","摘要を記載する　181",774]
[377,"2018-12-01",{"$f":"VLOOKUP(入出金tbl[[#This Row],[内　容]],科目tbl[[内　容]:[番号]],2,TRUE)","v":"財務収支"},{"$f":"VLOOKUP(入出金tbl[[#This Row],[内　容]],科目tbl[[内　容]:[番号]],3,TRUE)","v":"支出"},"その他返済","摘要を記載する　211",543]
[378,"2018-12-02",{"$f":"VLOOKUP(入出金tbl[[#This Row],[内　容]],科目tbl[[内　容]:[番号]],2,TRUE)","v":"経常収支"},{"$f":"VLOOKUP(入出金tbl[[#This Row],[内　容]],科目tbl[[内　容]:[番号]],3,TRUE)","v":"収入"},"現金売上","摘要を記載する　097",639]
[379,"2018-12-03",{"$f":"VLOOKUP(入出金tbl[[#This Row],[内　容]],科目tbl[[内　容]:[番号]],2,TRUE)","v":"経常収支"},{"$f":"VLOOKUP(入出金tbl[[#This Row],[内　容]],科目tbl[[内　容]:[番号]],3,TRUE)","v":"収入"},"売掛金回収","摘要を記載する　286",527]
[380,"2018-12-04",{"$f":"VLOOKUP(入出金tbl[[#This Row],[内　容]],科目tbl[[内　容]:[番号]],2,TRUE)","v":"経常収支"},{"$f":"VLOOKUP(入出金tbl[[#This Row],[内　容]],科目tbl[[内　容]:[番号]],3,TRUE)","v":"収入"},"受取手形回収","摘要を記載する　360",1026]
[381,"2018-12-05",{"$f":"VLOOKUP(入出金tbl[[#This Row],[内　容]],科目tbl[[内　容]:[番号]],2,TRUE)","v":"経常収支"},{"$f":"VLOOKUP(入出金tbl[[#This Row],[内　容]],科目tbl[[内　容]:[番号]],3,TRUE)","v":"収入"},"手形割引","摘要を記載する　286",527]
[382,"2018-12-06",{"$f":"VLOOKUP(入出金tbl[[#This Row],[内　容]],科目tbl[[内　容]:[番号]],2,TRUE)","v":"経常収支"},{"$f":"VLOOKUP(入出金tbl[[#This Row],[内　容]],科目tbl[[内　容]:[番号]],3,TRUE)","v":"収入"},"その他収入","摘要を記載する　360",1026]
[383,"2018-12-07",{"$f":"VLOOKUP(入出金tbl[[#This Row],[内　容]],科目tbl[[内　容]:[番号]],2,TRUE)","v":"経常外収支"},{"$f":"VLOOKUP(入出金tbl[[#This Row],[内　容]],科目tbl[[内　容]:[番号]],3,TRUE)","v":"収入"},"固定資産等売却手取","摘要を記載する　336",76]
[384,"2018-12-08",{"$f":"VLOOKUP(入出金tbl[[#This Row],[内　容]],科目tbl[[内　容]:[番号]],2,TRUE)","v":"経常外収支"},{"$f":"VLOOKUP(入出金tbl[[#This Row],[内　容]],科目tbl[[内　容]:[番号]],3,TRUE)","v":"収入"},"定期預金等解約","摘要を記載する　336",76]
[385,"2018-12-09",{"$f":"VLOOKUP(入出金tbl[[#This Row],[内　容]],科目tbl[[内　容]:[番号]],2,TRUE)","v":"経常外収支"},{"$f":"VLOOKUP(入出金tbl[[#This Row],[内　容]],科目tbl[[内　容]:[番号]],3,TRUE)","v":"収入"},"その他臨時収入","摘要を記載する　236",756]
[386,"2018-12-10",{"$f":"VLOOKUP(入出金tbl[[#This Row],[内　容]],科目tbl[[内　容]:[番号]],2,TRUE)","v":"財務収支"},{"$f":"VLOOKUP(入出金tbl[[#This Row],[内　容]],科目tbl[[内　容]:[番号]],3,TRUE)","v":"収入"},"短期借入金調達","摘要を記載する　238",1088]
[387,"2018-12-11",{"$f":"VLOOKUP(入出金tbl[[#This Row],[内　容]],科目tbl[[内　容]:[番号]],2,TRUE)","v":"財務収支"},{"$f":"VLOOKUP(入出金tbl[[#This Row],[内　容]],科目tbl[[内　容]:[番号]],3,TRUE)","v":"収入"},"長期借入金調達","摘要を記載する　236",756]
[388,"2018-12-12",{"$f":"VLOOKUP(入出金tbl[[#This Row],[内　容]],科目tbl[[内　容]:[番号]],2,TRUE)","v":"財務収支"},{"$f":"VLOOKUP(入出金tbl[[#This Row],[内　容]],科目tbl[[内　容]:[番号]],3,TRUE)","v":"収入"},"社長借入金調達","摘要を記載する　347",278]
[389,"2018-12-12",{"$f":"VLOOKUP(入出金tbl[[#This Row],[内　容]],科目tbl[[内　容]:[番号]],2,TRUE)","v":"財務収支"},{"$f":"VLOOKUP(入出金tbl[[#This Row],[内　容]],科目tbl[[内　容]:[番号]],3,TRUE)","v":"収入"},"その他調達","摘要を記載する　238",1088]
[390,"2018-12-13",{"$f":"VLOOKUP(入出金tbl[[#This Row],[内　容]],科目tbl[[内　容]:[番号]],2,TRUE)","v":"経常収支"},{"$f":"VLOOKUP(入出金tbl[[#This Row],[内　容]],科目tbl[[内　容]:[番号]],3,TRUE)","v":"支出"},"現金仕入","摘要を記載する　347",278]
[391,"2018-12-13",{"$f":"VLOOKUP(入出金tbl[[#This Row],[内　容]],科目tbl[[内　容]:[番号]],2,TRUE)","v":"経常収支"},{"$f":"VLOOKUP(入出金tbl[[#This Row],[内　容]],科目tbl[[内　容]:[番号]],3,TRUE)","v":"支出"},"買掛金支払","摘要を記載する　441",513]
[392,"2018-12-14",{"$f":"VLOOKUP(入出金tbl[[#This Row],[内　容]],科目tbl[[内　容]:[番号]],2,TRUE)","v":"経常収支"},{"$f":"VLOOKUP(入出金tbl[[#This Row],[内　容]],科目tbl[[内　容]:[番号]],3,TRUE)","v":"支出"},"手形支払","摘要を記載する　105",588]
[393,"2018-12-14",{"$f":"VLOOKUP(入出金tbl[[#This Row],[内　容]],科目tbl[[内　容]:[番号]],2,TRUE)","v":"経常収支"},{"$f":"VLOOKUP(入出金tbl[[#This Row],[内　容]],科目tbl[[内　容]:[番号]],3,TRUE)","v":"支出"},"賃金・給与現金支払","摘要を記載する　441",513]
[394,"2018-12-15",{"$f":"VLOOKUP(入出金tbl[[#This Row],[内　容]],科目tbl[[内　容]:[番号]],2,TRUE)","v":"経常収支"},{"$f":"VLOOKUP(入出金tbl[[#This Row],[内　容]],科目tbl[[内　容]:[番号]],3,TRUE)","v":"支出"},"賞与支払い","摘要を記載する　105",588]
[395,"2018-12-15",{"$f":"VLOOKUP(入出金tbl[[#This Row],[内　容]],科目tbl[[内　容]:[番号]],2,TRUE)","v":"経常収支"},{"$f":"VLOOKUP(入出金tbl[[#This Row],[内　容]],科目tbl[[内　容]:[番号]],3,TRUE)","v":"支出"},"支払利息・割引料","摘要を記載する　087",1184]
[396,"2018-12-16",{"$f":"VLOOKUP(入出金tbl[[#This Row],[内　容]],科目tbl[[内　容]:[番号]],2,TRUE)","v":"経常収支"},{"$f":"VLOOKUP(入出金tbl[[#This Row],[内　容]],科目tbl[[内　容]:[番号]],3,TRUE)","v":"支出"},"諸経費現金支払","摘要を記載する　473",467]
[397,"2018-12-16",{"$f":"VLOOKUP(入出金tbl[[#This Row],[内　容]],科目tbl[[内　容]:[番号]],2,TRUE)","v":"経常外収支"},{"$f":"VLOOKUP(入出金tbl[[#This Row],[内　容]],科目tbl[[内　容]:[番号]],3,TRUE)","v":"支出"},"税金","摘要を記載する　087",1184]
[398,"2018-12-17",{"$f":"VLOOKUP(入出金tbl[[#This Row],[内　容]],科目tbl[[内　容]:[番号]],2,TRUE)","v":"経常外収支"},{"$f":"VLOOKUP(入出金tbl[[#This Row],[内　容]],科目tbl[[内　容]:[番号]],3,TRUE)","v":"支出"},"役員賞与","摘要を記載する　473",467]
[399,"2018-12-17",{"$f":"VLOOKUP(入出金tbl[[#This Row],[内　容]],科目tbl[[内　容]:[番号]],2,TRUE)","v":"経常外収支"},{"$f":"VLOOKUP(入出金tbl[[#This Row],[内　容]],科目tbl[[内　容]:[番号]],3,TRUE)","v":"支出"},"配当","摘要を記載する　214",251]
[400,"2018-12-18",{"$f":"VLOOKUP(入出金tbl[[#This Row],[内　容]],科目tbl[[内　容]:[番号]],2,TRUE)","v":"経常外収支"},{"$f":"VLOOKUP(入出金tbl[[#This Row],[内　容]],科目tbl[[内　容]:[番号]],3,TRUE)","v":"支出"},"固定資産購入支出","摘要を記載する　054",427]
[401,"2018-12-18",{"$f":"VLOOKUP(入出金tbl[[#This Row],[内　容]],科目tbl[[内　容]:[番号]],2,TRUE)","v":"経常外収支"},{"$f":"VLOOKUP(入出金tbl[[#This Row],[内　容]],科目tbl[[内　容]:[番号]],3,TRUE)","v":"支出"},"定期預金等設定","摘要を記載する　219",762]
[402,"2018-12-19",{"$f":"VLOOKUP(入出金tbl[[#This Row],[内　容]],科目tbl[[内　容]:[番号]],2,TRUE)","v":"経常外収支"},{"$f":"VLOOKUP(入出金tbl[[#This Row],[内　容]],科目tbl[[内　容]:[番号]],3,TRUE)","v":"支出"},"その他臨時支出","摘要を記載する　054",427]
[403,"2018-12-19",{"$f":"VLOOKUP(入出金tbl[[#This Row],[内　容]],科目tbl[[内　容]:[番号]],2,TRUE)","v":"財務収支"},{"$f":"VLOOKUP(入出金tbl[[#This Row],[内　容]],科目tbl[[内　容]:[番号]],3,TRUE)","v":"支出"},"短期借入金返済","摘要を記載する　214",251]
[404,"2018-12-20",{"$f":"VLOOKUP(入出金tbl[[#This Row],[内　容]],科目tbl[[内　容]:[番号]],2,TRUE)","v":"財務収支"},{"$f":"VLOOKUP(入出金tbl[[#This Row],[内　容]],科目tbl[[内　容]:[番号]],3,TRUE)","v":"支出"},"長期借入金返済","摘要を記載する　397",524]
[405,"2018-12-20",{"$f":"VLOOKUP(入出金tbl[[#This Row],[内　容]],科目tbl[[内　容]:[番号]],2,TRUE)","v":"財務収支"},{"$f":"VLOOKUP(入出金tbl[[#This Row],[内　容]],科目tbl[[内　容]:[番号]],3,TRUE)","v":"支出"},"社長借入金返済","摘要を記載する　219",762]
[406,"2018-12-21",{"$f":"VLOOKUP(入出金tbl[[#This Row],[内　容]],科目tbl[[内　容]:[番号]],2,TRUE)","v":"財務収支"},{"$f":"VLOOKUP(入出金tbl[[#This Row],[内　容]],科目tbl[[内　容]:[番号]],3,TRUE)","v":"支出"},"その他返済","摘要を記載する　397",524]
[407,"2018-12-21",{"$f":"VLOOKUP(入出金tbl[[#This Row],[内　容]],科目tbl[[内　容]:[番号]],2,TRUE)","v":"経常収支"},{"$f":"VLOOKUP(入出金tbl[[#This Row],[内　容]],科目tbl[[内　容]:[番号]],3,TRUE)","v":"収入"},"現金売上","摘要を記載する　414",145]
[408,"2018-12-22",{"$f":"VLOOKUP(入出金tbl[[#This Row],[内　容]],科目tbl[[内　容]:[番号]],2,TRUE)","v":"経常収支"},{"$f":"VLOOKUP(入出金tbl[[#This Row],[内　容]],科目tbl[[内　容]:[番号]],3,TRUE)","v":"収入"},"売掛金回収","摘要を記載する　456",957]
[409,"2018-12-22",{"$f":"VLOOKUP(入出金tbl[[#This Row],[内　容]],科目tbl[[内　容]:[番号]],2,TRUE)","v":"経常収支"},{"$f":"VLOOKUP(入出金tbl[[#This Row],[内　容]],科目tbl[[内　容]:[番号]],3,TRUE)","v":"収入"},"受取手形回収","摘要を記載する　414",145]
[410,"2018-12-23",{"$f":"VLOOKUP(入出金tbl[[#This Row],[内　容]],科目tbl[[内　容]:[番号]],2,TRUE)","v":"経常収支"},{"$f":"VLOOKUP(入出金tbl[[#This Row],[内　容]],科目tbl[[内　容]:[番号]],3,TRUE)","v":"収入"},"手形割引","摘要を記載する　235",651]
[411,"2018-12-23",{"$f":"VLOOKUP(入出金tbl[[#This Row],[内　容]],科目tbl[[内　容]:[番号]],2,TRUE)","v":"経常収支"},{"$f":"VLOOKUP(入出金tbl[[#This Row],[内　容]],科目tbl[[内　容]:[番号]],3,TRUE)","v":"収入"},"その他収入","摘要を記載する　362",335]
[412,"2018-12-24",{"$f":"VLOOKUP(入出金tbl[[#This Row],[内　容]],科目tbl[[内　容]:[番号]],2,TRUE)","v":"経常外収支"},{"$f":"VLOOKUP(入出金tbl[[#This Row],[内　容]],科目tbl[[内　容]:[番号]],3,TRUE)","v":"収入"},"固定資産等売却手取","摘要を記載する　456",957]
[413,"2018-12-24",{"$f":"VLOOKUP(入出金tbl[[#This Row],[内　容]],科目tbl[[内　容]:[番号]],2,TRUE)","v":"経常外収支"},{"$f":"VLOOKUP(入出金tbl[[#This Row],[内　容]],科目tbl[[内　容]:[番号]],3,TRUE)","v":"収入"},"定期預金等解約","摘要を記載する　362",335]
[414,"2018-12-25",{"$f":"VLOOKUP(入出金tbl[[#This Row],[内　容]],科目tbl[[内　容]:[番号]],2,TRUE)","v":"経常外収支"},{"$f":"VLOOKUP(入出金tbl[[#This Row],[内　容]],科目tbl[[内　容]:[番号]],3,TRUE)","v":"収入"},"その他臨時収入","摘要を記載する　235",651]
[415,"2018-12-26",{"$f":"VLOOKUP(入出金tbl[[#This Row],[内　容]],科目tbl[[内　容]:[番号]],2,TRUE)","v":"財務収支"},{"$f":"VLOOKUP(入出金tbl[[#This Row],[内　容]],科目tbl[[内　容]:[番号]],3,TRUE)","v":"収入"},"短期借入金調達","摘要を記載する　361",362]
[416,"2018-12-27",{"$f":"VLOOKUP(入出金tbl[[#This Row],[内　容]],科目tbl[[内　容]:[番号]],2,TRUE)","v":"財務収支"},{"$f":"VLOOKUP(入出金tbl[[#This Row],[内　容]],科目tbl[[内　容]:[番号]],3,TRUE)","v":"収入"},"長期借入金調達","摘要を記載する　361",362]
[417,"2018-12-28",{"$f":"VLOOKUP(入出金tbl[[#This Row],[内　容]],科目tbl[[内　容]:[番号]],2,TRUE)","v":"財務収支"},{"$f":"VLOOKUP(入出金tbl[[#This Row],[内　容]],科目tbl[[内　容]:[番号]],3,TRUE)","v":"収入"},"社長借入金調達","摘要を記載する　303",353]
[418,"2018-12-29",{"$f":"VLOOKUP(入出金tbl[[#This Row],[内　容]],科目tbl[[内　容]:[番号]],2,TRUE)","v":"財務収支"},{"$f":"VLOOKUP(入出金tbl[[#This Row],[内　容]],科目tbl[[内　容]:[番号]],3,TRUE)","v":"収入"},"その他調達","摘要を記載する　211",543]
[419,"2018-12-30",{"$f":"VLOOKUP(入出金tbl[[#This Row],[内　容]],科目tbl[[内　容]:[番号]],2,TRUE)","v":"経常収支"},{"$f":"VLOOKUP(入出金tbl[[#This Row],[内　容]],科目tbl[[内　容]:[番号]],3,TRUE)","v":"支出"},"現金仕入","摘要を記載する　097",639]
[420,"2018-12-31",{"$f":"VLOOKUP(入出金tbl[[#This Row],[内　容]],科目tbl[[内　容]:[番号]],2,TRUE)","v":"経常収支"},{"$f":"VLOOKUP(入出金tbl[[#This Row],[内　容]],科目tbl[[内　容]:[番号]],3,TRUE)","v":"支出"},"買掛金支払","摘要を記載する　303",353]
[421,"2018-01-01",{"$f":"VLOOKUP(入出金tbl[[#This Row],[内　容]],科目tbl[[内　容]:[番号]],2,TRUE)","v":"経常収支"},{"$f":"VLOOKUP(入出金tbl[[#This Row],[内　容]],科目tbl[[内　容]:[番号]],3,TRUE)","v":"支出"},"手形支払","摘要を記載する　293",113]
[422,"2018-01-01",{"$f":"VLOOKUP(入出金tbl[[#This Row],[内　容]],科目tbl[[内　容]:[番号]],2,TRUE)","v":"経常収支"},{"$f":"VLOOKUP(入出金tbl[[#This Row],[内　容]],科目tbl[[内　容]:[番号]],3,TRUE)","v":"支出"},"賃金・給与現金支払","摘要を記載する　191",1139]
[423,"2018-01-02",{"$f":"VLOOKUP(入出金tbl[[#This Row],[内　容]],科目tbl[[内　容]:[番号]],2,TRUE)","v":"経常収支"},{"$f":"VLOOKUP(入出金tbl[[#This Row],[内　容]],科目tbl[[内　容]:[番号]],3,TRUE)","v":"支出"},"賞与支払い","摘要を記載する　327",542]
[424,"2018-01-02",{"$f":"VLOOKUP(入出金tbl[[#This Row],[内　容]],科目tbl[[内　容]:[番号]],2,TRUE)","v":"経常収支"},{"$f":"VLOOKUP(入出金tbl[[#This Row],[内　容]],科目tbl[[内　容]:[番号]],3,TRUE)","v":"支出"},"支払利息・割引料","摘要を記載する　191",1139]
[425,"2018-01-03",{"$f":"VLOOKUP(入出金tbl[[#This Row],[内　容]],科目tbl[[内　容]:[番号]],2,TRUE)","v":"経常収支"},{"$f":"VLOOKUP(入出金tbl[[#This Row],[内　容]],科目tbl[[内　容]:[番号]],3,TRUE)","v":"支出"},"諸経費現金支払","摘要を記載する　327",542]
[426,"2018-01-03",{"$f":"VLOOKUP(入出金tbl[[#This Row],[内　容]],科目tbl[[内　容]:[番号]],2,TRUE)","v":"経常外収支"},{"$f":"VLOOKUP(入出金tbl[[#This Row],[内　容]],科目tbl[[内　容]:[番号]],3,TRUE)","v":"支出"},"税金","摘要を記載する　089",1156]
[427,"2018-01-04",{"$f":"VLOOKUP(入出金tbl[[#This Row],[内　容]],科目tbl[[内　容]:[番号]],2,TRUE)","v":"経常外収支"},{"$f":"VLOOKUP(入出金tbl[[#This Row],[内　容]],科目tbl[[内　容]:[番号]],3,TRUE)","v":"支出"},"役員賞与","摘要を記載する　071",919]
[428,"2018-01-04",{"$f":"VLOOKUP(入出金tbl[[#This Row],[内　容]],科目tbl[[内　容]:[番号]],2,TRUE)","v":"経常外収支"},{"$f":"VLOOKUP(入出金tbl[[#This Row],[内　容]],科目tbl[[内　容]:[番号]],3,TRUE)","v":"支出"},"配当","摘要を記載する　089",1156]
[429,"2018-01-05",{"$f":"VLOOKUP(入出金tbl[[#This Row],[内　容]],科目tbl[[内　容]:[番号]],2,TRUE)","v":"経常外収支"},{"$f":"VLOOKUP(入出金tbl[[#This Row],[内　容]],科目tbl[[内　容]:[番号]],3,TRUE)","v":"支出"},"固定資産購入支出","摘要を記載する　071",919]
[430,"2018-01-06",{"$f":"VLOOKUP(入出金tbl[[#This Row],[内　容]],科目tbl[[内　容]:[番号]],2,TRUE)","v":"経常外収支"},{"$f":"VLOOKUP(入出金tbl[[#This Row],[内　容]],科目tbl[[内　容]:[番号]],3,TRUE)","v":"支出"},"定期預金等設定","摘要を記載する　287",555]
[431,"2018-01-07",{"$f":"VLOOKUP(入出金tbl[[#This Row],[内　容]],科目tbl[[内　容]:[番号]],2,TRUE)","v":"経常外収支"},{"$f":"VLOOKUP(入出金tbl[[#This Row],[内　容]],科目tbl[[内　容]:[番号]],3,TRUE)","v":"支出"},"その他臨時支出","摘要を記載する　178",727]
[432,"2018-01-08",{"$f":"VLOOKUP(入出金tbl[[#This Row],[内　容]],科目tbl[[内　容]:[番号]],2,TRUE)","v":"財務収支"},{"$f":"VLOOKUP(入出金tbl[[#This Row],[内　容]],科目tbl[[内　容]:[番号]],3,TRUE)","v":"支出"},"短期借入金返済","摘要を記載する　287",555]
[433,"2018-01-09",{"$f":"VLOOKUP(入出金tbl[[#This Row],[内　容]],科目tbl[[内　容]:[番号]],2,TRUE)","v":"財務収支"},{"$f":"VLOOKUP(入出金tbl[[#This Row],[内　容]],科目tbl[[内　容]:[番号]],3,TRUE)","v":"支出"},"長期借入金返済","摘要を記載する　178",727]
[434,"2018-01-10",{"$f":"VLOOKUP(入出金tbl[[#This Row],[内　容]],科目tbl[[内　容]:[番号]],2,TRUE)","v":"財務収支"},{"$f":"VLOOKUP(入出金tbl[[#This Row],[内　容]],科目tbl[[内　容]:[番号]],3,TRUE)","v":"支出"},"社長借入金返済","摘要を記載する　220",677]
[435,"2018-01-11",{"$f":"VLOOKUP(入出金tbl[[#This Row],[内　容]],科目tbl[[内　容]:[番号]],2,TRUE)","v":"財務収支"},{"$f":"VLOOKUP(入出金tbl[[#This Row],[内　容]],科目tbl[[内　容]:[番号]],3,TRUE)","v":"支出"},"その他返済","摘要を記載する　450",272]
[436,"2018-01-12",{"$f":"VLOOKUP(入出金tbl[[#This Row],[内　容]],科目tbl[[内　容]:[番号]],2,TRUE)","v":"経常収支"},{"$f":"VLOOKUP(入出金tbl[[#This Row],[内　容]],科目tbl[[内　容]:[番号]],3,TRUE)","v":"収入"},"現金売上","摘要を記載する　220",677]
[437,"2018-01-13",{"$f":"VLOOKUP(入出金tbl[[#This Row],[内　容]],科目tbl[[内　容]:[番号]],2,TRUE)","v":"経常収支"},{"$f":"VLOOKUP(入出金tbl[[#This Row],[内　容]],科目tbl[[内　容]:[番号]],3,TRUE)","v":"収入"},"売掛金回収","摘要を記載する　450",272]
[438,"2018-01-14",{"$f":"VLOOKUP(入出金tbl[[#This Row],[内　容]],科目tbl[[内　容]:[番号]],2,TRUE)","v":"経常収支"},{"$f":"VLOOKUP(入出金tbl[[#This Row],[内　容]],科目tbl[[内　容]:[番号]],3,TRUE)","v":"収入"},"受取手形回収","摘要を記載する　048",871]
[439,"2018-01-15",{"$f":"VLOOKUP(入出金tbl[[#This Row],[内　容]],科目tbl[[内　容]:[番号]],2,TRUE)","v":"経常収支"},{"$f":"VLOOKUP(入出金tbl[[#This Row],[内　容]],科目tbl[[内　容]:[番号]],3,TRUE)","v":"収入"},"手形割引","摘要を記載する　048",871]
[440,"2018-01-16",{"$f":"VLOOKUP(入出金tbl[[#This Row],[内　容]],科目tbl[[内　容]:[番号]],2,TRUE)","v":"経常収支"},{"$f":"VLOOKUP(入出金tbl[[#This Row],[内　容]],科目tbl[[内　容]:[番号]],3,TRUE)","v":"収入"},"その他収入","摘要を記載する　245",203]
[441,"2018-01-17",{"$f":"VLOOKUP(入出金tbl[[#This Row],[内　容]],科目tbl[[内　容]:[番号]],2,TRUE)","v":"経常外収支"},{"$f":"VLOOKUP(入出金tbl[[#This Row],[内　容]],科目tbl[[内　容]:[番号]],3,TRUE)","v":"収入"},"固定資産等売却手取","摘要を記載する　245",203]
[442,"2018-01-18",{"$f":"VLOOKUP(入出金tbl[[#This Row],[内　容]],科目tbl[[内　容]:[番号]],2,TRUE)","v":"経常外収支"},{"$f":"VLOOKUP(入出金tbl[[#This Row],[内　容]],科目tbl[[内　容]:[番号]],3,TRUE)","v":"収入"},"定期預金等解約","摘要を記載する　074",244]
[443,"2018-01-19",{"$f":"VLOOKUP(入出金tbl[[#This Row],[内　容]],科目tbl[[内　容]:[番号]],2,TRUE)","v":"経常外収支"},{"$f":"VLOOKUP(入出金tbl[[#This Row],[内　容]],科目tbl[[内　容]:[番号]],3,TRUE)","v":"収入"},"その他臨時収入","摘要を記載する　320",307]
[444,"2018-01-20",{"$f":"VLOOKUP(入出金tbl[[#This Row],[内　容]],科目tbl[[内　容]:[番号]],2,TRUE)","v":"財務収支"},{"$f":"VLOOKUP(入出金tbl[[#This Row],[内　容]],科目tbl[[内　容]:[番号]],3,TRUE)","v":"収入"},"短期借入金調達","摘要を記載する　074",244]
[445,"2018-01-21",{"$f":"VLOOKUP(入出金tbl[[#This Row],[内　容]],科目tbl[[内　容]:[番号]],2,TRUE)","v":"財務収支"},{"$f":"VLOOKUP(入出金tbl[[#This Row],[内　容]],科目tbl[[内　容]:[番号]],3,TRUE)","v":"収入"},"長期借入金調達","摘要を記載する　320",307]
[446,"2018-01-22",{"$f":"VLOOKUP(入出金tbl[[#This Row],[内　容]],科目tbl[[内　容]:[番号]],2,TRUE)","v":"財務収支"},{"$f":"VLOOKUP(入出金tbl[[#This Row],[内　容]],科目tbl[[内　容]:[番号]],3,TRUE)","v":"収入"},"社長借入金調達","摘要を記載する　319",275]
[447,"2018-01-23",{"$f":"VLOOKUP(入出金tbl[[#This Row],[内　容]],科目tbl[[内　容]:[番号]],2,TRUE)","v":"財務収支"},{"$f":"VLOOKUP(入出金tbl[[#This Row],[内　容]],科目tbl[[内　容]:[番号]],3,TRUE)","v":"収入"},"その他調達","摘要を記載する　319",275]
[448,"2018-01-24",{"$f":"VLOOKUP(入出金tbl[[#This Row],[内　容]],科目tbl[[内　容]:[番号]],2,TRUE)","v":"経常収支"},{"$f":"VLOOKUP(入出金tbl[[#This Row],[内　容]],科目tbl[[内　容]:[番号]],3,TRUE)","v":"支出"},"現金仕入","摘要を記載する　483",214]
[449,"2018-01-25",{"$f":"VLOOKUP(入出金tbl[[#This Row],[内　容]],科目tbl[[内　容]:[番号]],2,TRUE)","v":"経常収支"},{"$f":"VLOOKUP(入出金tbl[[#This Row],[内　容]],科目tbl[[内　容]:[番号]],3,TRUE)","v":"支出"},"買掛金支払","摘要を記載する　311",594]
[450,"2018-01-25",{"$f":"VLOOKUP(入出金tbl[[#This Row],[内　容]],科目tbl[[内　容]:[番号]],2,TRUE)","v":"経常収支"},{"$f":"VLOOKUP(入出金tbl[[#This Row],[内　容]],科目tbl[[内　容]:[番号]],3,TRUE)","v":"支出"},"手形支払","摘要を記載する　483",214]
[451,"2018-01-26",{"$f":"VLOOKUP(入出金tbl[[#This Row],[内　容]],科目tbl[[内　容]:[番号]],2,TRUE)","v":"経常収支"},{"$f":"VLOOKUP(入出金tbl[[#This Row],[内　容]],科目tbl[[内　容]:[番号]],3,TRUE)","v":"支出"},"賃金・給与現金支払","摘要を記載する　311",594]
[452,"2018-01-26",{"$f":"VLOOKUP(入出金tbl[[#This Row],[内　容]],科目tbl[[内　容]:[番号]],2,TRUE)","v":"経常収支"},{"$f":"VLOOKUP(入出金tbl[[#This Row],[内　容]],科目tbl[[内　容]:[番号]],3,TRUE)","v":"支出"},"賞与支払い","摘要を記載する　208",185]
[453,"2018-01-27",{"$f":"VLOOKUP(入出金tbl[[#This Row],[内　容]],科目tbl[[内　容]:[番号]],2,TRUE)","v":"経常収支"},{"$f":"VLOOKUP(入出金tbl[[#This Row],[内　容]],科目tbl[[内　容]:[番号]],3,TRUE)","v":"支出"},"支払利息・割引料","摘要を記載する　251",568]
[454,"2018-01-27",{"$f":"VLOOKUP(入出金tbl[[#This Row],[内　容]],科目tbl[[内　容]:[番号]],2,TRUE)","v":"経常収支"},{"$f":"VLOOKUP(入出金tbl[[#This Row],[内　容]],科目tbl[[内　容]:[番号]],3,TRUE)","v":"支出"},"諸経費現金支払","摘要を記載する　278",103]
[455,"2018-01-28",{"$f":"VLOOKUP(入出金tbl[[#This Row],[内　容]],科目tbl[[内　容]:[番号]],2,TRUE)","v":"経常外収支"},{"$f":"VLOOKUP(入出金tbl[[#This Row],[内　容]],科目tbl[[内　容]:[番号]],3,TRUE)","v":"支出"},"税金","摘要を記載する　251",568]
[456,"2018-01-28",{"$f":"VLOOKUP(入出金tbl[[#This Row],[内　容]],科目tbl[[内　容]:[番号]],2,TRUE)","v":"経常外収支"},{"$f":"VLOOKUP(入出金tbl[[#This Row],[内　容]],科目tbl[[内　容]:[番号]],3,TRUE)","v":"支出"},"役員賞与","摘要を記載する　208",185]
[457,"2018-01-29",{"$f":"VLOOKUP(入出金tbl[[#This Row],[内　容]],科目tbl[[内　容]:[番号]],2,TRUE)","v":"経常外収支"},{"$f":"VLOOKUP(入出金tbl[[#This Row],[内　容]],科目tbl[[内　容]:[番号]],3,TRUE)","v":"支出"},"配当","摘要を記載する　466",1091]
[458,"2018-01-29",{"$f":"VLOOKUP(入出金tbl[[#This Row],[内　容]],科目tbl[[内　容]:[番号]],2,TRUE)","v":"経常外収支"},{"$f":"VLOOKUP(入出金tbl[[#This Row],[内　容]],科目tbl[[内　容]:[番号]],3,TRUE)","v":"支出"},"固定資産購入支出","摘要を記載する　278",103]
[459,"2018-01-30",{"$f":"VLOOKUP(入出金tbl[[#This Row],[内　容]],科目tbl[[内　容]:[番号]],2,TRUE)","v":"経常外収支"},{"$f":"VLOOKUP(入出金tbl[[#This Row],[内　容]],科目tbl[[内　容]:[番号]],3,TRUE)","v":"支出"},"定期預金等設定","摘要を記載する　293",113]
[460,"2018-01-30",{"$f":"VLOOKUP(入出金tbl[[#This Row],[内　容]],科目tbl[[内　容]:[番号]],2,TRUE)","v":"経常外収支"},{"$f":"VLOOKUP(入出金tbl[[#This Row],[内　容]],科目tbl[[内　容]:[番号]],3,TRUE)","v":"支出"},"その他臨時支出","摘要を記載する　409",373]
[461,"2018-01-31",{"$f":"VLOOKUP(入出金tbl[[#This Row],[内　容]],科目tbl[[内　容]:[番号]],2,TRUE)","v":"財務収支"},{"$f":"VLOOKUP(入出金tbl[[#This Row],[内　容]],科目tbl[[内　容]:[番号]],3,TRUE)","v":"支出"},"短期借入金返済","摘要を記載する　466",1091]
[462,"2018-01-31",{"$f":"VLOOKUP(入出金tbl[[#This Row],[内　容]],科目tbl[[内　容]:[番号]],2,TRUE)","v":"財務収支"},{"$f":"VLOOKUP(入出金tbl[[#This Row],[内　容]],科目tbl[[内　容]:[番号]],3,TRUE)","v":"支出"},"長期借入金返済","摘要を記載する　409",373]
[463,"2018-02-01",{"$f":"VLOOKUP(入出金tbl[[#This Row],[内　容]],科目tbl[[内　容]:[番号]],2,TRUE)","v":"財務収支"},{"$f":"VLOOKUP(入出金tbl[[#This Row],[内　容]],科目tbl[[内　容]:[番号]],3,TRUE)","v":"支出"},"社長借入金返済","摘要を記載する　338",1107]
[464,"2018-02-02",{"$f":"VLOOKUP(入出金tbl[[#This Row],[内　容]],科目tbl[[内　容]:[番号]],2,TRUE)","v":"財務収支"},{"$f":"VLOOKUP(入出金tbl[[#This Row],[内　容]],科目tbl[[内　容]:[番号]],3,TRUE)","v":"支出"},"その他返済","摘要を記載する　321",799]
[465,"2018-02-03",{"$f":"VLOOKUP(入出金tbl[[#This Row],[内　容]],科目tbl[[内　容]:[番号]],2,TRUE)","v":"経常収支"},{"$f":"VLOOKUP(入出金tbl[[#This Row],[内　容]],科目tbl[[内　容]:[番号]],3,TRUE)","v":"収入"},"現金売上","摘要を記載する　321",799]
[466,"2018-02-04",{"$f":"VLOOKUP(入出金tbl[[#This Row],[内　容]],科目tbl[[内　容]:[番号]],2,TRUE)","v":"経常収支"},{"$f":"VLOOKUP(入出金tbl[[#This Row],[内　容]],科目tbl[[内　容]:[番号]],3,TRUE)","v":"収入"},"売掛金回収","摘要を記載する　173",252]
[467,"2018-02-05",{"$f":"VLOOKUP(入出金tbl[[#This Row],[内　容]],科目tbl[[内　容]:[番号]],2,TRUE)","v":"経常収支"},{"$f":"VLOOKUP(入出金tbl[[#This Row],[内　容]],科目tbl[[内　容]:[番号]],3,TRUE)","v":"収入"},"受取手形回収","摘要を記載する　381",554]
[468,"2018-02-05",{"$f":"VLOOKUP(入出金tbl[[#This Row],[内　容]],科目tbl[[内　容]:[番号]],2,TRUE)","v":"経常収支"},{"$f":"VLOOKUP(入出金tbl[[#This Row],[内　容]],科目tbl[[内　容]:[番号]],3,TRUE)","v":"収入"},"手形割引","摘要を記載する　173",252]
[469,"2018-02-06",{"$f":"VLOOKUP(入出金tbl[[#This Row],[内　容]],科目tbl[[内　容]:[番号]],2,TRUE)","v":"経常収支"},{"$f":"VLOOKUP(入出金tbl[[#This Row],[内　容]],科目tbl[[内　容]:[番号]],3,TRUE)","v":"収入"},"その他収入","摘要を記載する　381",554]
[470,"2018-02-06",{"$f":"VLOOKUP(入出金tbl[[#This Row],[内　容]],科目tbl[[内　容]:[番号]],2,TRUE)","v":"経常外収支"},{"$f":"VLOOKUP(入出金tbl[[#This Row],[内　容]],科目tbl[[内　容]:[番号]],3,TRUE)","v":"収入"},"固定資産等売却手取","摘要を記載する　332",676]
[471,"2018-02-07",{"$f":"VLOOKUP(入出金tbl[[#This Row],[内　容]],科目tbl[[内　容]:[番号]],2,TRUE)","v":"経常外収支"},{"$f":"VLOOKUP(入出金tbl[[#This Row],[内　容]],科目tbl[[内　容]:[番号]],3,TRUE)","v":"収入"},"定期預金等解約","摘要を記載する　249",705]
[472,"2018-02-07",{"$f":"VLOOKUP(入出金tbl[[#This Row],[内　容]],科目tbl[[内　容]:[番号]],2,TRUE)","v":"経常外収支"},{"$f":"VLOOKUP(入出金tbl[[#This Row],[内　容]],科目tbl[[内　容]:[番号]],3,TRUE)","v":"収入"},"その他臨時収入","摘要を記載する　332",676]
[473,"2018-02-08",{"$f":"VLOOKUP(入出金tbl[[#This Row],[内　容]],科目tbl[[内　容]:[番号]],2,TRUE)","v":"財務収支"},{"$f":"VLOOKUP(入出金tbl[[#This Row],[内　容]],科目tbl[[内　容]:[番号]],3,TRUE)","v":"収入"},"短期借入金調達","摘要を記載する　249",705]
[474,"2018-02-08",{"$f":"VLOOKUP(入出金tbl[[#This Row],[内　容]],科目tbl[[内　容]:[番号]],2,TRUE)","v":"財務収支"},{"$f":"VLOOKUP(入出金tbl[[#This Row],[内　容]],科目tbl[[内　容]:[番号]],3,TRUE)","v":"収入"},"長期借入金調達","摘要を記載する　354",874]
[475,"2018-02-09",{"$f":"VLOOKUP(入出金tbl[[#This Row],[内　容]],科目tbl[[内　容]:[番号]],2,TRUE)","v":"財務収支"},{"$f":"VLOOKUP(入出金tbl[[#This Row],[内　容]],科目tbl[[内　容]:[番号]],3,TRUE)","v":"収入"},"社長借入金調達","摘要を記載する　195",1045]
[476,"2018-02-09",{"$f":"VLOOKUP(入出金tbl[[#This Row],[内　容]],科目tbl[[内　容]:[番号]],2,TRUE)","v":"財務収支"},{"$f":"VLOOKUP(入出金tbl[[#This Row],[内　容]],科目tbl[[内　容]:[番号]],3,TRUE)","v":"収入"},"その他調達","摘要を記載する　354",874]
[477,"2018-02-10",{"$f":"VLOOKUP(入出金tbl[[#This Row],[内　容]],科目tbl[[内　容]:[番号]],2,TRUE)","v":"経常収支"},{"$f":"VLOOKUP(入出金tbl[[#This Row],[内　容]],科目tbl[[内　容]:[番号]],3,TRUE)","v":"支出"},"現金仕入","摘要を記載する　195",1045]
[478,"2018-02-10",{"$f":"VLOOKUP(入出金tbl[[#This Row],[内　容]],科目tbl[[内　容]:[番号]],2,TRUE)","v":"経常収支"},{"$f":"VLOOKUP(入出金tbl[[#This Row],[内　容]],科目tbl[[内　容]:[番号]],3,TRUE)","v":"支出"},"買掛金支払","摘要を記載する　513",216]
[479,"2018-02-11",{"$f":"VLOOKUP(入出金tbl[[#This Row],[内　容]],科目tbl[[内　容]:[番号]],2,TRUE)","v":"経常収支"},{"$f":"VLOOKUP(入出金tbl[[#This Row],[内　容]],科目tbl[[内　容]:[番号]],3,TRUE)","v":"支出"},"手形支払","摘要を記載する　328",797]
[480,"2018-02-11",{"$f":"VLOOKUP(入出金tbl[[#This Row],[内　容]],科目tbl[[内　容]:[番号]],2,TRUE)","v":"経常収支"},{"$f":"VLOOKUP(入出金tbl[[#This Row],[内　容]],科目tbl[[内　容]:[番号]],3,TRUE)","v":"支出"},"賃金・給与現金支払","摘要を記載する　513",216]
[481,"2018-02-12",{"$f":"VLOOKUP(入出金tbl[[#This Row],[内　容]],科目tbl[[内　容]:[番号]],2,TRUE)","v":"経常収支"},{"$f":"VLOOKUP(入出金tbl[[#This Row],[内　容]],科目tbl[[内　容]:[番号]],3,TRUE)","v":"支出"},"賞与支払い","摘要を記載する　328",797]
[482,"2018-02-12",{"$f":"VLOOKUP(入出金tbl[[#This Row],[内　容]],科目tbl[[内　容]:[番号]],2,TRUE)","v":"経常収支"},{"$f":"VLOOKUP(入出金tbl[[#This Row],[内　容]],科目tbl[[内　容]:[番号]],3,TRUE)","v":"支出"},"支払利息・割引料","摘要を記載する　202",820]
[483,"2018-02-13",{"$f":"VLOOKUP(入出金tbl[[#This Row],[内　容]],科目tbl[[内　容]:[番号]],2,TRUE)","v":"経常収支"},{"$f":"VLOOKUP(入出金tbl[[#This Row],[内　容]],科目tbl[[内　容]:[番号]],3,TRUE)","v":"支出"},"諸経費現金支払","摘要を記載する　221",848]
[484,"2018-02-13",{"$f":"VLOOKUP(入出金tbl[[#This Row],[内　容]],科目tbl[[内　容]:[番号]],2,TRUE)","v":"経常外収支"},{"$f":"VLOOKUP(入出金tbl[[#This Row],[内　容]],科目tbl[[内　容]:[番号]],3,TRUE)","v":"支出"},"税金","摘要を記載する　202",820]
[485,"2018-02-14",{"$f":"VLOOKUP(入出金tbl[[#This Row],[内　容]],科目tbl[[内　容]:[番号]],2,TRUE)","v":"経常外収支"},{"$f":"VLOOKUP(入出金tbl[[#This Row],[内　容]],科目tbl[[内　容]:[番号]],3,TRUE)","v":"支出"},"役員賞与","摘要を記載する　221",848]
[486,"2018-02-15",{"$f":"VLOOKUP(入出金tbl[[#This Row],[内　容]],科目tbl[[内　容]:[番号]],2,TRUE)","v":"経常外収支"},{"$f":"VLOOKUP(入出金tbl[[#This Row],[内　容]],科目tbl[[内　容]:[番号]],3,TRUE)","v":"支出"},"配当","摘要を記載する　398",500]
[487,"2018-02-16",{"$f":"VLOOKUP(入出金tbl[[#This Row],[内　容]],科目tbl[[内　容]:[番号]],2,TRUE)","v":"経常外収支"},{"$f":"VLOOKUP(入出金tbl[[#This Row],[内　容]],科目tbl[[内　容]:[番号]],3,TRUE)","v":"支出"},"固定資産購入支出","摘要を記載する　398",500]
[488,"2018-02-17",{"$f":"VLOOKUP(入出金tbl[[#This Row],[内　容]],科目tbl[[内　容]:[番号]],2,TRUE)","v":"経常外収支"},{"$f":"VLOOKUP(入出金tbl[[#This Row],[内　容]],科目tbl[[内　容]:[番号]],3,TRUE)","v":"支出"},"定期預金等設定","摘要を記載する　234",1032]
[489,"2018-02-18",{"$f":"VLOOKUP(入出金tbl[[#This Row],[内　容]],科目tbl[[内　容]:[番号]],2,TRUE)","v":"経常外収支"},{"$f":"VLOOKUP(入出金tbl[[#This Row],[内　容]],科目tbl[[内　容]:[番号]],3,TRUE)","v":"支出"},"その他臨時支出","摘要を記載する　234",1032]
[490,"2018-02-19",{"$f":"VLOOKUP(入出金tbl[[#This Row],[内　容]],科目tbl[[内　容]:[番号]],2,TRUE)","v":"財務収支"},{"$f":"VLOOKUP(入出金tbl[[#This Row],[内　容]],科目tbl[[内　容]:[番号]],3,TRUE)","v":"支出"},"短期借入金返済","摘要を記載する　418",344]
[491,"2018-02-20",{"$f":"VLOOKUP(入出金tbl[[#This Row],[内　容]],科目tbl[[内　容]:[番号]],2,TRUE)","v":"財務収支"},{"$f":"VLOOKUP(入出金tbl[[#This Row],[内　容]],科目tbl[[内　容]:[番号]],3,TRUE)","v":"支出"},"長期借入金返済","摘要を記載する　418",344]
[492,"2018-02-21",{"$f":"VLOOKUP(入出金tbl[[#This Row],[内　容]],科目tbl[[内　容]:[番号]],2,TRUE)","v":"財務収支"},{"$f":"VLOOKUP(入出金tbl[[#This Row],[内　容]],科目tbl[[内　容]:[番号]],3,TRUE)","v":"支出"},"社長借入金返済","摘要を記載する　179",476]
[493,"2018-02-22",{"$f":"VLOOKUP(入出金tbl[[#This Row],[内　容]],科目tbl[[内　容]:[番号]],2,TRUE)","v":"財務収支"},{"$f":"VLOOKUP(入出金tbl[[#This Row],[内　容]],科目tbl[[内　容]:[番号]],3,TRUE)","v":"支出"},"その他返済","摘要を記載する　179",476]
[494,"2018-02-23",{"$f":"VLOOKUP(入出金tbl[[#This Row],[内　容]],科目tbl[[内　容]:[番号]],2,TRUE)","v":"経常収支"},{"$f":"VLOOKUP(入出金tbl[[#This Row],[内　容]],科目tbl[[内　容]:[番号]],3,TRUE)","v":"収入"},"現金売上","摘要を記載する　348",933]
[495,"2018-02-24",{"$f":"VLOOKUP(入出金tbl[[#This Row],[内　容]],科目tbl[[内　容]:[番号]],2,TRUE)","v":"経常収支"},{"$f":"VLOOKUP(入出金tbl[[#This Row],[内　容]],科目tbl[[内　容]:[番号]],3,TRUE)","v":"収入"},"売掛金回収","摘要を記載する　348",933]
[496,"2018-02-25",{"$f":"VLOOKUP(入出金tbl[[#This Row],[内　容]],科目tbl[[内　容]:[番号]],2,TRUE)","v":"経常収支"},{"$f":"VLOOKUP(入出金tbl[[#This Row],[内　容]],科目tbl[[内　容]:[番号]],3,TRUE)","v":"収入"},"受取手形回収","摘要を記載する　073",75]
[497,"2018-02-26",{"$f":"VLOOKUP(入出金tbl[[#This Row],[内　容]],科目tbl[[内　容]:[番号]],2,TRUE)","v":"経常収支"},{"$f":"VLOOKUP(入出金tbl[[#This Row],[内　容]],科目tbl[[内　容]:[番号]],3,TRUE)","v":"収入"},"手形割引","摘要を記載する　073",75]
[498,"2018-02-27",{"$f":"VLOOKUP(入出金tbl[[#This Row],[内　容]],科目tbl[[内　容]:[番号]],2,TRUE)","v":"経常収支"},{"$f":"VLOOKUP(入出金tbl[[#This Row],[内　容]],科目tbl[[内　容]:[番号]],3,TRUE)","v":"収入"},"その他収入","摘要を記載する　485",677]
[499,"2018-02-28",{"$f":"VLOOKUP(入出金tbl[[#This Row],[内　容]],科目tbl[[内　容]:[番号]],2,TRUE)","v":"経常外収支"},{"$f":"VLOOKUP(入出金tbl[[#This Row],[内　容]],科目tbl[[内　容]:[番号]],3,TRUE)","v":"収入"},"固定資産等売却手取","摘要を記載する　258",958]
[500,"2018-02-28",{"$f":"VLOOKUP(入出金tbl[[#This Row],[内　容]],科目tbl[[内　容]:[番号]],2,TRUE)","v":"経常外収支"},{"$f":"VLOOKUP(入出金tbl[[#This Row],[内　容]],科目tbl[[内　容]:[番号]],3,TRUE)","v":"収入"},"定期預金等解約","摘要を記載する　485",677]
[501,"2018-02-28",{"$f":"VLOOKUP(入出金tbl[[#This Row],[内　容]],科目tbl[[内　容]:[番号]],2,TRUE)","v":"経常外収支"},{"$f":"VLOOKUP(入出金tbl[[#This Row],[内　容]],科目tbl[[内　容]:[番号]],3,TRUE)","v":"収入"},"その他臨時収入","摘要を記載する　258",958]
[502,"2018-02-28",{"$f":"VLOOKUP(入出金tbl[[#This Row],[内　容]],科目tbl[[内　容]:[番号]],2,TRUE)","v":"財務収支"},{"$f":"VLOOKUP(入出金tbl[[#This Row],[内　容]],科目tbl[[内　容]:[番号]],3,TRUE)","v":"収入"},"短期借入金調達","摘要を記載する　338",1107]
[503,"2018-03-01",{"$f":"VLOOKUP(入出金tbl[[#This Row],[内　容]],科目tbl[[内　容]:[番号]],2,TRUE)","v":"財務収支"},{"$f":"VLOOKUP(入出金tbl[[#This Row],[内　容]],科目tbl[[内　容]:[番号]],3,TRUE)","v":"収入"},"長期借入金調達","摘要を記載する　339",95]
[504,"2018-03-02",{"$f":"VLOOKUP(入出金tbl[[#This Row],[内　容]],科目tbl[[内　容]:[番号]],2,TRUE)","v":"財務収支"},{"$f":"VLOOKUP(入出金tbl[[#This Row],[内　容]],科目tbl[[内　容]:[番号]],3,TRUE)","v":"収入"},"社長借入金調達","摘要を記載する　061",331]
[505,"2018-03-03",{"$f":"VLOOKUP(入出金tbl[[#This Row],[内　容]],科目tbl[[内　容]:[番号]],2,TRUE)","v":"財務収支"},{"$f":"VLOOKUP(入出金tbl[[#This Row],[内　容]],科目tbl[[内　容]:[番号]],3,TRUE)","v":"収入"},"その他調達","摘要を記載する　339",95]
[506,"2018-03-04",{"$f":"VLOOKUP(入出金tbl[[#This Row],[内　容]],科目tbl[[内　容]:[番号]],2,TRUE)","v":"経常収支"},{"$f":"VLOOKUP(入出金tbl[[#This Row],[内　容]],科目tbl[[内　容]:[番号]],3,TRUE)","v":"支出"},"現金仕入","摘要を記載する　061",331]
[507,"2018-03-05",{"$f":"VLOOKUP(入出金tbl[[#This Row],[内　容]],科目tbl[[内　容]:[番号]],2,TRUE)","v":"経常収支"},{"$f":"VLOOKUP(入出金tbl[[#This Row],[内　容]],科目tbl[[内　容]:[番号]],3,TRUE)","v":"支出"},"買掛金支払","摘要を記載する　322",593]
[508,"2018-03-06",{"$f":"VLOOKUP(入出金tbl[[#This Row],[内　容]],科目tbl[[内　容]:[番号]],2,TRUE)","v":"経常収支"},{"$f":"VLOOKUP(入出金tbl[[#This Row],[内　容]],科目tbl[[内　容]:[番号]],3,TRUE)","v":"支出"},"手形支払","摘要を記載する　322",593]
[509,"2018-03-07",{"$f":"VLOOKUP(入出金tbl[[#This Row],[内　容]],科目tbl[[内　容]:[番号]],2,TRUE)","v":"経常収支"},{"$f":"VLOOKUP(入出金tbl[[#This Row],[内　容]],科目tbl[[内　容]:[番号]],3,TRUE)","v":"支出"},"賃金・給与現金支払","摘要を記載する　233",641]
[510,"2018-03-08",{"$f":"VLOOKUP(入出金tbl[[#This Row],[内　容]],科目tbl[[内　容]:[番号]],2,TRUE)","v":"経常収支"},{"$f":"VLOOKUP(入出金tbl[[#This Row],[内　容]],科目tbl[[内　容]:[番号]],3,TRUE)","v":"支出"},"賞与支払い","摘要を記載する　358",1140]
[511,"2018-03-09",{"$f":"VLOOKUP(入出金tbl[[#This Row],[内　容]],科目tbl[[内　容]:[番号]],2,TRUE)","v":"経常収支"},{"$f":"VLOOKUP(入出金tbl[[#This Row],[内　容]],科目tbl[[内　容]:[番号]],3,TRUE)","v":"支出"},"支払利息・割引料","摘要を記載する　279",665]
[512,"2018-03-10",{"$f":"VLOOKUP(入出金tbl[[#This Row],[内　容]],科目tbl[[内　容]:[番号]],2,TRUE)","v":"経常収支"},{"$f":"VLOOKUP(入出金tbl[[#This Row],[内　容]],科目tbl[[内　容]:[番号]],3,TRUE)","v":"支出"},"諸経費現金支払","摘要を記載する　233",641]
[513,"2018-03-11",{"$f":"VLOOKUP(入出金tbl[[#This Row],[内　容]],科目tbl[[内　容]:[番号]],2,TRUE)","v":"経常外収支"},{"$f":"VLOOKUP(入出金tbl[[#This Row],[内　容]],科目tbl[[内　容]:[番号]],3,TRUE)","v":"支出"},"税金","摘要を記載する　358",1140]
[514,"2018-03-12",{"$f":"VLOOKUP(入出金tbl[[#This Row],[内　容]],科目tbl[[内　容]:[番号]],2,TRUE)","v":"経常外収支"},{"$f":"VLOOKUP(入出金tbl[[#This Row],[内　容]],科目tbl[[内　容]:[番号]],3,TRUE)","v":"支出"},"役員賞与","摘要を記載する　279",665]
[515,"2018-03-13",{"$f":"VLOOKUP(入出金tbl[[#This Row],[内　容]],科目tbl[[内　容]:[番号]],2,TRUE)","v":"経常外収支"},{"$f":"VLOOKUP(入出金tbl[[#This Row],[内　容]],科目tbl[[内　容]:[番号]],3,TRUE)","v":"支出"},"配当","摘要を記載する　400",160]
[516,"2018-03-14",{"$f":"VLOOKUP(入出金tbl[[#This Row],[内　容]],科目tbl[[内　容]:[番号]],2,TRUE)","v":"経常外収支"},{"$f":"VLOOKUP(入出金tbl[[#This Row],[内　容]],科目tbl[[内　容]:[番号]],3,TRUE)","v":"支出"},"固定資産購入支出","摘要を記載する　206",944]
[517,"2018-03-14",{"$f":"VLOOKUP(入出金tbl[[#This Row],[内　容]],科目tbl[[内　容]:[番号]],2,TRUE)","v":"経常外収支"},{"$f":"VLOOKUP(入出金tbl[[#This Row],[内　容]],科目tbl[[内　容]:[番号]],3,TRUE)","v":"支出"},"定期預金等設定","摘要を記載する　231",814]
[518,"2018-03-15",{"$f":"VLOOKUP(入出金tbl[[#This Row],[内　容]],科目tbl[[内　容]:[番号]],2,TRUE)","v":"経常外収支"},{"$f":"VLOOKUP(入出金tbl[[#This Row],[内　容]],科目tbl[[内　容]:[番号]],3,TRUE)","v":"支出"},"その他臨時支出","摘要を記載する　206",944]
[519,"2018-03-15",{"$f":"VLOOKUP(入出金tbl[[#This Row],[内　容]],科目tbl[[内　容]:[番号]],2,TRUE)","v":"財務収支"},{"$f":"VLOOKUP(入出金tbl[[#This Row],[内　容]],科目tbl[[内　容]:[番号]],3,TRUE)","v":"支出"},"短期借入金返済","摘要を記載する　400",160]
[520,"2018-03-16",{"$f":"VLOOKUP(入出金tbl[[#This Row],[内　容]],科目tbl[[内　容]:[番号]],2,TRUE)","v":"財務収支"},{"$f":"VLOOKUP(入出金tbl[[#This Row],[内　容]],科目tbl[[内　容]:[番号]],3,TRUE)","v":"支出"},"長期借入金返済","摘要を記載する　174",1188]
[521,"2018-03-16",{"$f":"VLOOKUP(入出金tbl[[#This Row],[内　容]],科目tbl[[内　容]:[番号]],2,TRUE)","v":"財務収支"},{"$f":"VLOOKUP(入出金tbl[[#This Row],[内　容]],科目tbl[[内　容]:[番号]],3,TRUE)","v":"支出"},"社長借入金返済","摘要を記載する　231",814]
[522,"2018-03-17",{"$f":"VLOOKUP(入出金tbl[[#This Row],[内　容]],科目tbl[[内　容]:[番号]],2,TRUE)","v":"財務収支"},{"$f":"VLOOKUP(入出金tbl[[#This Row],[内　容]],科目tbl[[内　容]:[番号]],3,TRUE)","v":"支出"},"その他返済","摘要を記載する　174",1188]
[523,"2018-03-17",{"$f":"VLOOKUP(入出金tbl[[#This Row],[内　容]],科目tbl[[内　容]:[番号]],2,TRUE)","v":"経常収支"},{"$f":"VLOOKUP(入出金tbl[[#This Row],[内　容]],科目tbl[[内　容]:[番号]],3,TRUE)","v":"収入"},"現金売上","摘要を記載する　062",1111]
[524,"2018-03-18",{"$f":"VLOOKUP(入出金tbl[[#This Row],[内　容]],科目tbl[[内　容]:[番号]],2,TRUE)","v":"経常収支"},{"$f":"VLOOKUP(入出金tbl[[#This Row],[内　容]],科目tbl[[内　容]:[番号]],3,TRUE)","v":"収入"},"売掛金回収","摘要を記載する　063",246]
[525,"2018-03-18",{"$f":"VLOOKUP(入出金tbl[[#This Row],[内　容]],科目tbl[[内　容]:[番号]],2,TRUE)","v":"経常収支"},{"$f":"VLOOKUP(入出金tbl[[#This Row],[内　容]],科目tbl[[内　容]:[番号]],3,TRUE)","v":"収入"},"受取手形回収","摘要を記載する　266",987]
[526,"2018-03-19",{"$f":"VLOOKUP(入出金tbl[[#This Row],[内　容]],科目tbl[[内　容]:[番号]],2,TRUE)","v":"経常収支"},{"$f":"VLOOKUP(入出金tbl[[#This Row],[内　容]],科目tbl[[内　容]:[番号]],3,TRUE)","v":"収入"},"手形割引","摘要を記載する　365",1042]
[527,"2018-03-19",{"$f":"VLOOKUP(入出金tbl[[#This Row],[内　容]],科目tbl[[内　容]:[番号]],2,TRUE)","v":"経常収支"},{"$f":"VLOOKUP(入出金tbl[[#This Row],[内　容]],科目tbl[[内　容]:[番号]],3,TRUE)","v":"収入"},"その他収入","摘要を記載する　062",1111]
[528,"2018-03-20",{"$f":"VLOOKUP(入出金tbl[[#This Row],[内　容]],科目tbl[[内　容]:[番号]],2,TRUE)","v":"経常外収支"},{"$f":"VLOOKUP(入出金tbl[[#This Row],[内　容]],科目tbl[[内　容]:[番号]],3,TRUE)","v":"収入"},"固定資産等売却手取","摘要を記載する　063",246]
[529,"2018-03-20",{"$f":"VLOOKUP(入出金tbl[[#This Row],[内　容]],科目tbl[[内　容]:[番号]],2,TRUE)","v":"経常外収支"},{"$f":"VLOOKUP(入出金tbl[[#This Row],[内　容]],科目tbl[[内　容]:[番号]],3,TRUE)","v":"収入"},"定期預金等解約","摘要を記載する　266",987]
[530,"2018-03-21",{"$f":"VLOOKUP(入出金tbl[[#This Row],[内　容]],科目tbl[[内　容]:[番号]],2,TRUE)","v":"経常外収支"},{"$f":"VLOOKUP(入出金tbl[[#This Row],[内　容]],科目tbl[[内　容]:[番号]],3,TRUE)","v":"収入"},"その他臨時収入","摘要を記載する　365",1042]
[531,"2018-03-21",{"$f":"VLOOKUP(入出金tbl[[#This Row],[内　容]],科目tbl[[内　容]:[番号]],2,TRUE)","v":"財務収支"},{"$f":"VLOOKUP(入出金tbl[[#This Row],[内　容]],科目tbl[[内　容]:[番号]],3,TRUE)","v":"収入"},"短期借入金調達","摘要を記載する　224",425]
[532,"2018-03-22",{"$f":"VLOOKUP(入出金tbl[[#This Row],[内　容]],科目tbl[[内　容]:[番号]],2,TRUE)","v":"財務収支"},{"$f":"VLOOKUP(入出金tbl[[#This Row],[内　容]],科目tbl[[内　容]:[番号]],3,TRUE)","v":"収入"},"長期借入金調達","摘要を記載する　452",166]
[533,"2018-03-22",{"$f":"VLOOKUP(入出金tbl[[#This Row],[内　容]],科目tbl[[内　容]:[番号]],2,TRUE)","v":"財務収支"},{"$f":"VLOOKUP(入出金tbl[[#This Row],[内　容]],科目tbl[[内　容]:[番号]],3,TRUE)","v":"収入"},"社長借入金調達","摘要を記載する　224",425]
[534,"2018-03-23",{"$f":"VLOOKUP(入出金tbl[[#This Row],[内　容]],科目tbl[[内　容]:[番号]],2,TRUE)","v":"財務収支"},{"$f":"VLOOKUP(入出金tbl[[#This Row],[内　容]],科目tbl[[内　容]:[番号]],3,TRUE)","v":"収入"},"その他調達","摘要を記載する　452",166]
[535,"2018-03-23",{"$f":"VLOOKUP(入出金tbl[[#This Row],[内　容]],科目tbl[[内　容]:[番号]],2,TRUE)","v":"経常収支"},{"$f":"VLOOKUP(入出金tbl[[#This Row],[内　容]],科目tbl[[内　容]:[番号]],3,TRUE)","v":"支出"},"現金仕入","摘要を記載する　224",1106]
[536,"2018-03-24",{"$f":"VLOOKUP(入出金tbl[[#This Row],[内　容]],科目tbl[[内　容]:[番号]],2,TRUE)","v":"経常収支"},{"$f":"VLOOKUP(入出金tbl[[#This Row],[内　容]],科目tbl[[内　容]:[番号]],3,TRUE)","v":"支出"},"買掛金支払","摘要を記載する　429",870]
[537,"2018-03-24",{"$f":"VLOOKUP(入出金tbl[[#This Row],[内　容]],科目tbl[[内　容]:[番号]],2,TRUE)","v":"経常収支"},{"$f":"VLOOKUP(入出金tbl[[#This Row],[内　容]],科目tbl[[内　容]:[番号]],3,TRUE)","v":"支出"},"手形支払","摘要を記載する　104",371]
[538,"2018-03-25",{"$f":"VLOOKUP(入出金tbl[[#This Row],[内　容]],科目tbl[[内　容]:[番号]],2,TRUE)","v":"経常収支"},{"$f":"VLOOKUP(入出金tbl[[#This Row],[内　容]],科目tbl[[内　容]:[番号]],3,TRUE)","v":"支出"},"賃金・給与現金支払","摘要を記載する　373",522]
[539,"2018-03-25",{"$f":"VLOOKUP(入出金tbl[[#This Row],[内　容]],科目tbl[[内　容]:[番号]],2,TRUE)","v":"経常収支"},{"$f":"VLOOKUP(入出金tbl[[#This Row],[内　容]],科目tbl[[内　容]:[番号]],3,TRUE)","v":"支出"},"賞与支払い","摘要を記載する　224",1106]
[540,"2018-03-26",{"$f":"VLOOKUP(入出金tbl[[#This Row],[内　容]],科目tbl[[内　容]:[番号]],2,TRUE)","v":"経常収支"},{"$f":"VLOOKUP(入出金tbl[[#This Row],[内　容]],科目tbl[[内　容]:[番号]],3,TRUE)","v":"支出"},"支払利息・割引料","摘要を記載する　429",870]
[541,"2018-03-26",{"$f":"VLOOKUP(入出金tbl[[#This Row],[内　容]],科目tbl[[内　容]:[番号]],2,TRUE)","v":"経常収支"},{"$f":"VLOOKUP(入出金tbl[[#This Row],[内　容]],科目tbl[[内　容]:[番号]],3,TRUE)","v":"支出"},"諸経費現金支払","摘要を記載する　104",371]
[542,"2018-03-27",{"$f":"VLOOKUP(入出金tbl[[#This Row],[内　容]],科目tbl[[内　容]:[番号]],2,TRUE)","v":"経常外収支"},{"$f":"VLOOKUP(入出金tbl[[#This Row],[内　容]],科目tbl[[内　容]:[番号]],3,TRUE)","v":"支出"},"税金","摘要を記載する　373",522]
[543,"2018-03-28",{"$f":"VLOOKUP(入出金tbl[[#This Row],[内　容]],科目tbl[[内　容]:[番号]],2,TRUE)","v":"経常外収支"},{"$f":"VLOOKUP(入出金tbl[[#This Row],[内　容]],科目tbl[[内　容]:[番号]],3,TRUE)","v":"支出"},"役員賞与","摘要を記載する　075",860]
[544,"2018-03-29",{"$f":"VLOOKUP(入出金tbl[[#This Row],[内　容]],科目tbl[[内　容]:[番号]],2,TRUE)","v":"経常外収支"},{"$f":"VLOOKUP(入出金tbl[[#This Row],[内　容]],科目tbl[[内　容]:[番号]],3,TRUE)","v":"支出"},"配当","摘要を記載する　075",860]
[545,"2018-03-30",{"$f":"VLOOKUP(入出金tbl[[#This Row],[内　容]],科目tbl[[内　容]:[番号]],2,TRUE)","v":"経常外収支"},{"$f":"VLOOKUP(入出金tbl[[#This Row],[内　容]],科目tbl[[内　容]:[番号]],3,TRUE)","v":"支出"},"固定資産購入支出","摘要を記載する　295",254]
[546,"2018-03-31",{"$f":"VLOOKUP(入出金tbl[[#This Row],[内　容]],科目tbl[[内　容]:[番号]],2,TRUE)","v":"経常外収支"},{"$f":"VLOOKUP(入出金tbl[[#This Row],[内　容]],科目tbl[[内　容]:[番号]],3,TRUE)","v":"支出"},"定期預金等設定","摘要を記載する　295",254]
[547,"2018-04-01",{"$f":"VLOOKUP(入出金tbl[[#This Row],[内　容]],科目tbl[[内　容]:[番号]],2,TRUE)","v":"経常外収支"},{"$f":"VLOOKUP(入出金tbl[[#This Row],[内　容]],科目tbl[[内　容]:[番号]],3,TRUE)","v":"支出"},"その他臨時支出","摘要を記載する　193",714]
[548,"2018-04-01",{"$f":"VLOOKUP(入出金tbl[[#This Row],[内　容]],科目tbl[[内　容]:[番号]],2,TRUE)","v":"財務収支"},{"$f":"VLOOKUP(入出金tbl[[#This Row],[内　容]],科目tbl[[内　容]:[番号]],3,TRUE)","v":"支出"},"短期借入金返済","摘要を記載する　401",982]
[549,"2018-04-02",{"$f":"VLOOKUP(入出金tbl[[#This Row],[内　容]],科目tbl[[内　容]:[番号]],2,TRUE)","v":"財務収支"},{"$f":"VLOOKUP(入出金tbl[[#This Row],[内　容]],科目tbl[[内　容]:[番号]],3,TRUE)","v":"支出"},"長期借入金返済","摘要を記載する　521",1157]
[550,"2018-04-02",{"$f":"VLOOKUP(入出金tbl[[#This Row],[内　容]],科目tbl[[内　容]:[番号]],2,TRUE)","v":"財務収支"},{"$f":"VLOOKUP(入出金tbl[[#This Row],[内　容]],科目tbl[[内　容]:[番号]],3,TRUE)","v":"支出"},"社長借入金返済","摘要を記載する　465",305]
[551,"2018-04-03",{"$f":"VLOOKUP(入出金tbl[[#This Row],[内　容]],科目tbl[[内　容]:[番号]],2,TRUE)","v":"財務収支"},{"$f":"VLOOKUP(入出金tbl[[#This Row],[内　容]],科目tbl[[内　容]:[番号]],3,TRUE)","v":"支出"},"その他返済","摘要を記載する　521",1157]
[552,"2018-04-03",{"$f":"VLOOKUP(入出金tbl[[#This Row],[内　容]],科目tbl[[内　容]:[番号]],2,TRUE)","v":"経常収支"},{"$f":"VLOOKUP(入出金tbl[[#This Row],[内　容]],科目tbl[[内　容]:[番号]],3,TRUE)","v":"収入"},"現金売上","摘要を記載する　401",982]
[553,"2018-04-04",{"$f":"VLOOKUP(入出金tbl[[#This Row],[内　容]],科目tbl[[内　容]:[番号]],2,TRUE)","v":"経常収支"},{"$f":"VLOOKUP(入出金tbl[[#This Row],[内　容]],科目tbl[[内　容]:[番号]],3,TRUE)","v":"収入"},"売掛金回収","摘要を記載する　408",794]
[554,"2018-04-04",{"$f":"VLOOKUP(入出金tbl[[#This Row],[内　容]],科目tbl[[内　容]:[番号]],2,TRUE)","v":"経常収支"},{"$f":"VLOOKUP(入出金tbl[[#This Row],[内　容]],科目tbl[[内　容]:[番号]],3,TRUE)","v":"収入"},"受取手形回収","摘要を記載する　465",305]
[555,"2018-04-05",{"$f":"VLOOKUP(入出金tbl[[#This Row],[内　容]],科目tbl[[内　容]:[番号]],2,TRUE)","v":"経常収支"},{"$f":"VLOOKUP(入出金tbl[[#This Row],[内　容]],科目tbl[[内　容]:[番号]],3,TRUE)","v":"収入"},"手形割引","摘要を記載する　419",1191]
[556,"2018-04-06",{"$f":"VLOOKUP(入出金tbl[[#This Row],[内　容]],科目tbl[[内　容]:[番号]],2,TRUE)","v":"経常収支"},{"$f":"VLOOKUP(入出金tbl[[#This Row],[内　容]],科目tbl[[内　容]:[番号]],3,TRUE)","v":"収入"},"その他収入","摘要を記載する　408",794]
[557,"2018-04-07",{"$f":"VLOOKUP(入出金tbl[[#This Row],[内　容]],科目tbl[[内　容]:[番号]],2,TRUE)","v":"経常外収支"},{"$f":"VLOOKUP(入出金tbl[[#This Row],[内　容]],科目tbl[[内　容]:[番号]],3,TRUE)","v":"収入"},"固定資産等売却手取","摘要を記載する　419",1191]
[558,"2018-04-08",{"$f":"VLOOKUP(入出金tbl[[#This Row],[内　容]],科目tbl[[内　容]:[番号]],2,TRUE)","v":"経常外収支"},{"$f":"VLOOKUP(入出金tbl[[#This Row],[内　容]],科目tbl[[内　容]:[番号]],3,TRUE)","v":"収入"},"定期預金等解約","摘要を記載する　236",812]
[559,"2018-04-09",{"$f":"VLOOKUP(入出金tbl[[#This Row],[内　容]],科目tbl[[内　容]:[番号]],2,TRUE)","v":"経常外収支"},{"$f":"VLOOKUP(入出金tbl[[#This Row],[内　容]],科目tbl[[内　容]:[番号]],3,TRUE)","v":"収入"},"その他臨時収入","摘要を記載する　236",812]
[560,"2018-04-10",{"$f":"VLOOKUP(入出金tbl[[#This Row],[内　容]],科目tbl[[内　容]:[番号]],2,TRUE)","v":"財務収支"},{"$f":"VLOOKUP(入出金tbl[[#This Row],[内　容]],科目tbl[[内　容]:[番号]],3,TRUE)","v":"収入"},"短期借入金調達","摘要を記載する　243",807]
[561,"2018-04-11",{"$f":"VLOOKUP(入出金tbl[[#This Row],[内　容]],科目tbl[[内　容]:[番号]],2,TRUE)","v":"財務収支"},{"$f":"VLOOKUP(入出金tbl[[#This Row],[内　容]],科目tbl[[内　容]:[番号]],3,TRUE)","v":"収入"},"長期借入金調達","摘要を記載する　451",108]
[562,"2018-04-12",{"$f":"VLOOKUP(入出金tbl[[#This Row],[内　容]],科目tbl[[内　容]:[番号]],2,TRUE)","v":"財務収支"},{"$f":"VLOOKUP(入出金tbl[[#This Row],[内　容]],科目tbl[[内　容]:[番号]],3,TRUE)","v":"収入"},"社長借入金調達","摘要を記載する　243",807]
[563,"2018-04-13",{"$f":"VLOOKUP(入出金tbl[[#This Row],[内　容]],科目tbl[[内　容]:[番号]],2,TRUE)","v":"財務収支"},{"$f":"VLOOKUP(入出金tbl[[#This Row],[内　容]],科目tbl[[内　容]:[番号]],3,TRUE)","v":"収入"},"その他調達","摘要を記載する　451",108]
[564,"2018-04-14",{"$f":"VLOOKUP(入出金tbl[[#This Row],[内　容]],科目tbl[[内　容]:[番号]],2,TRUE)","v":"経常収支"},{"$f":"VLOOKUP(入出金tbl[[#This Row],[内　容]],科目tbl[[内　容]:[番号]],3,TRUE)","v":"支出"},"現金仕入","摘要を記載する　296",381]
[565,"2018-04-15",{"$f":"VLOOKUP(入出金tbl[[#This Row],[内　容]],科目tbl[[内　容]:[番号]],2,TRUE)","v":"経常収支"},{"$f":"VLOOKUP(入出金tbl[[#This Row],[内　容]],科目tbl[[内　容]:[番号]],3,TRUE)","v":"支出"},"買掛金支払","摘要を記載する　296",381]
[566,"2018-04-16",{"$f":"VLOOKUP(入出金tbl[[#This Row],[内　容]],科目tbl[[内　容]:[番号]],2,TRUE)","v":"経常収支"},{"$f":"VLOOKUP(入出金tbl[[#This Row],[内　容]],科目tbl[[内　容]:[番号]],3,TRUE)","v":"支出"},"手形支払","摘要を記載する　177",65]
[567,"2018-04-17",{"$f":"VLOOKUP(入出金tbl[[#This Row],[内　容]],科目tbl[[内　容]:[番号]],2,TRUE)","v":"経常収支"},{"$f":"VLOOKUP(入出金tbl[[#This Row],[内　容]],科目tbl[[内　容]:[番号]],3,TRUE)","v":"支出"},"賃金・給与現金支払","摘要を記載する　177",65]
[568,"2018-04-18",{"$f":"VLOOKUP(入出金tbl[[#This Row],[内　容]],科目tbl[[内　容]:[番号]],2,TRUE)","v":"経常収支"},{"$f":"VLOOKUP(入出金tbl[[#This Row],[内　容]],科目tbl[[内　容]:[番号]],3,TRUE)","v":"支出"},"賞与支払い","摘要を記載する　323",700]
[569,"2018-04-19",{"$f":"VLOOKUP(入出金tbl[[#This Row],[内　容]],科目tbl[[内　容]:[番号]],2,TRUE)","v":"経常収支"},{"$f":"VLOOKUP(入出金tbl[[#This Row],[内　容]],科目tbl[[内　容]:[番号]],3,TRUE)","v":"支出"},"支払利息・割引料","摘要を記載する　059",521]
[570,"2018-04-20",{"$f":"VLOOKUP(入出金tbl[[#This Row],[内　容]],科目tbl[[内　容]:[番号]],2,TRUE)","v":"経常収支"},{"$f":"VLOOKUP(入出金tbl[[#This Row],[内　容]],科目tbl[[内　容]:[番号]],3,TRUE)","v":"支出"},"諸経費現金支払","摘要を記載する　323",700]
[571,"2018-04-21",{"$f":"VLOOKUP(入出金tbl[[#This Row],[内　容]],科目tbl[[内　容]:[番号]],2,TRUE)","v":"経常外収支"},{"$f":"VLOOKUP(入出金tbl[[#This Row],[内　容]],科目tbl[[内　容]:[番号]],3,TRUE)","v":"支出"},"税金","摘要を記載する　059",521]
[572,"2018-04-22",{"$f":"VLOOKUP(入出金tbl[[#This Row],[内　容]],科目tbl[[内　容]:[番号]],2,TRUE)","v":"経常外収支"},{"$f":"VLOOKUP(入出金tbl[[#This Row],[内　容]],科目tbl[[内　容]:[番号]],3,TRUE)","v":"支出"},"役員賞与","摘要を記載する　388",170]
[573,"2018-04-23",{"$f":"VLOOKUP(入出金tbl[[#This Row],[内　容]],科目tbl[[内　容]:[番号]],2,TRUE)","v":"経常外収支"},{"$f":"VLOOKUP(入出金tbl[[#This Row],[内　容]],科目tbl[[内　容]:[番号]],3,TRUE)","v":"支出"},"配当","摘要を記載する　388",170]
[574,"2018-04-24",{"$f":"VLOOKUP(入出金tbl[[#This Row],[内　容]],科目tbl[[内　容]:[番号]],2,TRUE)","v":"経常外収支"},{"$f":"VLOOKUP(入出金tbl[[#This Row],[内　容]],科目tbl[[内　容]:[番号]],3,TRUE)","v":"支出"},"固定資産購入支出","摘要を記載する　307",912]
[575,"2018-04-25",{"$f":"VLOOKUP(入出金tbl[[#This Row],[内　容]],科目tbl[[内　容]:[番号]],2,TRUE)","v":"経常外収支"},{"$f":"VLOOKUP(入出金tbl[[#This Row],[内　容]],科目tbl[[内　容]:[番号]],3,TRUE)","v":"支出"},"定期預金等設定","摘要を記載する　307",912]
[576,"2018-04-26",{"$f":"VLOOKUP(入出金tbl[[#This Row],[内　容]],科目tbl[[内　容]:[番号]],2,TRUE)","v":"経常外収支"},{"$f":"VLOOKUP(入出金tbl[[#This Row],[内　容]],科目tbl[[内　容]:[番号]],3,TRUE)","v":"支出"},"その他臨時支出","摘要を記載する　357",957]
[577,"2018-04-27",{"$f":"VLOOKUP(入出金tbl[[#This Row],[内　容]],科目tbl[[内　容]:[番号]],2,TRUE)","v":"財務収支"},{"$f":"VLOOKUP(入出金tbl[[#This Row],[内　容]],科目tbl[[内　容]:[番号]],3,TRUE)","v":"支出"},"短期借入金返済","摘要を記載する　476",1164]
[578,"2018-04-27",{"$f":"VLOOKUP(入出金tbl[[#This Row],[内　容]],科目tbl[[内　容]:[番号]],2,TRUE)","v":"財務収支"},{"$f":"VLOOKUP(入出金tbl[[#This Row],[内　容]],科目tbl[[内　容]:[番号]],3,TRUE)","v":"支出"},"長期借入金返済","摘要を記載する　357",957]
[579,"2018-04-28",{"$f":"VLOOKUP(入出金tbl[[#This Row],[内　容]],科目tbl[[内　容]:[番号]],2,TRUE)","v":"財務収支"},{"$f":"VLOOKUP(入出金tbl[[#This Row],[内　容]],科目tbl[[内　容]:[番号]],3,TRUE)","v":"支出"},"社長借入金返済","摘要を記載する　476",1164]
[580,"2018-04-28",{"$f":"VLOOKUP(入出金tbl[[#This Row],[内　容]],科目tbl[[内　容]:[番号]],2,TRUE)","v":"財務収支"},{"$f":"VLOOKUP(入出金tbl[[#This Row],[内　容]],科目tbl[[内　容]:[番号]],3,TRUE)","v":"支出"},"その他返済","摘要を記載する　512",1098]
[581,"2018-04-29",{"$f":"VLOOKUP(入出金tbl[[#This Row],[内　容]],科目tbl[[内　容]:[番号]],2,TRUE)","v":"経常収支"},{"$f":"VLOOKUP(入出金tbl[[#This Row],[内　容]],科目tbl[[内　容]:[番号]],3,TRUE)","v":"収入"},"現金売上","摘要を記載する　383",723]
[582,"2018-04-29",{"$f":"VLOOKUP(入出金tbl[[#This Row],[内　容]],科目tbl[[内　容]:[番号]],2,TRUE)","v":"経常収支"},{"$f":"VLOOKUP(入出金tbl[[#This Row],[内　容]],科目tbl[[内　容]:[番号]],3,TRUE)","v":"収入"},"売掛金回収","摘要を記載する　512",1098]
[583,"2018-04-30",{"$f":"VLOOKUP(入出金tbl[[#This Row],[内　容]],科目tbl[[内　容]:[番号]],2,TRUE)","v":"経常収支"},{"$f":"VLOOKUP(入出金tbl[[#This Row],[内　容]],科目tbl[[内　容]:[番号]],3,TRUE)","v":"収入"},"受取手形回収","摘要を記載する　383",723]
[584,"2018-04-30",{"$f":"VLOOKUP(入出金tbl[[#This Row],[内　容]],科目tbl[[内　容]:[番号]],2,TRUE)","v":"経常収支"},{"$f":"VLOOKUP(入出金tbl[[#This Row],[内　容]],科目tbl[[内　容]:[番号]],3,TRUE)","v":"収入"},"手形割引","摘要を記載する　437",1026]
[585,"2018-04-30",{"$f":"VLOOKUP(入出金tbl[[#This Row],[内　容]],科目tbl[[内　容]:[番号]],2,TRUE)","v":"経常収支"},{"$f":"VLOOKUP(入出金tbl[[#This Row],[内　容]],科目tbl[[内　容]:[番号]],3,TRUE)","v":"収入"},"その他収入","摘要を記載する　193",714]
[586,"2018-04-30",{"$f":"VLOOKUP(入出金tbl[[#This Row],[内　容]],科目tbl[[内　容]:[番号]],2,TRUE)","v":"経常外収支"},{"$f":"VLOOKUP(入出金tbl[[#This Row],[内　容]],科目tbl[[内　容]:[番号]],3,TRUE)","v":"収入"},"固定資産等売却手取","摘要を記載する　437",1026]
[587,"2018-05-01",{"$f":"VLOOKUP(入出金tbl[[#This Row],[内　容]],科目tbl[[内　容]:[番号]],2,TRUE)","v":"経常外収支"},{"$f":"VLOOKUP(入出金tbl[[#This Row],[内　容]],科目tbl[[内　容]:[番号]],3,TRUE)","v":"収入"},"定期預金等解約","摘要を記載する　217",1151]
[588,"2018-05-02",{"$f":"VLOOKUP(入出金tbl[[#This Row],[内　容]],科目tbl[[内　容]:[番号]],2,TRUE)","v":"経常外収支"},{"$f":"VLOOKUP(入出金tbl[[#This Row],[内　容]],科目tbl[[内　容]:[番号]],3,TRUE)","v":"収入"},"その他臨時収入","摘要を記載する　471",1125]
[589,"2018-05-03",{"$f":"VLOOKUP(入出金tbl[[#This Row],[内　容]],科目tbl[[内　容]:[番号]],2,TRUE)","v":"財務収支"},{"$f":"VLOOKUP(入出金tbl[[#This Row],[内　容]],科目tbl[[内　容]:[番号]],3,TRUE)","v":"収入"},"短期借入金調達","摘要を記載する　217",1151]
[590,"2018-05-04",{"$f":"VLOOKUP(入出金tbl[[#This Row],[内　容]],科目tbl[[内　容]:[番号]],2,TRUE)","v":"財務収支"},{"$f":"VLOOKUP(入出金tbl[[#This Row],[内　容]],科目tbl[[内　容]:[番号]],3,TRUE)","v":"収入"},"長期借入金調達","摘要を記載する　395",565]
[591,"2018-05-05",{"$f":"VLOOKUP(入出金tbl[[#This Row],[内　容]],科目tbl[[内　容]:[番号]],2,TRUE)","v":"財務収支"},{"$f":"VLOOKUP(入出金tbl[[#This Row],[内　容]],科目tbl[[内　容]:[番号]],3,TRUE)","v":"収入"},"社長借入金調達","摘要を記載する　215",673]
[592,"2018-05-05",{"$f":"VLOOKUP(入出金tbl[[#This Row],[内　容]],科目tbl[[内　容]:[番号]],2,TRUE)","v":"財務収支"},{"$f":"VLOOKUP(入出金tbl[[#This Row],[内　容]],科目tbl[[内　容]:[番号]],3,TRUE)","v":"収入"},"その他調達","摘要を記載する　395",565]
[593,"2018-05-06",{"$f":"VLOOKUP(入出金tbl[[#This Row],[内　容]],科目tbl[[内　容]:[番号]],2,TRUE)","v":"経常収支"},{"$f":"VLOOKUP(入出金tbl[[#This Row],[内　容]],科目tbl[[内　容]:[番号]],3,TRUE)","v":"支出"},"現金仕入","摘要を記載する　215",673]
[594,"2018-05-06",{"$f":"VLOOKUP(入出金tbl[[#This Row],[内　容]],科目tbl[[内　容]:[番号]],2,TRUE)","v":"経常収支"},{"$f":"VLOOKUP(入出金tbl[[#This Row],[内　容]],科目tbl[[内　容]:[番号]],3,TRUE)","v":"支出"},"買掛金支払","摘要を記載する　368",193]
[595,"2018-05-07",{"$f":"VLOOKUP(入出金tbl[[#This Row],[内　容]],科目tbl[[内　容]:[番号]],2,TRUE)","v":"経常収支"},{"$f":"VLOOKUP(入出金tbl[[#This Row],[内　容]],科目tbl[[内　容]:[番号]],3,TRUE)","v":"支出"},"手形支払","摘要を記載する　367",561]
[596,"2018-05-07",{"$f":"VLOOKUP(入出金tbl[[#This Row],[内　容]],科目tbl[[内　容]:[番号]],2,TRUE)","v":"経常収支"},{"$f":"VLOOKUP(入出金tbl[[#This Row],[内　容]],科目tbl[[内　容]:[番号]],3,TRUE)","v":"支出"},"賃金・給与現金支払","摘要を記載する　368",193]
[597,"2018-05-08",{"$f":"VLOOKUP(入出金tbl[[#This Row],[内　容]],科目tbl[[内　容]:[番号]],2,TRUE)","v":"経常収支"},{"$f":"VLOOKUP(入出金tbl[[#This Row],[内　容]],科目tbl[[内　容]:[番号]],3,TRUE)","v":"支出"},"賞与支払い","摘要を記載する　399",452]
[598,"2018-05-08",{"$f":"VLOOKUP(入出金tbl[[#This Row],[内　容]],科目tbl[[内　容]:[番号]],2,TRUE)","v":"経常収支"},{"$f":"VLOOKUP(入出金tbl[[#This Row],[内　容]],科目tbl[[内　容]:[番号]],3,TRUE)","v":"支出"},"支払利息・割引料","摘要を記載する　290",1128]
[599,"2018-05-09",{"$f":"VLOOKUP(入出金tbl[[#This Row],[内　容]],科目tbl[[内　容]:[番号]],2,TRUE)","v":"経常収支"},{"$f":"VLOOKUP(入出金tbl[[#This Row],[内　容]],科目tbl[[内　容]:[番号]],3,TRUE)","v":"支出"},"諸経費現金支払","摘要を記載する　367",561]
[600,"2018-05-09",{"$f":"VLOOKUP(入出金tbl[[#This Row],[内　容]],科目tbl[[内　容]:[番号]],2,TRUE)","v":"経常外収支"},{"$f":"VLOOKUP(入出金tbl[[#This Row],[内　容]],科目tbl[[内　容]:[番号]],3,TRUE)","v":"支出"},"税金","摘要を記載する　430",735]
[601,"2018-05-10",{"$f":"VLOOKUP(入出金tbl[[#This Row],[内　容]],科目tbl[[内　容]:[番号]],2,TRUE)","v":"経常外収支"},{"$f":"VLOOKUP(入出金tbl[[#This Row],[内　容]],科目tbl[[内　容]:[番号]],3,TRUE)","v":"支出"},"役員賞与","摘要を記載する　399",452]
[602,"2018-05-10",{"$f":"VLOOKUP(入出金tbl[[#This Row],[内　容]],科目tbl[[内　容]:[番号]],2,TRUE)","v":"経常外収支"},{"$f":"VLOOKUP(入出金tbl[[#This Row],[内　容]],科目tbl[[内　容]:[番号]],3,TRUE)","v":"支出"},"配当","摘要を記載する　290",1128]
[603,"2018-05-11",{"$f":"VLOOKUP(入出金tbl[[#This Row],[内　容]],科目tbl[[内　容]:[番号]],2,TRUE)","v":"経常外収支"},{"$f":"VLOOKUP(入出金tbl[[#This Row],[内　容]],科目tbl[[内　容]:[番号]],3,TRUE)","v":"支出"},"固定資産購入支出","摘要を記載する　225",604]
[604,"2018-05-11",{"$f":"VLOOKUP(入出金tbl[[#This Row],[内　容]],科目tbl[[内　容]:[番号]],2,TRUE)","v":"経常外収支"},{"$f":"VLOOKUP(入出金tbl[[#This Row],[内　容]],科目tbl[[内　容]:[番号]],3,TRUE)","v":"支出"},"定期預金等設定","摘要を記載する　430",735]
[605,"2018-05-12",{"$f":"VLOOKUP(入出金tbl[[#This Row],[内　容]],科目tbl[[内　容]:[番号]],2,TRUE)","v":"経常外収支"},{"$f":"VLOOKUP(入出金tbl[[#This Row],[内　容]],科目tbl[[内　容]:[番号]],3,TRUE)","v":"支出"},"その他臨時支出","摘要を記載する　225",604]
[606,"2018-05-12",{"$f":"VLOOKUP(入出金tbl[[#This Row],[内　容]],科目tbl[[内　容]:[番号]],2,TRUE)","v":"財務収支"},{"$f":"VLOOKUP(入出金tbl[[#This Row],[内　容]],科目tbl[[内　容]:[番号]],3,TRUE)","v":"支出"},"短期借入金返済","摘要を記載する　384",433]
[607,"2018-05-13",{"$f":"VLOOKUP(入出金tbl[[#This Row],[内　容]],科目tbl[[内　容]:[番号]],2,TRUE)","v":"財務収支"},{"$f":"VLOOKUP(入出金tbl[[#This Row],[内　容]],科目tbl[[内　容]:[番号]],3,TRUE)","v":"支出"},"長期借入金返済","摘要を記載する　240",256]
[608,"2018-05-13",{"$f":"VLOOKUP(入出金tbl[[#This Row],[内　容]],科目tbl[[内　容]:[番号]],2,TRUE)","v":"財務収支"},{"$f":"VLOOKUP(入出金tbl[[#This Row],[内　容]],科目tbl[[内　容]:[番号]],3,TRUE)","v":"支出"},"社長借入金返済","摘要を記載する　384",433]
[609,"2018-05-14",{"$f":"VLOOKUP(入出金tbl[[#This Row],[内　容]],科目tbl[[内　容]:[番号]],2,TRUE)","v":"財務収支"},{"$f":"VLOOKUP(入出金tbl[[#This Row],[内　容]],科目tbl[[内　容]:[番号]],3,TRUE)","v":"支出"},"その他返済","摘要を記載する　240",256]
[610,"2018-05-14",{"$f":"VLOOKUP(入出金tbl[[#This Row],[内　容]],科目tbl[[内　容]:[番号]],2,TRUE)","v":"経常収支"},{"$f":"VLOOKUP(入出金tbl[[#This Row],[内　容]],科目tbl[[内　容]:[番号]],3,TRUE)","v":"収入"},"現金売上","摘要を記載する　228",1172]
[611,"2018-05-15",{"$f":"VLOOKUP(入出金tbl[[#This Row],[内　容]],科目tbl[[内　容]:[番号]],2,TRUE)","v":"経常収支"},{"$f":"VLOOKUP(入出金tbl[[#This Row],[内　容]],科目tbl[[内　容]:[番号]],3,TRUE)","v":"収入"},"売掛金回収","摘要を記載する　222",213]
[612,"2018-05-15",{"$f":"VLOOKUP(入出金tbl[[#This Row],[内　容]],科目tbl[[内　容]:[番号]],2,TRUE)","v":"経常収支"},{"$f":"VLOOKUP(入出金tbl[[#This Row],[内　容]],科目tbl[[内　容]:[番号]],3,TRUE)","v":"収入"},"受取手形回収","摘要を記載する　228",1172]
[613,"2018-05-16",{"$f":"VLOOKUP(入出金tbl[[#This Row],[内　容]],科目tbl[[内　容]:[番号]],2,TRUE)","v":"経常収支"},{"$f":"VLOOKUP(入出金tbl[[#This Row],[内　容]],科目tbl[[内　容]:[番号]],3,TRUE)","v":"収入"},"手形割引","摘要を記載する　222",213]
[614,"2018-05-17",{"$f":"VLOOKUP(入出金tbl[[#This Row],[内　容]],科目tbl[[内　容]:[番号]],2,TRUE)","v":"経常収支"},{"$f":"VLOOKUP(入出金tbl[[#This Row],[内　容]],科目tbl[[内　容]:[番号]],3,TRUE)","v":"収入"},"その他収入","摘要を記載する　175",260]
[615,"2018-05-18",{"$f":"VLOOKUP(入出金tbl[[#This Row],[内　容]],科目tbl[[内　容]:[番号]],2,TRUE)","v":"経常外収支"},{"$f":"VLOOKUP(入出金tbl[[#This Row],[内　容]],科目tbl[[内　容]:[番号]],3,TRUE)","v":"収入"},"固定資産等売却手取","摘要を記載する　175",260]
[616,"2018-05-19",{"$f":"VLOOKUP(入出金tbl[[#This Row],[内　容]],科目tbl[[内　容]:[番号]],2,TRUE)","v":"経常外収支"},{"$f":"VLOOKUP(入出金tbl[[#This Row],[内　容]],科目tbl[[内　容]:[番号]],3,TRUE)","v":"収入"},"定期預金等解約","摘要を記載する　366",515]
[617,"2018-05-20",{"$f":"VLOOKUP(入出金tbl[[#This Row],[内　容]],科目tbl[[内　容]:[番号]],2,TRUE)","v":"経常外収支"},{"$f":"VLOOKUP(入出金tbl[[#This Row],[内　容]],科目tbl[[内　容]:[番号]],3,TRUE)","v":"収入"},"その他臨時収入","摘要を記載する　366",515]
[618,"2018-05-21",{"$f":"VLOOKUP(入出金tbl[[#This Row],[内　容]],科目tbl[[内　容]:[番号]],2,TRUE)","v":"財務収支"},{"$f":"VLOOKUP(入出金tbl[[#This Row],[内　容]],科目tbl[[内　容]:[番号]],3,TRUE)","v":"収入"},"短期借入金調達","摘要を記載する　060",789]
[619,"2018-05-22",{"$f":"VLOOKUP(入出金tbl[[#This Row],[内　容]],科目tbl[[内　容]:[番号]],2,TRUE)","v":"財務収支"},{"$f":"VLOOKUP(入出金tbl[[#This Row],[内　容]],科目tbl[[内　容]:[番号]],3,TRUE)","v":"収入"},"長期借入金調達","摘要を記載する　060",789]
[620,"2018-05-23",{"$f":"VLOOKUP(入出金tbl[[#This Row],[内　容]],科目tbl[[内　容]:[番号]],2,TRUE)","v":"財務収支"},{"$f":"VLOOKUP(入出金tbl[[#This Row],[内　容]],科目tbl[[内　容]:[番号]],3,TRUE)","v":"収入"},"社長借入金調達","摘要を記載する　349",63]
[621,"2018-05-24",{"$f":"VLOOKUP(入出金tbl[[#This Row],[内　容]],科目tbl[[内　容]:[番号]],2,TRUE)","v":"財務収支"},{"$f":"VLOOKUP(入出金tbl[[#This Row],[内　容]],科目tbl[[内　容]:[番号]],3,TRUE)","v":"収入"},"その他調達","摘要を記載する　349",63]
[622,"2018-05-25",{"$f":"VLOOKUP(入出金tbl[[#This Row],[内　容]],科目tbl[[内　容]:[番号]],2,TRUE)","v":"経常収支"},{"$f":"VLOOKUP(入出金tbl[[#This Row],[内　容]],科目tbl[[内　容]:[番号]],3,TRUE)","v":"支出"},"現金仕入","摘要を記載する　423",529]
[623,"2018-05-26",{"$f":"VLOOKUP(入出金tbl[[#This Row],[内　容]],科目tbl[[内　容]:[番号]],2,TRUE)","v":"経常収支"},{"$f":"VLOOKUP(入出金tbl[[#This Row],[内　容]],科目tbl[[内　容]:[番号]],3,TRUE)","v":"支出"},"買掛金支払","摘要を記載する　423",529]
[624,"2018-05-27",{"$f":"VLOOKUP(入出金tbl[[#This Row],[内　容]],科目tbl[[内　容]:[番号]],2,TRUE)","v":"経常収支"},{"$f":"VLOOKUP(入出金tbl[[#This Row],[内　容]],科目tbl[[内　容]:[番号]],3,TRUE)","v":"支出"},"手形支払","摘要を記載する　396",496]
[625,"2018-05-28",{"$f":"VLOOKUP(入出金tbl[[#This Row],[内　容]],科目tbl[[内　容]:[番号]],2,TRUE)","v":"経常収支"},{"$f":"VLOOKUP(入出金tbl[[#This Row],[内　容]],科目tbl[[内　容]:[番号]],3,TRUE)","v":"支出"},"賃金・給与現金支払","摘要を記載する　409",763]
[626,"2018-05-29",{"$f":"VLOOKUP(入出金tbl[[#This Row],[内　容]],科目tbl[[内　容]:[番号]],2,TRUE)","v":"経常収支"},{"$f":"VLOOKUP(入出金tbl[[#This Row],[内　容]],科目tbl[[内　容]:[番号]],3,TRUE)","v":"支出"},"賞与支払い","摘要を記載する　396",496]
[627,"2018-05-30",{"$f":"VLOOKUP(入出金tbl[[#This Row],[内　容]],科目tbl[[内　容]:[番号]],2,TRUE)","v":"経常収支"},{"$f":"VLOOKUP(入出金tbl[[#This Row],[内　容]],科目tbl[[内　容]:[番号]],3,TRUE)","v":"支出"},"支払利息・割引料","摘要を記載する　409",763]
[628,"2018-05-31",{"$f":"VLOOKUP(入出金tbl[[#This Row],[内　容]],科目tbl[[内　容]:[番号]],2,TRUE)","v":"経常収支"},{"$f":"VLOOKUP(入出金tbl[[#This Row],[内　容]],科目tbl[[内　容]:[番号]],3,TRUE)","v":"支出"},"諸経費現金支払","摘要を記載する　471",1125]
[629,"2018-06-01",{"$f":"VLOOKUP(入出金tbl[[#This Row],[内　容]],科目tbl[[内　容]:[番号]],2,TRUE)","v":"経常外収支"},{"$f":"VLOOKUP(入出金tbl[[#This Row],[内　容]],科目tbl[[内　容]:[番号]],3,TRUE)","v":"支出"},"税金","摘要を記載する　190",103]
[630,"2018-06-02",{"$f":"VLOOKUP(入出金tbl[[#This Row],[内　容]],科目tbl[[内　容]:[番号]],2,TRUE)","v":"経常外収支"},{"$f":"VLOOKUP(入出金tbl[[#This Row],[内　容]],科目tbl[[内　容]:[番号]],3,TRUE)","v":"支出"},"役員賞与","摘要を記載する　297",516]
[631,"2018-06-03",{"$f":"VLOOKUP(入出金tbl[[#This Row],[内　容]],科目tbl[[内　容]:[番号]],2,TRUE)","v":"経常外収支"},{"$f":"VLOOKUP(入出金tbl[[#This Row],[内　容]],科目tbl[[内　容]:[番号]],3,TRUE)","v":"支出"},"配当","摘要を記載する　190",103]
[632,"2018-06-04",{"$f":"VLOOKUP(入出金tbl[[#This Row],[内　容]],科目tbl[[内　容]:[番号]],2,TRUE)","v":"経常外収支"},{"$f":"VLOOKUP(入出金tbl[[#This Row],[内　容]],科目tbl[[内　容]:[番号]],3,TRUE)","v":"支出"},"固定資産購入支出","摘要を記載する　297",516]
[633,"2018-06-05",{"$f":"VLOOKUP(入出金tbl[[#This Row],[内　容]],科目tbl[[内　容]:[番号]],2,TRUE)","v":"経常外収支"},{"$f":"VLOOKUP(入出金tbl[[#This Row],[内　容]],科目tbl[[内　容]:[番号]],3,TRUE)","v":"支出"},"定期預金等設定","摘要を記載する　350",941]
[634,"2018-06-06",{"$f":"VLOOKUP(入出金tbl[[#This Row],[内　容]],科目tbl[[内　容]:[番号]],2,TRUE)","v":"経常外収支"},{"$f":"VLOOKUP(入出金tbl[[#This Row],[内　容]],科目tbl[[内　容]:[番号]],3,TRUE)","v":"支出"},"その他臨時支出","摘要を記載する　350",941]
[635,"2018-06-07",{"$f":"VLOOKUP(入出金tbl[[#This Row],[内　容]],科目tbl[[内　容]:[番号]],2,TRUE)","v":"財務収支"},{"$f":"VLOOKUP(入出金tbl[[#This Row],[内　容]],科目tbl[[内　容]:[番号]],3,TRUE)","v":"支出"},"短期借入金返済","摘要を記載する　100",430]
[636,"2018-06-08",{"$f":"VLOOKUP(入出金tbl[[#This Row],[内　容]],科目tbl[[内　容]:[番号]],2,TRUE)","v":"財務収支"},{"$f":"VLOOKUP(入出金tbl[[#This Row],[内　容]],科目tbl[[内　容]:[番号]],3,TRUE)","v":"支出"},"長期借入金返済","摘要を記載する　244",414]
[637,"2018-06-09",{"$f":"VLOOKUP(入出金tbl[[#This Row],[内　容]],科目tbl[[内　容]:[番号]],2,TRUE)","v":"財務収支"},{"$f":"VLOOKUP(入出金tbl[[#This Row],[内　容]],科目tbl[[内　容]:[番号]],3,TRUE)","v":"支出"},"社長借入金返済","摘要を記載する　100",430]
[638,"2018-06-10",{"$f":"VLOOKUP(入出金tbl[[#This Row],[内　容]],科目tbl[[内　容]:[番号]],2,TRUE)","v":"財務収支"},{"$f":"VLOOKUP(入出金tbl[[#This Row],[内　容]],科目tbl[[内　容]:[番号]],3,TRUE)","v":"支出"},"その他返済","摘要を記載する　244",414]
[639,"2018-06-11",{"$f":"VLOOKUP(入出金tbl[[#This Row],[内　容]],科目tbl[[内　容]:[番号]],2,TRUE)","v":"経常収支"},{"$f":"VLOOKUP(入出金tbl[[#This Row],[内　容]],科目tbl[[内　容]:[番号]],3,TRUE)","v":"収入"},"現金売上","摘要を記載する　389",897]
[640,"2018-06-12",{"$f":"VLOOKUP(入出金tbl[[#This Row],[内　容]],科目tbl[[内　容]:[番号]],2,TRUE)","v":"経常収支"},{"$f":"VLOOKUP(入出金tbl[[#This Row],[内　容]],科目tbl[[内　容]:[番号]],3,TRUE)","v":"収入"},"売掛金回収","摘要を記載する　478",864]
[641,"2018-06-13",{"$f":"VLOOKUP(入出金tbl[[#This Row],[内　容]],科目tbl[[内　容]:[番号]],2,TRUE)","v":"経常収支"},{"$f":"VLOOKUP(入出金tbl[[#This Row],[内　容]],科目tbl[[内　容]:[番号]],3,TRUE)","v":"収入"},"受取手形回収","摘要を記載する　389",897]
[642,"2018-06-14",{"$f":"VLOOKUP(入出金tbl[[#This Row],[内　容]],科目tbl[[内　容]:[番号]],2,TRUE)","v":"経常収支"},{"$f":"VLOOKUP(入出金tbl[[#This Row],[内　容]],科目tbl[[内　容]:[番号]],3,TRUE)","v":"収入"},"手形割引","摘要を記載する　478",864]
[643,"2018-06-15",{"$f":"VLOOKUP(入出金tbl[[#This Row],[内　容]],科目tbl[[内　容]:[番号]],2,TRUE)","v":"経常収支"},{"$f":"VLOOKUP(入出金tbl[[#This Row],[内　容]],科目tbl[[内　容]:[番号]],3,TRUE)","v":"収入"},"その他収入","摘要を記載する　394",271]
[644,"2018-06-16",{"$f":"VLOOKUP(入出金tbl[[#This Row],[内　容]],科目tbl[[内　容]:[番号]],2,TRUE)","v":"経常外収支"},{"$f":"VLOOKUP(入出金tbl[[#This Row],[内　容]],科目tbl[[内　容]:[番号]],3,TRUE)","v":"収入"},"固定資産等売却手取","摘要を記載する　352",765]
[645,"2018-06-16",{"$f":"VLOOKUP(入出金tbl[[#This Row],[内　容]],科目tbl[[内　容]:[番号]],2,TRUE)","v":"経常外収支"},{"$f":"VLOOKUP(入出金tbl[[#This Row],[内　容]],科目tbl[[内　容]:[番号]],3,TRUE)","v":"収入"},"定期預金等解約","摘要を記載する　394",271]
[646,"2018-06-17",{"$f":"VLOOKUP(入出金tbl[[#This Row],[内　容]],科目tbl[[内　容]:[番号]],2,TRUE)","v":"経常外収支"},{"$f":"VLOOKUP(入出金tbl[[#This Row],[内　容]],科目tbl[[内　容]:[番号]],3,TRUE)","v":"収入"},"その他臨時収入","摘要を記載する　352",765]
[647,"2018-06-17",{"$f":"VLOOKUP(入出金tbl[[#This Row],[内　容]],科目tbl[[内　容]:[番号]],2,TRUE)","v":"財務収支"},{"$f":"VLOOKUP(入出金tbl[[#This Row],[内　容]],科目tbl[[内　容]:[番号]],3,TRUE)","v":"収入"},"短期借入金調達","摘要を記載する　480",155]
[648,"2018-06-18",{"$f":"VLOOKUP(入出金tbl[[#This Row],[内　容]],科目tbl[[内　容]:[番号]],2,TRUE)","v":"財務収支"},{"$f":"VLOOKUP(入出金tbl[[#This Row],[内　容]],科目tbl[[内　容]:[番号]],3,TRUE)","v":"収入"},"長期借入金調達","摘要を記載する　277",1099]
[649,"2018-06-18",{"$f":"VLOOKUP(入出金tbl[[#This Row],[内　容]],科目tbl[[内　容]:[番号]],2,TRUE)","v":"財務収支"},{"$f":"VLOOKUP(入出金tbl[[#This Row],[内　容]],科目tbl[[内　容]:[番号]],3,TRUE)","v":"収入"},"社長借入金調達","摘要を記載する　385",833]
[650,"2018-06-19",{"$f":"VLOOKUP(入出金tbl[[#This Row],[内　容]],科目tbl[[内　容]:[番号]],2,TRUE)","v":"財務収支"},{"$f":"VLOOKUP(入出金tbl[[#This Row],[内　容]],科目tbl[[内　容]:[番号]],3,TRUE)","v":"収入"},"その他調達","摘要を記載する　277",1099]
[651,"2018-06-19",{"$f":"VLOOKUP(入出金tbl[[#This Row],[内　容]],科目tbl[[内　容]:[番号]],2,TRUE)","v":"経常収支"},{"$f":"VLOOKUP(入出金tbl[[#This Row],[内　容]],科目tbl[[内　容]:[番号]],3,TRUE)","v":"支出"},"現金仕入","摘要を記載する　480",155]
[652,"2018-06-20",{"$f":"VLOOKUP(入出金tbl[[#This Row],[内　容]],科目tbl[[内　容]:[番号]],2,TRUE)","v":"経常収支"},{"$f":"VLOOKUP(入出金tbl[[#This Row],[内　容]],科目tbl[[内　容]:[番号]],3,TRUE)","v":"支出"},"買掛金支払","摘要を記載する　360",395]
[653,"2018-06-20",{"$f":"VLOOKUP(入出金tbl[[#This Row],[内　容]],科目tbl[[内　容]:[番号]],2,TRUE)","v":"経常収支"},{"$f":"VLOOKUP(入出金tbl[[#This Row],[内　容]],科目tbl[[内　容]:[番号]],3,TRUE)","v":"支出"},"手形支払","摘要を記載する　385",833]
[654,"2018-06-21",{"$f":"VLOOKUP(入出金tbl[[#This Row],[内　容]],科目tbl[[内　容]:[番号]],2,TRUE)","v":"経常収支"},{"$f":"VLOOKUP(入出金tbl[[#This Row],[内　容]],科目tbl[[内　容]:[番号]],3,TRUE)","v":"支出"},"賃金・給与現金支払","摘要を記載する　360",395]
[655,"2018-06-21",{"$f":"VLOOKUP(入出金tbl[[#This Row],[内　容]],科目tbl[[内　容]:[番号]],2,TRUE)","v":"経常収支"},{"$f":"VLOOKUP(入出金tbl[[#This Row],[内　容]],科目tbl[[内　容]:[番号]],3,TRUE)","v":"支出"},"賞与支払い","摘要を記載する　489",682]
[656,"2018-06-22",{"$f":"VLOOKUP(入出金tbl[[#This Row],[内　容]],科目tbl[[内　容]:[番号]],2,TRUE)","v":"経常収支"},{"$f":"VLOOKUP(入出金tbl[[#This Row],[内　容]],科目tbl[[内　容]:[番号]],3,TRUE)","v":"支出"},"支払利息・割引料","摘要を記載する　050",603]
[657,"2018-06-22",{"$f":"VLOOKUP(入出金tbl[[#This Row],[内　容]],科目tbl[[内　容]:[番号]],2,TRUE)","v":"経常収支"},{"$f":"VLOOKUP(入出金tbl[[#This Row],[内　容]],科目tbl[[内　容]:[番号]],3,TRUE)","v":"支出"},"諸経費現金支払","摘要を記載する　489",682]
[658,"2018-06-23",{"$f":"VLOOKUP(入出金tbl[[#This Row],[内　容]],科目tbl[[内　容]:[番号]],2,TRUE)","v":"経常外収支"},{"$f":"VLOOKUP(入出金tbl[[#This Row],[内　容]],科目tbl[[内　容]:[番号]],3,TRUE)","v":"支出"},"税金","摘要を記載する　050",603]
[659,"2018-06-23",{"$f":"VLOOKUP(入出金tbl[[#This Row],[内　容]],科目tbl[[内　容]:[番号]],2,TRUE)","v":"経常外収支"},{"$f":"VLOOKUP(入出金tbl[[#This Row],[内　容]],科目tbl[[内　容]:[番号]],3,TRUE)","v":"支出"},"役員賞与","摘要を記載する　369",85]
[660,"2018-06-24",{"$f":"VLOOKUP(入出金tbl[[#This Row],[内　容]],科目tbl[[内　容]:[番号]],2,TRUE)","v":"経常外収支"},{"$f":"VLOOKUP(入出金tbl[[#This Row],[内　容]],科目tbl[[内　容]:[番号]],3,TRUE)","v":"支出"},"配当","摘要を記載する　209",137]
[661,"2018-06-24",{"$f":"VLOOKUP(入出金tbl[[#This Row],[内　容]],科目tbl[[内　容]:[番号]],2,TRUE)","v":"経常外収支"},{"$f":"VLOOKUP(入出金tbl[[#This Row],[内　容]],科目tbl[[内　容]:[番号]],3,TRUE)","v":"支出"},"固定資産購入支出","摘要を記載する　369",85]
[662,"2018-06-25",{"$f":"VLOOKUP(入出金tbl[[#This Row],[内　容]],科目tbl[[内　容]:[番号]],2,TRUE)","v":"経常外収支"},{"$f":"VLOOKUP(入出金tbl[[#This Row],[内　容]],科目tbl[[内　容]:[番号]],3,TRUE)","v":"支出"},"定期預金等設定","摘要を記載する　209",137]
[663,"2018-06-25",{"$f":"VLOOKUP(入出金tbl[[#This Row],[内　容]],科目tbl[[内　容]:[番号]],2,TRUE)","v":"経常外収支"},{"$f":"VLOOKUP(入出金tbl[[#This Row],[内　容]],科目tbl[[内　容]:[番号]],3,TRUE)","v":"支出"},"その他臨時支出","摘要を記載する　162",496]
[664,"2018-06-26",{"$f":"VLOOKUP(入出金tbl[[#This Row],[内　容]],科目tbl[[内　容]:[番号]],2,TRUE)","v":"財務収支"},{"$f":"VLOOKUP(入出金tbl[[#This Row],[内　容]],科目tbl[[内　容]:[番号]],3,TRUE)","v":"支出"},"短期借入金返済","摘要を記載する　241",1086]
[665,"2018-06-26",{"$f":"VLOOKUP(入出金tbl[[#This Row],[内　容]],科目tbl[[内　容]:[番号]],2,TRUE)","v":"財務収支"},{"$f":"VLOOKUP(入出金tbl[[#This Row],[内　容]],科目tbl[[内　容]:[番号]],3,TRUE)","v":"支出"},"長期借入金返済","摘要を記載する　162",496]
[666,"2018-06-27",{"$f":"VLOOKUP(入出金tbl[[#This Row],[内　容]],科目tbl[[内　容]:[番号]],2,TRUE)","v":"財務収支"},{"$f":"VLOOKUP(入出金tbl[[#This Row],[内　容]],科目tbl[[内　容]:[番号]],3,TRUE)","v":"支出"},"社長借入金返済","摘要を記載する　241",1086]
[667,"2018-06-28",{"$f":"VLOOKUP(入出金tbl[[#This Row],[内　容]],科目tbl[[内　容]:[番号]],2,TRUE)","v":"財務収支"},{"$f":"VLOOKUP(入出金tbl[[#This Row],[内　容]],科目tbl[[内　容]:[番号]],3,TRUE)","v":"支出"},"その他返済","摘要を記載する　112",767]
[668,"2018-06-29",{"$f":"VLOOKUP(入出金tbl[[#This Row],[内　容]],科目tbl[[内　容]:[番号]],2,TRUE)","v":"経常収支"},{"$f":"VLOOKUP(入出金tbl[[#This Row],[内　容]],科目tbl[[内　容]:[番号]],3,TRUE)","v":"収入"},"現金売上","摘要を記載する　112",767]
[669,"2018-06-30",{"$f":"VLOOKUP(入出金tbl[[#This Row],[内　容]],科目tbl[[内　容]:[番号]],2,TRUE)","v":"経常収支"},{"$f":"VLOOKUP(入出金tbl[[#This Row],[内　容]],科目tbl[[内　容]:[番号]],3,TRUE)","v":"収入"},"売掛金回収","摘要を記載する　223",1076]
[670,"2018-06-30",{"$f":"VLOOKUP(入出金tbl[[#This Row],[内　容]],科目tbl[[内　容]:[番号]],2,TRUE)","v":"経常収支"},{"$f":"VLOOKUP(入出金tbl[[#This Row],[内　容]],科目tbl[[内　容]:[番号]],3,TRUE)","v":"収入"},"受取手形回収","摘要を記載する　223",1076]
[671,"2018-07-01",{"$f":"VLOOKUP(入出金tbl[[#This Row],[内　容]],科目tbl[[内　容]:[番号]],2,TRUE)","v":"経常収支"},{"$f":"VLOOKUP(入出金tbl[[#This Row],[内　容]],科目tbl[[内　容]:[番号]],3,TRUE)","v":"収入"},"手形割引","摘要を記載する　248",894]
[672,"2018-07-01",{"$f":"VLOOKUP(入出金tbl[[#This Row],[内　容]],科目tbl[[内　容]:[番号]],2,TRUE)","v":"経常収支"},{"$f":"VLOOKUP(入出金tbl[[#This Row],[内　容]],科目tbl[[内　容]:[番号]],3,TRUE)","v":"収入"},"その他収入","摘要を記載する　394",473]
[673,"2018-07-02",{"$f":"VLOOKUP(入出金tbl[[#This Row],[内　容]],科目tbl[[内　容]:[番号]],2,TRUE)","v":"経常外収支"},{"$f":"VLOOKUP(入出金tbl[[#This Row],[内　容]],科目tbl[[内　容]:[番号]],3,TRUE)","v":"収入"},"固定資産等売却手取","摘要を記載する　420",941]
[674,"2018-07-02",{"$f":"VLOOKUP(入出金tbl[[#This Row],[内　容]],科目tbl[[内　容]:[番号]],2,TRUE)","v":"経常外収支"},{"$f":"VLOOKUP(入出金tbl[[#This Row],[内　容]],科目tbl[[内　容]:[番号]],3,TRUE)","v":"収入"},"定期預金等解約","摘要を記載する　457",872]
[675,"2018-07-03",{"$f":"VLOOKUP(入出金tbl[[#This Row],[内　容]],科目tbl[[内　容]:[番号]],2,TRUE)","v":"経常外収支"},{"$f":"VLOOKUP(入出金tbl[[#This Row],[内　容]],科目tbl[[内　容]:[番号]],3,TRUE)","v":"収入"},"その他臨時収入","摘要を記載する　248",894]
[676,"2018-07-03",{"$f":"VLOOKUP(入出金tbl[[#This Row],[内　容]],科目tbl[[内　容]:[番号]],2,TRUE)","v":"財務収支"},{"$f":"VLOOKUP(入出金tbl[[#This Row],[内　容]],科目tbl[[内　容]:[番号]],3,TRUE)","v":"収入"},"短期借入金調達","摘要を記載する　516",382]
[677,"2018-07-04",{"$f":"VLOOKUP(入出金tbl[[#This Row],[内　容]],科目tbl[[内　容]:[番号]],2,TRUE)","v":"財務収支"},{"$f":"VLOOKUP(入出金tbl[[#This Row],[内　容]],科目tbl[[内　容]:[番号]],3,TRUE)","v":"収入"},"長期借入金調達","摘要を記載する　403",200]
[678,"2018-07-04",{"$f":"VLOOKUP(入出金tbl[[#This Row],[内　容]],科目tbl[[内　容]:[番号]],2,TRUE)","v":"財務収支"},{"$f":"VLOOKUP(入出金tbl[[#This Row],[内　容]],科目tbl[[内　容]:[番号]],3,TRUE)","v":"収入"},"社長借入金調達","摘要を記載する　516",382]
[679,"2018-07-05",{"$f":"VLOOKUP(入出金tbl[[#This Row],[内　容]],科目tbl[[内　容]:[番号]],2,TRUE)","v":"財務収支"},{"$f":"VLOOKUP(入出金tbl[[#This Row],[内　容]],科目tbl[[内　容]:[番号]],3,TRUE)","v":"収入"},"その他調達","摘要を記載する　403",200]
[680,"2018-07-05",{"$f":"VLOOKUP(入出金tbl[[#This Row],[内　容]],科目tbl[[内　容]:[番号]],2,TRUE)","v":"経常収支"},{"$f":"VLOOKUP(入出金tbl[[#This Row],[内　容]],科目tbl[[内　容]:[番号]],3,TRUE)","v":"支出"},"現金仕入","摘要を記載する　501",829]
[681,"2018-07-06",{"$f":"VLOOKUP(入出金tbl[[#This Row],[内　容]],科目tbl[[内　容]:[番号]],2,TRUE)","v":"経常収支"},{"$f":"VLOOKUP(入出金tbl[[#This Row],[内　容]],科目tbl[[内　容]:[番号]],3,TRUE)","v":"支出"},"買掛金支払","摘要を記載する　231",669]
[682,"2018-07-06",{"$f":"VLOOKUP(入出金tbl[[#This Row],[内　容]],科目tbl[[内　容]:[番号]],2,TRUE)","v":"経常収支"},{"$f":"VLOOKUP(入出金tbl[[#This Row],[内　容]],科目tbl[[内　容]:[番号]],3,TRUE)","v":"支出"},"手形支払","摘要を記載する　501",829]
[683,"2018-07-07",{"$f":"VLOOKUP(入出金tbl[[#This Row],[内　容]],科目tbl[[内　容]:[番号]],2,TRUE)","v":"経常収支"},{"$f":"VLOOKUP(入出金tbl[[#This Row],[内　容]],科目tbl[[内　容]:[番号]],3,TRUE)","v":"支出"},"賃金・給与現金支払","摘要を記載する　231",669]
[684,"2018-07-08",{"$f":"VLOOKUP(入出金tbl[[#This Row],[内　容]],科目tbl[[内　容]:[番号]],2,TRUE)","v":"経常収支"},{"$f":"VLOOKUP(入出金tbl[[#This Row],[内　容]],科目tbl[[内　容]:[番号]],3,TRUE)","v":"支出"},"賞与支払い","摘要を記載する　166",998]
[685,"2018-07-09",{"$f":"VLOOKUP(入出金tbl[[#This Row],[内　容]],科目tbl[[内　容]:[番号]],2,TRUE)","v":"経常収支"},{"$f":"VLOOKUP(入出金tbl[[#This Row],[内　容]],科目tbl[[内　容]:[番号]],3,TRUE)","v":"支出"},"支払利息・割引料","摘要を記載する　166",998]
[686,"2018-07-10",{"$f":"VLOOKUP(入出金tbl[[#This Row],[内　容]],科目tbl[[内　容]:[番号]],2,TRUE)","v":"経常収支"},{"$f":"VLOOKUP(入出金tbl[[#This Row],[内　容]],科目tbl[[内　容]:[番号]],3,TRUE)","v":"支出"},"諸経費現金支払","摘要を記載する　520",1003]
[687,"2018-07-11",{"$f":"VLOOKUP(入出金tbl[[#This Row],[内　容]],科目tbl[[内　容]:[番号]],2,TRUE)","v":"経常外収支"},{"$f":"VLOOKUP(入出金tbl[[#This Row],[内　容]],科目tbl[[内　容]:[番号]],3,TRUE)","v":"支出"},"税金","摘要を記載する　520",1003]
[688,"2018-07-12",{"$f":"VLOOKUP(入出金tbl[[#This Row],[内　容]],科目tbl[[内　容]:[番号]],2,TRUE)","v":"経常外収支"},{"$f":"VLOOKUP(入出金tbl[[#This Row],[内　容]],科目tbl[[内　容]:[番号]],3,TRUE)","v":"支出"},"役員賞与","摘要を記載する　272",294]
[689,"2018-07-13",{"$f":"VLOOKUP(入出金tbl[[#This Row],[内　容]],科目tbl[[内　容]:[番号]],2,TRUE)","v":"経常外収支"},{"$f":"VLOOKUP(入出金tbl[[#This Row],[内　容]],科目tbl[[内　容]:[番号]],3,TRUE)","v":"支出"},"配当","摘要を記載する　272",294]
[690,"2018-07-14",{"$f":"VLOOKUP(入出金tbl[[#This Row],[内　容]],科目tbl[[内　容]:[番号]],2,TRUE)","v":"経常外収支"},{"$f":"VLOOKUP(入出金tbl[[#This Row],[内　容]],科目tbl[[内　容]:[番号]],3,TRUE)","v":"支出"},"固定資産購入支出","摘要を記載する　197",151]
[691,"2018-07-15",{"$f":"VLOOKUP(入出金tbl[[#This Row],[内　容]],科目tbl[[内　容]:[番号]],2,TRUE)","v":"経常外収支"},{"$f":"VLOOKUP(入出金tbl[[#This Row],[内　容]],科目tbl[[内　容]:[番号]],3,TRUE)","v":"支出"},"定期預金等設定","摘要を記載する　197",151]
[692,"2018-07-16",{"$f":"VLOOKUP(入出金tbl[[#This Row],[内　容]],科目tbl[[内　容]:[番号]],2,TRUE)","v":"経常外収支"},{"$f":"VLOOKUP(入出金tbl[[#This Row],[内　容]],科目tbl[[内　容]:[番号]],3,TRUE)","v":"支出"},"その他臨時支出","摘要を記載する　261",999]
[693,"2018-07-17",{"$f":"VLOOKUP(入出金tbl[[#This Row],[内　容]],科目tbl[[内　容]:[番号]],2,TRUE)","v":"財務収支"},{"$f":"VLOOKUP(入出金tbl[[#This Row],[内　容]],科目tbl[[内　容]:[番号]],3,TRUE)","v":"支出"},"短期借入金返済","摘要を記載する　261",999]
[694,"2018-07-18",{"$f":"VLOOKUP(入出金tbl[[#This Row],[内　容]],科目tbl[[内　容]:[番号]],2,TRUE)","v":"財務収支"},{"$f":"VLOOKUP(入出金tbl[[#This Row],[内　容]],科目tbl[[内　容]:[番号]],3,TRUE)","v":"支出"},"長期借入金返済","摘要を記載する　271",1141]
[695,"2018-07-19",{"$f":"VLOOKUP(入出金tbl[[#This Row],[内　容]],科目tbl[[内　容]:[番号]],2,TRUE)","v":"財務収支"},{"$f":"VLOOKUP(入出金tbl[[#This Row],[内　容]],科目tbl[[内　容]:[番号]],3,TRUE)","v":"支出"},"社長借入金返済","摘要を記載する　271",1141]
[696,"2018-07-20",{"$f":"VLOOKUP(入出金tbl[[#This Row],[内　容]],科目tbl[[内　容]:[番号]],2,TRUE)","v":"財務収支"},{"$f":"VLOOKUP(入出金tbl[[#This Row],[内　容]],科目tbl[[内　容]:[番号]],3,TRUE)","v":"支出"},"その他返済","摘要を記載する　359",142]
[697,"2018-07-21",{"$f":"VLOOKUP(入出金tbl[[#This Row],[内　容]],科目tbl[[内　容]:[番号]],2,TRUE)","v":"経常収支"},{"$f":"VLOOKUP(入出金tbl[[#This Row],[内　容]],科目tbl[[内　容]:[番号]],3,TRUE)","v":"収入"},"現金売上","摘要を記載する　359",142]
[698,"2018-07-22",{"$f":"VLOOKUP(入出金tbl[[#This Row],[内　容]],科目tbl[[内　容]:[番号]],2,TRUE)","v":"経常収支"},{"$f":"VLOOKUP(入出金tbl[[#This Row],[内　容]],科目tbl[[内　容]:[番号]],3,TRUE)","v":"収入"},"売掛金回収","摘要を記載する　081",249]
[699,"2018-07-23",{"$f":"VLOOKUP(入出金tbl[[#This Row],[内　容]],科目tbl[[内　容]:[番号]],2,TRUE)","v":"経常収支"},{"$f":"VLOOKUP(入出金tbl[[#This Row],[内　容]],科目tbl[[内　容]:[番号]],3,TRUE)","v":"収入"},"受取手形回収","摘要を記載する　081",249]
[700,"2018-07-24",{"$f":"VLOOKUP(入出金tbl[[#This Row],[内　容]],科目tbl[[内　容]:[番号]],2,TRUE)","v":"経常収支"},{"$f":"VLOOKUP(入出金tbl[[#This Row],[内　容]],科目tbl[[内　容]:[番号]],3,TRUE)","v":"収入"},"手形割引","摘要を記載する　281",529]
[701,"2018-07-25",{"$f":"VLOOKUP(入出金tbl[[#This Row],[内　容]],科目tbl[[内　容]:[番号]],2,TRUE)","v":"経常収支"},{"$f":"VLOOKUP(入出金tbl[[#This Row],[内　容]],科目tbl[[内　容]:[番号]],3,TRUE)","v":"収入"},"その他収入","摘要を記載する　411",1123]
[702,"2018-07-26",{"$f":"VLOOKUP(入出金tbl[[#This Row],[内　容]],科目tbl[[内　容]:[番号]],2,TRUE)","v":"経常外収支"},{"$f":"VLOOKUP(入出金tbl[[#This Row],[内　容]],科目tbl[[内　容]:[番号]],3,TRUE)","v":"収入"},"固定資産等売却手取","摘要を記載する　281",529]
[703,"2018-07-27",{"$f":"VLOOKUP(入出金tbl[[#This Row],[内　容]],科目tbl[[内　容]:[番号]],2,TRUE)","v":"経常外収支"},{"$f":"VLOOKUP(入出金tbl[[#This Row],[内　容]],科目tbl[[内　容]:[番号]],3,TRUE)","v":"収入"},"定期預金等解約","摘要を記載する　315",590]
[704,"2018-07-27",{"$f":"VLOOKUP(入出金tbl[[#This Row],[内　容]],科目tbl[[内　容]:[番号]],2,TRUE)","v":"経常外収支"},{"$f":"VLOOKUP(入出金tbl[[#This Row],[内　容]],科目tbl[[内　容]:[番号]],3,TRUE)","v":"収入"},"その他臨時収入","摘要を記載する　411",1123]
[705,"2018-07-28",{"$f":"VLOOKUP(入出金tbl[[#This Row],[内　容]],科目tbl[[内　容]:[番号]],2,TRUE)","v":"財務収支"},{"$f":"VLOOKUP(入出金tbl[[#This Row],[内　容]],科目tbl[[内　容]:[番号]],3,TRUE)","v":"収入"},"短期借入金調達","摘要を記載する　315",590]
[706,"2018-07-28",{"$f":"VLOOKUP(入出金tbl[[#This Row],[内　容]],科目tbl[[内　容]:[番号]],2,TRUE)","v":"財務収支"},{"$f":"VLOOKUP(入出金tbl[[#This Row],[内　容]],科目tbl[[内　容]:[番号]],3,TRUE)","v":"収入"},"長期借入金調達","摘要を記載する　255",489]
[707,"2018-07-29",{"$f":"VLOOKUP(入出金tbl[[#This Row],[内　容]],科目tbl[[内　容]:[番号]],2,TRUE)","v":"財務収支"},{"$f":"VLOOKUP(入出金tbl[[#This Row],[内　容]],科目tbl[[内　容]:[番号]],3,TRUE)","v":"収入"},"社長借入金調達","摘要を記載する　370",103]
[708,"2018-07-29",{"$f":"VLOOKUP(入出金tbl[[#This Row],[内　容]],科目tbl[[内　容]:[番号]],2,TRUE)","v":"財務収支"},{"$f":"VLOOKUP(入出金tbl[[#This Row],[内　容]],科目tbl[[内　容]:[番号]],3,TRUE)","v":"収入"},"その他調達","摘要を記載する　394",473]
[709,"2018-07-30",{"$f":"VLOOKUP(入出金tbl[[#This Row],[内　容]],科目tbl[[内　容]:[番号]],2,TRUE)","v":"経常収支"},{"$f":"VLOOKUP(入出金tbl[[#This Row],[内　容]],科目tbl[[内　容]:[番号]],3,TRUE)","v":"支出"},"現金仕入","摘要を記載する　370",103]
[710,"2018-07-30",{"$f":"VLOOKUP(入出金tbl[[#This Row],[内　容]],科目tbl[[内　容]:[番号]],2,TRUE)","v":"経常収支"},{"$f":"VLOOKUP(入出金tbl[[#This Row],[内　容]],科目tbl[[内　容]:[番号]],3,TRUE)","v":"支出"},"買掛金支払","摘要を記載する　457",872]
[711,"2018-07-31",{"$f":"VLOOKUP(入出金tbl[[#This Row],[内　容]],科目tbl[[内　容]:[番号]],2,TRUE)","v":"経常収支"},{"$f":"VLOOKUP(入出金tbl[[#This Row],[内　容]],科目tbl[[内　容]:[番号]],3,TRUE)","v":"支出"},"手形支払","摘要を記載する　420",941]
[712,"2018-07-31",{"$f":"VLOOKUP(入出金tbl[[#This Row],[内　容]],科目tbl[[内　容]:[番号]],2,TRUE)","v":"経常収支"},{"$f":"VLOOKUP(入出金tbl[[#This Row],[内　容]],科目tbl[[内　容]:[番号]],3,TRUE)","v":"支出"},"賃金・給与現金支払","摘要を記載する　255",489]
[713,"2018-08-01",{"$f":"VLOOKUP(入出金tbl[[#This Row],[内　容]],科目tbl[[内　容]:[番号]],2,TRUE)","v":"経常収支"},{"$f":"VLOOKUP(入出金tbl[[#This Row],[内　容]],科目tbl[[内　容]:[番号]],3,TRUE)","v":"支出"},"賞与支払い","摘要を記載する　508",279]
[714,"2018-08-02",{"$f":"VLOOKUP(入出金tbl[[#This Row],[内　容]],科目tbl[[内　容]:[番号]],2,TRUE)","v":"経常収支"},{"$f":"VLOOKUP(入出金tbl[[#This Row],[内　容]],科目tbl[[内　容]:[番号]],3,TRUE)","v":"支出"},"支払利息・割引料","摘要を記載する　412",512]
[715,"2018-08-03",{"$f":"VLOOKUP(入出金tbl[[#This Row],[内　容]],科目tbl[[内　容]:[番号]],2,TRUE)","v":"経常収支"},{"$f":"VLOOKUP(入出金tbl[[#This Row],[内　容]],科目tbl[[内　容]:[番号]],3,TRUE)","v":"支出"},"諸経費現金支払","摘要を記載する　412",512]
[716,"2018-08-04",{"$f":"VLOOKUP(入出金tbl[[#This Row],[内　容]],科目tbl[[内　容]:[番号]],2,TRUE)","v":"経常外収支"},{"$f":"VLOOKUP(入出金tbl[[#This Row],[内　容]],科目tbl[[内　容]:[番号]],3,TRUE)","v":"支出"},"税金","摘要を記載する　070",356]
[717,"2018-08-05",{"$f":"VLOOKUP(入出金tbl[[#This Row],[内　容]],科目tbl[[内　容]:[番号]],2,TRUE)","v":"経常外収支"},{"$f":"VLOOKUP(入出金tbl[[#This Row],[内　容]],科目tbl[[内　容]:[番号]],3,TRUE)","v":"支出"},"役員賞与","摘要を記載する　070",356]
[718,"2018-08-06",{"$f":"VLOOKUP(入出金tbl[[#This Row],[内　容]],科目tbl[[内　容]:[番号]],2,TRUE)","v":"経常外収支"},{"$f":"VLOOKUP(入出金tbl[[#This Row],[内　容]],科目tbl[[内　容]:[番号]],3,TRUE)","v":"支出"},"配当","摘要を記載する　078",637]
[719,"2018-08-07",{"$f":"VLOOKUP(入出金tbl[[#This Row],[内　容]],科目tbl[[内　容]:[番号]],2,TRUE)","v":"経常外収支"},{"$f":"VLOOKUP(入出金tbl[[#This Row],[内　容]],科目tbl[[内　容]:[番号]],3,TRUE)","v":"支出"},"固定資産購入支出","摘要を記載する　479",66]
[720,"2018-08-07",{"$f":"VLOOKUP(入出金tbl[[#This Row],[内　容]],科目tbl[[内　容]:[番号]],2,TRUE)","v":"経常外収支"},{"$f":"VLOOKUP(入出金tbl[[#This Row],[内　容]],科目tbl[[内　容]:[番号]],3,TRUE)","v":"支出"},"定期預金等設定","摘要を記載する　078",637]
[721,"2018-08-08",{"$f":"VLOOKUP(入出金tbl[[#This Row],[内　容]],科目tbl[[内　容]:[番号]],2,TRUE)","v":"経常外収支"},{"$f":"VLOOKUP(入出金tbl[[#This Row],[内　容]],科目tbl[[内　容]:[番号]],3,TRUE)","v":"支出"},"その他臨時支出","摘要を記載する　479",66]
[722,"2018-08-08",{"$f":"VLOOKUP(入出金tbl[[#This Row],[内　容]],科目tbl[[内　容]:[番号]],2,TRUE)","v":"財務収支"},{"$f":"VLOOKUP(入出金tbl[[#This Row],[内　容]],科目tbl[[内　容]:[番号]],3,TRUE)","v":"支出"},"短期借入金返済","摘要を記載する　491",257]
[723,"2018-08-09",{"$f":"VLOOKUP(入出金tbl[[#This Row],[内　容]],科目tbl[[内　容]:[番号]],2,TRUE)","v":"財務収支"},{"$f":"VLOOKUP(入出金tbl[[#This Row],[内　容]],科目tbl[[内　容]:[番号]],3,TRUE)","v":"支出"},"長期借入金返済","摘要を記載する　463",53]
[724,"2018-08-09",{"$f":"VLOOKUP(入出金tbl[[#This Row],[内　容]],科目tbl[[内　容]:[番号]],2,TRUE)","v":"財務収支"},{"$f":"VLOOKUP(入出金tbl[[#This Row],[内　容]],科目tbl[[内　容]:[番号]],3,TRUE)","v":"支出"},"社長借入金返済","摘要を記載する　491",257]
[725,"2018-08-10",{"$f":"VLOOKUP(入出金tbl[[#This Row],[内　容]],科目tbl[[内　容]:[番号]],2,TRUE)","v":"財務収支"},{"$f":"VLOOKUP(入出金tbl[[#This Row],[内　容]],科目tbl[[内　容]:[番号]],3,TRUE)","v":"支出"},"その他返済","摘要を記載する　463",53]
[726,"2018-08-10",{"$f":"VLOOKUP(入出金tbl[[#This Row],[内　容]],科目tbl[[内　容]:[番号]],2,TRUE)","v":"経常収支"},{"$f":"VLOOKUP(入出金tbl[[#This Row],[内　容]],科目tbl[[内　容]:[番号]],3,TRUE)","v":"収入"},"現金売上","摘要を記載する　515",471]
[727,"2018-08-11",{"$f":"VLOOKUP(入出金tbl[[#This Row],[内　容]],科目tbl[[内　容]:[番号]],2,TRUE)","v":"経常収支"},{"$f":"VLOOKUP(入出金tbl[[#This Row],[内　容]],科目tbl[[内　容]:[番号]],3,TRUE)","v":"収入"},"売掛金回収","摘要を記載する　403",1035]
[728,"2018-08-11",{"$f":"VLOOKUP(入出金tbl[[#This Row],[内　容]],科目tbl[[内　容]:[番号]],2,TRUE)","v":"経常収支"},{"$f":"VLOOKUP(入出金tbl[[#This Row],[内　容]],科目tbl[[内　容]:[番号]],3,TRUE)","v":"収入"},"受取手形回収","摘要を記載する　515",471]
[729,"2018-08-12",{"$f":"VLOOKUP(入出金tbl[[#This Row],[内　容]],科目tbl[[内　容]:[番号]],2,TRUE)","v":"経常収支"},{"$f":"VLOOKUP(入出金tbl[[#This Row],[内　容]],科目tbl[[内　容]:[番号]],3,TRUE)","v":"収入"},"手形割引","摘要を記載する　403",1035]
[730,"2018-08-12",{"$f":"VLOOKUP(入出金tbl[[#This Row],[内　容]],科目tbl[[内　容]:[番号]],2,TRUE)","v":"経常収支"},{"$f":"VLOOKUP(入出金tbl[[#This Row],[内　容]],科目tbl[[内　容]:[番号]],3,TRUE)","v":"収入"},"その他収入","摘要を記載する　262",637]
[731,"2018-08-13",{"$f":"VLOOKUP(入出金tbl[[#This Row],[内　容]],科目tbl[[内　容]:[番号]],2,TRUE)","v":"経常外収支"},{"$f":"VLOOKUP(入出金tbl[[#This Row],[内　容]],科目tbl[[内　容]:[番号]],3,TRUE)","v":"収入"},"固定資産等売却手取","摘要を記載する　208",366]
[732,"2018-08-13",{"$f":"VLOOKUP(入出金tbl[[#This Row],[内　容]],科目tbl[[内　容]:[番号]],2,TRUE)","v":"経常外収支"},{"$f":"VLOOKUP(入出金tbl[[#This Row],[内　容]],科目tbl[[内　容]:[番号]],3,TRUE)","v":"収入"},"定期預金等解約","摘要を記載する　262",637]
[733,"2018-08-14",{"$f":"VLOOKUP(入出金tbl[[#This Row],[内　容]],科目tbl[[内　容]:[番号]],2,TRUE)","v":"経常外収支"},{"$f":"VLOOKUP(入出金tbl[[#This Row],[内　容]],科目tbl[[内　容]:[番号]],3,TRUE)","v":"収入"},"その他臨時収入","摘要を記載する　208",366]
[734,"2018-08-14",{"$f":"VLOOKUP(入出金tbl[[#This Row],[内　容]],科目tbl[[内　容]:[番号]],2,TRUE)","v":"財務収支"},{"$f":"VLOOKUP(入出金tbl[[#This Row],[内　容]],科目tbl[[内　容]:[番号]],3,TRUE)","v":"収入"},"短期借入金調達","摘要を記載する　421",971]
[735,"2018-08-15",{"$f":"VLOOKUP(入出金tbl[[#This Row],[内　容]],科目tbl[[内　容]:[番号]],2,TRUE)","v":"財務収支"},{"$f":"VLOOKUP(入出金tbl[[#This Row],[内　容]],科目tbl[[内　容]:[番号]],3,TRUE)","v":"収入"},"長期借入金調達","摘要を記載する　317",295]
[736,"2018-08-15",{"$f":"VLOOKUP(入出金tbl[[#This Row],[内　容]],科目tbl[[内　容]:[番号]],2,TRUE)","v":"財務収支"},{"$f":"VLOOKUP(入出金tbl[[#This Row],[内　容]],科目tbl[[内　容]:[番号]],3,TRUE)","v":"収入"},"社長借入金調達","摘要を記載する　421",971]
[737,"2018-08-16",{"$f":"VLOOKUP(入出金tbl[[#This Row],[内　容]],科目tbl[[内　容]:[番号]],2,TRUE)","v":"財務収支"},{"$f":"VLOOKUP(入出金tbl[[#This Row],[内　容]],科目tbl[[内　容]:[番号]],3,TRUE)","v":"収入"},"その他調達","摘要を記載する　317",295]
[738,"2018-08-16",{"$f":"VLOOKUP(入出金tbl[[#This Row],[内　容]],科目tbl[[内　容]:[番号]],2,TRUE)","v":"経常収支"},{"$f":"VLOOKUP(入出金tbl[[#This Row],[内　容]],科目tbl[[内　容]:[番号]],3,TRUE)","v":"支出"},"現金仕入","摘要を記載する　215",679]
[739,"2018-08-17",{"$f":"VLOOKUP(入出金tbl[[#This Row],[内　容]],科目tbl[[内　容]:[番号]],2,TRUE)","v":"経常収支"},{"$f":"VLOOKUP(入出金tbl[[#This Row],[内　容]],科目tbl[[内　容]:[番号]],3,TRUE)","v":"支出"},"買掛金支払","摘要を記載する　340",1161]
[740,"2018-08-17",{"$f":"VLOOKUP(入出金tbl[[#This Row],[内　容]],科目tbl[[内　容]:[番号]],2,TRUE)","v":"経常収支"},{"$f":"VLOOKUP(入出金tbl[[#This Row],[内　容]],科目tbl[[内　容]:[番号]],3,TRUE)","v":"支出"},"手形支払","摘要を記載する　215",679]
[741,"2018-08-18",{"$f":"VLOOKUP(入出金tbl[[#This Row],[内　容]],科目tbl[[内　容]:[番号]],2,TRUE)","v":"経常収支"},{"$f":"VLOOKUP(入出金tbl[[#This Row],[内　容]],科目tbl[[内　容]:[番号]],3,TRUE)","v":"支出"},"賃金・給与現金支払","摘要を記載する　340",1161]
[742,"2018-08-19",{"$f":"VLOOKUP(入出金tbl[[#This Row],[内　容]],科目tbl[[内　容]:[番号]],2,TRUE)","v":"経常収支"},{"$f":"VLOOKUP(入出金tbl[[#This Row],[内　容]],科目tbl[[内　容]:[番号]],3,TRUE)","v":"支出"},"賞与支払い","摘要を記載する　299",245]
[743,"2018-08-20",{"$f":"VLOOKUP(入出金tbl[[#This Row],[内　容]],科目tbl[[内　容]:[番号]],2,TRUE)","v":"経常収支"},{"$f":"VLOOKUP(入出金tbl[[#This Row],[内　容]],科目tbl[[内　容]:[番号]],3,TRUE)","v":"支出"},"支払利息・割引料","摘要を記載する　299",245]
[744,"2018-08-21",{"$f":"VLOOKUP(入出金tbl[[#This Row],[内　容]],科目tbl[[内　容]:[番号]],2,TRUE)","v":"経常収支"},{"$f":"VLOOKUP(入出金tbl[[#This Row],[内　容]],科目tbl[[内　容]:[番号]],3,TRUE)","v":"支出"},"諸経費現金支払","摘要を記載する　407",347]
[745,"2018-08-22",{"$f":"VLOOKUP(入出金tbl[[#This Row],[内　容]],科目tbl[[内　容]:[番号]],2,TRUE)","v":"経常外収支"},{"$f":"VLOOKUP(入出金tbl[[#This Row],[内　容]],科目tbl[[内　容]:[番号]],3,TRUE)","v":"支出"},"税金","摘要を記載する　407",347]
[746,"2018-08-23",{"$f":"VLOOKUP(入出金tbl[[#This Row],[内　容]],科目tbl[[内　容]:[番号]],2,TRUE)","v":"経常外収支"},{"$f":"VLOOKUP(入出金tbl[[#This Row],[内　容]],科目tbl[[内　容]:[番号]],3,TRUE)","v":"支出"},"役員賞与","摘要を記載する　433",617]
[747,"2018-08-24",{"$f":"VLOOKUP(入出金tbl[[#This Row],[内　容]],科目tbl[[内　容]:[番号]],2,TRUE)","v":"経常外収支"},{"$f":"VLOOKUP(入出金tbl[[#This Row],[内　容]],科目tbl[[内　容]:[番号]],3,TRUE)","v":"支出"},"配当","摘要を記載する　433",617]
[748,"2018-08-25",{"$f":"VLOOKUP(入出金tbl[[#This Row],[内　容]],科目tbl[[内　容]:[番号]],2,TRUE)","v":"経常外収支"},{"$f":"VLOOKUP(入出金tbl[[#This Row],[内　容]],科目tbl[[内　容]:[番号]],3,TRUE)","v":"支出"},"固定資産購入支出","摘要を記載する　363",1071]
[749,"2018-08-26",{"$f":"VLOOKUP(入出金tbl[[#This Row],[内　容]],科目tbl[[内　容]:[番号]],2,TRUE)","v":"経常外収支"},{"$f":"VLOOKUP(入出金tbl[[#This Row],[内　容]],科目tbl[[内　容]:[番号]],3,TRUE)","v":"支出"},"定期預金等設定","摘要を記載する　363",1071]
[750,"2018-08-27",{"$f":"VLOOKUP(入出金tbl[[#This Row],[内　容]],科目tbl[[内　容]:[番号]],2,TRUE)","v":"経常外収支"},{"$f":"VLOOKUP(入出金tbl[[#This Row],[内　容]],科目tbl[[内　容]:[番号]],3,TRUE)","v":"支出"},"その他臨時支出","摘要を記載する　088",644]
[751,"2018-08-28",{"$f":"VLOOKUP(入出金tbl[[#This Row],[内　容]],科目tbl[[内　容]:[番号]],2,TRUE)","v":"財務収支"},{"$f":"VLOOKUP(入出金tbl[[#This Row],[内　容]],科目tbl[[内　容]:[番号]],3,TRUE)","v":"支出"},"短期借入金返済","摘要を記載する　088",644]
[752,"2018-08-29",{"$f":"VLOOKUP(入出金tbl[[#This Row],[内　容]],科目tbl[[内　容]:[番号]],2,TRUE)","v":"財務収支"},{"$f":"VLOOKUP(入出金tbl[[#This Row],[内　容]],科目tbl[[内　容]:[番号]],3,TRUE)","v":"支出"},"長期借入金返済","摘要を記載する　205",267]
[753,"2018-08-30",{"$f":"VLOOKUP(入出金tbl[[#This Row],[内　容]],科目tbl[[内　容]:[番号]],2,TRUE)","v":"財務収支"},{"$f":"VLOOKUP(入出金tbl[[#This Row],[内　容]],科目tbl[[内　容]:[番号]],3,TRUE)","v":"支出"},"社長借入金返済","摘要を記載する　205",267]
[754,"2018-08-31",{"$f":"VLOOKUP(入出金tbl[[#This Row],[内　容]],科目tbl[[内　容]:[番号]],2,TRUE)","v":"財務収支"},{"$f":"VLOOKUP(入出金tbl[[#This Row],[内　容]],科目tbl[[内　容]:[番号]],3,TRUE)","v":"支出"},"その他返済","摘要を記載する　508",279]
[755,"2018-09-01",{"$f":"VLOOKUP(入出金tbl[[#This Row],[内　容]],科目tbl[[内　容]:[番号]],2,TRUE)","v":"経常収支"},{"$f":"VLOOKUP(入出金tbl[[#This Row],[内　容]],科目tbl[[内　容]:[番号]],3,TRUE)","v":"収入"},"現金売上","摘要を記載する　464",228]
[756,"2018-09-02",{"$f":"VLOOKUP(入出金tbl[[#This Row],[内　容]],科目tbl[[内　容]:[番号]],2,TRUE)","v":"経常収支"},{"$f":"VLOOKUP(入出金tbl[[#This Row],[内　容]],科目tbl[[内　容]:[番号]],3,TRUE)","v":"収入"},"売掛金回収","摘要を記載する　406",536]
[757,"2018-09-03",{"$f":"VLOOKUP(入出金tbl[[#This Row],[内　容]],科目tbl[[内　容]:[番号]],2,TRUE)","v":"経常収支"},{"$f":"VLOOKUP(入出金tbl[[#This Row],[内　容]],科目tbl[[内　容]:[番号]],3,TRUE)","v":"収入"},"受取手形回収","摘要を記載する　300",918]
[758,"2018-09-04",{"$f":"VLOOKUP(入出金tbl[[#This Row],[内　容]],科目tbl[[内　容]:[番号]],2,TRUE)","v":"経常収支"},{"$f":"VLOOKUP(入出金tbl[[#This Row],[内　容]],科目tbl[[内　容]:[番号]],3,TRUE)","v":"収入"},"手形割引","摘要を記載する　300",918]
[759,"2018-09-05",{"$f":"VLOOKUP(入出金tbl[[#This Row],[内　容]],科目tbl[[内　容]:[番号]],2,TRUE)","v":"経常収支"},{"$f":"VLOOKUP(入出金tbl[[#This Row],[内　容]],科目tbl[[内　容]:[番号]],3,TRUE)","v":"収入"},"その他収入","摘要を記載する　283",1116]
[760,"2018-09-06",{"$f":"VLOOKUP(入出金tbl[[#This Row],[内　容]],科目tbl[[内　容]:[番号]],2,TRUE)","v":"経常外収支"},{"$f":"VLOOKUP(入出金tbl[[#This Row],[内　容]],科目tbl[[内　容]:[番号]],3,TRUE)","v":"収入"},"固定資産等売却手取","摘要を記載する　324",342]
[761,"2018-09-07",{"$f":"VLOOKUP(入出金tbl[[#This Row],[内　容]],科目tbl[[内　容]:[番号]],2,TRUE)","v":"経常外収支"},{"$f":"VLOOKUP(入出金tbl[[#This Row],[内　容]],科目tbl[[内　容]:[番号]],3,TRUE)","v":"収入"},"定期預金等解約","摘要を記載する　283",1116]
[762,"2018-09-08",{"$f":"VLOOKUP(入出金tbl[[#This Row],[内　容]],科目tbl[[内　容]:[番号]],2,TRUE)","v":"経常外収支"},{"$f":"VLOOKUP(入出金tbl[[#This Row],[内　容]],科目tbl[[内　容]:[番号]],3,TRUE)","v":"収入"},"その他臨時収入","摘要を記載する　324",342]
[763,"2018-09-09",{"$f":"VLOOKUP(入出金tbl[[#This Row],[内　容]],科目tbl[[内　容]:[番号]],2,TRUE)","v":"財務収支"},{"$f":"VLOOKUP(入出金tbl[[#This Row],[内　容]],科目tbl[[内　容]:[番号]],3,TRUE)","v":"収入"},"短期借入金調達","摘要を記載する　183",1146]
[764,"2018-09-10",{"$f":"VLOOKUP(入出金tbl[[#This Row],[内　容]],科目tbl[[内　容]:[番号]],2,TRUE)","v":"財務収支"},{"$f":"VLOOKUP(入出金tbl[[#This Row],[内　容]],科目tbl[[内　容]:[番号]],3,TRUE)","v":"収入"},"長期借入金調達","摘要を記載する　183",1146]
[765,"2018-09-11",{"$f":"VLOOKUP(入出金tbl[[#This Row],[内　容]],科目tbl[[内　容]:[番号]],2,TRUE)","v":"財務収支"},{"$f":"VLOOKUP(入出金tbl[[#This Row],[内　容]],科目tbl[[内　容]:[番号]],3,TRUE)","v":"収入"},"社長借入金調達","摘要を記載する　405",367]
[766,"2018-09-12",{"$f":"VLOOKUP(入出金tbl[[#This Row],[内　容]],科目tbl[[内　容]:[番号]],2,TRUE)","v":"財務収支"},{"$f":"VLOOKUP(入出金tbl[[#This Row],[内　容]],科目tbl[[内　容]:[番号]],3,TRUE)","v":"収入"},"その他調達","摘要を記載する　405",367]
[767,"2018-09-13",{"$f":"VLOOKUP(入出金tbl[[#This Row],[内　容]],科目tbl[[内　容]:[番号]],2,TRUE)","v":"経常収支"},{"$f":"VLOOKUP(入出金tbl[[#This Row],[内　容]],科目tbl[[内　容]:[番号]],3,TRUE)","v":"支出"},"現金仕入","摘要を記載する　233",792]
[768,"2018-09-14",{"$f":"VLOOKUP(入出金tbl[[#This Row],[内　容]],科目tbl[[内　容]:[番号]],2,TRUE)","v":"経常収支"},{"$f":"VLOOKUP(入出金tbl[[#This Row],[内　容]],科目tbl[[内　容]:[番号]],3,TRUE)","v":"支出"},"買掛金支払","摘要を記載する　233",792]
[769,"2018-09-15",{"$f":"VLOOKUP(入出金tbl[[#This Row],[内　容]],科目tbl[[内　容]:[番号]],2,TRUE)","v":"経常収支"},{"$f":"VLOOKUP(入出金tbl[[#This Row],[内　容]],科目tbl[[内　容]:[番号]],3,TRUE)","v":"支出"},"手形支払","摘要を記載する　213",196]
[770,"2018-09-16",{"$f":"VLOOKUP(入出金tbl[[#This Row],[内　容]],科目tbl[[内　容]:[番号]],2,TRUE)","v":"経常収支"},{"$f":"VLOOKUP(入出金tbl[[#This Row],[内　容]],科目tbl[[内　容]:[番号]],3,TRUE)","v":"支出"},"賃金・給与現金支払","摘要を記載する　213",196]
[771,"2018-09-17",{"$f":"VLOOKUP(入出金tbl[[#This Row],[内　容]],科目tbl[[内　容]:[番号]],2,TRUE)","v":"経常収支"},{"$f":"VLOOKUP(入出金tbl[[#This Row],[内　容]],科目tbl[[内　容]:[番号]],3,TRUE)","v":"支出"},"賞与支払い","摘要を記載する　335",382]
[772,"2018-09-18",{"$f":"VLOOKUP(入出金tbl[[#This Row],[内　容]],科目tbl[[内　容]:[番号]],2,TRUE)","v":"経常収支"},{"$f":"VLOOKUP(入出金tbl[[#This Row],[内　容]],科目tbl[[内　容]:[番号]],3,TRUE)","v":"支出"},"支払利息・割引料","摘要を記載する　503",1102]
[773,"2018-09-18",{"$f":"VLOOKUP(入出金tbl[[#This Row],[内　容]],科目tbl[[内　容]:[番号]],2,TRUE)","v":"経常収支"},{"$f":"VLOOKUP(入出金tbl[[#This Row],[内　容]],科目tbl[[内　容]:[番号]],3,TRUE)","v":"支出"},"諸経費現金支払","摘要を記載する　335",382]
[774,"2018-09-19",{"$f":"VLOOKUP(入出金tbl[[#This Row],[内　容]],科目tbl[[内　容]:[番号]],2,TRUE)","v":"経常外収支"},{"$f":"VLOOKUP(入出金tbl[[#This Row],[内　容]],科目tbl[[内　容]:[番号]],3,TRUE)","v":"支出"},"税金","摘要を記載する　503",1102]
[775,"2018-09-19",{"$f":"VLOOKUP(入出金tbl[[#This Row],[内　容]],科目tbl[[内　容]:[番号]],2,TRUE)","v":"経常外収支"},{"$f":"VLOOKUP(入出金tbl[[#This Row],[内　容]],科目tbl[[内　容]:[番号]],3,TRUE)","v":"支出"},"役員賞与","摘要を記載する　214",1123]
[776,"2018-09-20",{"$f":"VLOOKUP(入出金tbl[[#This Row],[内　容]],科目tbl[[内　容]:[番号]],2,TRUE)","v":"経常外収支"},{"$f":"VLOOKUP(入出金tbl[[#This Row],[内　容]],科目tbl[[内　容]:[番号]],3,TRUE)","v":"支出"},"配当","摘要を記載する　238",1008]
[777,"2018-09-20",{"$f":"VLOOKUP(入出金tbl[[#This Row],[内　容]],科目tbl[[内　容]:[番号]],2,TRUE)","v":"経常外収支"},{"$f":"VLOOKUP(入出金tbl[[#This Row],[内　容]],科目tbl[[内　容]:[番号]],3,TRUE)","v":"支出"},"固定資産購入支出","摘要を記載する　214",1123]
[778,"2018-09-21",{"$f":"VLOOKUP(入出金tbl[[#This Row],[内　容]],科目tbl[[内　容]:[番号]],2,TRUE)","v":"経常外収支"},{"$f":"VLOOKUP(入出金tbl[[#This Row],[内　容]],科目tbl[[内　容]:[番号]],3,TRUE)","v":"支出"},"定期預金等設定","摘要を記載する　274",111]
[779,"2018-09-21",{"$f":"VLOOKUP(入出金tbl[[#This Row],[内　容]],科目tbl[[内　容]:[番号]],2,TRUE)","v":"経常外収支"},{"$f":"VLOOKUP(入出金tbl[[#This Row],[内　容]],科目tbl[[内　容]:[番号]],3,TRUE)","v":"支出"},"その他臨時支出","摘要を記載する　395",1027]
[780,"2018-09-22",{"$f":"VLOOKUP(入出金tbl[[#This Row],[内　容]],科目tbl[[内　容]:[番号]],2,TRUE)","v":"財務収支"},{"$f":"VLOOKUP(入出金tbl[[#This Row],[内　容]],科目tbl[[内　容]:[番号]],3,TRUE)","v":"支出"},"短期借入金返済","摘要を記載する　249",612]
[781,"2018-09-22",{"$f":"VLOOKUP(入出金tbl[[#This Row],[内　容]],科目tbl[[内　容]:[番号]],2,TRUE)","v":"財務収支"},{"$f":"VLOOKUP(入出金tbl[[#This Row],[内　容]],科目tbl[[内　容]:[番号]],3,TRUE)","v":"支出"},"長期借入金返済","摘要を記載する　395",1027]
[782,"2018-09-23",{"$f":"VLOOKUP(入出金tbl[[#This Row],[内　容]],科目tbl[[内　容]:[番号]],2,TRUE)","v":"財務収支"},{"$f":"VLOOKUP(入出金tbl[[#This Row],[内　容]],科目tbl[[内　容]:[番号]],3,TRUE)","v":"支出"},"社長借入金返済","摘要を記載する　238",1008]
[783,"2018-09-23",{"$f":"VLOOKUP(入出金tbl[[#This Row],[内　容]],科目tbl[[内　容]:[番号]],2,TRUE)","v":"財務収支"},{"$f":"VLOOKUP(入出金tbl[[#This Row],[内　容]],科目tbl[[内　容]:[番号]],3,TRUE)","v":"支出"},"その他返済","摘要を記載する　377",1145]
[784,"2018-09-24",{"$f":"VLOOKUP(入出金tbl[[#This Row],[内　容]],科目tbl[[内　容]:[番号]],2,TRUE)","v":"経常収支"},{"$f":"VLOOKUP(入出金tbl[[#This Row],[内　容]],科目tbl[[内　容]:[番号]],3,TRUE)","v":"収入"},"現金売上","摘要を記載する　274",111]
[785,"2018-09-24",{"$f":"VLOOKUP(入出金tbl[[#This Row],[内　容]],科目tbl[[内　容]:[番号]],2,TRUE)","v":"経常収支"},{"$f":"VLOOKUP(入出金tbl[[#This Row],[内　容]],科目tbl[[内　容]:[番号]],3,TRUE)","v":"収入"},"売掛金回収","摘要を記載する　377",1145]
[786,"2018-09-25",{"$f":"VLOOKUP(入出金tbl[[#This Row],[内　容]],科目tbl[[内　容]:[番号]],2,TRUE)","v":"経常収支"},{"$f":"VLOOKUP(入出金tbl[[#This Row],[内　容]],科目tbl[[内　容]:[番号]],3,TRUE)","v":"収入"},"受取手形回収","摘要を記載する　249",612]
[787,"2018-09-25",{"$f":"VLOOKUP(入出金tbl[[#This Row],[内　容]],科目tbl[[内　容]:[番号]],2,TRUE)","v":"経常収支"},{"$f":"VLOOKUP(入出金tbl[[#This Row],[内　容]],科目tbl[[内　容]:[番号]],3,TRUE)","v":"収入"},"手形割引","摘要を記載する　460",275]
[788,"2018-09-26",{"$f":"VLOOKUP(入出金tbl[[#This Row],[内　容]],科目tbl[[内　容]:[番号]],2,TRUE)","v":"経常収支"},{"$f":"VLOOKUP(入出金tbl[[#This Row],[内　容]],科目tbl[[内　容]:[番号]],3,TRUE)","v":"収入"},"その他収入","摘要を記載する　401",1007]
[789,"2018-09-26",{"$f":"VLOOKUP(入出金tbl[[#This Row],[内　容]],科目tbl[[内　容]:[番号]],2,TRUE)","v":"経常外収支"},{"$f":"VLOOKUP(入出金tbl[[#This Row],[内　容]],科目tbl[[内　容]:[番号]],3,TRUE)","v":"収入"},"固定資産等売却手取","摘要を記載する　460",275]
[790,"2018-09-27",{"$f":"VLOOKUP(入出金tbl[[#This Row],[内　容]],科目tbl[[内　容]:[番号]],2,TRUE)","v":"経常外収支"},{"$f":"VLOOKUP(入出金tbl[[#This Row],[内　容]],科目tbl[[内　容]:[番号]],3,TRUE)","v":"収入"},"定期預金等解約","摘要を記載する　069",483]
[791,"2018-09-28",{"$f":"VLOOKUP(入出金tbl[[#This Row],[内　容]],科目tbl[[内　容]:[番号]],2,TRUE)","v":"経常外収支"},{"$f":"VLOOKUP(入出金tbl[[#This Row],[内　容]],科目tbl[[内　容]:[番号]],3,TRUE)","v":"収入"},"その他臨時収入","摘要を記載する　401",1007]
[792,"2018-09-29",{"$f":"VLOOKUP(入出金tbl[[#This Row],[内　容]],科目tbl[[内　容]:[番号]],2,TRUE)","v":"財務収支"},{"$f":"VLOOKUP(入出金tbl[[#This Row],[内　容]],科目tbl[[内　容]:[番号]],3,TRUE)","v":"収入"},"短期借入金調達","摘要を記載する　069",483]
[793,"2018-09-30",{"$f":"VLOOKUP(入出金tbl[[#This Row],[内　容]],科目tbl[[内　容]:[番号]],2,TRUE)","v":"財務収支"},{"$f":"VLOOKUP(入出金tbl[[#This Row],[内　容]],科目tbl[[内　容]:[番号]],3,TRUE)","v":"収入"},"長期借入金調達","摘要を記載する　464",228]
[794,"2018-09-30",{"$f":"VLOOKUP(入出金tbl[[#This Row],[内　容]],科目tbl[[内　容]:[番号]],2,TRUE)","v":"財務収支"},{"$f":"VLOOKUP(入出金tbl[[#This Row],[内　容]],科目tbl[[内　容]:[番号]],3,TRUE)","v":"収入"},"社長借入金調達","摘要を記載する　406",536]
[795,"2018-10-01",{"$f":"VLOOKUP(入出金tbl[[#This Row],[内　容]],科目tbl[[内　容]:[番号]],2,TRUE)","v":"財務収支"},{"$f":"VLOOKUP(入出金tbl[[#This Row],[内　容]],科目tbl[[内　容]:[番号]],3,TRUE)","v":"収入"},"その他調達","摘要を記載する　263",1198]
[796,"2018-10-01",{"$f":"VLOOKUP(入出金tbl[[#This Row],[内　容]],科目tbl[[内　容]:[番号]],2,TRUE)","v":"経常収支"},{"$f":"VLOOKUP(入出金tbl[[#This Row],[内　容]],科目tbl[[内　容]:[番号]],3,TRUE)","v":"支出"},"現金仕入","摘要を記載する　400",70]
[797,"2018-10-02",{"$f":"VLOOKUP(入出金tbl[[#This Row],[内　容]],科目tbl[[内　容]:[番号]],2,TRUE)","v":"経常収支"},{"$f":"VLOOKUP(入出金tbl[[#This Row],[内　容]],科目tbl[[内　容]:[番号]],3,TRUE)","v":"支出"},"買掛金支払","摘要を記載する　170",398]
[798,"2018-10-02",{"$f":"VLOOKUP(入出金tbl[[#This Row],[内　容]],科目tbl[[内　容]:[番号]],2,TRUE)","v":"経常収支"},{"$f":"VLOOKUP(入出金tbl[[#This Row],[内　容]],科目tbl[[内　容]:[番号]],3,TRUE)","v":"支出"},"手形支払","摘要を記載する　396",297]
[799,"2018-10-03",{"$f":"VLOOKUP(入出金tbl[[#This Row],[内　容]],科目tbl[[内　容]:[番号]],2,TRUE)","v":"経常収支"},{"$f":"VLOOKUP(入出金tbl[[#This Row],[内　容]],科目tbl[[内　容]:[番号]],3,TRUE)","v":"支出"},"賃金・給与現金支払","摘要を記載する　263",1198]
[800,"2018-10-03",{"$f":"VLOOKUP(入出金tbl[[#This Row],[内　容]],科目tbl[[内　容]:[番号]],2,TRUE)","v":"経常収支"},{"$f":"VLOOKUP(入出金tbl[[#This Row],[内　容]],科目tbl[[内　容]:[番号]],3,TRUE)","v":"支出"},"賞与支払い","摘要を記載する　400",70]
[801,"2018-10-04",{"$f":"VLOOKUP(入出金tbl[[#This Row],[内　容]],科目tbl[[内　容]:[番号]],2,TRUE)","v":"経常収支"},{"$f":"VLOOKUP(入出金tbl[[#This Row],[内　容]],科目tbl[[内　容]:[番号]],3,TRUE)","v":"支出"},"支払利息・割引料","摘要を記載する　055",254]
[802,"2018-10-04",{"$f":"VLOOKUP(入出金tbl[[#This Row],[内　容]],科目tbl[[内　容]:[番号]],2,TRUE)","v":"経常収支"},{"$f":"VLOOKUP(入出金tbl[[#This Row],[内　容]],科目tbl[[内　容]:[番号]],3,TRUE)","v":"支出"},"諸経費現金支払","摘要を記載する　396",297]
[803,"2018-10-05",{"$f":"VLOOKUP(入出金tbl[[#This Row],[内　容]],科目tbl[[内　容]:[番号]],2,TRUE)","v":"経常外収支"},{"$f":"VLOOKUP(入出金tbl[[#This Row],[内　容]],科目tbl[[内　容]:[番号]],3,TRUE)","v":"支出"},"税金","摘要を記載する　055",254]
[804,"2018-10-06",{"$f":"VLOOKUP(入出金tbl[[#This Row],[内　容]],科目tbl[[内　容]:[番号]],2,TRUE)","v":"経常外収支"},{"$f":"VLOOKUP(入出金tbl[[#This Row],[内　容]],科目tbl[[内　容]:[番号]],3,TRUE)","v":"支出"},"役員賞与","摘要を記載する　455",394]
[805,"2018-10-07",{"$f":"VLOOKUP(入出金tbl[[#This Row],[内　容]],科目tbl[[内　容]:[番号]],2,TRUE)","v":"経常外収支"},{"$f":"VLOOKUP(入出金tbl[[#This Row],[内　容]],科目tbl[[内　容]:[番号]],3,TRUE)","v":"支出"},"配当","摘要を記載する　455",394]
[806,"2018-10-08",{"$f":"VLOOKUP(入出金tbl[[#This Row],[内　容]],科目tbl[[内　容]:[番号]],2,TRUE)","v":"経常外収支"},{"$f":"VLOOKUP(入出金tbl[[#This Row],[内　容]],科目tbl[[内　容]:[番号]],3,TRUE)","v":"支出"},"固定資産購入支出","摘要を記載する　391",313]
[807,"2018-10-09",{"$f":"VLOOKUP(入出金tbl[[#This Row],[内　容]],科目tbl[[内　容]:[番号]],2,TRUE)","v":"経常外収支"},{"$f":"VLOOKUP(入出金tbl[[#This Row],[内　容]],科目tbl[[内　容]:[番号]],3,TRUE)","v":"支出"},"定期預金等設定","摘要を記載する　391",313]
[808,"2018-10-10",{"$f":"VLOOKUP(入出金tbl[[#This Row],[内　容]],科目tbl[[内　容]:[番号]],2,TRUE)","v":"経常外収支"},{"$f":"VLOOKUP(入出金tbl[[#This Row],[内　容]],科目tbl[[内　容]:[番号]],3,TRUE)","v":"支出"},"その他臨時支出","摘要を記載する　109",361]
[809,"2018-10-11",{"$f":"VLOOKUP(入出金tbl[[#This Row],[内　容]],科目tbl[[内　容]:[番号]],2,TRUE)","v":"財務収支"},{"$f":"VLOOKUP(入出金tbl[[#This Row],[内　容]],科目tbl[[内　容]:[番号]],3,TRUE)","v":"支出"},"短期借入金返済","摘要を記載する　472",721]
[810,"2018-10-12",{"$f":"VLOOKUP(入出金tbl[[#This Row],[内　容]],科目tbl[[内　容]:[番号]],2,TRUE)","v":"財務収支"},{"$f":"VLOOKUP(入出金tbl[[#This Row],[内　容]],科目tbl[[内　容]:[番号]],3,TRUE)","v":"支出"},"長期借入金返済","摘要を記載する　109",361]
[811,"2018-10-13",{"$f":"VLOOKUP(入出金tbl[[#This Row],[内　容]],科目tbl[[内　容]:[番号]],2,TRUE)","v":"財務収支"},{"$f":"VLOOKUP(入出金tbl[[#This Row],[内　容]],科目tbl[[内　容]:[番号]],3,TRUE)","v":"支出"},"社長借入金返済","摘要を記載する　472",721]
[812,"2018-10-14",{"$f":"VLOOKUP(入出金tbl[[#This Row],[内　容]],科目tbl[[内　容]:[番号]],2,TRUE)","v":"財務収支"},{"$f":"VLOOKUP(入出金tbl[[#This Row],[内　容]],科目tbl[[内　容]:[番号]],3,TRUE)","v":"支出"},"その他返済","摘要を記載する　212",754]
[813,"2018-10-15",{"$f":"VLOOKUP(入出金tbl[[#This Row],[内　容]],科目tbl[[内　容]:[番号]],2,TRUE)","v":"経常収支"},{"$f":"VLOOKUP(入出金tbl[[#This Row],[内　容]],科目tbl[[内　容]:[番号]],3,TRUE)","v":"収入"},"現金売上","摘要を記載する　212",754]
[814,"2018-10-16",{"$f":"VLOOKUP(入出金tbl[[#This Row],[内　容]],科目tbl[[内　容]:[番号]],2,TRUE)","v":"経常収支"},{"$f":"VLOOKUP(入出金tbl[[#This Row],[内　容]],科目tbl[[内　容]:[番号]],3,TRUE)","v":"収入"},"売掛金回収","摘要を記載する　216",752]
[815,"2018-10-17",{"$f":"VLOOKUP(入出金tbl[[#This Row],[内　容]],科目tbl[[内　容]:[番号]],2,TRUE)","v":"経常収支"},{"$f":"VLOOKUP(入出金tbl[[#This Row],[内　容]],科目tbl[[内　容]:[番号]],3,TRUE)","v":"収入"},"受取手形回収","摘要を記載する　216",752]
[816,"2018-10-18",{"$f":"VLOOKUP(入出金tbl[[#This Row],[内　容]],科目tbl[[内　容]:[番号]],2,TRUE)","v":"経常収支"},{"$f":"VLOOKUP(入出金tbl[[#This Row],[内　容]],科目tbl[[内　容]:[番号]],3,TRUE)","v":"収入"},"手形割引","摘要を記載する　309",56]
[817,"2018-10-19",{"$f":"VLOOKUP(入出金tbl[[#This Row],[内　容]],科目tbl[[内　容]:[番号]],2,TRUE)","v":"経常収支"},{"$f":"VLOOKUP(入出金tbl[[#This Row],[内　容]],科目tbl[[内　容]:[番号]],3,TRUE)","v":"収入"},"その他収入","摘要を記載する　309",56]
[818,"2018-10-20",{"$f":"VLOOKUP(入出金tbl[[#This Row],[内　容]],科目tbl[[内　容]:[番号]],2,TRUE)","v":"経常外収支"},{"$f":"VLOOKUP(入出金tbl[[#This Row],[内　容]],科目tbl[[内　容]:[番号]],3,TRUE)","v":"収入"},"固定資産等売却手取","摘要を記載する　232",1094]
[819,"2018-10-21",{"$f":"VLOOKUP(入出金tbl[[#This Row],[内　容]],科目tbl[[内　容]:[番号]],2,TRUE)","v":"経常外収支"},{"$f":"VLOOKUP(入出金tbl[[#This Row],[内　容]],科目tbl[[内　容]:[番号]],3,TRUE)","v":"収入"},"定期預金等解約","摘要を記載する　232",1094]
[820,"2018-10-22",{"$f":"VLOOKUP(入出金tbl[[#This Row],[内　容]],科目tbl[[内　容]:[番号]],2,TRUE)","v":"経常外収支"},{"$f":"VLOOKUP(入出金tbl[[#This Row],[内　容]],科目tbl[[内　容]:[番号]],3,TRUE)","v":"収入"},"その他臨時収入","摘要を記載する　220",243]
[821,"2018-10-23",{"$f":"VLOOKUP(入出金tbl[[#This Row],[内　容]],科目tbl[[内　容]:[番号]],2,TRUE)","v":"財務収支"},{"$f":"VLOOKUP(入出金tbl[[#This Row],[内　容]],科目tbl[[内　容]:[番号]],3,TRUE)","v":"収入"},"短期借入金調達","摘要を記載する　220",243]
[822,"2018-10-24",{"$f":"VLOOKUP(入出金tbl[[#This Row],[内　容]],科目tbl[[内　容]:[番号]],2,TRUE)","v":"財務収支"},{"$f":"VLOOKUP(入出金tbl[[#This Row],[内　容]],科目tbl[[内　容]:[番号]],3,TRUE)","v":"収入"},"長期借入金調達","摘要を記載する　499",869]
[823,"2018-10-25",{"$f":"VLOOKUP(入出金tbl[[#This Row],[内　容]],科目tbl[[内　容]:[番号]],2,TRUE)","v":"財務収支"},{"$f":"VLOOKUP(入出金tbl[[#This Row],[内　容]],科目tbl[[内　容]:[番号]],3,TRUE)","v":"収入"},"社長借入金調達","摘要を記載する　499",869]
[824,"2018-10-26",{"$f":"VLOOKUP(入出金tbl[[#This Row],[内　容]],科目tbl[[内　容]:[番号]],2,TRUE)","v":"財務収支"},{"$f":"VLOOKUP(入出金tbl[[#This Row],[内　容]],科目tbl[[内　容]:[番号]],3,TRUE)","v":"収入"},"その他調達","摘要を記載する　106",1200]
[825,"2018-10-27",{"$f":"VLOOKUP(入出金tbl[[#This Row],[内　容]],科目tbl[[内　容]:[番号]],2,TRUE)","v":"経常収支"},{"$f":"VLOOKUP(入出金tbl[[#This Row],[内　容]],科目tbl[[内　容]:[番号]],3,TRUE)","v":"支出"},"現金仕入","摘要を記載する　301",969]
[826,"2018-10-27",{"$f":"VLOOKUP(入出金tbl[[#This Row],[内　容]],科目tbl[[内　容]:[番号]],2,TRUE)","v":"経常収支"},{"$f":"VLOOKUP(入出金tbl[[#This Row],[内　容]],科目tbl[[内　容]:[番号]],3,TRUE)","v":"支出"},"買掛金支払","摘要を記載する　106",1200]
[827,"2018-10-28",{"$f":"VLOOKUP(入出金tbl[[#This Row],[内　容]],科目tbl[[内　容]:[番号]],2,TRUE)","v":"経常収支"},{"$f":"VLOOKUP(入出金tbl[[#This Row],[内　容]],科目tbl[[内　容]:[番号]],3,TRUE)","v":"支出"},"手形支払","摘要を記載する　301",969]
[828,"2018-10-28",{"$f":"VLOOKUP(入出金tbl[[#This Row],[内　容]],科目tbl[[内　容]:[番号]],2,TRUE)","v":"経常収支"},{"$f":"VLOOKUP(入出金tbl[[#This Row],[内　容]],科目tbl[[内　容]:[番号]],3,TRUE)","v":"支出"},"賃金・給与現金支払","摘要を記載する　246",1138]
[829,"2018-10-29",{"$f":"VLOOKUP(入出金tbl[[#This Row],[内　容]],科目tbl[[内　容]:[番号]],2,TRUE)","v":"経常収支"},{"$f":"VLOOKUP(入出金tbl[[#This Row],[内　容]],科目tbl[[内　容]:[番号]],3,TRUE)","v":"支出"},"賞与支払い","摘要を記載する　342",540]
[830,"2018-10-29",{"$f":"VLOOKUP(入出金tbl[[#This Row],[内　容]],科目tbl[[内　容]:[番号]],2,TRUE)","v":"経常収支"},{"$f":"VLOOKUP(入出金tbl[[#This Row],[内　容]],科目tbl[[内　容]:[番号]],3,TRUE)","v":"支出"},"支払利息・割引料","摘要を記載する　246",1138]
[831,"2018-10-30",{"$f":"VLOOKUP(入出金tbl[[#This Row],[内　容]],科目tbl[[内　容]:[番号]],2,TRUE)","v":"経常収支"},{"$f":"VLOOKUP(入出金tbl[[#This Row],[内　容]],科目tbl[[内　容]:[番号]],3,TRUE)","v":"支出"},"諸経費現金支払","摘要を記載する　342",540]
[832,"2018-10-30",{"$f":"VLOOKUP(入出金tbl[[#This Row],[内　容]],科目tbl[[内　容]:[番号]],2,TRUE)","v":"経常外収支"},{"$f":"VLOOKUP(入出金tbl[[#This Row],[内　容]],科目tbl[[内　容]:[番号]],3,TRUE)","v":"支出"},"税金","摘要を記載する　304",593]
[833,"2018-10-31",{"$f":"VLOOKUP(入出金tbl[[#This Row],[内　容]],科目tbl[[内　容]:[番号]],2,TRUE)","v":"経常外収支"},{"$f":"VLOOKUP(入出金tbl[[#This Row],[内　容]],科目tbl[[内　容]:[番号]],3,TRUE)","v":"支出"},"役員賞与","摘要を記載する　170",398]
[834,"2018-10-31",{"$f":"VLOOKUP(入出金tbl[[#This Row],[内　容]],科目tbl[[内　容]:[番号]],2,TRUE)","v":"経常外収支"},{"$f":"VLOOKUP(入出金tbl[[#This Row],[内　容]],科目tbl[[内　容]:[番号]],3,TRUE)","v":"支出"},"配当","摘要を記載する　304",593]
[835,"2018-11-01",{"$f":"VLOOKUP(入出金tbl[[#This Row],[内　容]],科目tbl[[内　容]:[番号]],2,TRUE)","v":"経常外収支"},{"$f":"VLOOKUP(入出金tbl[[#This Row],[内　容]],科目tbl[[内　容]:[番号]],3,TRUE)","v":"支出"},"固定資産購入支出","摘要を記載する　449",1154]
[836,"2018-11-02",{"$f":"VLOOKUP(入出金tbl[[#This Row],[内　容]],科目tbl[[内　容]:[番号]],2,TRUE)","v":"経常外収支"},{"$f":"VLOOKUP(入出金tbl[[#This Row],[内　容]],科目tbl[[内　容]:[番号]],3,TRUE)","v":"支出"},"定期預金等設定","摘要を記載する　199",680]
[837,"2018-11-03",{"$f":"VLOOKUP(入出金tbl[[#This Row],[内　容]],科目tbl[[内　容]:[番号]],2,TRUE)","v":"経常外収支"},{"$f":"VLOOKUP(入出金tbl[[#This Row],[内　容]],科目tbl[[内　容]:[番号]],3,TRUE)","v":"支出"},"その他臨時支出","摘要を記載する　199",680]
[838,"2018-11-04",{"$f":"VLOOKUP(入出金tbl[[#This Row],[内　容]],科目tbl[[内　容]:[番号]],2,TRUE)","v":"財務収支"},{"$f":"VLOOKUP(入出金tbl[[#This Row],[内　容]],科目tbl[[内　容]:[番号]],3,TRUE)","v":"支出"},"短期借入金返済","摘要を記載する　204",486]
[839,"2018-11-05",{"$f":"VLOOKUP(入出金tbl[[#This Row],[内　容]],科目tbl[[内　容]:[番号]],2,TRUE)","v":"財務収支"},{"$f":"VLOOKUP(入出金tbl[[#This Row],[内　容]],科目tbl[[内　容]:[番号]],3,TRUE)","v":"支出"},"長期借入金返済","摘要を記載する　417",775]
[840,"2018-11-05",{"$f":"VLOOKUP(入出金tbl[[#This Row],[内　容]],科目tbl[[内　容]:[番号]],2,TRUE)","v":"財務収支"},{"$f":"VLOOKUP(入出金tbl[[#This Row],[内　容]],科目tbl[[内　容]:[番号]],3,TRUE)","v":"支出"},"社長借入金返済","摘要を記載する　057",1159]
[841,"2018-11-06",{"$f":"VLOOKUP(入出金tbl[[#This Row],[内　容]],科目tbl[[内　容]:[番号]],2,TRUE)","v":"財務収支"},{"$f":"VLOOKUP(入出金tbl[[#This Row],[内　容]],科目tbl[[内　容]:[番号]],3,TRUE)","v":"支出"},"その他返済","摘要を記載する　417",775]
[842,"2018-11-06",{"$f":"VLOOKUP(入出金tbl[[#This Row],[内　容]],科目tbl[[内　容]:[番号]],2,TRUE)","v":"経常収支"},{"$f":"VLOOKUP(入出金tbl[[#This Row],[内　容]],科目tbl[[内　容]:[番号]],3,TRUE)","v":"収入"},"現金売上","摘要を記載する　204",486]
[843,"2018-11-07",{"$f":"VLOOKUP(入出金tbl[[#This Row],[内　容]],科目tbl[[内　容]:[番号]],2,TRUE)","v":"経常収支"},{"$f":"VLOOKUP(入出金tbl[[#This Row],[内　容]],科目tbl[[内　容]:[番号]],3,TRUE)","v":"収入"},"売掛金回収","摘要を記載する　517",984]
[844,"2018-11-07",{"$f":"VLOOKUP(入出金tbl[[#This Row],[内　容]],科目tbl[[内　容]:[番号]],2,TRUE)","v":"経常収支"},{"$f":"VLOOKUP(入出金tbl[[#This Row],[内　容]],科目tbl[[内　容]:[番号]],3,TRUE)","v":"収入"},"受取手形回収","摘要を記載する　057",1159]
[845,"2018-11-08",{"$f":"VLOOKUP(入出金tbl[[#This Row],[内　容]],科目tbl[[内　容]:[番号]],2,TRUE)","v":"経常収支"},{"$f":"VLOOKUP(入出金tbl[[#This Row],[内　容]],科目tbl[[内　容]:[番号]],3,TRUE)","v":"収入"},"手形割引","摘要を記載する　517",984]
[846,"2018-11-08",{"$f":"VLOOKUP(入出金tbl[[#This Row],[内　容]],科目tbl[[内　容]:[番号]],2,TRUE)","v":"経常収支"},{"$f":"VLOOKUP(入出金tbl[[#This Row],[内　容]],科目tbl[[内　容]:[番号]],3,TRUE)","v":"収入"},"その他収入","摘要を記載する　188",490]
[847,"2018-11-09",{"$f":"VLOOKUP(入出金tbl[[#This Row],[内　容]],科目tbl[[内　容]:[番号]],2,TRUE)","v":"経常外収支"},{"$f":"VLOOKUP(入出金tbl[[#This Row],[内　容]],科目tbl[[内　容]:[番号]],3,TRUE)","v":"収入"},"固定資産等売却手取","摘要を記載する　355",1137]
[848,"2018-11-09",{"$f":"VLOOKUP(入出金tbl[[#This Row],[内　容]],科目tbl[[内　容]:[番号]],2,TRUE)","v":"経常外収支"},{"$f":"VLOOKUP(入出金tbl[[#This Row],[内　容]],科目tbl[[内　容]:[番号]],3,TRUE)","v":"収入"},"定期預金等解約","摘要を記載する　188",490]
[849,"2018-11-10",{"$f":"VLOOKUP(入出金tbl[[#This Row],[内　容]],科目tbl[[内　容]:[番号]],2,TRUE)","v":"経常外収支"},{"$f":"VLOOKUP(入出金tbl[[#This Row],[内　容]],科目tbl[[内　容]:[番号]],3,TRUE)","v":"収入"},"その他臨時収入","摘要を記載する　355",1137]
[850,"2018-11-10",{"$f":"VLOOKUP(入出金tbl[[#This Row],[内　容]],科目tbl[[内　容]:[番号]],2,TRUE)","v":"財務収支"},{"$f":"VLOOKUP(入出金tbl[[#This Row],[内　容]],科目tbl[[内　容]:[番号]],3,TRUE)","v":"収入"},"短期借入金調達","摘要を記載する　229",247]
[851,"2018-11-11",{"$f":"VLOOKUP(入出金tbl[[#This Row],[内　容]],科目tbl[[内　容]:[番号]],2,TRUE)","v":"財務収支"},{"$f":"VLOOKUP(入出金tbl[[#This Row],[内　容]],科目tbl[[内　容]:[番号]],3,TRUE)","v":"収入"},"長期借入金調達","摘要を記載する　407",1130]
[852,"2018-11-11",{"$f":"VLOOKUP(入出金tbl[[#This Row],[内　容]],科目tbl[[内　容]:[番号]],2,TRUE)","v":"財務収支"},{"$f":"VLOOKUP(入出金tbl[[#This Row],[内　容]],科目tbl[[内　容]:[番号]],3,TRUE)","v":"収入"},"社長借入金調達","摘要を記載する　229",247]
[853,"2018-11-12",{"$f":"VLOOKUP(入出金tbl[[#This Row],[内　容]],科目tbl[[内　容]:[番号]],2,TRUE)","v":"財務収支"},{"$f":"VLOOKUP(入出金tbl[[#This Row],[内　容]],科目tbl[[内　容]:[番号]],3,TRUE)","v":"収入"},"その他調達","摘要を記載する　310",929]
[854,"2018-11-12",{"$f":"VLOOKUP(入出金tbl[[#This Row],[内　容]],科目tbl[[内　容]:[番号]],2,TRUE)","v":"経常収支"},{"$f":"VLOOKUP(入出金tbl[[#This Row],[内　容]],科目tbl[[内　容]:[番号]],3,TRUE)","v":"支出"},"現金仕入","摘要を記載する　161",470]
[855,"2018-11-13",{"$f":"VLOOKUP(入出金tbl[[#This Row],[内　容]],科目tbl[[内　容]:[番号]],2,TRUE)","v":"経常収支"},{"$f":"VLOOKUP(入出金tbl[[#This Row],[内　容]],科目tbl[[内　容]:[番号]],3,TRUE)","v":"支出"},"買掛金支払","摘要を記載する　407",1130]
[856,"2018-11-13",{"$f":"VLOOKUP(入出金tbl[[#This Row],[内　容]],科目tbl[[内　容]:[番号]],2,TRUE)","v":"経常収支"},{"$f":"VLOOKUP(入出金tbl[[#This Row],[内　容]],科目tbl[[内　容]:[番号]],3,TRUE)","v":"支出"},"手形支払","摘要を記載する　275",907]
[857,"2018-11-14",{"$f":"VLOOKUP(入出金tbl[[#This Row],[内　容]],科目tbl[[内　容]:[番号]],2,TRUE)","v":"経常収支"},{"$f":"VLOOKUP(入出金tbl[[#This Row],[内　容]],科目tbl[[内　容]:[番号]],3,TRUE)","v":"支出"},"賃金・給与現金支払","摘要を記載する　310",929]
[858,"2018-11-14",{"$f":"VLOOKUP(入出金tbl[[#This Row],[内　容]],科目tbl[[内　容]:[番号]],2,TRUE)","v":"経常収支"},{"$f":"VLOOKUP(入出金tbl[[#This Row],[内　容]],科目tbl[[内　容]:[番号]],3,TRUE)","v":"支出"},"賞与支払い","摘要を記載する　161",470]
[859,"2018-11-15",{"$f":"VLOOKUP(入出金tbl[[#This Row],[内　容]],科目tbl[[内　容]:[番号]],2,TRUE)","v":"経常収支"},{"$f":"VLOOKUP(入出金tbl[[#This Row],[内　容]],科目tbl[[内　容]:[番号]],3,TRUE)","v":"支出"},"支払利息・割引料","摘要を記載する　053",976]
[860,"2018-11-15",{"$f":"VLOOKUP(入出金tbl[[#This Row],[内　容]],科目tbl[[内　容]:[番号]],2,TRUE)","v":"経常収支"},{"$f":"VLOOKUP(入出金tbl[[#This Row],[内　容]],科目tbl[[内　容]:[番号]],3,TRUE)","v":"支出"},"諸経費現金支払","摘要を記載する　275",907]
[861,"2018-11-16",{"$f":"VLOOKUP(入出金tbl[[#This Row],[内　容]],科目tbl[[内　容]:[番号]],2,TRUE)","v":"経常外収支"},{"$f":"VLOOKUP(入出金tbl[[#This Row],[内　容]],科目tbl[[内　容]:[番号]],3,TRUE)","v":"支出"},"税金","摘要を記載する　325",114]
[862,"2018-11-17",{"$f":"VLOOKUP(入出金tbl[[#This Row],[内　容]],科目tbl[[内　容]:[番号]],2,TRUE)","v":"経常外収支"},{"$f":"VLOOKUP(入出金tbl[[#This Row],[内　容]],科目tbl[[内　容]:[番号]],3,TRUE)","v":"支出"},"役員賞与","摘要を記載する　053",976]
[863,"2018-11-18",{"$f":"VLOOKUP(入出金tbl[[#This Row],[内　容]],科目tbl[[内　容]:[番号]],2,TRUE)","v":"経常外収支"},{"$f":"VLOOKUP(入出金tbl[[#This Row],[内　容]],科目tbl[[内　容]:[番号]],3,TRUE)","v":"支出"},"配当","摘要を記載する　325",114]
[864,"2018-11-19",{"$f":"VLOOKUP(入出金tbl[[#This Row],[内　容]],科目tbl[[内　容]:[番号]],2,TRUE)","v":"経常外収支"},{"$f":"VLOOKUP(入出金tbl[[#This Row],[内　容]],科目tbl[[内　容]:[番号]],3,TRUE)","v":"支出"},"固定資産購入支出","摘要を記載する　171",849]
[865,"2018-11-20",{"$f":"VLOOKUP(入出金tbl[[#This Row],[内　容]],科目tbl[[内　容]:[番号]],2,TRUE)","v":"経常外収支"},{"$f":"VLOOKUP(入出金tbl[[#This Row],[内　容]],科目tbl[[内　容]:[番号]],3,TRUE)","v":"支出"},"定期預金等設定","摘要を記載する　171",849]
[866,"2018-11-21",{"$f":"VLOOKUP(入出金tbl[[#This Row],[内　容]],科目tbl[[内　容]:[番号]],2,TRUE)","v":"経常外収支"},{"$f":"VLOOKUP(入出金tbl[[#This Row],[内　容]],科目tbl[[内　容]:[番号]],3,TRUE)","v":"支出"},"その他臨時支出","摘要を記載する　086",535]
[867,"2018-11-22",{"$f":"VLOOKUP(入出金tbl[[#This Row],[内　容]],科目tbl[[内　容]:[番号]],2,TRUE)","v":"財務収支"},{"$f":"VLOOKUP(入出金tbl[[#This Row],[内　容]],科目tbl[[内　容]:[番号]],3,TRUE)","v":"支出"},"短期借入金返済","摘要を記載する　086",535]
[868,"2018-11-23",{"$f":"VLOOKUP(入出金tbl[[#This Row],[内　容]],科目tbl[[内　容]:[番号]],2,TRUE)","v":"財務収支"},{"$f":"VLOOKUP(入出金tbl[[#This Row],[内　容]],科目tbl[[内　容]:[番号]],3,TRUE)","v":"支出"},"長期借入金返済","摘要を記載する　229",1033]
[869,"2018-11-24",{"$f":"VLOOKUP(入出金tbl[[#This Row],[内　容]],科目tbl[[内　容]:[番号]],2,TRUE)","v":"財務収支"},{"$f":"VLOOKUP(入出金tbl[[#This Row],[内　容]],科目tbl[[内　容]:[番号]],3,TRUE)","v":"支出"},"社長借入金返済","摘要を記載する　229",1033]
[870,"2018-11-25",{"$f":"VLOOKUP(入出金tbl[[#This Row],[内　容]],科目tbl[[内　容]:[番号]],2,TRUE)","v":"財務収支"},{"$f":"VLOOKUP(入出金tbl[[#This Row],[内　容]],科目tbl[[内　容]:[番号]],3,TRUE)","v":"支出"},"その他返済","摘要を記載する　352",147]
[871,"2018-11-26",{"$f":"VLOOKUP(入出金tbl[[#This Row],[内　容]],科目tbl[[内　容]:[番号]],2,TRUE)","v":"経常収支"},{"$f":"VLOOKUP(入出金tbl[[#This Row],[内　容]],科目tbl[[内　容]:[番号]],3,TRUE)","v":"収入"},"現金売上","摘要を記載する　352",147]
[872,"2018-11-27",{"$f":"VLOOKUP(入出金tbl[[#This Row],[内　容]],科目tbl[[内　容]:[番号]],2,TRUE)","v":"経常収支"},{"$f":"VLOOKUP(入出金tbl[[#This Row],[内　容]],科目tbl[[内　容]:[番号]],3,TRUE)","v":"収入"},"売掛金回収","摘要を記載する　494",600]
[873,"2018-11-28",{"$f":"VLOOKUP(入出金tbl[[#This Row],[内　容]],科目tbl[[内　容]:[番号]],2,TRUE)","v":"経常収支"},{"$f":"VLOOKUP(入出金tbl[[#This Row],[内　容]],科目tbl[[内　容]:[番号]],3,TRUE)","v":"収入"},"受取手形回収","摘要を記載する　494",600]
[874,"2018-11-29",{"$f":"VLOOKUP(入出金tbl[[#This Row],[内　容]],科目tbl[[内　容]:[番号]],2,TRUE)","v":"経常収支"},{"$f":"VLOOKUP(入出金tbl[[#This Row],[内　容]],科目tbl[[内　容]:[番号]],3,TRUE)","v":"収入"},"手形割引","摘要を記載する　446",1031]
[875,"2018-11-30",{"$f":"VLOOKUP(入出金tbl[[#This Row],[内　容]],科目tbl[[内　容]:[番号]],2,TRUE)","v":"経常収支"},{"$f":"VLOOKUP(入出金tbl[[#This Row],[内　容]],科目tbl[[内　容]:[番号]],3,TRUE)","v":"収入"},"その他収入","摘要を記載する　446",1031]
[876,"2018-11-30",{"$f":"VLOOKUP(入出金tbl[[#This Row],[内　容]],科目tbl[[内　容]:[番号]],2,TRUE)","v":"経常外収支"},{"$f":"VLOOKUP(入出金tbl[[#This Row],[内　容]],科目tbl[[内　容]:[番号]],3,TRUE)","v":"収入"},"固定資産等売却手取","摘要を記載する　449",1154]
[877,"2018-12-01",{"$f":"VLOOKUP(入出金tbl[[#This Row],[内　容]],科目tbl[[内　容]:[番号]],2,TRUE)","v":"経常外収支"},{"$f":"VLOOKUP(入出金tbl[[#This Row],[内　容]],科目tbl[[内　容]:[番号]],3,TRUE)","v":"収入"},"定期預金等解約","摘要を記載する　221",614]
[878,"2018-12-02",{"$f":"VLOOKUP(入出金tbl[[#This Row],[内　容]],科目tbl[[内　容]:[番号]],2,TRUE)","v":"経常外収支"},{"$f":"VLOOKUP(入出金tbl[[#This Row],[内　容]],科目tbl[[内　容]:[番号]],3,TRUE)","v":"収入"},"その他臨時収入","摘要を記載する　221",614]
[879,"2018-12-03",{"$f":"VLOOKUP(入出金tbl[[#This Row],[内　容]],科目tbl[[内　容]:[番号]],2,TRUE)","v":"財務収支"},{"$f":"VLOOKUP(入出金tbl[[#This Row],[内　容]],科目tbl[[内　容]:[番号]],3,TRUE)","v":"収入"},"短期借入金調達","摘要を記載する　085",384]
[880,"2018-12-04",{"$f":"VLOOKUP(入出金tbl[[#This Row],[内　容]],科目tbl[[内　容]:[番号]],2,TRUE)","v":"財務収支"},{"$f":"VLOOKUP(入出金tbl[[#This Row],[内　容]],科目tbl[[内　容]:[番号]],3,TRUE)","v":"収入"},"長期借入金調達","摘要を記載する　085",384]
[881,"2018-12-05",{"$f":"VLOOKUP(入出金tbl[[#This Row],[内　容]],科目tbl[[内　容]:[番号]],2,TRUE)","v":"財務収支"},{"$f":"VLOOKUP(入出金tbl[[#This Row],[内　容]],科目tbl[[内　容]:[番号]],3,TRUE)","v":"収入"},"社長借入金調達","摘要を記載する　486",320]
[882,"2018-12-06",{"$f":"VLOOKUP(入出金tbl[[#This Row],[内　容]],科目tbl[[内　容]:[番号]],2,TRUE)","v":"財務収支"},{"$f":"VLOOKUP(入出金tbl[[#This Row],[内　容]],科目tbl[[内　容]:[番号]],3,TRUE)","v":"収入"},"その他調達","摘要を記載する　486",320]
[883,"2018-12-07",{"$f":"VLOOKUP(入出金tbl[[#This Row],[内　容]],科目tbl[[内　容]:[番号]],2,TRUE)","v":"経常収支"},{"$f":"VLOOKUP(入出金tbl[[#This Row],[内　容]],科目tbl[[内　容]:[番号]],3,TRUE)","v":"支出"},"現金仕入","摘要を記載する　256",692]
[884,"2018-12-08",{"$f":"VLOOKUP(入出金tbl[[#This Row],[内　容]],科目tbl[[内　容]:[番号]],2,TRUE)","v":"経常収支"},{"$f":"VLOOKUP(入出金tbl[[#This Row],[内　容]],科目tbl[[内　容]:[番号]],3,TRUE)","v":"支出"},"買掛金支払","摘要を記載する　256",692]
[885,"2018-12-09",{"$f":"VLOOKUP(入出金tbl[[#This Row],[内　容]],科目tbl[[内　容]:[番号]],2,TRUE)","v":"経常収支"},{"$f":"VLOOKUP(入出金tbl[[#This Row],[内　容]],科目tbl[[内　容]:[番号]],3,TRUE)","v":"支出"},"手形支払","摘要を記載する　415",887]
[886,"2018-12-10",{"$f":"VLOOKUP(入出金tbl[[#This Row],[内　容]],科目tbl[[内　容]:[番号]],2,TRUE)","v":"経常収支"},{"$f":"VLOOKUP(入出金tbl[[#This Row],[内　容]],科目tbl[[内　容]:[番号]],3,TRUE)","v":"支出"},"賃金・給与現金支払","摘要を記載する　415",887]
[887,"2018-12-11",{"$f":"VLOOKUP(入出金tbl[[#This Row],[内　容]],科目tbl[[内　容]:[番号]],2,TRUE)","v":"経常収支"},{"$f":"VLOOKUP(入出金tbl[[#This Row],[内　容]],科目tbl[[内　容]:[番号]],3,TRUE)","v":"支出"},"賞与支払い","摘要を記載する　487",114]
[888,"2018-12-12",{"$f":"VLOOKUP(入出金tbl[[#This Row],[内　容]],科目tbl[[内　容]:[番号]],2,TRUE)","v":"経常収支"},{"$f":"VLOOKUP(入出金tbl[[#This Row],[内　容]],科目tbl[[内　容]:[番号]],3,TRUE)","v":"支出"},"支払利息・割引料","摘要を記載する　487",114]
[889,"2018-12-13",{"$f":"VLOOKUP(入出金tbl[[#This Row],[内　容]],科目tbl[[内　容]:[番号]],2,TRUE)","v":"経常収支"},{"$f":"VLOOKUP(入出金tbl[[#This Row],[内　容]],科目tbl[[内　容]:[番号]],3,TRUE)","v":"支出"},"諸経費現金支払","摘要を記載する　493",1134]
[890,"2018-12-14",{"$f":"VLOOKUP(入出金tbl[[#This Row],[内　容]],科目tbl[[内　容]:[番号]],2,TRUE)","v":"経常外収支"},{"$f":"VLOOKUP(入出金tbl[[#This Row],[内　容]],科目tbl[[内　容]:[番号]],3,TRUE)","v":"支出"},"税金","摘要を記載する　493",1134]
[891,"2018-12-15",{"$f":"VLOOKUP(入出金tbl[[#This Row],[内　容]],科目tbl[[内　容]:[番号]],2,TRUE)","v":"経常外収支"},{"$f":"VLOOKUP(入出金tbl[[#This Row],[内　容]],科目tbl[[内　容]:[番号]],3,TRUE)","v":"支出"},"役員賞与","摘要を記載する　186",399]
[892,"2018-12-16",{"$f":"VLOOKUP(入出金tbl[[#This Row],[内　容]],科目tbl[[内　容]:[番号]],2,TRUE)","v":"経常外収支"},{"$f":"VLOOKUP(入出金tbl[[#This Row],[内　容]],科目tbl[[内　容]:[番号]],3,TRUE)","v":"支出"},"配当","摘要を記載する　066",121]
[893,"2018-12-16",{"$f":"VLOOKUP(入出金tbl[[#This Row],[内　容]],科目tbl[[内　容]:[番号]],2,TRUE)","v":"経常外収支"},{"$f":"VLOOKUP(入出金tbl[[#This Row],[内　容]],科目tbl[[内　容]:[番号]],3,TRUE)","v":"支出"},"固定資産購入支出","摘要を記載する　186",399]
[894,"2018-12-17",{"$f":"VLOOKUP(入出金tbl[[#This Row],[内　容]],科目tbl[[内　容]:[番号]],2,TRUE)","v":"経常外収支"},{"$f":"VLOOKUP(入出金tbl[[#This Row],[内　容]],科目tbl[[内　容]:[番号]],3,TRUE)","v":"支出"},"定期預金等設定","摘要を記載する　066",121]
[895,"2018-12-17",{"$f":"VLOOKUP(入出金tbl[[#This Row],[内　容]],科目tbl[[内　容]:[番号]],2,TRUE)","v":"経常外収支"},{"$f":"VLOOKUP(入出金tbl[[#This Row],[内　容]],科目tbl[[内　容]:[番号]],3,TRUE)","v":"支出"},"その他臨時支出","摘要を記載する　235",424]
[896,"2018-12-18",{"$f":"VLOOKUP(入出金tbl[[#This Row],[内　容]],科目tbl[[内　容]:[番号]],2,TRUE)","v":"財務収支"},{"$f":"VLOOKUP(入出金tbl[[#This Row],[内　容]],科目tbl[[内　容]:[番号]],3,TRUE)","v":"支出"},"短期借入金返済","摘要を記載する　237",858]
[897,"2018-12-18",{"$f":"VLOOKUP(入出金tbl[[#This Row],[内　容]],科目tbl[[内　容]:[番号]],2,TRUE)","v":"財務収支"},{"$f":"VLOOKUP(入出金tbl[[#This Row],[内　容]],科目tbl[[内　容]:[番号]],3,TRUE)","v":"支出"},"長期借入金返済","摘要を記載する　235",424]
[898,"2018-12-19",{"$f":"VLOOKUP(入出金tbl[[#This Row],[内　容]],科目tbl[[内　容]:[番号]],2,TRUE)","v":"財務収支"},{"$f":"VLOOKUP(入出金tbl[[#This Row],[内　容]],科目tbl[[内　容]:[番号]],3,TRUE)","v":"支出"},"社長借入金返済","摘要を記載する　237",858]
[899,"2018-12-19",{"$f":"VLOOKUP(入出金tbl[[#This Row],[内　容]],科目tbl[[内　容]:[番号]],2,TRUE)","v":"財務収支"},{"$f":"VLOOKUP(入出金tbl[[#This Row],[内　容]],科目tbl[[内　容]:[番号]],3,TRUE)","v":"支出"},"その他返済","摘要を記載する　305",1091]
[900,"2018-12-20",{"$f":"VLOOKUP(入出金tbl[[#This Row],[内　容]],科目tbl[[内　容]:[番号]],2,TRUE)","v":"経常収支"},{"$f":"VLOOKUP(入出金tbl[[#This Row],[内　容]],科目tbl[[内　容]:[番号]],3,TRUE)","v":"収入"},"現金売上","摘要を記載する　052",122]
[901,"2018-12-20",{"$f":"VLOOKUP(入出金tbl[[#This Row],[内　容]],科目tbl[[内　容]:[番号]],2,TRUE)","v":"経常収支"},{"$f":"VLOOKUP(入出金tbl[[#This Row],[内　容]],科目tbl[[内　容]:[番号]],3,TRUE)","v":"収入"},"売掛金回収","摘要を記載する　305",1091]
[902,"2018-12-21",{"$f":"VLOOKUP(入出金tbl[[#This Row],[内　容]],科目tbl[[内　容]:[番号]],2,TRUE)","v":"経常収支"},{"$f":"VLOOKUP(入出金tbl[[#This Row],[内　容]],科目tbl[[内　容]:[番号]],3,TRUE)","v":"収入"},"受取手形回収","摘要を記載する　380",374]
[903,"2018-12-21",{"$f":"VLOOKUP(入出金tbl[[#This Row],[内　容]],科目tbl[[内　容]:[番号]],2,TRUE)","v":"経常収支"},{"$f":"VLOOKUP(入出金tbl[[#This Row],[内　容]],科目tbl[[内　容]:[番号]],3,TRUE)","v":"収入"},"手形割引","摘要を記載する　459",112]
[904,"2018-12-22",{"$f":"VLOOKUP(入出金tbl[[#This Row],[内　容]],科目tbl[[内　容]:[番号]],2,TRUE)","v":"経常収支"},{"$f":"VLOOKUP(入出金tbl[[#This Row],[内　容]],科目tbl[[内　容]:[番号]],3,TRUE)","v":"収入"},"その他収入","摘要を記載する　052",122]
[905,"2018-12-22",{"$f":"VLOOKUP(入出金tbl[[#This Row],[内　容]],科目tbl[[内　容]:[番号]],2,TRUE)","v":"経常外収支"},{"$f":"VLOOKUP(入出金tbl[[#This Row],[内　容]],科目tbl[[内　容]:[番号]],3,TRUE)","v":"収入"},"固定資産等売却手取","摘要を記載する　459",112]
[906,"2018-12-23",{"$f":"VLOOKUP(入出金tbl[[#This Row],[内　容]],科目tbl[[内　容]:[番号]],2,TRUE)","v":"経常外収支"},{"$f":"VLOOKUP(入出金tbl[[#This Row],[内　容]],科目tbl[[内　容]:[番号]],3,TRUE)","v":"収入"},"定期預金等解約","摘要を記載する　380",374]
[907,"2018-12-24",{"$f":"VLOOKUP(入出金tbl[[#This Row],[内　容]],科目tbl[[内　容]:[番号]],2,TRUE)","v":"経常外収支"},{"$f":"VLOOKUP(入出金tbl[[#This Row],[内　容]],科目tbl[[内　容]:[番号]],3,TRUE)","v":"収入"},"その他臨時収入","摘要を記載する　084",847]
[908,"2018-12-25",{"$f":"VLOOKUP(入出金tbl[[#This Row],[内　容]],科目tbl[[内　容]:[番号]],2,TRUE)","v":"財務収支"},{"$f":"VLOOKUP(入出金tbl[[#This Row],[内　容]],科目tbl[[内　容]:[番号]],3,TRUE)","v":"収入"},"短期借入金調達","摘要を記載する　084",847]
[909,"2018-12-26",{"$f":"VLOOKUP(入出金tbl[[#This Row],[内　容]],科目tbl[[内　容]:[番号]],2,TRUE)","v":"財務収支"},{"$f":"VLOOKUP(入出金tbl[[#This Row],[内　容]],科目tbl[[内　容]:[番号]],3,TRUE)","v":"収入"},"長期借入金調達","摘要を記載する　351",1069]
[910,"2018-12-27",{"$f":"VLOOKUP(入出金tbl[[#This Row],[内　容]],科目tbl[[内　容]:[番号]],2,TRUE)","v":"財務収支"},{"$f":"VLOOKUP(入出金tbl[[#This Row],[内　容]],科目tbl[[内　容]:[番号]],3,TRUE)","v":"収入"},"社長借入金調達","摘要を記載する　351",1069]
[911,"2018-12-28",{"$f":"VLOOKUP(入出金tbl[[#This Row],[内　容]],科目tbl[[内　容]:[番号]],2,TRUE)","v":"財務収支"},{"$f":"VLOOKUP(入出金tbl[[#This Row],[内　容]],科目tbl[[内　容]:[番号]],3,TRUE)","v":"収入"},"その他調達","摘要を記載する　474",410]
[912,"2018-12-29",{"$f":"VLOOKUP(入出金tbl[[#This Row],[内　容]],科目tbl[[内　容]:[番号]],2,TRUE)","v":"経常収支"},{"$f":"VLOOKUP(入出金tbl[[#This Row],[内　容]],科目tbl[[内　容]:[番号]],3,TRUE)","v":"支出"},"現金仕入","摘要を記載する　474",410]
[913,"2018-12-30",{"$f":"VLOOKUP(入出金tbl[[#This Row],[内　容]],科目tbl[[内　容]:[番号]],2,TRUE)","v":"経常収支"},{"$f":"VLOOKUP(入出金tbl[[#This Row],[内　容]],科目tbl[[内　容]:[番号]],3,TRUE)","v":"支出"},"買掛金支払","摘要を記載する　343",202]
[914,"2018-12-31",{"$f":"VLOOKUP(入出金tbl[[#This Row],[内　容]],科目tbl[[内　容]:[番号]],2,TRUE)","v":"経常収支"},{"$f":"VLOOKUP(入出金tbl[[#This Row],[内　容]],科目tbl[[内　容]:[番号]],3,TRUE)","v":"支出"},"手形支払","摘要を記載する　343",202]
[915,"2018-01-01",{"$f":"VLOOKUP(入出金tbl[[#This Row],[内　容]],科目tbl[[内　容]:[番号]],2,TRUE)","v":"経常収支"},{"$f":"VLOOKUP(入出金tbl[[#This Row],[内　容]],科目tbl[[内　容]:[番号]],3,TRUE)","v":"支出"},"賃金・給与現金支払","摘要を記載する　344",1131]
[916,"2018-01-01",{"$f":"VLOOKUP(入出金tbl[[#This Row],[内　容]],科目tbl[[内　容]:[番号]],2,TRUE)","v":"経常収支"},{"$f":"VLOOKUP(入出金tbl[[#This Row],[内　容]],科目tbl[[内　容]:[番号]],3,TRUE)","v":"支出"},"賞与支払い","摘要を記載する　265",914]
[917,"2018-01-02",{"$f":"VLOOKUP(入出金tbl[[#This Row],[内　容]],科目tbl[[内　容]:[番号]],2,TRUE)","v":"経常収支"},{"$f":"VLOOKUP(入出金tbl[[#This Row],[内　容]],科目tbl[[内　容]:[番号]],3,TRUE)","v":"支出"},"支払利息・割引料","摘要を記載する　239",764]
[918,"2018-01-02",{"$f":"VLOOKUP(入出金tbl[[#This Row],[内　容]],科目tbl[[内　容]:[番号]],2,TRUE)","v":"経常収支"},{"$f":"VLOOKUP(入出金tbl[[#This Row],[内　容]],科目tbl[[内　容]:[番号]],3,TRUE)","v":"支出"},"諸経費現金支払","摘要を記載する　265",914]
[919,"2018-01-03",{"$f":"VLOOKUP(入出金tbl[[#This Row],[内　容]],科目tbl[[内　容]:[番号]],2,TRUE)","v":"経常外収支"},{"$f":"VLOOKUP(入出金tbl[[#This Row],[内　容]],科目tbl[[内　容]:[番号]],3,TRUE)","v":"支出"},"税金","摘要を記載する　239",764]
[920,"2018-01-04",{"$f":"VLOOKUP(入出金tbl[[#This Row],[内　容]],科目tbl[[内　容]:[番号]],2,TRUE)","v":"経常外収支"},{"$f":"VLOOKUP(入出金tbl[[#This Row],[内　容]],科目tbl[[内　容]:[番号]],3,TRUE)","v":"支出"},"役員賞与","摘要を記載する　428",938]
[921,"2018-01-05",{"$f":"VLOOKUP(入出金tbl[[#This Row],[内　容]],科目tbl[[内　容]:[番号]],2,TRUE)","v":"経常外収支"},{"$f":"VLOOKUP(入出金tbl[[#This Row],[内　容]],科目tbl[[内　容]:[番号]],3,TRUE)","v":"支出"},"配当","摘要を記載する　428",938]
[922,"2018-01-06",{"$f":"VLOOKUP(入出金tbl[[#This Row],[内　容]],科目tbl[[内　容]:[番号]],2,TRUE)","v":"経常外収支"},{"$f":"VLOOKUP(入出金tbl[[#This Row],[内　容]],科目tbl[[内　容]:[番号]],3,TRUE)","v":"支出"},"固定資産購入支出","摘要を記載する　337",341]
[923,"2018-01-07",{"$f":"VLOOKUP(入出金tbl[[#This Row],[内　容]],科目tbl[[内　容]:[番号]],2,TRUE)","v":"経常外収支"},{"$f":"VLOOKUP(入出金tbl[[#This Row],[内　容]],科目tbl[[内　容]:[番号]],3,TRUE)","v":"支出"},"定期預金等設定","摘要を記載する　337",341]
[924,"2018-01-08",{"$f":"VLOOKUP(入出金tbl[[#This Row],[内　容]],科目tbl[[内　容]:[番号]],2,TRUE)","v":"経常外収支"},{"$f":"VLOOKUP(入出金tbl[[#This Row],[内　容]],科目tbl[[内　容]:[番号]],3,TRUE)","v":"支出"},"その他臨時支出","摘要を記載する　505",290]
[925,"2018-01-09",{"$f":"VLOOKUP(入出金tbl[[#This Row],[内　容]],科目tbl[[内　容]:[番号]],2,TRUE)","v":"財務収支"},{"$f":"VLOOKUP(入出金tbl[[#This Row],[内　容]],科目tbl[[内　容]:[番号]],3,TRUE)","v":"支出"},"短期借入金返済","摘要を記載する　294",417]
[926,"2018-01-10",{"$f":"VLOOKUP(入出金tbl[[#This Row],[内　容]],科目tbl[[内　容]:[番号]],2,TRUE)","v":"財務収支"},{"$f":"VLOOKUP(入出金tbl[[#This Row],[内　容]],科目tbl[[内　容]:[番号]],3,TRUE)","v":"支出"},"長期借入金返済","摘要を記載する　505",290]
[927,"2018-01-11",{"$f":"VLOOKUP(入出金tbl[[#This Row],[内　容]],科目tbl[[内　容]:[番号]],2,TRUE)","v":"財務収支"},{"$f":"VLOOKUP(入出金tbl[[#This Row],[内　容]],科目tbl[[内　容]:[番号]],3,TRUE)","v":"支出"},"社長借入金返済","摘要を記載する　294",417]
[928,"2018-01-12",{"$f":"VLOOKUP(入出金tbl[[#This Row],[内　容]],科目tbl[[内　容]:[番号]],2,TRUE)","v":"財務収支"},{"$f":"VLOOKUP(入出金tbl[[#This Row],[内　容]],科目tbl[[内　容]:[番号]],3,TRUE)","v":"支出"},"その他返済","摘要を記載する　182",1078]
[929,"2018-01-13",{"$f":"VLOOKUP(入出金tbl[[#This Row],[内　容]],科目tbl[[内　容]:[番号]],2,TRUE)","v":"経常収支"},{"$f":"VLOOKUP(入出金tbl[[#This Row],[内　容]],科目tbl[[内　容]:[番号]],3,TRUE)","v":"収入"},"現金売上","摘要を記載する　182",1078]
[930,"2018-01-14",{"$f":"VLOOKUP(入出金tbl[[#This Row],[内　容]],科目tbl[[内　容]:[番号]],2,TRUE)","v":"経常収支"},{"$f":"VLOOKUP(入出金tbl[[#This Row],[内　容]],科目tbl[[内　容]:[番号]],3,TRUE)","v":"収入"},"売掛金回収","摘要を記載する　374",542]
[931,"2018-01-15",{"$f":"VLOOKUP(入出金tbl[[#This Row],[内　容]],科目tbl[[内　容]:[番号]],2,TRUE)","v":"経常収支"},{"$f":"VLOOKUP(入出金tbl[[#This Row],[内　容]],科目tbl[[内　容]:[番号]],3,TRUE)","v":"収入"},"受取手形回収","摘要を記載する　374",542]
[932,"2018-01-16",{"$f":"VLOOKUP(入出金tbl[[#This Row],[内　容]],科目tbl[[内　容]:[番号]],2,TRUE)","v":"経常収支"},{"$f":"VLOOKUP(入出金tbl[[#This Row],[内　容]],科目tbl[[内　容]:[番号]],3,TRUE)","v":"収入"},"手形割引","摘要を記載する　361",324]
[933,"2018-01-17",{"$f":"VLOOKUP(入出金tbl[[#This Row],[内　容]],科目tbl[[内　容]:[番号]],2,TRUE)","v":"経常収支"},{"$f":"VLOOKUP(入出金tbl[[#This Row],[内　容]],科目tbl[[内　容]:[番号]],3,TRUE)","v":"収入"},"その他収入","摘要を記載する　361",324]
[934,"2018-01-18",{"$f":"VLOOKUP(入出金tbl[[#This Row],[内　容]],科目tbl[[内　容]:[番号]],2,TRUE)","v":"経常外収支"},{"$f":"VLOOKUP(入出金tbl[[#This Row],[内　容]],科目tbl[[内　容]:[番号]],3,TRUE)","v":"収入"},"固定資産等売却手取","摘要を記載する　497",1039]
[935,"2018-01-19",{"$f":"VLOOKUP(入出金tbl[[#This Row],[内　容]],科目tbl[[内　容]:[番号]],2,TRUE)","v":"経常外収支"},{"$f":"VLOOKUP(入出金tbl[[#This Row],[内　容]],科目tbl[[内　容]:[番号]],3,TRUE)","v":"収入"},"定期預金等解約","摘要を記載する　497",1039]
[936,"2018-01-20",{"$f":"VLOOKUP(入出金tbl[[#This Row],[内　容]],科目tbl[[内　容]:[番号]],2,TRUE)","v":"経常外収支"},{"$f":"VLOOKUP(入出金tbl[[#This Row],[内　容]],科目tbl[[内　容]:[番号]],3,TRUE)","v":"収入"},"その他臨時収入","摘要を記載する　372",868]
[937,"2018-01-21",{"$f":"VLOOKUP(入出金tbl[[#This Row],[内　容]],科目tbl[[内　容]:[番号]],2,TRUE)","v":"財務収支"},{"$f":"VLOOKUP(入出金tbl[[#This Row],[内　容]],科目tbl[[内　容]:[番号]],3,TRUE)","v":"収入"},"短期借入金調達","摘要を記載する　372",868]
[938,"2018-01-22",{"$f":"VLOOKUP(入出金tbl[[#This Row],[内　容]],科目tbl[[内　容]:[番号]],2,TRUE)","v":"財務収支"},{"$f":"VLOOKUP(入出金tbl[[#This Row],[内　容]],科目tbl[[内　容]:[番号]],3,TRUE)","v":"収入"},"長期借入金調達","摘要を記載する　467",101]
[939,"2018-01-23",{"$f":"VLOOKUP(入出金tbl[[#This Row],[内　容]],科目tbl[[内　容]:[番号]],2,TRUE)","v":"財務収支"},{"$f":"VLOOKUP(入出金tbl[[#This Row],[内　容]],科目tbl[[内　容]:[番号]],3,TRUE)","v":"収入"},"社長借入金調達","摘要を記載する　247",1047]
[940,"2018-01-23",{"$f":"VLOOKUP(入出金tbl[[#This Row],[内　容]],科目tbl[[内　容]:[番号]],2,TRUE)","v":"財務収支"},{"$f":"VLOOKUP(入出金tbl[[#This Row],[内　容]],科目tbl[[内　容]:[番号]],3,TRUE)","v":"収入"},"その他調達","摘要を記載する　467",101]
[941,"2018-01-24",{"$f":"VLOOKUP(入出金tbl[[#This Row],[内　容]],科目tbl[[内　容]:[番号]],2,TRUE)","v":"経常収支"},{"$f":"VLOOKUP(入出金tbl[[#This Row],[内　容]],科目tbl[[内　容]:[番号]],3,TRUE)","v":"支出"},"現金仕入","摘要を記載する　364",654]
[942,"2018-01-24",{"$f":"VLOOKUP(入出金tbl[[#This Row],[内　容]],科目tbl[[内　容]:[番号]],2,TRUE)","v":"経常収支"},{"$f":"VLOOKUP(入出金tbl[[#This Row],[内　容]],科目tbl[[内　容]:[番号]],3,TRUE)","v":"支出"},"買掛金支払","摘要を記載する　482",98]
[943,"2018-01-25",{"$f":"VLOOKUP(入出金tbl[[#This Row],[内　容]],科目tbl[[内　容]:[番号]],2,TRUE)","v":"経常収支"},{"$f":"VLOOKUP(入出金tbl[[#This Row],[内　容]],科目tbl[[内　容]:[番号]],3,TRUE)","v":"支出"},"手形支払","摘要を記載する　247",1047]
[944,"2018-01-25",{"$f":"VLOOKUP(入出金tbl[[#This Row],[内　容]],科目tbl[[内　容]:[番号]],2,TRUE)","v":"経常収支"},{"$f":"VLOOKUP(入出金tbl[[#This Row],[内　容]],科目tbl[[内　容]:[番号]],3,TRUE)","v":"支出"},"賃金・給与現金支払","摘要を記載する　076",919]
[945,"2018-01-26",{"$f":"VLOOKUP(入出金tbl[[#This Row],[内　容]],科目tbl[[内　容]:[番号]],2,TRUE)","v":"経常収支"},{"$f":"VLOOKUP(入出金tbl[[#This Row],[内　容]],科目tbl[[内　容]:[番号]],3,TRUE)","v":"支出"},"賞与支払い","摘要を記載する　364",654]
[946,"2018-01-26",{"$f":"VLOOKUP(入出金tbl[[#This Row],[内　容]],科目tbl[[内　容]:[番号]],2,TRUE)","v":"経常収支"},{"$f":"VLOOKUP(入出金tbl[[#This Row],[内　容]],科目tbl[[内　容]:[番号]],3,TRUE)","v":"支出"},"支払利息・割引料","摘要を記載する　482",98]
[947,"2018-01-27",{"$f":"VLOOKUP(入出金tbl[[#This Row],[内　容]],科目tbl[[内　容]:[番号]],2,TRUE)","v":"経常収支"},{"$f":"VLOOKUP(入出金tbl[[#This Row],[内　容]],科目tbl[[内　容]:[番号]],3,TRUE)","v":"支出"},"諸経費現金支払","摘要を記載する　226",242]
[948,"2018-01-27",{"$f":"VLOOKUP(入出金tbl[[#This Row],[内　容]],科目tbl[[内　容]:[番号]],2,TRUE)","v":"経常外収支"},{"$f":"VLOOKUP(入出金tbl[[#This Row],[内　容]],科目tbl[[内　容]:[番号]],3,TRUE)","v":"支出"},"税金","摘要を記載する　076",919]
[949,"2018-01-28",{"$f":"VLOOKUP(入出金tbl[[#This Row],[内　容]],科目tbl[[内　容]:[番号]],2,TRUE)","v":"経常外収支"},{"$f":"VLOOKUP(入出金tbl[[#This Row],[内　容]],科目tbl[[内　容]:[番号]],3,TRUE)","v":"支出"},"役員賞与","摘要を記載する　226",242]
[950,"2018-01-28",{"$f":"VLOOKUP(入出金tbl[[#This Row],[内　容]],科目tbl[[内　容]:[番号]],2,TRUE)","v":"経常外収支"},{"$f":"VLOOKUP(入出金tbl[[#This Row],[内　容]],科目tbl[[内　容]:[番号]],3,TRUE)","v":"支出"},"配当","摘要を記載する　110",1104]
[951,"2018-01-29",{"$f":"VLOOKUP(入出金tbl[[#This Row],[内　容]],科目tbl[[内　容]:[番号]],2,TRUE)","v":"経常外収支"},{"$f":"VLOOKUP(入出金tbl[[#This Row],[内　容]],科目tbl[[内　容]:[番号]],3,TRUE)","v":"支出"},"固定資産購入支出","摘要を記載する　318",963]
[952,"2018-01-29",{"$f":"VLOOKUP(入出金tbl[[#This Row],[内　容]],科目tbl[[内　容]:[番号]],2,TRUE)","v":"経常外収支"},{"$f":"VLOOKUP(入出金tbl[[#This Row],[内　容]],科目tbl[[内　容]:[番号]],3,TRUE)","v":"支出"},"定期預金等設定","摘要を記載する　110",1104]
[953,"2018-01-30",{"$f":"VLOOKUP(入出金tbl[[#This Row],[内　容]],科目tbl[[内　容]:[番号]],2,TRUE)","v":"経常外収支"},{"$f":"VLOOKUP(入出金tbl[[#This Row],[内　容]],科目tbl[[内　容]:[番号]],3,TRUE)","v":"支出"},"その他臨時支出","摘要を記載する　318",963]
[954,"2018-01-30",{"$f":"VLOOKUP(入出金tbl[[#This Row],[内　容]],科目tbl[[内　容]:[番号]],2,TRUE)","v":"財務収支"},{"$f":"VLOOKUP(入出金tbl[[#This Row],[内　容]],科目tbl[[内　容]:[番号]],3,TRUE)","v":"支出"},"短期借入金返済","摘要を記載する　211",882]
[955,"2018-01-31",{"$f":"VLOOKUP(入出金tbl[[#This Row],[内　容]],科目tbl[[内　容]:[番号]],2,TRUE)","v":"財務収支"},{"$f":"VLOOKUP(入出金tbl[[#This Row],[内　容]],科目tbl[[内　容]:[番号]],3,TRUE)","v":"支出"},"長期借入金返済","摘要を記載する　344",1131]
[956,"2018-01-31",{"$f":"VLOOKUP(入出金tbl[[#This Row],[内　容]],科目tbl[[内　容]:[番号]],2,TRUE)","v":"財務収支"},{"$f":"VLOOKUP(入出金tbl[[#This Row],[内　容]],科目tbl[[内　容]:[番号]],3,TRUE)","v":"支出"},"社長借入金返済","摘要を記載する　211",882]
[957,"2018-02-01",{"$f":"VLOOKUP(入出金tbl[[#This Row],[内　容]],科目tbl[[内　容]:[番号]],2,TRUE)","v":"財務収支"},{"$f":"VLOOKUP(入出金tbl[[#This Row],[内　容]],科目tbl[[内　容]:[番号]],3,TRUE)","v":"支出"},"その他返済","摘要を記載する　445",210]
[958,"2018-02-02",{"$f":"VLOOKUP(入出金tbl[[#This Row],[内　容]],科目tbl[[内　容]:[番号]],2,TRUE)","v":"経常収支"},{"$f":"VLOOKUP(入出金tbl[[#This Row],[内　容]],科目tbl[[内　容]:[番号]],3,TRUE)","v":"収入"},"現金売上","摘要を記載する　399",921]
[959,"2018-02-03",{"$f":"VLOOKUP(入出金tbl[[#This Row],[内　容]],科目tbl[[内　容]:[番号]],2,TRUE)","v":"経常収支"},{"$f":"VLOOKUP(入出金tbl[[#This Row],[内　容]],科目tbl[[内　容]:[番号]],3,TRUE)","v":"収入"},"売掛金回収","摘要を記載する　218",91]
[960,"2018-02-03",{"$f":"VLOOKUP(入出金tbl[[#This Row],[内　容]],科目tbl[[内　容]:[番号]],2,TRUE)","v":"経常収支"},{"$f":"VLOOKUP(入出金tbl[[#This Row],[内　容]],科目tbl[[内　容]:[番号]],3,TRUE)","v":"収入"},"受取手形回収","摘要を記載する　399",921]
[961,"2018-02-04",{"$f":"VLOOKUP(入出金tbl[[#This Row],[内　容]],科目tbl[[内　容]:[番号]],2,TRUE)","v":"経常収支"},{"$f":"VLOOKUP(入出金tbl[[#This Row],[内　容]],科目tbl[[内　容]:[番号]],3,TRUE)","v":"収入"},"手形割引","摘要を記載する　218",91]
[962,"2018-02-04",{"$f":"VLOOKUP(入出金tbl[[#This Row],[内　容]],科目tbl[[内　容]:[番号]],2,TRUE)","v":"経常収支"},{"$f":"VLOOKUP(入出金tbl[[#This Row],[内　容]],科目tbl[[内　容]:[番号]],3,TRUE)","v":"収入"},"その他収入","摘要を記載する　514",884]
[963,"2018-02-05",{"$f":"VLOOKUP(入出金tbl[[#This Row],[内　容]],科目tbl[[内　容]:[番号]],2,TRUE)","v":"経常外収支"},{"$f":"VLOOKUP(入出金tbl[[#This Row],[内　容]],科目tbl[[内　容]:[番号]],3,TRUE)","v":"収入"},"固定資産等売却手取","摘要を記載する　461",323]
[964,"2018-02-05",{"$f":"VLOOKUP(入出金tbl[[#This Row],[内　容]],科目tbl[[内　容]:[番号]],2,TRUE)","v":"経常外収支"},{"$f":"VLOOKUP(入出金tbl[[#This Row],[内　容]],科目tbl[[内　容]:[番号]],3,TRUE)","v":"収入"},"定期預金等解約","摘要を記載する　514",884]
[965,"2018-02-06",{"$f":"VLOOKUP(入出金tbl[[#This Row],[内　容]],科目tbl[[内　容]:[番号]],2,TRUE)","v":"経常外収支"},{"$f":"VLOOKUP(入出金tbl[[#This Row],[内　容]],科目tbl[[内　容]:[番号]],3,TRUE)","v":"収入"},"その他臨時収入","摘要を記載する　461",323]
[966,"2018-02-06",{"$f":"VLOOKUP(入出金tbl[[#This Row],[内　容]],科目tbl[[内　容]:[番号]],2,TRUE)","v":"財務収支"},{"$f":"VLOOKUP(入出金tbl[[#This Row],[内　容]],科目tbl[[内　容]:[番号]],3,TRUE)","v":"収入"},"短期借入金調達","摘要を記載する　218",1100]
[967,"2018-02-07",{"$f":"VLOOKUP(入出金tbl[[#This Row],[内　容]],科目tbl[[内　容]:[番号]],2,TRUE)","v":"財務収支"},{"$f":"VLOOKUP(入出金tbl[[#This Row],[内　容]],科目tbl[[内　容]:[番号]],3,TRUE)","v":"収入"},"長期借入金調達","摘要を記載する　219",614]
[968,"2018-02-07",{"$f":"VLOOKUP(入出金tbl[[#This Row],[内　容]],科目tbl[[内　容]:[番号]],2,TRUE)","v":"財務収支"},{"$f":"VLOOKUP(入出金tbl[[#This Row],[内　容]],科目tbl[[内　容]:[番号]],3,TRUE)","v":"収入"},"社長借入金調達","摘要を記載する　218",1100]
[969,"2018-02-08",{"$f":"VLOOKUP(入出金tbl[[#This Row],[内　容]],科目tbl[[内　容]:[番号]],2,TRUE)","v":"財務収支"},{"$f":"VLOOKUP(入出金tbl[[#This Row],[内　容]],科目tbl[[内　容]:[番号]],3,TRUE)","v":"収入"},"その他調達","摘要を記載する　219",614]
[970,"2018-02-08",{"$f":"VLOOKUP(入出金tbl[[#This Row],[内　容]],科目tbl[[内　容]:[番号]],2,TRUE)","v":"経常収支"},{"$f":"VLOOKUP(入出金tbl[[#This Row],[内　容]],科目tbl[[内　容]:[番号]],3,TRUE)","v":"支出"},"現金仕入","摘要を記載する　184",129]
[971,"2018-02-09",{"$f":"VLOOKUP(入出金tbl[[#This Row],[内　容]],科目tbl[[内　容]:[番号]],2,TRUE)","v":"経常収支"},{"$f":"VLOOKUP(入出金tbl[[#This Row],[内　容]],科目tbl[[内　容]:[番号]],3,TRUE)","v":"支出"},"買掛金支払","摘要を記載する　210",1167]
[972,"2018-02-09",{"$f":"VLOOKUP(入出金tbl[[#This Row],[内　容]],科目tbl[[内　容]:[番号]],2,TRUE)","v":"経常収支"},{"$f":"VLOOKUP(入出金tbl[[#This Row],[内　容]],科目tbl[[内　容]:[番号]],3,TRUE)","v":"支出"},"手形支払","摘要を記載する　184",129]
[973,"2018-02-10",{"$f":"VLOOKUP(入出金tbl[[#This Row],[内　容]],科目tbl[[内　容]:[番号]],2,TRUE)","v":"経常収支"},{"$f":"VLOOKUP(入出金tbl[[#This Row],[内　容]],科目tbl[[内　容]:[番号]],3,TRUE)","v":"支出"},"賃金・給与現金支払","摘要を記載する　257",649]
[974,"2018-02-10",{"$f":"VLOOKUP(入出金tbl[[#This Row],[内　容]],科目tbl[[内　容]:[番号]],2,TRUE)","v":"経常収支"},{"$f":"VLOOKUP(入出金tbl[[#This Row],[内　容]],科目tbl[[内　容]:[番号]],3,TRUE)","v":"支出"},"賞与支払い","摘要を記載する　356",175]
[975,"2018-02-11",{"$f":"VLOOKUP(入出金tbl[[#This Row],[内　容]],科目tbl[[内　容]:[番号]],2,TRUE)","v":"経常収支"},{"$f":"VLOOKUP(入出金tbl[[#This Row],[内　容]],科目tbl[[内　容]:[番号]],3,TRUE)","v":"支出"},"支払利息・割引料","摘要を記載する　210",1167]
[976,"2018-02-11",{"$f":"VLOOKUP(入出金tbl[[#This Row],[内　容]],科目tbl[[内　容]:[番号]],2,TRUE)","v":"経常収支"},{"$f":"VLOOKUP(入出金tbl[[#This Row],[内　容]],科目tbl[[内　容]:[番号]],3,TRUE)","v":"支出"},"諸経費現金支払","摘要を記載する　356",175]
[977,"2018-02-12",{"$f":"VLOOKUP(入出金tbl[[#This Row],[内　容]],科目tbl[[内　容]:[番号]],2,TRUE)","v":"経常外収支"},{"$f":"VLOOKUP(入出金tbl[[#This Row],[内　容]],科目tbl[[内　容]:[番号]],3,TRUE)","v":"支出"},"税金","摘要を記載する　257",649]
[978,"2018-02-12",{"$f":"VLOOKUP(入出金tbl[[#This Row],[内　容]],科目tbl[[内　容]:[番号]],2,TRUE)","v":"経常外収支"},{"$f":"VLOOKUP(入出金tbl[[#This Row],[内　容]],科目tbl[[内　容]:[番号]],3,TRUE)","v":"支出"},"役員賞与","摘要を記載する　064",179]
[979,"2018-02-13",{"$f":"VLOOKUP(入出金tbl[[#This Row],[内　容]],科目tbl[[内　容]:[番号]],2,TRUE)","v":"経常外収支"},{"$f":"VLOOKUP(入出金tbl[[#This Row],[内　容]],科目tbl[[内　容]:[番号]],3,TRUE)","v":"支出"},"配当","摘要を記載する　083",1173]
[980,"2018-02-13",{"$f":"VLOOKUP(入出金tbl[[#This Row],[内　容]],科目tbl[[内　容]:[番号]],2,TRUE)","v":"経常外収支"},{"$f":"VLOOKUP(入出金tbl[[#This Row],[内　容]],科目tbl[[内　容]:[番号]],3,TRUE)","v":"支出"},"固定資産購入支出","摘要を記載する　064",179]
[981,"2018-02-14",{"$f":"VLOOKUP(入出金tbl[[#This Row],[内　容]],科目tbl[[内　容]:[番号]],2,TRUE)","v":"経常外収支"},{"$f":"VLOOKUP(入出金tbl[[#This Row],[内　容]],科目tbl[[内　容]:[番号]],3,TRUE)","v":"支出"},"定期預金等設定","摘要を記載する　083",1173]
[982,"2018-02-14",{"$f":"VLOOKUP(入出金tbl[[#This Row],[内　容]],科目tbl[[内　容]:[番号]],2,TRUE)","v":"経常外収支"},{"$f":"VLOOKUP(入出金tbl[[#This Row],[内　容]],科目tbl[[内　容]:[番号]],3,TRUE)","v":"支出"},"その他臨時支出","摘要を記載する　230",799]
[983,"2018-02-15",{"$f":"VLOOKUP(入出金tbl[[#This Row],[内　容]],科目tbl[[内　容]:[番号]],2,TRUE)","v":"財務収支"},{"$f":"VLOOKUP(入出金tbl[[#This Row],[内　容]],科目tbl[[内　容]:[番号]],3,TRUE)","v":"支出"},"短期借入金返済","摘要を記載する　244",988]
[984,"2018-02-15",{"$f":"VLOOKUP(入出金tbl[[#This Row],[内　容]],科目tbl[[内　容]:[番号]],2,TRUE)","v":"財務収支"},{"$f":"VLOOKUP(入出金tbl[[#This Row],[内　容]],科目tbl[[内　容]:[番号]],3,TRUE)","v":"支出"},"長期借入金返済","摘要を記載する　230",799]
[985,"2018-02-16",{"$f":"VLOOKUP(入出金tbl[[#This Row],[内　容]],科目tbl[[内　容]:[番号]],2,TRUE)","v":"財務収支"},{"$f":"VLOOKUP(入出金tbl[[#This Row],[内　容]],科目tbl[[内　容]:[番号]],3,TRUE)","v":"支出"},"社長借入金返済","摘要を記載する　180",592]
[986,"2018-02-17",{"$f":"VLOOKUP(入出金tbl[[#This Row],[内　容]],科目tbl[[内　容]:[番号]],2,TRUE)","v":"財務収支"},{"$f":"VLOOKUP(入出金tbl[[#This Row],[内　容]],科目tbl[[内　容]:[番号]],3,TRUE)","v":"支出"},"その他返済","摘要を記載する　244",988]
[987,"2018-02-18",{"$f":"VLOOKUP(入出金tbl[[#This Row],[内　容]],科目tbl[[内　容]:[番号]],2,TRUE)","v":"経常収支"},{"$f":"VLOOKUP(入出金tbl[[#This Row],[内　容]],科目tbl[[内　容]:[番号]],3,TRUE)","v":"収入"},"現金売上","摘要を記載する　180",592]
[988,"2018-02-19",{"$f":"VLOOKUP(入出金tbl[[#This Row],[内　容]],科目tbl[[内　容]:[番号]],2,TRUE)","v":"経常収支"},{"$f":"VLOOKUP(入出金tbl[[#This Row],[内　容]],科目tbl[[内　容]:[番号]],3,TRUE)","v":"収入"},"売掛金回収","摘要を記載する　475",109]
[989,"2018-02-20",{"$f":"VLOOKUP(入出金tbl[[#This Row],[内　容]],科目tbl[[内　容]:[番号]],2,TRUE)","v":"経常収支"},{"$f":"VLOOKUP(入出金tbl[[#This Row],[内　容]],科目tbl[[内　容]:[番号]],3,TRUE)","v":"収入"},"受取手形回収","摘要を記載する　475",109]
[990,"2018-02-21",{"$f":"VLOOKUP(入出金tbl[[#This Row],[内　容]],科目tbl[[内　容]:[番号]],2,TRUE)","v":"経常収支"},{"$f":"VLOOKUP(入出金tbl[[#This Row],[内　容]],科目tbl[[内　容]:[番号]],3,TRUE)","v":"収入"},"手形割引","摘要を記載する　375",1047]
[991,"2018-02-22",{"$f":"VLOOKUP(入出金tbl[[#This Row],[内　容]],科目tbl[[内　容]:[番号]],2,TRUE)","v":"経常収支"},{"$f":"VLOOKUP(入出金tbl[[#This Row],[内　容]],科目tbl[[内　容]:[番号]],3,TRUE)","v":"収入"},"その他収入","摘要を記載する　442",463]
[992,"2018-02-23",{"$f":"VLOOKUP(入出金tbl[[#This Row],[内　容]],科目tbl[[内　容]:[番号]],2,TRUE)","v":"経常外収支"},{"$f":"VLOOKUP(入出金tbl[[#This Row],[内　容]],科目tbl[[内　容]:[番号]],3,TRUE)","v":"収入"},"固定資産等売却手取","摘要を記載する　375",1047]
[993,"2018-02-24",{"$f":"VLOOKUP(入出金tbl[[#This Row],[内　容]],科目tbl[[内　容]:[番号]],2,TRUE)","v":"経常外収支"},{"$f":"VLOOKUP(入出金tbl[[#This Row],[内　容]],科目tbl[[内　容]:[番号]],3,TRUE)","v":"収入"},"定期預金等解約","摘要を記載する　442",463]
[994,"2018-02-25",{"$f":"VLOOKUP(入出金tbl[[#This Row],[内　容]],科目tbl[[内　容]:[番号]],2,TRUE)","v":"経常外収支"},{"$f":"VLOOKUP(入出金tbl[[#This Row],[内　容]],科目tbl[[内　容]:[番号]],3,TRUE)","v":"収入"},"その他臨時収入","摘要を記載する　510",508]
[995,"2018-02-26",{"$f":"VLOOKUP(入出金tbl[[#This Row],[内　容]],科目tbl[[内　容]:[番号]],2,TRUE)","v":"財務収支"},{"$f":"VLOOKUP(入出金tbl[[#This Row],[内　容]],科目tbl[[内　容]:[番号]],3,TRUE)","v":"収入"},"短期借入金調達","摘要を記載する　439",481]
[996,"2018-02-27",{"$f":"VLOOKUP(入出金tbl[[#This Row],[内　容]],科目tbl[[内　容]:[番号]],2,TRUE)","v":"財務収支"},{"$f":"VLOOKUP(入出金tbl[[#This Row],[内　容]],科目tbl[[内　容]:[番号]],3,TRUE)","v":"収入"},"長期借入金調達","摘要を記載する　510",508]
[997,"2018-02-28",{"$f":"VLOOKUP(入出金tbl[[#This Row],[内　容]],科目tbl[[内　容]:[番号]],2,TRUE)","v":"財務収支"},{"$f":"VLOOKUP(入出金tbl[[#This Row],[内　容]],科目tbl[[内　容]:[番号]],3,TRUE)","v":"収入"},"社長借入金調達","摘要を記載する　439",481]
[998,"2018-02-28",{"$f":"VLOOKUP(入出金tbl[[#This Row],[内　容]],科目tbl[[内　容]:[番号]],2,TRUE)","v":"財務収支"},{"$f":"VLOOKUP(入出金tbl[[#This Row],[内　容]],科目tbl[[内　容]:[番号]],3,TRUE)","v":"収入"},"その他調達","摘要を記載する　468",671]
[999,"2018-02-28",{"$f":"VLOOKUP(入出金tbl[[#This Row],[内　容]],科目tbl[[内　容]:[番号]],2,TRUE)","v":"経常収支"},{"$f":"VLOOKUP(入出金tbl[[#This Row],[内　容]],科目tbl[[内　容]:[番号]],3,TRUE)","v":"支出"},"現金仕入","摘要を記載する　468",671]
[1000,"2018-02-28",{"$f":"VLOOKUP(入出金tbl[[#This Row],[内　容]],科目tbl[[内　容]:[番号]],2,TRUE)","v":"経常収支"},{"$f":"VLOOKUP(入出金tbl[[#This Row],[内　容]],科目tbl[[内　容]:[番号]],3,TRUE)","v":"支出"},"買掛金支払","摘要を記載する　445",210]
[1001,"2018-03-21",{"$f":"VLOOKUP(入出金tbl[[#This Row],[内　容]],科目tbl[[内　容]:[番号]],2,TRUE)","v":"経常収支"},{"$f":"VLOOKUP(入出金tbl[[#This Row],[内　容]],科目tbl[[内　容]:[番号]],3,TRUE)","v":"収入"},"現金売上","てき",10]
[1002,"2018-03-21",{"$f":"VLOOKUP(入出金tbl[[#This Row],[内　容]],科目tbl[[内　容]:[番号]],2,TRUE)","v":"経常収支"},{"$f":"VLOOKUP(入出金tbl[[#This Row],[内　容]],科目tbl[[内　容]:[番号]],3,TRUE)","v":"収入"},"売掛金回収","てき",20]
[1003,"2018-03-21",{"$f":"VLOOKUP(入出金tbl[[#This Row],[内　容]],科目tbl[[内　容]:[番号]],2,TRUE)","v":"経常収支"},{"$f":"VLOOKUP(入出金tbl[[#This Row],[内　容]],科目tbl[[内　容]:[番号]],3,TRUE)","v":"収入"},"受取手形回収","てき",30]
[1004,"2018-03-21",{"$f":"VLOOKUP(入出金tbl[[#This Row],[内　容]],科目tbl[[内　容]:[番号]],2,TRUE)","v":"経常収支"},{"$f":"VLOOKUP(入出金tbl[[#This Row],[内　容]],科目tbl[[内　容]:[番号]],3,TRUE)","v":"収入"},"手形割引","てき",40]
[1005,"2018-03-21",{"$f":"VLOOKUP(入出金tbl[[#This Row],[内　容]],科目tbl[[内　容]:[番号]],2,TRUE)","v":"経常収支"},{"$f":"VLOOKUP(入出金tbl[[#This Row],[内　容]],科目tbl[[内　容]:[番号]],3,TRUE)","v":"収入"},"その他収入","てき",50]
[1006,"2018-03-21",{"$f":"VLOOKUP(入出金tbl[[#This Row],[内　容]],科目tbl[[内　容]:[番号]],2,TRUE)","v":"財務収支"},{"$f":"VLOOKUP(入出金tbl[[#This Row],[内　容]],科目tbl[[内　容]:[番号]],3,TRUE)","v":"支出"},"----------","てき",0]
[1007,"2018-03-21",{"$f":"VLOOKUP(入出金tbl[[#This Row],[内　容]],科目tbl[[内　容]:[番号]],2,TRUE)","v":"経常収支"},{"$f":"VLOOKUP(入出金tbl[[#This Row],[内　容]],科目tbl[[内　容]:[番号]],3,TRUE)","v":"支出"},"現金仕入","てき",70]
[1008,"2018-03-21",{"$f":"VLOOKUP(入出金tbl[[#This Row],[内　容]],科目tbl[[内　容]:[番号]],2,TRUE)","v":"経常収支"},{"$f":"VLOOKUP(入出金tbl[[#This Row],[内　容]],科目tbl[[内　容]:[番号]],3,TRUE)","v":"支出"},"買掛金支払","てき",80]
[1009,"2018-03-21",{"$f":"VLOOKUP(入出金tbl[[#This Row],[内　容]],科目tbl[[内　容]:[番号]],2,TRUE)","v":"経常収支"},{"$f":"VLOOKUP(入出金tbl[[#This Row],[内　容]],科目tbl[[内　容]:[番号]],3,TRUE)","v":"支出"},"手形支払","てき",90]
[1010,"2018-03-21",{"$f":"VLOOKUP(入出金tbl[[#This Row],[内　容]],科目tbl[[内　容]:[番号]],2,TRUE)","v":"経常収支"},{"$f":"VLOOKUP(入出金tbl[[#This Row],[内　容]],科目tbl[[内　容]:[番号]],3,TRUE)","v":"支出"},"賃金・給与現金支払","てき",100]
[1011,"2018-03-21",{"$f":"VLOOKUP(入出金tbl[[#This Row],[内　容]],科目tbl[[内　容]:[番号]],2,TRUE)","v":"経常収支"},{"$f":"VLOOKUP(入出金tbl[[#This Row],[内　容]],科目tbl[[内　容]:[番号]],3,TRUE)","v":"支出"},"賞与支払い","てき",110]
[1012,"2018-03-21",{"$f":"VLOOKUP(入出金tbl[[#This Row],[内　容]],科目tbl[[内　容]:[番号]],2,TRUE)","v":"経常収支"},{"$f":"VLOOKUP(入出金tbl[[#This Row],[内　容]],科目tbl[[内　容]:[番号]],3,TRUE)","v":"支出"},"支払利息・割引料","てき",120]
[1013,"2018-03-21",{"$f":"VLOOKUP(入出金tbl[[#This Row],[内　容]],科目tbl[[内　容]:[番号]],2,TRUE)","v":"経常収支"},{"$f":"VLOOKUP(入出金tbl[[#This Row],[内　容]],科目tbl[[内　容]:[番号]],3,TRUE)","v":"支出"},"諸経費現金支払","てき",130]
[1014,"2018-03-21",{"$f":"VLOOKUP(入出金tbl[[#This Row],[内　容]],科目tbl[[内　容]:[番号]],2,TRUE)","v":"財務収支"},{"$f":"VLOOKUP(入出金tbl[[#This Row],[内　容]],科目tbl[[内　容]:[番号]],3,TRUE)","v":"支出"},"----------","てき",0]
[1015,"2018-03-21",{"$f":"VLOOKUP(入出金tbl[[#This Row],[内　容]],科目tbl[[内　容]:[番号]],2,TRUE)","v":"経常外収支"},{"$f":"VLOOKUP(入出金tbl[[#This Row],[内　容]],科目tbl[[内　容]:[番号]],3,TRUE)","v":"収入"},"固定資産等売却手取","てき",150]
[1016,"2018-03-21",{"$f":"VLOOKUP(入出金tbl[[#This Row],[内　容]],科目tbl[[内　容]:[番号]],2,TRUE)","v":"経常外収支"},{"$f":"VLOOKUP(入出金tbl[[#This Row],[内　容]],科目tbl[[内　容]:[番号]],3,TRUE)","v":"収入"},"定期預金等解約","てき",160]
[1017,"2018-03-21",{"$f":"VLOOKUP(入出金tbl[[#This Row],[内　容]],科目tbl[[内　容]:[番号]],2,TRUE)","v":"経常外収支"},{"$f":"VLOOKUP(入出金tbl[[#This Row],[内　容]],科目tbl[[内　容]:[番号]],3,TRUE)","v":"収入"},"その他臨時収入","てき",170]
[1018,"2018-03-21",{"$f":"VLOOKUP(入出金tbl[[#This Row],[内　容]],科目tbl[[内　容]:[番号]],2,TRUE)","v":"財務収支"},{"$f":"VLOOKUP(入出金tbl[[#This Row],[内　容]],科目tbl[[内　容]:[番号]],3,TRUE)","v":"支出"},"----------","てき",0]
[1019,"2018-03-21",{"$f":"VLOOKUP(入出金tbl[[#This Row],[内　容]],科目tbl[[内　容]:[番号]],2,TRUE)","v":"経常外収支"},{"$f":"VLOOKUP(入出金tbl[[#This Row],[内　容]],科目tbl[[内　容]:[番号]],3,TRUE)","v":"支出"},"税金","てき",190]
[1020,"2018-03-21",{"$f":"VLOOKUP(入出金tbl[[#This Row],[内　容]],科目tbl[[内　容]:[番号]],2,TRUE)","v":"経常外収支"},{"$f":"VLOOKUP(入出金tbl[[#This Row],[内　容]],科目tbl[[内　容]:[番号]],3,TRUE)","v":"支出"},"役員賞与","てき",200]
[1021,"2018-03-21",{"$f":"VLOOKUP(入出金tbl[[#This Row],[内　容]],科目tbl[[内　容]:[番号]],2,TRUE)","v":"経常外収支"},{"$f":"VLOOKUP(入出金tbl[[#This Row],[内　容]],科目tbl[[内　容]:[番号]],3,TRUE)","v":"支出"},"配当","てき",210]
[1022,"2018-03-21",{"$f":"VLOOKUP(入出金tbl[[#This Row],[内　容]],科目tbl[[内　容]:[番号]],2,TRUE)","v":"経常外収支"},{"$f":"VLOOKUP(入出金tbl[[#This Row],[内　容]],科目tbl[[内　容]:[番号]],3,TRUE)","v":"支出"},"固定資産購入支出","てき",220]
[1023,"2018-03-21",{"$f":"VLOOKUP(入出金tbl[[#This Row],[内　容]],科目tbl[[内　容]:[番号]],2,TRUE)","v":"経常外収支"},{"$f":"VLOOKUP(入出金tbl[[#This Row],[内　容]],科目tbl[[内　容]:[番号]],3,TRUE)","v":"支出"},"定期預金等設定","てき",230]
[1024,"2018-03-21",{"$f":"VLOOKUP(入出金tbl[[#This Row],[内　容]],科目tbl[[内　容]:[番号]],2,TRUE)","v":"経常外収支"},{"$f":"VLOOKUP(入出金tbl[[#This Row],[内　容]],科目tbl[[内　容]:[番号]],3,TRUE)","v":"支出"},"その他臨時支出","てき",240]
[1025,"2018-03-21",{"$f":"VLOOKUP(入出金tbl[[#This Row],[内　容]],科目tbl[[内　容]:[番号]],2,TRUE)","v":"経常外収支"},{"$f":"VLOOKUP(入出金tbl[[#This Row],[内　容]],科目tbl[[内　容]:[番号]],3,TRUE)","v":"支出"},"テスト4","てき",250]
[1026,"2018-03-21",{"$f":"VLOOKUP(入出金tbl[[#This Row],[内　容]],科目tbl[[内　容]:[番号]],2,TRUE)","v":"財務収支"},{"$f":"VLOOKUP(入出金tbl[[#This Row],[内　容]],科目tbl[[内　容]:[番号]],3,TRUE)","v":"収入"},"短期借入金調達","てき",260]
[1027,"2018-03-21",{"$f":"VLOOKUP(入出金tbl[[#This Row],[内　容]],科目tbl[[内　容]:[番号]],2,TRUE)","v":"財務収支"},{"$f":"VLOOKUP(入出金tbl[[#This Row],[内　容]],科目tbl[[内　容]:[番号]],3,TRUE)","v":"収入"},"長期借入金調達","てき",270]
[1028,"2018-03-21",{"$f":"VLOOKUP(入出金tbl[[#This Row],[内　容]],科目tbl[[内　容]:[番号]],2,TRUE)","v":"財務収支"},{"$f":"VLOOKUP(入出金tbl[[#This Row],[内　容]],科目tbl[[内　容]:[番号]],3,TRUE)","v":"収入"},"社長借入金調達","てき",280]
[1029,"2018-03-21",{"$f":"VLOOKUP(入出金tbl[[#This Row],[内　容]],科目tbl[[内　容]:[番号]],2,TRUE)","v":"財務収支"},{"$f":"VLOOKUP(入出金tbl[[#This Row],[内　容]],科目tbl[[内　容]:[番号]],3,TRUE)","v":"支出"},"----------","てき",0]
[1030,"2018-03-21",{"$f":"VLOOKUP(入出金tbl[[#This Row],[内　容]],科目tbl[[内　容]:[番号]],2,TRUE)","v":"財務収支"},{"$f":"VLOOKUP(入出金tbl[[#This Row],[内　容]],科目tbl[[内　容]:[番号]],3,TRUE)","v":"支出"},"短期借入金返済","てき",310]
[1031,"2018-03-21",{"$f":"VLOOKUP(入出金tbl[[#This Row],[内　容]],科目tbl[[内　容]:[番号]],2,TRUE)","v":"財務収支"},{"$f":"VLOOKUP(入出金tbl[[#This Row],[内　容]],科目tbl[[内　容]:[番号]],3,TRUE)","v":"支出"},"長期借入金返済","てき",320]
[1032,"2018-03-21",{"$f":"VLOOKUP(入出金tbl[[#This Row],[内　容]],科目tbl[[内　容]:[番号]],2,TRUE)","v":"財務収支"},{"$f":"VLOOKUP(入出金tbl[[#This Row],[内　容]],科目tbl[[内　容]:[番号]],3,TRUE)","v":"支出"},"社長借入金返済","てき",330]
[1033,"2018-03-21",{"$f":"VLOOKUP(入出金tbl[[#This Row],[内　容]],科目tbl[[内　容]:[番号]],2,TRUE)","v":"財務収支"},{"$f":"VLOOKUP(入出金tbl[[#This Row],[内　容]],科目tbl[[内　容]:[番号]],3,TRUE)","v":"支出"},"その他返済","てき",340]
[1034,"2018-03-21",{"$f":"VLOOKUP(入出金tbl[[#This Row],[内　容]],科目tbl[[内　容]:[番号]],2,TRUE)","v":"財務収支"},{"$f":"VLOOKUP(入出金tbl[[#This Row],[内　容]],科目tbl[[内　容]:[番号]],3,TRUE)","v":"支出"},"----------","てき",0]
[1035,"2018-03-22",{"$f":"VLOOKUP(入出金tbl[[#This Row],[内　容]],科目tbl[[内　容]:[番号]],2,TRUE)","v":"経常収支"},{"$f":"VLOOKUP(入出金tbl[[#This Row],[内　容]],科目tbl[[内　容]:[番号]],3,TRUE)","v":"収入"},"現金売上","摘要",10]
[1036,"2018-03-22",{"$f":"VLOOKUP(入出金tbl[[#This Row],[内　容]],科目tbl[[内　容]:[番号]],2,TRUE)","v":"経常収支"},{"$f":"VLOOKUP(入出金tbl[[#This Row],[内　容]],科目tbl[[内　容]:[番号]],3,TRUE)","v":"収入"},"売掛金回収","摘要",20]
[1037,"2018-03-22",{"$f":"VLOOKUP(入出金tbl[[#This Row],[内　容]],科目tbl[[内　容]:[番号]],2,TRUE)","v":"経常収支"},{"$f":"VLOOKUP(入出金tbl[[#This Row],[内　容]],科目tbl[[内　容]:[番号]],3,TRUE)","v":"収入"},"受取手形回収","てき",30]
[1038,"2018-03-22",{"$f":"VLOOKUP(入出金tbl[[#This Row],[内　容]],科目tbl[[内　容]:[番号]],2,TRUE)","v":"経常収支"},{"$f":"VLOOKUP(入出金tbl[[#This Row],[内　容]],科目tbl[[内　容]:[番号]],3,TRUE)","v":"収入"},"手形割引","てき",40]
[1039,"2018-03-22",{"$f":"VLOOKUP(入出金tbl[[#This Row],[内　容]],科目tbl[[内　容]:[番号]],2,TRUE)","v":"経常収支"},{"$f":"VLOOKUP(入出金tbl[[#This Row],[内　容]],科目tbl[[内　容]:[番号]],3,TRUE)","v":"収入"},"その他収入","てき",50]
[1040,"2018-03-22",{"$f":"VLOOKUP(入出金tbl[[#This Row],[内　容]],科目tbl[[内　容]:[番号]],2,TRUE)","v":"財務収支"},{"$f":"VLOOKUP(入出金tbl[[#This Row],[内　容]],科目tbl[[内　容]:[番号]],3,TRUE)","v":"支出"},"----------","てき",0]
[1041,"2018-03-22",{"$f":"VLOOKUP(入出金tbl[[#This Row],[内　容]],科目tbl[[内　容]:[番号]],2,TRUE)","v":"経常収支"},{"$f":"VLOOKUP(入出金tbl[[#This Row],[内　容]],科目tbl[[内　容]:[番号]],3,TRUE)","v":"支出"},"現金仕入","てき",70]
[1042,"2018-03-22",{"$f":"VLOOKUP(入出金tbl[[#This Row],[内　容]],科目tbl[[内　容]:[番号]],2,TRUE)","v":"経常収支"},{"$f":"VLOOKUP(入出金tbl[[#This Row],[内　容]],科目tbl[[内　容]:[番号]],3,TRUE)","v":"支出"},"買掛金支払","てき",80]
[1043,"2018-03-22",{"$f":"VLOOKUP(入出金tbl[[#This Row],[内　容]],科目tbl[[内　容]:[番号]],2,TRUE)","v":"経常収支"},{"$f":"VLOOKUP(入出金tbl[[#This Row],[内　容]],科目tbl[[内　容]:[番号]],3,TRUE)","v":"支出"},"手形支払","てき",90]
[1044,"2018-03-22",{"$f":"VLOOKUP(入出金tbl[[#This Row],[内　容]],科目tbl[[内　容]:[番号]],2,TRUE)","v":"経常収支"},{"$f":"VLOOKUP(入出金tbl[[#This Row],[内　容]],科目tbl[[内　容]:[番号]],3,TRUE)","v":"支出"},"賃金・給与現金支払","てき",100]
[1045,"2018-03-22",{"$f":"VLOOKUP(入出金tbl[[#This Row],[内　容]],科目tbl[[内　容]:[番号]],2,TRUE)","v":"経常収支"},{"$f":"VLOOKUP(入出金tbl[[#This Row],[内　容]],科目tbl[[内　容]:[番号]],3,TRUE)","v":"支出"},"賞与支払い","てき",110]
[1046,"2018-03-22",{"$f":"VLOOKUP(入出金tbl[[#This Row],[内　容]],科目tbl[[内　容]:[番号]],2,TRUE)","v":"経常収支"},{"$f":"VLOOKUP(入出金tbl[[#This Row],[内　容]],科目tbl[[内　容]:[番号]],3,TRUE)","v":"支出"},"支払利息・割引料","てき",120]
[1047,"2018-03-22",{"$f":"VLOOKUP(入出金tbl[[#This Row],[内　容]],科目tbl[[内　容]:[番号]],2,TRUE)","v":"経常収支"},{"$f":"VLOOKUP(入出金tbl[[#This Row],[内　容]],科目tbl[[内　容]:[番号]],3,TRUE)","v":"支出"},"諸経費現金支払","てき",130]
[1048,"2018-03-22",{"$f":"VLOOKUP(入出金tbl[[#This Row],[内　容]],科目tbl[[内　容]:[番号]],2,TRUE)","v":"財務収支"},{"$f":"VLOOKUP(入出金tbl[[#This Row],[内　容]],科目tbl[[内　容]:[番号]],3,TRUE)","v":"支出"},"----------","てき",0]
[1049,"2018-03-22",{"$f":"VLOOKUP(入出金tbl[[#This Row],[内　容]],科目tbl[[内　容]:[番号]],2,TRUE)","v":"経常外収支"},{"$f":"VLOOKUP(入出金tbl[[#This Row],[内　容]],科目tbl[[内　容]:[番号]],3,TRUE)","v":"収入"},"固定資産等売却手取","てき",150]
[1050,"2018-03-22",{"$f":"VLOOKUP(入出金tbl[[#This Row],[内　容]],科目tbl[[内　容]:[番号]],2,TRUE)","v":"経常外収支"},{"$f":"VLOOKUP(入出金tbl[[#This Row],[内　容]],科目tbl[[内　容]:[番号]],3,TRUE)","v":"収入"},"定期預金等解約","てき",160]
[1051,"2018-03-22",{"$f":"VLOOKUP(入出金tbl[[#This Row],[内　容]],科目tbl[[内　容]:[番号]],2,TRUE)","v":"経常外収支"},{"$f":"VLOOKUP(入出金tbl[[#This Row],[内　容]],科目tbl[[内　容]:[番号]],3,TRUE)","v":"収入"},"その他臨時収入","てき",170]
[1052,"2018-03-22",{"$f":"VLOOKUP(入出金tbl[[#This Row],[内　容]],科目tbl[[内　容]:[番号]],2,TRUE)","v":"財務収支"},{"$f":"VLOOKUP(入出金tbl[[#This Row],[内　容]],科目tbl[[内　容]:[番号]],3,TRUE)","v":"支出"},"----------","てき",0]
[1053,"2018-03-22",{"$f":"VLOOKUP(入出金tbl[[#This Row],[内　容]],科目tbl[[内　容]:[番号]],2,TRUE)","v":"経常外収支"},{"$f":"VLOOKUP(入出金tbl[[#This Row],[内　容]],科目tbl[[内　容]:[番号]],3,TRUE)","v":"支出"},"税金","てき",190]
[1054,"2018-03-22",{"$f":"VLOOKUP(入出金tbl[[#This Row],[内　容]],科目tbl[[内　容]:[番号]],2,TRUE)","v":"経常外収支"},{"$f":"VLOOKUP(入出金tbl[[#This Row],[内　容]],科目tbl[[内　容]:[番号]],3,TRUE)","v":"支出"},"役員賞与","てき",200]
[1055,"2018-03-22",{"$f":"VLOOKUP(入出金tbl[[#This Row],[内　容]],科目tbl[[内　容]:[番号]],2,TRUE)","v":"経常外収支"},{"$f":"VLOOKUP(入出金tbl[[#This Row],[内　容]],科目tbl[[内　容]:[番号]],3,TRUE)","v":"支出"},"配当","てき",210]
[1056,"2018-03-22",{"$f":"VLOOKUP(入出金tbl[[#This Row],[内　容]],科目tbl[[内　容]:[番号]],2,TRUE)","v":"経常外収支"},{"$f":"VLOOKUP(入出金tbl[[#This Row],[内　容]],科目tbl[[内　容]:[番号]],3,TRUE)","v":"支出"},"固定資産購入支出","てき",220]
[1057,"2018-03-22",{"$f":"VLOOKUP(入出金tbl[[#This Row],[内　容]],科目tbl[[内　容]:[番号]],2,TRUE)","v":"経常外収支"},{"$f":"VLOOKUP(入出金tbl[[#This Row],[内　容]],科目tbl[[内　容]:[番号]],3,TRUE)","v":"支出"},"定期預金等設定","てき",230]
[1058,"2018-03-22",{"$f":"VLOOKUP(入出金tbl[[#This Row],[内　容]],科目tbl[[内　容]:[番号]],2,TRUE)","v":"経常外収支"},{"$f":"VLOOKUP(入出金tbl[[#This Row],[内　容]],科目tbl[[内　容]:[番号]],3,TRUE)","v":"支出"},"その他臨時支出","てき",240]
[1059,"2018-03-22",{"$f":"VLOOKUP(入出金tbl[[#This Row],[内　容]],科目tbl[[内　容]:[番号]],2,TRUE)","v":"経常外収支"},{"$f":"VLOOKUP(入出金tbl[[#This Row],[内　容]],科目tbl[[内　容]:[番号]],3,TRUE)","v":"支出"},"テスト4","てき",250]
[1060,"2018-03-22",{"$f":"VLOOKUP(入出金tbl[[#This Row],[内　容]],科目tbl[[内　容]:[番号]],2,TRUE)","v":"財務収支"},{"$f":"VLOOKUP(入出金tbl[[#This Row],[内　容]],科目tbl[[内　容]:[番号]],3,TRUE)","v":"収入"},"短期借入金調達","てき",260]
[1061,"2018-03-22",{"$f":"VLOOKUP(入出金tbl[[#This Row],[内　容]],科目tbl[[内　容]:[番号]],2,TRUE)","v":"財務収支"},{"$f":"VLOOKUP(入出金tbl[[#This Row],[内　容]],科目tbl[[内　容]:[番号]],3,TRUE)","v":"収入"},"長期借入金調達","てき",270]
[1062,"2018-03-22",{"$f":"VLOOKUP(入出金tbl[[#This Row],[内　容]],科目tbl[[内　容]:[番号]],2,TRUE)","v":"財務収支"},{"$f":"VLOOKUP(入出金tbl[[#This Row],[内　容]],科目tbl[[内　容]:[番号]],3,TRUE)","v":"収入"},"社長借入金調達","てき",280]
[1063,"2018-03-22",{"$f":"VLOOKUP(入出金tbl[[#This Row],[内　容]],科目tbl[[内　容]:[番号]],2,TRUE)","v":"財務収支"},{"$f":"VLOOKUP(入出金tbl[[#This Row],[内　容]],科目tbl[[内　容]:[番号]],3,TRUE)","v":"支出"},"----------","てき",0]
[1064,"2018-03-22",{"$f":"VLOOKUP(入出金tbl[[#This Row],[内　容]],科目tbl[[内　容]:[番号]],2,TRUE)","v":"財務収支"},{"$f":"VLOOKUP(入出金tbl[[#This Row],[内　容]],科目tbl[[内　容]:[番号]],3,TRUE)","v":"支出"},"短期借入金返済","てき",310]
[1065,"2018-03-22",{"$f":"VLOOKUP(入出金tbl[[#This Row],[内　容]],科目tbl[[内　容]:[番号]],2,TRUE)","v":"財務収支"},{"$f":"VLOOKUP(入出金tbl[[#This Row],[内　容]],科目tbl[[内　容]:[番号]],3,TRUE)","v":"支出"},"長期借入金返済","てき",320]
[1066,"2018-03-22",{"$f":"VLOOKUP(入出金tbl[[#This Row],[内　容]],科目tbl[[内　容]:[番号]],2,TRUE)","v":"財務収支"},{"$f":"VLOOKUP(入出金tbl[[#This Row],[内　容]],科目tbl[[内　容]:[番号]],3,TRUE)","v":"支出"},"社長借入金返済","てき",330]
[1067,"2018-03-22",{"$f":"VLOOKUP(入出金tbl[[#This Row],[内　容]],科目tbl[[内　容]:[番号]],2,TRUE)","v":"財務収支"},{"$f":"VLOOKUP(入出金tbl[[#This Row],[内　容]],科目tbl[[内　容]:[番号]],3,TRUE)","v":"支出"},"その他返済","てき",340]
[1068,"2018-03-22",{"$f":"VLOOKUP(入出金tbl[[#This Row],[内　容]],科目tbl[[内　容]:[番号]],2,TRUE)","v":"財務収支"},{"$f":"VLOOKUP(入出金tbl[[#This Row],[内　容]],科目tbl[[内　容]:[番号]],3,TRUE)","v":"支出"},"----------","てき",0]
[1069,"2018-03-23",{"$f":"VLOOKUP(入出金tbl[[#This Row],[内　容]],科目tbl[[内　容]:[番号]],2,TRUE)","v":"経常収支"},{"$f":"VLOOKUP(入出金tbl[[#This Row],[内　容]],科目tbl[[内　容]:[番号]],3,TRUE)","v":"収入"},"現金売上","摘要",10]
[1070,"2018-03-23",{"$f":"VLOOKUP(入出金tbl[[#This Row],[内　容]],科目tbl[[内　容]:[番号]],2,TRUE)","v":"経常収支"},{"$f":"VLOOKUP(入出金tbl[[#This Row],[内　容]],科目tbl[[内　容]:[番号]],3,TRUE)","v":"収入"},"売掛金回収","摘要",20]
[1071,"2018-03-23",{"$f":"VLOOKUP(入出金tbl[[#This Row],[内　容]],科目tbl[[内　容]:[番号]],2,TRUE)","v":"経常収支"},{"$f":"VLOOKUP(入出金tbl[[#This Row],[内　容]],科目tbl[[内　容]:[番号]],3,TRUE)","v":"収入"},"受取手形回収","てき",30]
[1072,"2018-03-23",{"$f":"VLOOKUP(入出金tbl[[#This Row],[内　容]],科目tbl[[内　容]:[番号]],2,TRUE)","v":"経常収支"},{"$f":"VLOOKUP(入出金tbl[[#This Row],[内　容]],科目tbl[[内　容]:[番号]],3,TRUE)","v":"収入"},"手形割引","てき",40]
[1073,"2018-03-23",{"$f":"VLOOKUP(入出金tbl[[#This Row],[内　容]],科目tbl[[内　容]:[番号]],2,TRUE)","v":"経常収支"},{"$f":"VLOOKUP(入出金tbl[[#This Row],[内　容]],科目tbl[[内　容]:[番号]],3,TRUE)","v":"収入"},"その他収入","てき",50]
[1074,"2018-03-23",{"$f":"VLOOKUP(入出金tbl[[#This Row],[内　容]],科目tbl[[内　容]:[番号]],2,TRUE)","v":"財務収支"},{"$f":"VLOOKUP(入出金tbl[[#This Row],[内　容]],科目tbl[[内　容]:[番号]],3,TRUE)","v":"支出"},"----------","てき",0]
[1075,"2018-03-23",{"$f":"VLOOKUP(入出金tbl[[#This Row],[内　容]],科目tbl[[内　容]:[番号]],2,TRUE)","v":"経常収支"},{"$f":"VLOOKUP(入出金tbl[[#This Row],[内　容]],科目tbl[[内　容]:[番号]],3,TRUE)","v":"支出"},"現金仕入","てき",70]
[1076,"2018-03-23",{"$f":"VLOOKUP(入出金tbl[[#This Row],[内　容]],科目tbl[[内　容]:[番号]],2,TRUE)","v":"経常収支"},{"$f":"VLOOKUP(入出金tbl[[#This Row],[内　容]],科目tbl[[内　容]:[番号]],3,TRUE)","v":"支出"},"買掛金支払","てき",80]
[1077,"2018-03-23",{"$f":"VLOOKUP(入出金tbl[[#This Row],[内　容]],科目tbl[[内　容]:[番号]],2,TRUE)","v":"経常収支"},{"$f":"VLOOKUP(入出金tbl[[#This Row],[内　容]],科目tbl[[内　容]:[番号]],3,TRUE)","v":"支出"},"手形支払","てき",90]
[1078,"2018-03-23",{"$f":"VLOOKUP(入出金tbl[[#This Row],[内　容]],科目tbl[[内　容]:[番号]],2,TRUE)","v":"経常収支"},{"$f":"VLOOKUP(入出金tbl[[#This Row],[内　容]],科目tbl[[内　容]:[番号]],3,TRUE)","v":"支出"},"賃金・給与現金支払","てき",100]
[1079,"2018-03-23",{"$f":"VLOOKUP(入出金tbl[[#This Row],[内　容]],科目tbl[[内　容]:[番号]],2,TRUE)","v":"経常収支"},{"$f":"VLOOKUP(入出金tbl[[#This Row],[内　容]],科目tbl[[内　容]:[番号]],3,TRUE)","v":"支出"},"賞与支払い","てき",110]
[1080,"2018-03-23",{"$f":"VLOOKUP(入出金tbl[[#This Row],[内　容]],科目tbl[[内　容]:[番号]],2,TRUE)","v":"経常収支"},{"$f":"VLOOKUP(入出金tbl[[#This Row],[内　容]],科目tbl[[内　容]:[番号]],3,TRUE)","v":"支出"},"支払利息・割引料","てき",120]
[1081,"2018-03-23",{"$f":"VLOOKUP(入出金tbl[[#This Row],[内　容]],科目tbl[[内　容]:[番号]],2,TRUE)","v":"経常収支"},{"$f":"VLOOKUP(入出金tbl[[#This Row],[内　容]],科目tbl[[内　容]:[番号]],3,TRUE)","v":"支出"},"諸経費現金支払","てき",130]
[1082,"2018-03-23",{"$f":"VLOOKUP(入出金tbl[[#This Row],[内　容]],科目tbl[[内　容]:[番号]],2,TRUE)","v":"財務収支"},{"$f":"VLOOKUP(入出金tbl[[#This Row],[内　容]],科目tbl[[内　容]:[番号]],3,TRUE)","v":"支出"},"----------","てき",0]
[1083,"2018-03-23",{"$f":"VLOOKUP(入出金tbl[[#This Row],[内　容]],科目tbl[[内　容]:[番号]],2,TRUE)","v":"経常外収支"},{"$f":"VLOOKUP(入出金tbl[[#This Row],[内　容]],科目tbl[[内　容]:[番号]],3,TRUE)","v":"収入"},"固定資産等売却手取","てき",150]
[1084,"2018-03-23",{"$f":"VLOOKUP(入出金tbl[[#This Row],[内　容]],科目tbl[[内　容]:[番号]],2,TRUE)","v":"経常外収支"},{"$f":"VLOOKUP(入出金tbl[[#This Row],[内　容]],科目tbl[[内　容]:[番号]],3,TRUE)","v":"収入"},"定期預金等解約","てき",160]
[1085,"2018-03-23",{"$f":"VLOOKUP(入出金tbl[[#This Row],[内　容]],科目tbl[[内　容]:[番号]],2,TRUE)","v":"経常外収支"},{"$f":"VLOOKUP(入出金tbl[[#This Row],[内　容]],科目tbl[[内　容]:[番号]],3,TRUE)","v":"収入"},"その他臨時収入","てき",170]
[1086,"2018-03-23",{"$f":"VLOOKUP(入出金tbl[[#This Row],[内　容]],科目tbl[[内　容]:[番号]],2,TRUE)","v":"財務収支"},{"$f":"VLOOKUP(入出金tbl[[#This Row],[内　容]],科目tbl[[内　容]:[番号]],3,TRUE)","v":"支出"},"----------","てき",0]
[1087,"2018-03-23",{"$f":"VLOOKUP(入出金tbl[[#This Row],[内　容]],科目tbl[[内　容]:[番号]],2,TRUE)","v":"経常外収支"},{"$f":"VLOOKUP(入出金tbl[[#This Row],[内　容]],科目tbl[[内　容]:[番号]],3,TRUE)","v":"支出"},"税金","てき",190]
[1088,"2018-03-23",{"$f":"VLOOKUP(入出金tbl[[#This Row],[内　容]],科目tbl[[内　容]:[番号]],2,TRUE)","v":"経常外収支"},{"$f":"VLOOKUP(入出金tbl[[#This Row],[内　容]],科目tbl[[内　容]:[番号]],3,TRUE)","v":"支出"},"役員賞与","てき",200]
[1089,"2018-03-23",{"$f":"VLOOKUP(入出金tbl[[#This Row],[内　容]],科目tbl[[内　容]:[番号]],2,TRUE)","v":"経常外収支"},{"$f":"VLOOKUP(入出金tbl[[#This Row],[内　容]],科目tbl[[内　容]:[番号]],3,TRUE)","v":"支出"},"配当","てき",210]
[1090,"2018-03-23",{"$f":"VLOOKUP(入出金tbl[[#This Row],[内　容]],科目tbl[[内　容]:[番号]],2,TRUE)","v":"経常外収支"},{"$f":"VLOOKUP(入出金tbl[[#This Row],[内　容]],科目tbl[[内　容]:[番号]],3,TRUE)","v":"支出"},"固定資産購入支出","てき",220]
[1091,"2018-03-23",{"$f":"VLOOKUP(入出金tbl[[#This Row],[内　容]],科目tbl[[内　容]:[番号]],2,TRUE)","v":"経常外収支"},{"$f":"VLOOKUP(入出金tbl[[#This Row],[内　容]],科目tbl[[内　容]:[番号]],3,TRUE)","v":"支出"},"定期預金等設定","てき",230]
[1092,"2018-03-23",{"$f":"VLOOKUP(入出金tbl[[#This Row],[内　容]],科目tbl[[内　容]:[番号]],2,TRUE)","v":"経常外収支"},{"$f":"VLOOKUP(入出金tbl[[#This Row],[内　容]],科目tbl[[内　容]:[番号]],3,TRUE)","v":"支出"},"その他臨時支出","てき",240]
[1093,"2018-03-23",{"$f":"VLOOKUP(入出金tbl[[#This Row],[内　容]],科目tbl[[内　容]:[番号]],2,TRUE)","v":"経常外収支"},{"$f":"VLOOKUP(入出金tbl[[#This Row],[内　容]],科目tbl[[内　容]:[番号]],3,TRUE)","v":"支出"},"テスト4","てき",250]
[1094,"2018-03-23",{"$f":"VLOOKUP(入出金tbl[[#This Row],[内　容]],科目tbl[[内　容]:[番号]],2,TRUE)","v":"財務収支"},{"$f":"VLOOKUP(入出金tbl[[#This Row],[内　容]],科目tbl[[内　容]:[番号]],3,TRUE)","v":"収入"},"短期借入金調達","てき",260]
[1095,"2018-03-23",{"$f":"VLOOKUP(入出金tbl[[#This Row],[内　容]],科目tbl[[内　容]:[番号]],2,TRUE)","v":"財務収支"},{"$f":"VLOOKUP(入出金tbl[[#This Row],[内　容]],科目tbl[[内　容]:[番号]],3,TRUE)","v":"収入"},"長期借入金調達","てき",270]
[1096,"2018-03-23",{"$f":"VLOOKUP(入出金tbl[[#This Row],[内　容]],科目tbl[[内　容]:[番号]],2,TRUE)","v":"財務収支"},{"$f":"VLOOKUP(入出金tbl[[#This Row],[内　容]],科目tbl[[内　容]:[番号]],3,TRUE)","v":"収入"},"社長借入金調達","てき",280]
[1097,"2018-03-23",{"$f":"VLOOKUP(入出金tbl[[#This Row],[内　容]],科目tbl[[内　容]:[番号]],2,TRUE)","v":"財務収支"},{"$f":"VLOOKUP(入出金tbl[[#This Row],[内　容]],科目tbl[[内　容]:[番号]],3,TRUE)","v":"支出"},"----------","てき",0]
[1098,"2018-03-23",{"$f":"VLOOKUP(入出金tbl[[#This Row],[内　容]],科目tbl[[内　容]:[番号]],2,TRUE)","v":"財務収支"},{"$f":"VLOOKUP(入出金tbl[[#This Row],[内　容]],科目tbl[[内　容]:[番号]],3,TRUE)","v":"支出"},"短期借入金返済","てき",310]
[1099,"2018-03-23",{"$f":"VLOOKUP(入出金tbl[[#This Row],[内　容]],科目tbl[[内　容]:[番号]],2,TRUE)","v":"財務収支"},{"$f":"VLOOKUP(入出金tbl[[#This Row],[内　容]],科目tbl[[内　容]:[番号]],3,TRUE)","v":"支出"},"長期借入金返済","てき",320]
[1100,"2018-03-23",{"$f":"VLOOKUP(入出金tbl[[#This Row],[内　容]],科目tbl[[内　容]:[番号]],2,TRUE)","v":"財務収支"},{"$f":"VLOOKUP(入出金tbl[[#This Row],[内　容]],科目tbl[[内　容]:[番号]],3,TRUE)","v":"支出"},"社長借入金返済","てき",330]
[1101,"2018-03-23",{"$f":"VLOOKUP(入出金tbl[[#This Row],[内　容]],科目tbl[[内　容]:[番号]],2,TRUE)","v":"財務収支"},{"$f":"VLOOKUP(入出金tbl[[#This Row],[内　容]],科目tbl[[内　容]:[番号]],3,TRUE)","v":"支出"},"その他返済","てき",340]
[1102,"2018-03-23",{"$f":"VLOOKUP(入出金tbl[[#This Row],[内　容]],科目tbl[[内　容]:[番号]],2,TRUE)","v":"財務収支"},{"$f":"VLOOKUP(入出金tbl[[#This Row],[内　容]],科目tbl[[内　容]:[番号]],3,TRUE)","v":"支出"},"----------","てき",0]
[1103,"2018-03-24",{"$f":"VLOOKUP(入出金tbl[[#This Row],[内　容]],科目tbl[[内　容]:[番号]],2,TRUE)","v":"経常収支"},{"$f":"VLOOKUP(入出金tbl[[#This Row],[内　容]],科目tbl[[内　容]:[番号]],3,TRUE)","v":"収入"},"現金売上","摘要",10]
[1104,"2018-03-24",{"$f":"VLOOKUP(入出金tbl[[#This Row],[内　容]],科目tbl[[内　容]:[番号]],2,TRUE)","v":"経常収支"},{"$f":"VLOOKUP(入出金tbl[[#This Row],[内　容]],科目tbl[[内　容]:[番号]],3,TRUE)","v":"収入"},"売掛金回収","摘要",20]
[1105,"2018-03-24",{"$f":"VLOOKUP(入出金tbl[[#This Row],[内　容]],科目tbl[[内　容]:[番号]],2,TRUE)","v":"経常収支"},{"$f":"VLOOKUP(入出金tbl[[#This Row],[内　容]],科目tbl[[内　容]:[番号]],3,TRUE)","v":"収入"},"受取手形回収","てき",30]
[1106,"2018-03-24",{"$f":"VLOOKUP(入出金tbl[[#This Row],[内　容]],科目tbl[[内　容]:[番号]],2,TRUE)","v":"経常収支"},{"$f":"VLOOKUP(入出金tbl[[#This Row],[内　容]],科目tbl[[内　容]:[番号]],3,TRUE)","v":"収入"},"手形割引","てき",40]
[1107,"2018-03-24",{"$f":"VLOOKUP(入出金tbl[[#This Row],[内　容]],科目tbl[[内　容]:[番号]],2,TRUE)","v":"経常収支"},{"$f":"VLOOKUP(入出金tbl[[#This Row],[内　容]],科目tbl[[内　容]:[番号]],3,TRUE)","v":"収入"},"その他収入","てき",50]
[1108,"2018-03-24",{"$f":"VLOOKUP(入出金tbl[[#This Row],[内　容]],科目tbl[[内　容]:[番号]],2,TRUE)","v":"財務収支"},{"$f":"VLOOKUP(入出金tbl[[#This Row],[内　容]],科目tbl[[内　容]:[番号]],3,TRUE)","v":"支出"},"----------","てき",0]
[1109,"2018-03-24",{"$f":"VLOOKUP(入出金tbl[[#This Row],[内　容]],科目tbl[[内　容]:[番号]],2,TRUE)","v":"経常収支"},{"$f":"VLOOKUP(入出金tbl[[#This Row],[内　容]],科目tbl[[内　容]:[番号]],3,TRUE)","v":"支出"},"現金仕入","てき",70]
[1110,"2018-03-24",{"$f":"VLOOKUP(入出金tbl[[#This Row],[内　容]],科目tbl[[内　容]:[番号]],2,TRUE)","v":"経常収支"},{"$f":"VLOOKUP(入出金tbl[[#This Row],[内　容]],科目tbl[[内　容]:[番号]],3,TRUE)","v":"支出"},"買掛金支払","てき",80]
[1111,"2018-03-24",{"$f":"VLOOKUP(入出金tbl[[#This Row],[内　容]],科目tbl[[内　容]:[番号]],2,TRUE)","v":"経常収支"},{"$f":"VLOOKUP(入出金tbl[[#This Row],[内　容]],科目tbl[[内　容]:[番号]],3,TRUE)","v":"支出"},"手形支払","てき",90]
[1112,"2018-03-24",{"$f":"VLOOKUP(入出金tbl[[#This Row],[内　容]],科目tbl[[内　容]:[番号]],2,TRUE)","v":"経常収支"},{"$f":"VLOOKUP(入出金tbl[[#This Row],[内　容]],科目tbl[[内　容]:[番号]],3,TRUE)","v":"支出"},"賃金・給与現金支払","てき",100]
[1113,"2018-03-24",{"$f":"VLOOKUP(入出金tbl[[#This Row],[内　容]],科目tbl[[内　容]:[番号]],2,TRUE)","v":"経常収支"},{"$f":"VLOOKUP(入出金tbl[[#This Row],[内　容]],科目tbl[[内　容]:[番号]],3,TRUE)","v":"支出"},"賞与支払い","てき",110]
[1114,"2018-03-24",{"$f":"VLOOKUP(入出金tbl[[#This Row],[内　容]],科目tbl[[内　容]:[番号]],2,TRUE)","v":"経常収支"},{"$f":"VLOOKUP(入出金tbl[[#This Row],[内　容]],科目tbl[[内　容]:[番号]],3,TRUE)","v":"支出"},"支払利息・割引料","てき",120]
[1115,"2018-03-24",{"$f":"VLOOKUP(入出金tbl[[#This Row],[内　容]],科目tbl[[内　容]:[番号]],2,TRUE)","v":"経常収支"},{"$f":"VLOOKUP(入出金tbl[[#This Row],[内　容]],科目tbl[[内　容]:[番号]],3,TRUE)","v":"支出"},"諸経費現金支払","てき",130]
[1116,"2018-03-24",{"$f":"VLOOKUP(入出金tbl[[#This Row],[内　容]],科目tbl[[内　容]:[番号]],2,TRUE)","v":"財務収支"},{"$f":"VLOOKUP(入出金tbl[[#This Row],[内　容]],科目tbl[[内　容]:[番号]],3,TRUE)","v":"支出"},"----------","てき",0]
[1117,"2018-03-24",{"$f":"VLOOKUP(入出金tbl[[#This Row],[内　容]],科目tbl[[内　容]:[番号]],2,TRUE)","v":"経常外収支"},{"$f":"VLOOKUP(入出金tbl[[#This Row],[内　容]],科目tbl[[内　容]:[番号]],3,TRUE)","v":"収入"},"固定資産等売却手取","てき",150]
[1118,"2018-03-24",{"$f":"VLOOKUP(入出金tbl[[#This Row],[内　容]],科目tbl[[内　容]:[番号]],2,TRUE)","v":"経常外収支"},{"$f":"VLOOKUP(入出金tbl[[#This Row],[内　容]],科目tbl[[内　容]:[番号]],3,TRUE)","v":"収入"},"定期預金等解約","てき",160]
[1119,"2018-03-24",{"$f":"VLOOKUP(入出金tbl[[#This Row],[内　容]],科目tbl[[内　容]:[番号]],2,TRUE)","v":"経常外収支"},{"$f":"VLOOKUP(入出金tbl[[#This Row],[内　容]],科目tbl[[内　容]:[番号]],3,TRUE)","v":"収入"},"その他臨時収入","てき",170]
[1120,"2018-03-24",{"$f":"VLOOKUP(入出金tbl[[#This Row],[内　容]],科目tbl[[内　容]:[番号]],2,TRUE)","v":"財務収支"},{"$f":"VLOOKUP(入出金tbl[[#This Row],[内　容]],科目tbl[[内　容]:[番号]],3,TRUE)","v":"支出"},"----------","てき",0]
[1121,"2018-03-24",{"$f":"VLOOKUP(入出金tbl[[#This Row],[内　容]],科目tbl[[内　容]:[番号]],2,TRUE)","v":"経常外収支"},{"$f":"VLOOKUP(入出金tbl[[#This Row],[内　容]],科目tbl[[内　容]:[番号]],3,TRUE)","v":"支出"},"税金","てき",190]
[1122,"2018-03-24",{"$f":"VLOOKUP(入出金tbl[[#This Row],[内　容]],科目tbl[[内　容]:[番号]],2,TRUE)","v":"経常外収支"},{"$f":"VLOOKUP(入出金tbl[[#This Row],[内　容]],科目tbl[[内　容]:[番号]],3,TRUE)","v":"支出"},"役員賞与","てき",200]
[1123,"2018-03-24",{"$f":"VLOOKUP(入出金tbl[[#This Row],[内　容]],科目tbl[[内　容]:[番号]],2,TRUE)","v":"経常外収支"},{"$f":"VLOOKUP(入出金tbl[[#This Row],[内　容]],科目tbl[[内　容]:[番号]],3,TRUE)","v":"支出"},"配当","てき",210]
[1124,"2018-03-24",{"$f":"VLOOKUP(入出金tbl[[#This Row],[内　容]],科目tbl[[内　容]:[番号]],2,TRUE)","v":"経常外収支"},{"$f":"VLOOKUP(入出金tbl[[#This Row],[内　容]],科目tbl[[内　容]:[番号]],3,TRUE)","v":"支出"},"固定資産購入支出","てき",220]
[1125,"2018-03-24",{"$f":"VLOOKUP(入出金tbl[[#This Row],[内　容]],科目tbl[[内　容]:[番号]],2,TRUE)","v":"経常外収支"},{"$f":"VLOOKUP(入出金tbl[[#This Row],[内　容]],科目tbl[[内　容]:[番号]],3,TRUE)","v":"支出"},"定期預金等設定","てき",230]
[1126,"2018-03-24",{"$f":"VLOOKUP(入出金tbl[[#This Row],[内　容]],科目tbl[[内　容]:[番号]],2,TRUE)","v":"経常外収支"},{"$f":"VLOOKUP(入出金tbl[[#This Row],[内　容]],科目tbl[[内　容]:[番号]],3,TRUE)","v":"支出"},"その他臨時支出","てき",240]
[1127,"2018-03-24",{"$f":"VLOOKUP(入出金tbl[[#This Row],[内　容]],科目tbl[[内　容]:[番号]],2,TRUE)","v":"経常外収支"},{"$f":"VLOOKUP(入出金tbl[[#This Row],[内　容]],科目tbl[[内　容]:[番号]],3,TRUE)","v":"支出"},"テスト4","てき",250]
[1128,"2018-03-24",{"$f":"VLOOKUP(入出金tbl[[#This Row],[内　容]],科目tbl[[内　容]:[番号]],2,TRUE)","v":"財務収支"},{"$f":"VLOOKUP(入出金tbl[[#This Row],[内　容]],科目tbl[[内　容]:[番号]],3,TRUE)","v":"収入"},"短期借入金調達","てき",260]
[1129,"2018-03-24",{"$f":"VLOOKUP(入出金tbl[[#This Row],[内　容]],科目tbl[[内　容]:[番号]],2,TRUE)","v":"財務収支"},{"$f":"VLOOKUP(入出金tbl[[#This Row],[内　容]],科目tbl[[内　容]:[番号]],3,TRUE)","v":"収入"},"長期借入金調達","てき",270]
[1130,"2018-03-24",{"$f":"VLOOKUP(入出金tbl[[#This Row],[内　容]],科目tbl[[内　容]:[番号]],2,TRUE)","v":"財務収支"},{"$f":"VLOOKUP(入出金tbl[[#This Row],[内　容]],科目tbl[[内　容]:[番号]],3,TRUE)","v":"収入"},"社長借入金調達","てき",280]
[1131,"2018-03-24",{"$f":"VLOOKUP(入出金tbl[[#This Row],[内　容]],科目tbl[[内　容]:[番号]],2,TRUE)","v":"財務収支"},{"$f":"VLOOKUP(入出金tbl[[#This Row],[内　容]],科目tbl[[内　容]:[番号]],3,TRUE)","v":"支出"},"----------","てき",0]
[1132,"2018-03-24",{"$f":"VLOOKUP(入出金tbl[[#This Row],[内　容]],科目tbl[[内　容]:[番号]],2,TRUE)","v":"財務収支"},{"$f":"VLOOKUP(入出金tbl[[#This Row],[内　容]],科目tbl[[内　容]:[番号]],3,TRUE)","v":"支出"},"短期借入金返済","てき",310]
[1133,"2018-03-24",{"$f":"VLOOKUP(入出金tbl[[#This Row],[内　容]],科目tbl[[内　容]:[番号]],2,TRUE)","v":"財務収支"},{"$f":"VLOOKUP(入出金tbl[[#This Row],[内　容]],科目tbl[[内　容]:[番号]],3,TRUE)","v":"支出"},"長期借入金返済","てき",320]
[1134,"2018-03-24",{"$f":"VLOOKUP(入出金tbl[[#This Row],[内　容]],科目tbl[[内　容]:[番号]],2,TRUE)","v":"財務収支"},{"$f":"VLOOKUP(入出金tbl[[#This Row],[内　容]],科目tbl[[内　容]:[番号]],3,TRUE)","v":"支出"},"社長借入金返済","てき",330]
[1135,"2018-03-24",{"$f":"VLOOKUP(入出金tbl[[#This Row],[内　容]],科目tbl[[内　容]:[番号]],2,TRUE)","v":"財務収支"},{"$f":"VLOOKUP(入出金tbl[[#This Row],[内　容]],科目tbl[[内　容]:[番号]],3,TRUE)","v":"支出"},"その他返済","てき",340]
[1136,"2018-03-24",{"$f":"VLOOKUP(入出金tbl[[#This Row],[内　容]],科目tbl[[内　容]:[番号]],2,TRUE)","v":"財務収支"},{"$f":"VLOOKUP(入出金tbl[[#This Row],[内　容]],科目tbl[[内　容]:[番号]],3,TRUE)","v":"支出"},"----------","てき",0]
[1137,"2018-03-25",{"$f":"VLOOKUP(入出金tbl[[#This Row],[内　容]],科目tbl[[内　容]:[番号]],2,TRUE)","v":"経常収支"},{"$f":"VLOOKUP(入出金tbl[[#This Row],[内　容]],科目tbl[[内　容]:[番号]],3,TRUE)","v":"収入"},"現金売上","摘要",10]
[1138,"2018-03-25",{"$f":"VLOOKUP(入出金tbl[[#This Row],[内　容]],科目tbl[[内　容]:[番号]],2,TRUE)","v":"経常収支"},{"$f":"VLOOKUP(入出金tbl[[#This Row],[内　容]],科目tbl[[内　容]:[番号]],3,TRUE)","v":"収入"},"売掛金回収","摘要",20]
[1139,"2018-03-25",{"$f":"VLOOKUP(入出金tbl[[#This Row],[内　容]],科目tbl[[内　容]:[番号]],2,TRUE)","v":"経常収支"},{"$f":"VLOOKUP(入出金tbl[[#This Row],[内　容]],科目tbl[[内　容]:[番号]],3,TRUE)","v":"収入"},"受取手形回収","てき",30]
[1140,"2018-03-25",{"$f":"VLOOKUP(入出金tbl[[#This Row],[内　容]],科目tbl[[内　容]:[番号]],2,TRUE)","v":"経常収支"},{"$f":"VLOOKUP(入出金tbl[[#This Row],[内　容]],科目tbl[[内　容]:[番号]],3,TRUE)","v":"収入"},"手形割引","てき",40]
[1141,"2018-03-25",{"$f":"VLOOKUP(入出金tbl[[#This Row],[内　容]],科目tbl[[内　容]:[番号]],2,TRUE)","v":"経常収支"},{"$f":"VLOOKUP(入出金tbl[[#This Row],[内　容]],科目tbl[[内　容]:[番号]],3,TRUE)","v":"収入"},"その他収入","てき",50]
[1142,"2018-03-25",{"$f":"VLOOKUP(入出金tbl[[#This Row],[内　容]],科目tbl[[内　容]:[番号]],2,TRUE)","v":"財務収支"},{"$f":"VLOOKUP(入出金tbl[[#This Row],[内　容]],科目tbl[[内　容]:[番号]],3,TRUE)","v":"支出"},"----------","てき",0]
[1143,"2018-03-25",{"$f":"VLOOKUP(入出金tbl[[#This Row],[内　容]],科目tbl[[内　容]:[番号]],2,TRUE)","v":"経常収支"},{"$f":"VLOOKUP(入出金tbl[[#This Row],[内　容]],科目tbl[[内　容]:[番号]],3,TRUE)","v":"支出"},"現金仕入","てき",70]
[1144,"2018-03-25",{"$f":"VLOOKUP(入出金tbl[[#This Row],[内　容]],科目tbl[[内　容]:[番号]],2,TRUE)","v":"経常収支"},{"$f":"VLOOKUP(入出金tbl[[#This Row],[内　容]],科目tbl[[内　容]:[番号]],3,TRUE)","v":"支出"},"買掛金支払","てき",80]
[1145,"2018-03-25",{"$f":"VLOOKUP(入出金tbl[[#This Row],[内　容]],科目tbl[[内　容]:[番号]],2,TRUE)","v":"経常収支"},{"$f":"VLOOKUP(入出金tbl[[#This Row],[内　容]],科目tbl[[内　容]:[番号]],3,TRUE)","v":"支出"},"手形支払","てき",90]
[1146,"2018-03-25",{"$f":"VLOOKUP(入出金tbl[[#This Row],[内　容]],科目tbl[[内　容]:[番号]],2,TRUE)","v":"経常収支"},{"$f":"VLOOKUP(入出金tbl[[#This Row],[内　容]],科目tbl[[内　容]:[番号]],3,TRUE)","v":"支出"},"賃金・給与現金支払","てき",100]
[1147,"2018-03-25",{"$f":"VLOOKUP(入出金tbl[[#This Row],[内　容]],科目tbl[[内　容]:[番号]],2,TRUE)","v":"経常収支"},{"$f":"VLOOKUP(入出金tbl[[#This Row],[内　容]],科目tbl[[内　容]:[番号]],3,TRUE)","v":"支出"},"賞与支払い","てき",110]
[1148,"2018-03-25",{"$f":"VLOOKUP(入出金tbl[[#This Row],[内　容]],科目tbl[[内　容]:[番号]],2,TRUE)","v":"経常収支"},{"$f":"VLOOKUP(入出金tbl[[#This Row],[内　容]],科目tbl[[内　容]:[番号]],3,TRUE)","v":"支出"},"支払利息・割引料","てき",120]
[1149,"2018-03-25",{"$f":"VLOOKUP(入出金tbl[[#This Row],[内　容]],科目tbl[[内　容]:[番号]],2,TRUE)","v":"経常収支"},{"$f":"VLOOKUP(入出金tbl[[#This Row],[内　容]],科目tbl[[内　容]:[番号]],3,TRUE)","v":"支出"},"諸経費現金支払","てき",130]
[1150,"2018-03-25",{"$f":"VLOOKUP(入出金tbl[[#This Row],[内　容]],科目tbl[[内　容]:[番号]],2,TRUE)","v":"財務収支"},{"$f":"VLOOKUP(入出金tbl[[#This Row],[内　容]],科目tbl[[内　容]:[番号]],3,TRUE)","v":"支出"},"----------","てき",0]
[1151,"2018-03-25",{"$f":"VLOOKUP(入出金tbl[[#This Row],[内　容]],科目tbl[[内　容]:[番号]],2,TRUE)","v":"経常外収支"},{"$f":"VLOOKUP(入出金tbl[[#This Row],[内　容]],科目tbl[[内　容]:[番号]],3,TRUE)","v":"収入"},"固定資産等売却手取","てき",150]
[1152,"2018-03-25",{"$f":"VLOOKUP(入出金tbl[[#This Row],[内　容]],科目tbl[[内　容]:[番号]],2,TRUE)","v":"経常外収支"},{"$f":"VLOOKUP(入出金tbl[[#This Row],[内　容]],科目tbl[[内　容]:[番号]],3,TRUE)","v":"収入"},"定期預金等解約","てき",160]
[1153,"2018-03-25",{"$f":"VLOOKUP(入出金tbl[[#This Row],[内　容]],科目tbl[[内　容]:[番号]],2,TRUE)","v":"経常外収支"},{"$f":"VLOOKUP(入出金tbl[[#This Row],[内　容]],科目tbl[[内　容]:[番号]],3,TRUE)","v":"収入"},"その他臨時収入","てき",170]
[1154,"2018-03-25",{"$f":"VLOOKUP(入出金tbl[[#This Row],[内　容]],科目tbl[[内　容]:[番号]],2,TRUE)","v":"財務収支"},{"$f":"VLOOKUP(入出金tbl[[#This Row],[内　容]],科目tbl[[内　容]:[番号]],3,TRUE)","v":"支出"},"----------","てき",0]
[1155,"2018-03-25",{"$f":"VLOOKUP(入出金tbl[[#This Row],[内　容]],科目tbl[[内　容]:[番号]],2,TRUE)","v":"経常外収支"},{"$f":"VLOOKUP(入出金tbl[[#This Row],[内　容]],科目tbl[[内　容]:[番号]],3,TRUE)","v":"支出"},"税金","てき",190]
[1156,"2018-03-25",{"$f":"VLOOKUP(入出金tbl[[#This Row],[内　容]],科目tbl[[内　容]:[番号]],2,TRUE)","v":"経常外収支"},{"$f":"VLOOKUP(入出金tbl[[#This Row],[内　容]],科目tbl[[内　容]:[番号]],3,TRUE)","v":"支出"},"役員賞与","てき",200]
[1157,"2018-03-25",{"$f":"VLOOKUP(入出金tbl[[#This Row],[内　容]],科目tbl[[内　容]:[番号]],2,TRUE)","v":"経常外収支"},{"$f":"VLOOKUP(入出金tbl[[#This Row],[内　容]],科目tbl[[内　容]:[番号]],3,TRUE)","v":"支出"},"配当","てき",210]
[1158,"2018-03-25",{"$f":"VLOOKUP(入出金tbl[[#This Row],[内　容]],科目tbl[[内　容]:[番号]],2,TRUE)","v":"経常外収支"},{"$f":"VLOOKUP(入出金tbl[[#This Row],[内　容]],科目tbl[[内　容]:[番号]],3,TRUE)","v":"支出"},"固定資産購入支出","てき",220]
[1159,"2018-03-25",{"$f":"VLOOKUP(入出金tbl[[#This Row],[内　容]],科目tbl[[内　容]:[番号]],2,TRUE)","v":"経常外収支"},{"$f":"VLOOKUP(入出金tbl[[#This Row],[内　容]],科目tbl[[内　容]:[番号]],3,TRUE)","v":"支出"},"定期預金等設定","てき",230]
[1160,"2018-03-25",{"$f":"VLOOKUP(入出金tbl[[#This Row],[内　容]],科目tbl[[内　容]:[番号]],2,TRUE)","v":"経常外収支"},{"$f":"VLOOKUP(入出金tbl[[#This Row],[内　容]],科目tbl[[内　容]:[番号]],3,TRUE)","v":"支出"},"その他臨時支出","てき",240]
[1161,"2018-03-25",{"$f":"VLOOKUP(入出金tbl[[#This Row],[内　容]],科目tbl[[内　容]:[番号]],2,TRUE)","v":"経常外収支"},{"$f":"VLOOKUP(入出金tbl[[#This Row],[内　容]],科目tbl[[内　容]:[番号]],3,TRUE)","v":"支出"},"テスト4","てき",250]
[1162,"2018-03-25",{"$f":"VLOOKUP(入出金tbl[[#This Row],[内　容]],科目tbl[[内　容]:[番号]],2,TRUE)","v":"財務収支"},{"$f":"VLOOKUP(入出金tbl[[#This Row],[内　容]],科目tbl[[内　容]:[番号]],3,TRUE)","v":"収入"},"短期借入金調達","てき",260]
[1163,"2018-03-25",{"$f":"VLOOKUP(入出金tbl[[#This Row],[内　容]],科目tbl[[内　容]:[番号]],2,TRUE)","v":"財務収支"},{"$f":"VLOOKUP(入出金tbl[[#This Row],[内　容]],科目tbl[[内　容]:[番号]],3,TRUE)","v":"収入"},"長期借入金調達","てき",270]
[1164,"2018-03-25",{"$f":"VLOOKUP(入出金tbl[[#This Row],[内　容]],科目tbl[[内　容]:[番号]],2,TRUE)","v":"財務収支"},{"$f":"VLOOKUP(入出金tbl[[#This Row],[内　容]],科目tbl[[内　容]:[番号]],3,TRUE)","v":"収入"},"社長借入金調達","てき",280]
[1165,"2018-03-25",{"$f":"VLOOKUP(入出金tbl[[#This Row],[内　容]],科目tbl[[内　容]:[番号]],2,TRUE)","v":"財務収支"},{"$f":"VLOOKUP(入出金tbl[[#This Row],[内　容]],科目tbl[[内　容]:[番号]],3,TRUE)","v":"支出"},"----------","てき",0]
[1166,"2018-03-25",{"$f":"VLOOKUP(入出金tbl[[#This Row],[内　容]],科目tbl[[内　容]:[番号]],2,TRUE)","v":"財務収支"},{"$f":"VLOOKUP(入出金tbl[[#This Row],[内　容]],科目tbl[[内　容]:[番号]],3,TRUE)","v":"支出"},"短期借入金返済","てき",310]
[1167,"2018-03-25",{"$f":"VLOOKUP(入出金tbl[[#This Row],[内　容]],科目tbl[[内　容]:[番号]],2,TRUE)","v":"財務収支"},{"$f":"VLOOKUP(入出金tbl[[#This Row],[内　容]],科目tbl[[内　容]:[番号]],3,TRUE)","v":"支出"},"長期借入金返済","てき",320]
[1168,"2018-03-25",{"$f":"VLOOKUP(入出金tbl[[#This Row],[内　容]],科目tbl[[内　容]:[番号]],2,TRUE)","v":"財務収支"},{"$f":"VLOOKUP(入出金tbl[[#This Row],[内　容]],科目tbl[[内　容]:[番号]],3,TRUE)","v":"支出"},"社長借入金返済","てき",330]
[1169,"2018-03-25",{"$f":"VLOOKUP(入出金tbl[[#This Row],[内　容]],科目tbl[[内　容]:[番号]],2,TRUE)","v":"財務収支"},{"$f":"VLOOKUP(入出金tbl[[#This Row],[内　容]],科目tbl[[内　容]:[番号]],3,TRUE)","v":"支出"},"その他返済","てき",340]
[1170,"2018-03-25",{"$f":"VLOOKUP(入出金tbl[[#This Row],[内　容]],科目tbl[[内　容]:[番号]],2,TRUE)","v":"財務収支"},{"$f":"VLOOKUP(入出金tbl[[#This Row],[内　容]],科目tbl[[内　容]:[番号]],3,TRUE)","v":"支出"},"----------","てき",0]
[1171,"2018-03-26",{"$f":"VLOOKUP(入出金tbl[[#This Row],[内　容]],科目tbl[[内　容]:[番号]],2,TRUE)","v":"経常収支"},{"$f":"VLOOKUP(入出金tbl[[#This Row],[内　容]],科目tbl[[内　容]:[番号]],3,TRUE)","v":"収入"},"現金売上","摘要",10]
[1172,"2018-03-26",{"$f":"VLOOKUP(入出金tbl[[#This Row],[内　容]],科目tbl[[内　容]:[番号]],2,TRUE)","v":"経常収支"},{"$f":"VLOOKUP(入出金tbl[[#This Row],[内　容]],科目tbl[[内　容]:[番号]],3,TRUE)","v":"収入"},"売掛金回収","摘要",20]
[1173,"2018-03-26",{"$f":"VLOOKUP(入出金tbl[[#This Row],[内　容]],科目tbl[[内　容]:[番号]],2,TRUE)","v":"経常収支"},{"$f":"VLOOKUP(入出金tbl[[#This Row],[内　容]],科目tbl[[内　容]:[番号]],3,TRUE)","v":"収入"},"受取手形回収","てき",30]
[1174,"2018-03-26",{"$f":"VLOOKUP(入出金tbl[[#This Row],[内　容]],科目tbl[[内　容]:[番号]],2,TRUE)","v":"経常収支"},{"$f":"VLOOKUP(入出金tbl[[#This Row],[内　容]],科目tbl[[内　容]:[番号]],3,TRUE)","v":"収入"},"手形割引","てき",40]
[1175,"2018-03-26",{"$f":"VLOOKUP(入出金tbl[[#This Row],[内　容]],科目tbl[[内　容]:[番号]],2,TRUE)","v":"経常収支"},{"$f":"VLOOKUP(入出金tbl[[#This Row],[内　容]],科目tbl[[内　容]:[番号]],3,TRUE)","v":"収入"},"その他収入","てき",50]
[1176,"2018-03-26",{"$f":"VLOOKUP(入出金tbl[[#This Row],[内　容]],科目tbl[[内　容]:[番号]],2,TRUE)","v":"財務収支"},{"$f":"VLOOKUP(入出金tbl[[#This Row],[内　容]],科目tbl[[内　容]:[番号]],3,TRUE)","v":"支出"},"----------","てき",0]
[1177,"2018-03-26",{"$f":"VLOOKUP(入出金tbl[[#This Row],[内　容]],科目tbl[[内　容]:[番号]],2,TRUE)","v":"経常収支"},{"$f":"VLOOKUP(入出金tbl[[#This Row],[内　容]],科目tbl[[内　容]:[番号]],3,TRUE)","v":"支出"},"現金仕入","てき",70]
[1178,"2018-03-26",{"$f":"VLOOKUP(入出金tbl[[#This Row],[内　容]],科目tbl[[内　容]:[番号]],2,TRUE)","v":"経常収支"},{"$f":"VLOOKUP(入出金tbl[[#This Row],[内　容]],科目tbl[[内　容]:[番号]],3,TRUE)","v":"支出"},"買掛金支払","てき",80]
[1179,"2018-03-26",{"$f":"VLOOKUP(入出金tbl[[#This Row],[内　容]],科目tbl[[内　容]:[番号]],2,TRUE)","v":"経常収支"},{"$f":"VLOOKUP(入出金tbl[[#This Row],[内　容]],科目tbl[[内　容]:[番号]],3,TRUE)","v":"支出"},"手形支払","てき",90]
[1180,"2018-03-26",{"$f":"VLOOKUP(入出金tbl[[#This Row],[内　容]],科目tbl[[内　容]:[番号]],2,TRUE)","v":"経常収支"},{"$f":"VLOOKUP(入出金tbl[[#This Row],[内　容]],科目tbl[[内　容]:[番号]],3,TRUE)","v":"支出"},"賃金・給与現金支払","てき",100]
[1181,"2018-03-26",{"$f":"VLOOKUP(入出金tbl[[#This Row],[内　容]],科目tbl[[内　容]:[番号]],2,TRUE)","v":"経常収支"},{"$f":"VLOOKUP(入出金tbl[[#This Row],[内　容]],科目tbl[[内　容]:[番号]],3,TRUE)","v":"支出"},"賞与支払い","てき",110]
[1182,"2018-03-26",{"$f":"VLOOKUP(入出金tbl[[#This Row],[内　容]],科目tbl[[内　容]:[番号]],2,TRUE)","v":"経常収支"},{"$f":"VLOOKUP(入出金tbl[[#This Row],[内　容]],科目tbl[[内　容]:[番号]],3,TRUE)","v":"支出"},"支払利息・割引料","てき",120]
[1183,"2018-03-26",{"$f":"VLOOKUP(入出金tbl[[#This Row],[内　容]],科目tbl[[内　容]:[番号]],2,TRUE)","v":"経常収支"},{"$f":"VLOOKUP(入出金tbl[[#This Row],[内　容]],科目tbl[[内　容]:[番号]],3,TRUE)","v":"支出"},"諸経費現金支払","てき",130]
[1184,"2018-03-26",{"$f":"VLOOKUP(入出金tbl[[#This Row],[内　容]],科目tbl[[内　容]:[番号]],2,TRUE)","v":"財務収支"},{"$f":"VLOOKUP(入出金tbl[[#This Row],[内　容]],科目tbl[[内　容]:[番号]],3,TRUE)","v":"支出"},"----------","てき",0]
[1185,"2018-03-26",{"$f":"VLOOKUP(入出金tbl[[#This Row],[内　容]],科目tbl[[内　容]:[番号]],2,TRUE)","v":"経常外収支"},{"$f":"VLOOKUP(入出金tbl[[#This Row],[内　容]],科目tbl[[内　容]:[番号]],3,TRUE)","v":"収入"},"固定資産等売却手取","てき",150]
[1186,"2018-03-26",{"$f":"VLOOKUP(入出金tbl[[#This Row],[内　容]],科目tbl[[内　容]:[番号]],2,TRUE)","v":"経常外収支"},{"$f":"VLOOKUP(入出金tbl[[#This Row],[内　容]],科目tbl[[内　容]:[番号]],3,TRUE)","v":"収入"},"定期預金等解約","てき",160]
[1187,"2018-03-26",{"$f":"VLOOKUP(入出金tbl[[#This Row],[内　容]],科目tbl[[内　容]:[番号]],2,TRUE)","v":"経常外収支"},{"$f":"VLOOKUP(入出金tbl[[#This Row],[内　容]],科目tbl[[内　容]:[番号]],3,TRUE)","v":"収入"},"その他臨時収入","てき",170]
[1188,"2018-03-26",{"$f":"VLOOKUP(入出金tbl[[#This Row],[内　容]],科目tbl[[内　容]:[番号]],2,TRUE)","v":"財務収支"},{"$f":"VLOOKUP(入出金tbl[[#This Row],[内　容]],科目tbl[[内　容]:[番号]],3,TRUE)","v":"支出"},"----------","てき",0]
[1189,"2018-03-26",{"$f":"VLOOKUP(入出金tbl[[#This Row],[内　容]],科目tbl[[内　容]:[番号]],2,TRUE)","v":"経常外収支"},{"$f":"VLOOKUP(入出金tbl[[#This Row],[内　容]],科目tbl[[内　容]:[番号]],3,TRUE)","v":"支出"},"税金","てき",190]
[1190,"2018-03-26",{"$f":"VLOOKUP(入出金tbl[[#This Row],[内　容]],科目tbl[[内　容]:[番号]],2,TRUE)","v":"経常外収支"},{"$f":"VLOOKUP(入出金tbl[[#This Row],[内　容]],科目tbl[[内　容]:[番号]],3,TRUE)","v":"支出"},"役員賞与","てき",200]
[1191,"2018-03-26",{"$f":"VLOOKUP(入出金tbl[[#This Row],[内　容]],科目tbl[[内　容]:[番号]],2,TRUE)","v":"経常外収支"},{"$f":"VLOOKUP(入出金tbl[[#This Row],[内　容]],科目tbl[[内　容]:[番号]],3,TRUE)","v":"支出"},"配当","てき",210]
[1192,"2018-03-26",{"$f":"VLOOKUP(入出金tbl[[#This Row],[内　容]],科目tbl[[内　容]:[番号]],2,TRUE)","v":"経常外収支"},{"$f":"VLOOKUP(入出金tbl[[#This Row],[内　容]],科目tbl[[内　容]:[番号]],3,TRUE)","v":"支出"},"固定資産購入支出","てき",220]
[1193,"2018-03-26",{"$f":"VLOOKUP(入出金tbl[[#This Row],[内　容]],科目tbl[[内　容]:[番号]],2,TRUE)","v":"経常外収支"},{"$f":"VLOOKUP(入出金tbl[[#This Row],[内　容]],科目tbl[[内　容]:[番号]],3,TRUE)","v":"支出"},"定期預金等設定","てき",230]
[1194,"2018-03-26",{"$f":"VLOOKUP(入出金tbl[[#This Row],[内　容]],科目tbl[[内　容]:[番号]],2,TRUE)","v":"経常外収支"},{"$f":"VLOOKUP(入出金tbl[[#This Row],[内　容]],科目tbl[[内　容]:[番号]],3,TRUE)","v":"支出"},"その他臨時支出","てき",240]
[1195,"2018-03-26",{"$f":"VLOOKUP(入出金tbl[[#This Row],[内　容]],科目tbl[[内　容]:[番号]],2,TRUE)","v":"経常外収支"},{"$f":"VLOOKUP(入出金tbl[[#This Row],[内　容]],科目tbl[[内　容]:[番号]],3,TRUE)","v":"支出"},"テスト4","てき",250]
[1196,"2018-03-26",{"$f":"VLOOKUP(入出金tbl[[#This Row],[内　容]],科目tbl[[内　容]:[番号]],2,TRUE)","v":"財務収支"},{"$f":"VLOOKUP(入出金tbl[[#This Row],[内　容]],科目tbl[[内　容]:[番号]],3,TRUE)","v":"収入"},"短期借入金調達","てき",260]
[1197,"2018-03-26",{"$f":"VLOOKUP(入出金tbl[[#This Row],[内　容]],科目tbl[[内　容]:[番号]],2,TRUE)","v":"財務収支"},{"$f":"VLOOKUP(入出金tbl[[#This Row],[内　容]],科目tbl[[内　容]:[番号]],3,TRUE)","v":"収入"},"長期借入金調達","てき",270]
[1198,"2018-03-26",{"$f":"VLOOKUP(入出金tbl[[#This Row],[内　容]],科目tbl[[内　容]:[番号]],2,TRUE)","v":"財務収支"},{"$f":"VLOOKUP(入出金tbl[[#This Row],[内　容]],科目tbl[[内　容]:[番号]],3,TRUE)","v":"収入"},"社長借入金調達","てき",280]
[1199,"2018-03-26",{"$f":"VLOOKUP(入出金tbl[[#This Row],[内　容]],科目tbl[[内　容]:[番号]],2,TRUE)","v":"財務収支"},{"$f":"VLOOKUP(入出金tbl[[#This Row],[内　容]],科目tbl[[内　容]:[番号]],3,TRUE)","v":"支出"},"----------","てき",0]
[1200,"2018-03-26",{"$f":"VLOOKUP(入出金tbl[[#This Row],[内　容]],科目tbl[[内　容]:[番号]],2,TRUE)","v":"財務収支"},{"$f":"VLOOKUP(入出金tbl[[#This Row],[内　容]],科目tbl[[内　容]:[番号]],3,TRUE)","v":"支出"},"短期借入金返済","てき",310]
[1201,"2018-03-26",{"$f":"VLOOKUP(入出金tbl[[#This Row],[内　容]],科目tbl[[内　容]:[番号]],2,TRUE)","v":"財務収支"},{"$f":"VLOOKUP(入出金tbl[[#This Row],[内　容]],科目tbl[[内　容]:[番号]],3,TRUE)","v":"支出"},"長期借入金返済","てき",320]
[1202,"2018-03-26",{"$f":"VLOOKUP(入出金tbl[[#This Row],[内　容]],科目tbl[[内　容]:[番号]],2,TRUE)","v":"財務収支"},{"$f":"VLOOKUP(入出金tbl[[#This Row],[内　容]],科目tbl[[内　容]:[番号]],3,TRUE)","v":"支出"},"社長借入金返済","てき",330]
[1203,"2018-03-26",{"$f":"VLOOKUP(入出金tbl[[#This Row],[内　容]],科目tbl[[内　容]:[番号]],2,TRUE)","v":"財務収支"},{"$f":"VLOOKUP(入出金tbl[[#This Row],[内　容]],科目tbl[[内　容]:[番号]],3,TRUE)","v":"支出"},"その他返済","てき",340]
[1204,"2018-03-26",{"$f":"VLOOKUP(入出金tbl[[#This Row],[内　容]],科目tbl[[内　容]:[番号]],2,TRUE)","v":"財務収支"},{"$f":"VLOOKUP(入出金tbl[[#This Row],[内　容]],科目tbl[[内　容]:[番号]],3,TRUE)","v":"支出"},"----------","てき",0]
[1205,"2018-03-27",{"$f":"VLOOKUP(入出金tbl[[#This Row],[内　容]],科目tbl[[内　容]:[番号]],2,TRUE)","v":"経常収支"},{"$f":"VLOOKUP(入出金tbl[[#This Row],[内　容]],科目tbl[[内　容]:[番号]],3,TRUE)","v":"収入"},"現金売上","摘要",10]
[1206,"2018-03-27",{"$f":"VLOOKUP(入出金tbl[[#This Row],[内　容]],科目tbl[[内　容]:[番号]],2,TRUE)","v":"経常収支"},{"$f":"VLOOKUP(入出金tbl[[#This Row],[内　容]],科目tbl[[内　容]:[番号]],3,TRUE)","v":"収入"},"売掛金回収","摘要",20]
[1207,"2018-03-27",{"$f":"VLOOKUP(入出金tbl[[#This Row],[内　容]],科目tbl[[内　容]:[番号]],2,TRUE)","v":"経常収支"},{"$f":"VLOOKUP(入出金tbl[[#This Row],[内　容]],科目tbl[[内　容]:[番号]],3,TRUE)","v":"収入"},"受取手形回収","てき",30]
[1208,"2018-03-27",{"$f":"VLOOKUP(入出金tbl[[#This Row],[内　容]],科目tbl[[内　容]:[番号]],2,TRUE)","v":"経常収支"},{"$f":"VLOOKUP(入出金tbl[[#This Row],[内　容]],科目tbl[[内　容]:[番号]],3,TRUE)","v":"収入"},"手形割引","てき",40]
[1209,"2018-03-27",{"$f":"VLOOKUP(入出金tbl[[#This Row],[内　容]],科目tbl[[内　容]:[番号]],2,TRUE)","v":"経常収支"},{"$f":"VLOOKUP(入出金tbl[[#This Row],[内　容]],科目tbl[[内　容]:[番号]],3,TRUE)","v":"収入"},"その他収入","てき",50]
[1210,"2018-03-27",{"$f":"VLOOKUP(入出金tbl[[#This Row],[内　容]],科目tbl[[内　容]:[番号]],2,TRUE)","v":"財務収支"},{"$f":"VLOOKUP(入出金tbl[[#This Row],[内　容]],科目tbl[[内　容]:[番号]],3,TRUE)","v":"支出"},"----------","てき",0]
[1211,"2018-03-27",{"$f":"VLOOKUP(入出金tbl[[#This Row],[内　容]],科目tbl[[内　容]:[番号]],2,TRUE)","v":"経常収支"},{"$f":"VLOOKUP(入出金tbl[[#This Row],[内　容]],科目tbl[[内　容]:[番号]],3,TRUE)","v":"支出"},"現金仕入","てき",70]
[1212,"2018-03-27",{"$f":"VLOOKUP(入出金tbl[[#This Row],[内　容]],科目tbl[[内　容]:[番号]],2,TRUE)","v":"経常収支"},{"$f":"VLOOKUP(入出金tbl[[#This Row],[内　容]],科目tbl[[内　容]:[番号]],3,TRUE)","v":"支出"},"買掛金支払","てき",80]
[1213,"2018-03-27",{"$f":"VLOOKUP(入出金tbl[[#This Row],[内　容]],科目tbl[[内　容]:[番号]],2,TRUE)","v":"経常収支"},{"$f":"VLOOKUP(入出金tbl[[#This Row],[内　容]],科目tbl[[内　容]:[番号]],3,TRUE)","v":"支出"},"手形支払","てき",90]
[1214,"2018-03-27",{"$f":"VLOOKUP(入出金tbl[[#This Row],[内　容]],科目tbl[[内　容]:[番号]],2,TRUE)","v":"経常収支"},{"$f":"VLOOKUP(入出金tbl[[#This Row],[内　容]],科目tbl[[内　容]:[番号]],3,TRUE)","v":"支出"},"賃金・給与現金支払","てき",100]
[1215,"2018-03-27",{"$f":"VLOOKUP(入出金tbl[[#This Row],[内　容]],科目tbl[[内　容]:[番号]],2,TRUE)","v":"経常収支"},{"$f":"VLOOKUP(入出金tbl[[#This Row],[内　容]],科目tbl[[内　容]:[番号]],3,TRUE)","v":"支出"},"賞与支払い","てき",110]
[1216,"2018-03-27",{"$f":"VLOOKUP(入出金tbl[[#This Row],[内　容]],科目tbl[[内　容]:[番号]],2,TRUE)","v":"経常収支"},{"$f":"VLOOKUP(入出金tbl[[#This Row],[内　容]],科目tbl[[内　容]:[番号]],3,TRUE)","v":"支出"},"支払利息・割引料","てき",120]
[1217,"2018-03-27",{"$f":"VLOOKUP(入出金tbl[[#This Row],[内　容]],科目tbl[[内　容]:[番号]],2,TRUE)","v":"経常収支"},{"$f":"VLOOKUP(入出金tbl[[#This Row],[内　容]],科目tbl[[内　容]:[番号]],3,TRUE)","v":"支出"},"諸経費現金支払","てき",130]
[1218,"2018-03-27",{"$f":"VLOOKUP(入出金tbl[[#This Row],[内　容]],科目tbl[[内　容]:[番号]],2,TRUE)","v":"財務収支"},{"$f":"VLOOKUP(入出金tbl[[#This Row],[内　容]],科目tbl[[内　容]:[番号]],3,TRUE)","v":"支出"},"----------","てき",0]
[1219,"2018-03-27",{"$f":"VLOOKUP(入出金tbl[[#This Row],[内　容]],科目tbl[[内　容]:[番号]],2,TRUE)","v":"経常外収支"},{"$f":"VLOOKUP(入出金tbl[[#This Row],[内　容]],科目tbl[[内　容]:[番号]],3,TRUE)","v":"収入"},"固定資産等売却手取","てき",150]
[1220,"2018-03-27",{"$f":"VLOOKUP(入出金tbl[[#This Row],[内　容]],科目tbl[[内　容]:[番号]],2,TRUE)","v":"経常外収支"},{"$f":"VLOOKUP(入出金tbl[[#This Row],[内　容]],科目tbl[[内　容]:[番号]],3,TRUE)","v":"収入"},"定期預金等解約","てき",160]
[1221,"2018-03-27",{"$f":"VLOOKUP(入出金tbl[[#This Row],[内　容]],科目tbl[[内　容]:[番号]],2,TRUE)","v":"経常外収支"},{"$f":"VLOOKUP(入出金tbl[[#This Row],[内　容]],科目tbl[[内　容]:[番号]],3,TRUE)","v":"収入"},"その他臨時収入","てき",170]
[1222,"2018-03-27",{"$f":"VLOOKUP(入出金tbl[[#This Row],[内　容]],科目tbl[[内　容]:[番号]],2,TRUE)","v":"財務収支"},{"$f":"VLOOKUP(入出金tbl[[#This Row],[内　容]],科目tbl[[内　容]:[番号]],3,TRUE)","v":"支出"},"----------","てき",0]
[1223,"2018-03-27",{"$f":"VLOOKUP(入出金tbl[[#This Row],[内　容]],科目tbl[[内　容]:[番号]],2,TRUE)","v":"経常外収支"},{"$f":"VLOOKUP(入出金tbl[[#This Row],[内　容]],科目tbl[[内　容]:[番号]],3,TRUE)","v":"支出"},"税金","てき",190]
[1224,"2018-03-27",{"$f":"VLOOKUP(入出金tbl[[#This Row],[内　容]],科目tbl[[内　容]:[番号]],2,TRUE)","v":"経常外収支"},{"$f":"VLOOKUP(入出金tbl[[#This Row],[内　容]],科目tbl[[内　容]:[番号]],3,TRUE)","v":"支出"},"役員賞与","てき",200]
[1225,"2018-03-27",{"$f":"VLOOKUP(入出金tbl[[#This Row],[内　容]],科目tbl[[内　容]:[番号]],2,TRUE)","v":"経常外収支"},{"$f":"VLOOKUP(入出金tbl[[#This Row],[内　容]],科目tbl[[内　容]:[番号]],3,TRUE)","v":"支出"},"配当","てき",210]
[1226,"2018-03-27",{"$f":"VLOOKUP(入出金tbl[[#This Row],[内　容]],科目tbl[[内　容]:[番号]],2,TRUE)","v":"経常外収支"},{"$f":"VLOOKUP(入出金tbl[[#This Row],[内　容]],科目tbl[[内　容]:[番号]],3,TRUE)","v":"支出"},"固定資産購入支出","てき",220]
[1227,"2018-03-27",{"$f":"VLOOKUP(入出金tbl[[#This Row],[内　容]],科目tbl[[内　容]:[番号]],2,TRUE)","v":"経常外収支"},{"$f":"VLOOKUP(入出金tbl[[#This Row],[内　容]],科目tbl[[内　容]:[番号]],3,TRUE)","v":"支出"},"定期預金等設定","てき",230]
[1228,"2018-03-27",{"$f":"VLOOKUP(入出金tbl[[#This Row],[内　容]],科目tbl[[内　容]:[番号]],2,TRUE)","v":"経常外収支"},{"$f":"VLOOKUP(入出金tbl[[#This Row],[内　容]],科目tbl[[内　容]:[番号]],3,TRUE)","v":"支出"},"その他臨時支出","てき",240]
[1229,"2018-03-27",{"$f":"VLOOKUP(入出金tbl[[#This Row],[内　容]],科目tbl[[内　容]:[番号]],2,TRUE)","v":"経常外収支"},{"$f":"VLOOKUP(入出金tbl[[#This Row],[内　容]],科目tbl[[内　容]:[番号]],3,TRUE)","v":"支出"},"テスト4","てき",250]
[1230,"2018-03-27",{"$f":"VLOOKUP(入出金tbl[[#This Row],[内　容]],科目tbl[[内　容]:[番号]],2,TRUE)","v":"財務収支"},{"$f":"VLOOKUP(入出金tbl[[#This Row],[内　容]],科目tbl[[内　容]:[番号]],3,TRUE)","v":"収入"},"短期借入金調達","てき",260]
[1231,"2018-03-27",{"$f":"VLOOKUP(入出金tbl[[#This Row],[内　容]],科目tbl[[内　容]:[番号]],2,TRUE)","v":"財務収支"},{"$f":"VLOOKUP(入出金tbl[[#This Row],[内　容]],科目tbl[[内　容]:[番号]],3,TRUE)","v":"収入"},"長期借入金調達","てき",270]
[1232,"2018-03-27",{"$f":"VLOOKUP(入出金tbl[[#This Row],[内　容]],科目tbl[[内　容]:[番号]],2,TRUE)","v":"財務収支"},{"$f":"VLOOKUP(入出金tbl[[#This Row],[内　容]],科目tbl[[内　容]:[番号]],3,TRUE)","v":"収入"},"社長借入金調達","てき",280]
[1233,"2018-03-27",{"$f":"VLOOKUP(入出金tbl[[#This Row],[内　容]],科目tbl[[内　容]:[番号]],2,TRUE)","v":"財務収支"},{"$f":"VLOOKUP(入出金tbl[[#This Row],[内　容]],科目tbl[[内　容]:[番号]],3,TRUE)","v":"支出"},"----------","てき",0]
[1234,"2018-03-27",{"$f":"VLOOKUP(入出金tbl[[#This Row],[内　容]],科目tbl[[内　容]:[番号]],2,TRUE)","v":"財務収支"},{"$f":"VLOOKUP(入出金tbl[[#This Row],[内　容]],科目tbl[[内　容]:[番号]],3,TRUE)","v":"支出"},"短期借入金返済","てき",310]
[1235,"2018-03-27",{"$f":"VLOOKUP(入出金tbl[[#This Row],[内　容]],科目tbl[[内　容]:[番号]],2,TRUE)","v":"財務収支"},{"$f":"VLOOKUP(入出金tbl[[#This Row],[内　容]],科目tbl[[内　容]:[番号]],3,TRUE)","v":"支出"},"長期借入金返済","てき",320]
[1236,"2018-03-27",{"$f":"VLOOKUP(入出金tbl[[#This Row],[内　容]],科目tbl[[内　容]:[番号]],2,TRUE)","v":"財務収支"},{"$f":"VLOOKUP(入出金tbl[[#This Row],[内　容]],科目tbl[[内　容]:[番号]],3,TRUE)","v":"支出"},"社長借入金返済","てき",330]
[1237,"2018-03-27",{"$f":"VLOOKUP(入出金tbl[[#This Row],[内　容]],科目tbl[[内　容]:[番号]],2,TRUE)","v":"財務収支"},{"$f":"VLOOKUP(入出金tbl[[#This Row],[内　容]],科目tbl[[内　容]:[番号]],3,TRUE)","v":"支出"},"その他返済","てき",340]
[1238,"2018-03-27",{"$f":"VLOOKUP(入出金tbl[[#This Row],[内　容]],科目tbl[[内　容]:[番号]],2,TRUE)","v":"財務収支"},{"$f":"VLOOKUP(入出金tbl[[#This Row],[内　容]],科目tbl[[内　容]:[番号]],3,TRUE)","v":"支出"},"----------","てき",0]
[1239,"2018-03-28",{"$f":"VLOOKUP(入出金tbl[[#This Row],[内　容]],科目tbl[[内　容]:[番号]],2,TRUE)","v":"経常収支"},{"$f":"VLOOKUP(入出金tbl[[#This Row],[内　容]],科目tbl[[内　容]:[番号]],3,TRUE)","v":"収入"},"現金売上","摘要",10]
[1240,"2018-03-28",{"$f":"VLOOKUP(入出金tbl[[#This Row],[内　容]],科目tbl[[内　容]:[番号]],2,TRUE)","v":"経常収支"},{"$f":"VLOOKUP(入出金tbl[[#This Row],[内　容]],科目tbl[[内　容]:[番号]],3,TRUE)","v":"収入"},"売掛金回収","摘要",20]
[1241,"2018-03-28",{"$f":"VLOOKUP(入出金tbl[[#This Row],[内　容]],科目tbl[[内　容]:[番号]],2,TRUE)","v":"経常収支"},{"$f":"VLOOKUP(入出金tbl[[#This Row],[内　容]],科目tbl[[内　容]:[番号]],3,TRUE)","v":"収入"},"受取手形回収","てき",30]
[1242,"2018-03-28",{"$f":"VLOOKUP(入出金tbl[[#This Row],[内　容]],科目tbl[[内　容]:[番号]],2,TRUE)","v":"経常収支"},{"$f":"VLOOKUP(入出金tbl[[#This Row],[内　容]],科目tbl[[内　容]:[番号]],3,TRUE)","v":"収入"},"手形割引","てき",40]
[1243,"2018-03-28",{"$f":"VLOOKUP(入出金tbl[[#This Row],[内　容]],科目tbl[[内　容]:[番号]],2,TRUE)","v":"経常収支"},{"$f":"VLOOKUP(入出金tbl[[#This Row],[内　容]],科目tbl[[内　容]:[番号]],3,TRUE)","v":"収入"},"その他収入","てき",50]
[1244,"2018-03-28",{"$f":"VLOOKUP(入出金tbl[[#This Row],[内　容]],科目tbl[[内　容]:[番号]],2,TRUE)","v":"財務収支"},{"$f":"VLOOKUP(入出金tbl[[#This Row],[内　容]],科目tbl[[内　容]:[番号]],3,TRUE)","v":"支出"},"----------","てき",0]
[1245,"2018-03-28",{"$f":"VLOOKUP(入出金tbl[[#This Row],[内　容]],科目tbl[[内　容]:[番号]],2,TRUE)","v":"経常収支"},{"$f":"VLOOKUP(入出金tbl[[#This Row],[内　容]],科目tbl[[内　容]:[番号]],3,TRUE)","v":"支出"},"現金仕入","てき",70]
[1246,"2018-03-28",{"$f":"VLOOKUP(入出金tbl[[#This Row],[内　容]],科目tbl[[内　容]:[番号]],2,TRUE)","v":"経常収支"},{"$f":"VLOOKUP(入出金tbl[[#This Row],[内　容]],科目tbl[[内　容]:[番号]],3,TRUE)","v":"支出"},"買掛金支払","てき",80]
[1247,"2018-03-28",{"$f":"VLOOKUP(入出金tbl[[#This Row],[内　容]],科目tbl[[内　容]:[番号]],2,TRUE)","v":"経常収支"},{"$f":"VLOOKUP(入出金tbl[[#This Row],[内　容]],科目tbl[[内　容]:[番号]],3,TRUE)","v":"支出"},"手形支払","てき",90]
[1248,"2018-03-28",{"$f":"VLOOKUP(入出金tbl[[#This Row],[内　容]],科目tbl[[内　容]:[番号]],2,TRUE)","v":"経常収支"},{"$f":"VLOOKUP(入出金tbl[[#This Row],[内　容]],科目tbl[[内　容]:[番号]],3,TRUE)","v":"支出"},"賃金・給与現金支払","てき",100]
[1249,"2018-03-28",{"$f":"VLOOKUP(入出金tbl[[#This Row],[内　容]],科目tbl[[内　容]:[番号]],2,TRUE)","v":"経常収支"},{"$f":"VLOOKUP(入出金tbl[[#This Row],[内　容]],科目tbl[[内　容]:[番号]],3,TRUE)","v":"支出"},"賞与支払い","てき",110]
[1250,"2018-03-28",{"$f":"VLOOKUP(入出金tbl[[#This Row],[内　容]],科目tbl[[内　容]:[番号]],2,TRUE)","v":"経常収支"},{"$f":"VLOOKUP(入出金tbl[[#This Row],[内　容]],科目tbl[[内　容]:[番号]],3,TRUE)","v":"支出"},"支払利息・割引料","てき",120]
[1251,"2018-03-28",{"$f":"VLOOKUP(入出金tbl[[#This Row],[内　容]],科目tbl[[内　容]:[番号]],2,TRUE)","v":"経常収支"},{"$f":"VLOOKUP(入出金tbl[[#This Row],[内　容]],科目tbl[[内　容]:[番号]],3,TRUE)","v":"支出"},"諸経費現金支払","てき",130]
[1252,"2018-03-28",{"$f":"VLOOKUP(入出金tbl[[#This Row],[内　容]],科目tbl[[内　容]:[番号]],2,TRUE)","v":"財務収支"},{"$f":"VLOOKUP(入出金tbl[[#This Row],[内　容]],科目tbl[[内　容]:[番号]],3,TRUE)","v":"支出"},"----------","てき",0]
[1253,"2018-03-28",{"$f":"VLOOKUP(入出金tbl[[#This Row],[内　容]],科目tbl[[内　容]:[番号]],2,TRUE)","v":"経常外収支"},{"$f":"VLOOKUP(入出金tbl[[#This Row],[内　容]],科目tbl[[内　容]:[番号]],3,TRUE)","v":"収入"},"固定資産等売却手取","てき",150]
[1254,"2018-03-28",{"$f":"VLOOKUP(入出金tbl[[#This Row],[内　容]],科目tbl[[内　容]:[番号]],2,TRUE)","v":"経常外収支"},{"$f":"VLOOKUP(入出金tbl[[#This Row],[内　容]],科目tbl[[内　容]:[番号]],3,TRUE)","v":"収入"},"定期預金等解約","てき",160]
[1255,"2018-03-28",{"$f":"VLOOKUP(入出金tbl[[#This Row],[内　容]],科目tbl[[内　容]:[番号]],2,TRUE)","v":"経常外収支"},{"$f":"VLOOKUP(入出金tbl[[#This Row],[内　容]],科目tbl[[内　容]:[番号]],3,TRUE)","v":"収入"},"その他臨時収入","てき",170]
[1256,"2018-03-28",{"$f":"VLOOKUP(入出金tbl[[#This Row],[内　容]],科目tbl[[内　容]:[番号]],2,TRUE)","v":"財務収支"},{"$f":"VLOOKUP(入出金tbl[[#This Row],[内　容]],科目tbl[[内　容]:[番号]],3,TRUE)","v":"支出"},"----------","てき",0]
[1257,"2018-03-28",{"$f":"VLOOKUP(入出金tbl[[#This Row],[内　容]],科目tbl[[内　容]:[番号]],2,TRUE)","v":"経常外収支"},{"$f":"VLOOKUP(入出金tbl[[#This Row],[内　容]],科目tbl[[内　容]:[番号]],3,TRUE)","v":"支出"},"税金","てき",190]
[1258,"2018-03-28",{"$f":"VLOOKUP(入出金tbl[[#This Row],[内　容]],科目tbl[[内　容]:[番号]],2,TRUE)","v":"経常外収支"},{"$f":"VLOOKUP(入出金tbl[[#This Row],[内　容]],科目tbl[[内　容]:[番号]],3,TRUE)","v":"支出"},"役員賞与","てき",200]
[1259,"2018-03-28",{"$f":"VLOOKUP(入出金tbl[[#This Row],[内　容]],科目tbl[[内　容]:[番号]],2,TRUE)","v":"経常外収支"},{"$f":"VLOOKUP(入出金tbl[[#This Row],[内　容]],科目tbl[[内　容]:[番号]],3,TRUE)","v":"支出"},"配当","てき",210]
[1260,"2018-03-28",{"$f":"VLOOKUP(入出金tbl[[#This Row],[内　容]],科目tbl[[内　容]:[番号]],2,TRUE)","v":"経常外収支"},{"$f":"VLOOKUP(入出金tbl[[#This Row],[内　容]],科目tbl[[内　容]:[番号]],3,TRUE)","v":"支出"},"固定資産購入支出","てき",220]
[1261,"2018-03-28",{"$f":"VLOOKUP(入出金tbl[[#This Row],[内　容]],科目tbl[[内　容]:[番号]],2,TRUE)","v":"経常外収支"},{"$f":"VLOOKUP(入出金tbl[[#This Row],[内　容]],科目tbl[[内　容]:[番号]],3,TRUE)","v":"支出"},"定期預金等設定","てき",230]
[1262,"2018-03-28",{"$f":"VLOOKUP(入出金tbl[[#This Row],[内　容]],科目tbl[[内　容]:[番号]],2,TRUE)","v":"経常外収支"},{"$f":"VLOOKUP(入出金tbl[[#This Row],[内　容]],科目tbl[[内　容]:[番号]],3,TRUE)","v":"支出"},"その他臨時支出","てき",240]
[1263,"2018-03-28",{"$f":"VLOOKUP(入出金tbl[[#This Row],[内　容]],科目tbl[[内　容]:[番号]],2,TRUE)","v":"経常外収支"},{"$f":"VLOOKUP(入出金tbl[[#This Row],[内　容]],科目tbl[[内　容]:[番号]],3,TRUE)","v":"支出"},"テスト4","てき",250]
[1264,"2018-03-28",{"$f":"VLOOKUP(入出金tbl[[#This Row],[内　容]],科目tbl[[内　容]:[番号]],2,TRUE)","v":"財務収支"},{"$f":"VLOOKUP(入出金tbl[[#This Row],[内　容]],科目tbl[[内　容]:[番号]],3,TRUE)","v":"収入"},"短期借入金調達","てき",260]
[1265,"2018-03-28",{"$f":"VLOOKUP(入出金tbl[[#This Row],[内　容]],科目tbl[[内　容]:[番号]],2,TRUE)","v":"財務収支"},{"$f":"VLOOKUP(入出金tbl[[#This Row],[内　容]],科目tbl[[内　容]:[番号]],3,TRUE)","v":"収入"},"長期借入金調達","てき",270]
[1266,"2018-03-28",{"$f":"VLOOKUP(入出金tbl[[#This Row],[内　容]],科目tbl[[内　容]:[番号]],2,TRUE)","v":"財務収支"},{"$f":"VLOOKUP(入出金tbl[[#This Row],[内　容]],科目tbl[[内　容]:[番号]],3,TRUE)","v":"収入"},"社長借入金調達","てき",280]
[1267,"2018-03-28",{"$f":"VLOOKUP(入出金tbl[[#This Row],[内　容]],科目tbl[[内　容]:[番号]],2,TRUE)","v":"財務収支"},{"$f":"VLOOKUP(入出金tbl[[#This Row],[内　容]],科目tbl[[内　容]:[番号]],3,TRUE)","v":"支出"},"----------","てき",0]
[1268,"2018-03-28",{"$f":"VLOOKUP(入出金tbl[[#This Row],[内　容]],科目tbl[[内　容]:[番号]],2,TRUE)","v":"財務収支"},{"$f":"VLOOKUP(入出金tbl[[#This Row],[内　容]],科目tbl[[内　容]:[番号]],3,TRUE)","v":"支出"},"短期借入金返済","てき",310]
[1269,"2018-03-28",{"$f":"VLOOKUP(入出金tbl[[#This Row],[内　容]],科目tbl[[内　容]:[番号]],2,TRUE)","v":"財務収支"},{"$f":"VLOOKUP(入出金tbl[[#This Row],[内　容]],科目tbl[[内　容]:[番号]],3,TRUE)","v":"支出"},"長期借入金返済","てき",320]
[1270,"2018-03-28",{"$f":"VLOOKUP(入出金tbl[[#This Row],[内　容]],科目tbl[[内　容]:[番号]],2,TRUE)","v":"財務収支"},{"$f":"VLOOKUP(入出金tbl[[#This Row],[内　容]],科目tbl[[内　容]:[番号]],3,TRUE)","v":"支出"},"社長借入金返済","てき",330]
[1271,"2018-03-28",{"$f":"VLOOKUP(入出金tbl[[#This Row],[内　容]],科目tbl[[内　容]:[番号]],2,TRUE)","v":"財務収支"},{"$f":"VLOOKUP(入出金tbl[[#This Row],[内　容]],科目tbl[[内　容]:[番号]],3,TRUE)","v":"支出"},"その他返済","てき",340]
[1272,"2018-03-28",{"$f":"VLOOKUP(入出金tbl[[#This Row],[内　容]],科目tbl[[内　容]:[番号]],2,TRUE)","v":"財務収支"},{"$f":"VLOOKUP(入出金tbl[[#This Row],[内　容]],科目tbl[[内　容]:[番号]],3,TRUE)","v":"支出"},"----------","てき",0]
[1273,"2018-03-29",{"$f":"VLOOKUP(入出金tbl[[#This Row],[内　容]],科目tbl[[内　容]:[番号]],2,TRUE)","v":"経常収支"},{"$f":"VLOOKUP(入出金tbl[[#This Row],[内　容]],科目tbl[[内　容]:[番号]],3,TRUE)","v":"収入"},"現金売上","摘要",10]
[1274,"2018-03-29",{"$f":"VLOOKUP(入出金tbl[[#This Row],[内　容]],科目tbl[[内　容]:[番号]],2,TRUE)","v":"経常収支"},{"$f":"VLOOKUP(入出金tbl[[#This Row],[内　容]],科目tbl[[内　容]:[番号]],3,TRUE)","v":"収入"},"売掛金回収","摘要",20]
[1275,"2018-03-29",{"$f":"VLOOKUP(入出金tbl[[#This Row],[内　容]],科目tbl[[内　容]:[番号]],2,TRUE)","v":"経常収支"},{"$f":"VLOOKUP(入出金tbl[[#This Row],[内　容]],科目tbl[[内　容]:[番号]],3,TRUE)","v":"収入"},"受取手形回収","てき",30]
[1276,"2018-03-29",{"$f":"VLOOKUP(入出金tbl[[#This Row],[内　容]],科目tbl[[内　容]:[番号]],2,TRUE)","v":"経常収支"},{"$f":"VLOOKUP(入出金tbl[[#This Row],[内　容]],科目tbl[[内　容]:[番号]],3,TRUE)","v":"収入"},"手形割引","てき",40]
[1277,"2018-03-29",{"$f":"VLOOKUP(入出金tbl[[#This Row],[内　容]],科目tbl[[内　容]:[番号]],2,TRUE)","v":"経常収支"},{"$f":"VLOOKUP(入出金tbl[[#This Row],[内　容]],科目tbl[[内　容]:[番号]],3,TRUE)","v":"収入"},"その他収入","てき",50]
[1278,"2018-03-29",{"$f":"VLOOKUP(入出金tbl[[#This Row],[内　容]],科目tbl[[内　容]:[番号]],2,TRUE)","v":"財務収支"},{"$f":"VLOOKUP(入出金tbl[[#This Row],[内　容]],科目tbl[[内　容]:[番号]],3,TRUE)","v":"支出"},"----------","てき",0]
[1279,"2018-03-29",{"$f":"VLOOKUP(入出金tbl[[#This Row],[内　容]],科目tbl[[内　容]:[番号]],2,TRUE)","v":"経常収支"},{"$f":"VLOOKUP(入出金tbl[[#This Row],[内　容]],科目tbl[[内　容]:[番号]],3,TRUE)","v":"支出"},"現金仕入","てき",70]
[1280,"2018-03-29",{"$f":"VLOOKUP(入出金tbl[[#This Row],[内　容]],科目tbl[[内　容]:[番号]],2,TRUE)","v":"経常収支"},{"$f":"VLOOKUP(入出金tbl[[#This Row],[内　容]],科目tbl[[内　容]:[番号]],3,TRUE)","v":"支出"},"買掛金支払","てき",80]
[1281,"2018-03-29",{"$f":"VLOOKUP(入出金tbl[[#This Row],[内　容]],科目tbl[[内　容]:[番号]],2,TRUE)","v":"経常収支"},{"$f":"VLOOKUP(入出金tbl[[#This Row],[内　容]],科目tbl[[内　容]:[番号]],3,TRUE)","v":"支出"},"手形支払","てき",90]
[1282,"2018-03-29",{"$f":"VLOOKUP(入出金tbl[[#This Row],[内　容]],科目tbl[[内　容]:[番号]],2,TRUE)","v":"経常収支"},{"$f":"VLOOKUP(入出金tbl[[#This Row],[内　容]],科目tbl[[内　容]:[番号]],3,TRUE)","v":"支出"},"賃金・給与現金支払","てき",100]
[1283,"2018-03-29",{"$f":"VLOOKUP(入出金tbl[[#This Row],[内　容]],科目tbl[[内　容]:[番号]],2,TRUE)","v":"経常収支"},{"$f":"VLOOKUP(入出金tbl[[#This Row],[内　容]],科目tbl[[内　容]:[番号]],3,TRUE)","v":"支出"},"賞与支払い","てき",110]
[1284,"2018-03-29",{"$f":"VLOOKUP(入出金tbl[[#This Row],[内　容]],科目tbl[[内　容]:[番号]],2,TRUE)","v":"経常収支"},{"$f":"VLOOKUP(入出金tbl[[#This Row],[内　容]],科目tbl[[内　容]:[番号]],3,TRUE)","v":"支出"},"支払利息・割引料","てき",120]
[1285,"2018-03-29",{"$f":"VLOOKUP(入出金tbl[[#This Row],[内　容]],科目tbl[[内　容]:[番号]],2,TRUE)","v":"経常収支"},{"$f":"VLOOKUP(入出金tbl[[#This Row],[内　容]],科目tbl[[内　容]:[番号]],3,TRUE)","v":"支出"},"諸経費現金支払","てき",130]
[1286,"2018-03-29",{"$f":"VLOOKUP(入出金tbl[[#This Row],[内　容]],科目tbl[[内　容]:[番号]],2,TRUE)","v":"財務収支"},{"$f":"VLOOKUP(入出金tbl[[#This Row],[内　容]],科目tbl[[内　容]:[番号]],3,TRUE)","v":"支出"},"----------","てき",0]
[1287,"2018-03-29",{"$f":"VLOOKUP(入出金tbl[[#This Row],[内　容]],科目tbl[[内　容]:[番号]],2,TRUE)","v":"経常外収支"},{"$f":"VLOOKUP(入出金tbl[[#This Row],[内　容]],科目tbl[[内　容]:[番号]],3,TRUE)","v":"収入"},"固定資産等売却手取","てき",150]
[1288,"2018-03-29",{"$f":"VLOOKUP(入出金tbl[[#This Row],[内　容]],科目tbl[[内　容]:[番号]],2,TRUE)","v":"経常外収支"},{"$f":"VLOOKUP(入出金tbl[[#This Row],[内　容]],科目tbl[[内　容]:[番号]],3,TRUE)","v":"収入"},"定期預金等解約","てき",160]
[1289,"2018-03-29",{"$f":"VLOOKUP(入出金tbl[[#This Row],[内　容]],科目tbl[[内　容]:[番号]],2,TRUE)","v":"経常外収支"},{"$f":"VLOOKUP(入出金tbl[[#This Row],[内　容]],科目tbl[[内　容]:[番号]],3,TRUE)","v":"収入"},"その他臨時収入","てき",170]
[1290,"2018-03-29",{"$f":"VLOOKUP(入出金tbl[[#This Row],[内　容]],科目tbl[[内　容]:[番号]],2,TRUE)","v":"財務収支"},{"$f":"VLOOKUP(入出金tbl[[#This Row],[内　容]],科目tbl[[内　容]:[番号]],3,TRUE)","v":"支出"},"----------","てき",0]
[1291,"2018-03-29",{"$f":"VLOOKUP(入出金tbl[[#This Row],[内　容]],科目tbl[[内　容]:[番号]],2,TRUE)","v":"経常外収支"},{"$f":"VLOOKUP(入出金tbl[[#This Row],[内　容]],科目tbl[[内　容]:[番号]],3,TRUE)","v":"支出"},"税金","てき",190]
[1292,"2018-03-29",{"$f":"VLOOKUP(入出金tbl[[#This Row],[内　容]],科目tbl[[内　容]:[番号]],2,TRUE)","v":"経常外収支"},{"$f":"VLOOKUP(入出金tbl[[#This Row],[内　容]],科目tbl[[内　容]:[番号]],3,TRUE)","v":"支出"},"役員賞与","てき",200]
[1293,"2018-03-29",{"$f":"VLOOKUP(入出金tbl[[#This Row],[内　容]],科目tbl[[内　容]:[番号]],2,TRUE)","v":"経常外収支"},{"$f":"VLOOKUP(入出金tbl[[#This Row],[内　容]],科目tbl[[内　容]:[番号]],3,TRUE)","v":"支出"},"配当","てき",210]
[1294,"2018-03-29",{"$f":"VLOOKUP(入出金tbl[[#This Row],[内　容]],科目tbl[[内　容]:[番号]],2,TRUE)","v":"経常外収支"},{"$f":"VLOOKUP(入出金tbl[[#This Row],[内　容]],科目tbl[[内　容]:[番号]],3,TRUE)","v":"支出"},"固定資産購入支出","てき",220]
[1295,"2018-03-29",{"$f":"VLOOKUP(入出金tbl[[#This Row],[内　容]],科目tbl[[内　容]:[番号]],2,TRUE)","v":"経常外収支"},{"$f":"VLOOKUP(入出金tbl[[#This Row],[内　容]],科目tbl[[内　容]:[番号]],3,TRUE)","v":"支出"},"定期預金等設定","てき",230]
[1296,"2018-03-29",{"$f":"VLOOKUP(入出金tbl[[#This Row],[内　容]],科目tbl[[内　容]:[番号]],2,TRUE)","v":"経常外収支"},{"$f":"VLOOKUP(入出金tbl[[#This Row],[内　容]],科目tbl[[内　容]:[番号]],3,TRUE)","v":"支出"},"その他臨時支出","てき",240]
[1297,"2018-03-29",{"$f":"VLOOKUP(入出金tbl[[#This Row],[内　容]],科目tbl[[内　容]:[番号]],2,TRUE)","v":"経常外収支"},{"$f":"VLOOKUP(入出金tbl[[#This Row],[内　容]],科目tbl[[内　容]:[番号]],3,TRUE)","v":"支出"},"テスト4","てき",250]
[1298,"2018-03-29",{"$f":"VLOOKUP(入出金tbl[[#This Row],[内　容]],科目tbl[[内　容]:[番号]],2,TRUE)","v":"財務収支"},{"$f":"VLOOKUP(入出金tbl[[#This Row],[内　容]],科目tbl[[内　容]:[番号]],3,TRUE)","v":"収入"},"短期借入金調達","てき",260]
[1299,"2018-03-29",{"$f":"VLOOKUP(入出金tbl[[#This Row],[内　容]],科目tbl[[内　容]:[番号]],2,TRUE)","v":"財務収支"},{"$f":"VLOOKUP(入出金tbl[[#This Row],[内　容]],科目tbl[[内　容]:[番号]],3,TRUE)","v":"収入"},"長期借入金調達","てき",270]
[1300,"2018-03-29",{"$f":"VLOOKUP(入出金tbl[[#This Row],[内　容]],科目tbl[[内　容]:[番号]],2,TRUE)","v":"財務収支"},{"$f":"VLOOKUP(入出金tbl[[#This Row],[内　容]],科目tbl[[内　容]:[番号]],3,TRUE)","v":"収入"},"社長借入金調達","てき",280]
[1301,"2018-03-29",{"$f":"VLOOKUP(入出金tbl[[#This Row],[内　容]],科目tbl[[内　容]:[番号]],2,TRUE)","v":"財務収支"},{"$f":"VLOOKUP(入出金tbl[[#This Row],[内　容]],科目tbl[[内　容]:[番号]],3,TRUE)","v":"支出"},"----------","てき",0]
[1302,"2018-03-29",{"$f":"VLOOKUP(入出金tbl[[#This Row],[内　容]],科目tbl[[内　容]:[番号]],2,TRUE)","v":"財務収支"},{"$f":"VLOOKUP(入出金tbl[[#This Row],[内　容]],科目tbl[[内　容]:[番号]],3,TRUE)","v":"支出"},"短期借入金返済","てき",310]
[1303,"2018-03-29",{"$f":"VLOOKUP(入出金tbl[[#This Row],[内　容]],科目tbl[[内　容]:[番号]],2,TRUE)","v":"財務収支"},{"$f":"VLOOKUP(入出金tbl[[#This Row],[内　容]],科目tbl[[内　容]:[番号]],3,TRUE)","v":"支出"},"長期借入金返済","てき",320]
[1304,"2018-03-29",{"$f":"VLOOKUP(入出金tbl[[#This Row],[内　容]],科目tbl[[内　容]:[番号]],2,TRUE)","v":"財務収支"},{"$f":"VLOOKUP(入出金tbl[[#This Row],[内　容]],科目tbl[[内　容]:[番号]],3,TRUE)","v":"支出"},"社長借入金返済","てき",330]
[1305,"2018-03-29",{"$f":"VLOOKUP(入出金tbl[[#This Row],[内　容]],科目tbl[[内　容]:[番号]],2,TRUE)","v":"財務収支"},{"$f":"VLOOKUP(入出金tbl[[#This Row],[内　容]],科目tbl[[内　容]:[番号]],3,TRUE)","v":"支出"},"その他返済","てき",340]
[1306,"2018-03-29",{"$f":"VLOOKUP(入出金tbl[[#This Row],[内　容]],科目tbl[[内　容]:[番号]],2,TRUE)","v":"財務収支"},{"$f":"VLOOKUP(入出金tbl[[#This Row],[内　容]],科目tbl[[内　容]:[番号]],3,TRUE)","v":"支出"},"----------","てき",0]
[1307,"2018-03-30",{"$f":"VLOOKUP(入出金tbl[[#This Row],[内　容]],科目tbl[[内　容]:[番号]],2,TRUE)","v":"経常収支"},{"$f":"VLOOKUP(入出金tbl[[#This Row],[内　容]],科目tbl[[内　容]:[番号]],3,TRUE)","v":"収入"},"現金売上","摘要",10]
[1308,"2018-03-30",{"$f":"VLOOKUP(入出金tbl[[#This Row],[内　容]],科目tbl[[内　容]:[番号]],2,TRUE)","v":"経常収支"},{"$f":"VLOOKUP(入出金tbl[[#This Row],[内　容]],科目tbl[[内　容]:[番号]],3,TRUE)","v":"収入"},"売掛金回収","摘要",20]
[1309,"2018-03-30",{"$f":"VLOOKUP(入出金tbl[[#This Row],[内　容]],科目tbl[[内　容]:[番号]],2,TRUE)","v":"経常収支"},{"$f":"VLOOKUP(入出金tbl[[#This Row],[内　容]],科目tbl[[内　容]:[番号]],3,TRUE)","v":"収入"},"受取手形回収","てき",30]
[1310,"2018-03-30",{"$f":"VLOOKUP(入出金tbl[[#This Row],[内　容]],科目tbl[[内　容]:[番号]],2,TRUE)","v":"経常収支"},{"$f":"VLOOKUP(入出金tbl[[#This Row],[内　容]],科目tbl[[内　容]:[番号]],3,TRUE)","v":"収入"},"手形割引","てき",40]
[1311,"2018-03-30",{"$f":"VLOOKUP(入出金tbl[[#This Row],[内　容]],科目tbl[[内　容]:[番号]],2,TRUE)","v":"経常収支"},{"$f":"VLOOKUP(入出金tbl[[#This Row],[内　容]],科目tbl[[内　容]:[番号]],3,TRUE)","v":"収入"},"その他収入","てき",50]
[1312,"2018-03-30",{"$f":"VLOOKUP(入出金tbl[[#This Row],[内　容]],科目tbl[[内　容]:[番号]],2,TRUE)","v":"財務収支"},{"$f":"VLOOKUP(入出金tbl[[#This Row],[内　容]],科目tbl[[内　容]:[番号]],3,TRUE)","v":"支出"},"----------","てき",0]
[1313,"2018-03-30",{"$f":"VLOOKUP(入出金tbl[[#This Row],[内　容]],科目tbl[[内　容]:[番号]],2,TRUE)","v":"経常収支"},{"$f":"VLOOKUP(入出金tbl[[#This Row],[内　容]],科目tbl[[内　容]:[番号]],3,TRUE)","v":"支出"},"現金仕入","てき",70]
[1314,"2018-03-30",{"$f":"VLOOKUP(入出金tbl[[#This Row],[内　容]],科目tbl[[内　容]:[番号]],2,TRUE)","v":"経常収支"},{"$f":"VLOOKUP(入出金tbl[[#This Row],[内　容]],科目tbl[[内　容]:[番号]],3,TRUE)","v":"支出"},"買掛金支払","てき",80]
[1315,"2018-03-30",{"$f":"VLOOKUP(入出金tbl[[#This Row],[内　容]],科目tbl[[内　容]:[番号]],2,TRUE)","v":"経常収支"},{"$f":"VLOOKUP(入出金tbl[[#This Row],[内　容]],科目tbl[[内　容]:[番号]],3,TRUE)","v":"支出"},"手形支払","てき",90]
[1316,"2018-03-30",{"$f":"VLOOKUP(入出金tbl[[#This Row],[内　容]],科目tbl[[内　容]:[番号]],2,TRUE)","v":"経常収支"},{"$f":"VLOOKUP(入出金tbl[[#This Row],[内　容]],科目tbl[[内　容]:[番号]],3,TRUE)","v":"支出"},"賃金・給与現金支払","てき",100]
[1317,"2018-03-30",{"$f":"VLOOKUP(入出金tbl[[#This Row],[内　容]],科目tbl[[内　容]:[番号]],2,TRUE)","v":"経常収支"},{"$f":"VLOOKUP(入出金tbl[[#This Row],[内　容]],科目tbl[[内　容]:[番号]],3,TRUE)","v":"支出"},"賞与支払い","てき",110]
[1318,"2018-03-30",{"$f":"VLOOKUP(入出金tbl[[#This Row],[内　容]],科目tbl[[内　容]:[番号]],2,TRUE)","v":"経常収支"},{"$f":"VLOOKUP(入出金tbl[[#This Row],[内　容]],科目tbl[[内　容]:[番号]],3,TRUE)","v":"支出"},"支払利息・割引料","てき",120]
[1319,"2018-03-30",{"$f":"VLOOKUP(入出金tbl[[#This Row],[内　容]],科目tbl[[内　容]:[番号]],2,TRUE)","v":"経常収支"},{"$f":"VLOOKUP(入出金tbl[[#This Row],[内　容]],科目tbl[[内　容]:[番号]],3,TRUE)","v":"支出"},"諸経費現金支払","てき",130]
[1320,"2018-03-30",{"$f":"VLOOKUP(入出金tbl[[#This Row],[内　容]],科目tbl[[内　容]:[番号]],2,TRUE)","v":"財務収支"},{"$f":"VLOOKUP(入出金tbl[[#This Row],[内　容]],科目tbl[[内　容]:[番号]],3,TRUE)","v":"支出"},"----------","てき",0]
[1321,"2018-03-30",{"$f":"VLOOKUP(入出金tbl[[#This Row],[内　容]],科目tbl[[内　容]:[番号]],2,TRUE)","v":"経常外収支"},{"$f":"VLOOKUP(入出金tbl[[#This Row],[内　容]],科目tbl[[内　容]:[番号]],3,TRUE)","v":"収入"},"固定資産等売却手取","てき",150]
[1322,"2018-03-30",{"$f":"VLOOKUP(入出金tbl[[#This Row],[内　容]],科目tbl[[内　容]:[番号]],2,TRUE)","v":"経常外収支"},{"$f":"VLOOKUP(入出金tbl[[#This Row],[内　容]],科目tbl[[内　容]:[番号]],3,TRUE)","v":"収入"},"定期預金等解約","てき",160]
[1323,"2018-03-30",{"$f":"VLOOKUP(入出金tbl[[#This Row],[内　容]],科目tbl[[内　容]:[番号]],2,TRUE)","v":"経常外収支"},{"$f":"VLOOKUP(入出金tbl[[#This Row],[内　容]],科目tbl[[内　容]:[番号]],3,TRUE)","v":"収入"},"その他臨時収入","てき",170]
[1324,"2018-03-30",{"$f":"VLOOKUP(入出金tbl[[#This Row],[内　容]],科目tbl[[内　容]:[番号]],2,TRUE)","v":"財務収支"},{"$f":"VLOOKUP(入出金tbl[[#This Row],[内　容]],科目tbl[[内　容]:[番号]],3,TRUE)","v":"支出"},"----------","てき",0]
[1325,"2018-03-30",{"$f":"VLOOKUP(入出金tbl[[#This Row],[内　容]],科目tbl[[内　容]:[番号]],2,TRUE)","v":"経常外収支"},{"$f":"VLOOKUP(入出金tbl[[#This Row],[内　容]],科目tbl[[内　容]:[番号]],3,TRUE)","v":"支出"},"税金","てき",190]
[1326,"2018-03-30",{"$f":"VLOOKUP(入出金tbl[[#This Row],[内　容]],科目tbl[[内　容]:[番号]],2,TRUE)","v":"経常外収支"},{"$f":"VLOOKUP(入出金tbl[[#This Row],[内　容]],科目tbl[[内　容]:[番号]],3,TRUE)","v":"支出"},"役員賞与","てき",200]
[1327,"2018-03-30",{"$f":"VLOOKUP(入出金tbl[[#This Row],[内　容]],科目tbl[[内　容]:[番号]],2,TRUE)","v":"経常外収支"},{"$f":"VLOOKUP(入出金tbl[[#This Row],[内　容]],科目tbl[[内　容]:[番号]],3,TRUE)","v":"支出"},"配当","てき",210]
[1328,"2018-03-30",{"$f":"VLOOKUP(入出金tbl[[#This Row],[内　容]],科目tbl[[内　容]:[番号]],2,TRUE)","v":"経常外収支"},{"$f":"VLOOKUP(入出金tbl[[#This Row],[内　容]],科目tbl[[内　容]:[番号]],3,TRUE)","v":"支出"},"固定資産購入支出","てき",220]
[1329,"2018-03-30",{"$f":"VLOOKUP(入出金tbl[[#This Row],[内　容]],科目tbl[[内　容]:[番号]],2,TRUE)","v":"経常外収支"},{"$f":"VLOOKUP(入出金tbl[[#This Row],[内　容]],科目tbl[[内　容]:[番号]],3,TRUE)","v":"支出"},"定期預金等設定","てき",230]
[1330,"2018-03-30",{"$f":"VLOOKUP(入出金tbl[[#This Row],[内　容]],科目tbl[[内　容]:[番号]],2,TRUE)","v":"経常外収支"},{"$f":"VLOOKUP(入出金tbl[[#This Row],[内　容]],科目tbl[[内　容]:[番号]],3,TRUE)","v":"支出"},"その他臨時支出","てき",240]
[1331,"2018-03-30",{"$f":"VLOOKUP(入出金tbl[[#This Row],[内　容]],科目tbl[[内　容]:[番号]],2,TRUE)","v":"経常外収支"},{"$f":"VLOOKUP(入出金tbl[[#This Row],[内　容]],科目tbl[[内　容]:[番号]],3,TRUE)","v":"支出"},"テスト4","てき",250]
[1332,"2018-03-30",{"$f":"VLOOKUP(入出金tbl[[#This Row],[内　容]],科目tbl[[内　容]:[番号]],2,TRUE)","v":"財務収支"},{"$f":"VLOOKUP(入出金tbl[[#This Row],[内　容]],科目tbl[[内　容]:[番号]],3,TRUE)","v":"収入"},"短期借入金調達","てき",260]
[1333,"2018-03-30",{"$f":"VLOOKUP(入出金tbl[[#This Row],[内　容]],科目tbl[[内　容]:[番号]],2,TRUE)","v":"財務収支"},{"$f":"VLOOKUP(入出金tbl[[#This Row],[内　容]],科目tbl[[内　容]:[番号]],3,TRUE)","v":"収入"},"長期借入金調達","てき",270]
[1334,"2018-03-30",{"$f":"VLOOKUP(入出金tbl[[#This Row],[内　容]],科目tbl[[内　容]:[番号]],2,TRUE)","v":"財務収支"},{"$f":"VLOOKUP(入出金tbl[[#This Row],[内　容]],科目tbl[[内　容]:[番号]],3,TRUE)","v":"収入"},"社長借入金調達","てき",280]
[1335,"2018-03-30",{"$f":"VLOOKUP(入出金tbl[[#This Row],[内　容]],科目tbl[[内　容]:[番号]],2,TRUE)","v":"財務収支"},{"$f":"VLOOKUP(入出金tbl[[#This Row],[内　容]],科目tbl[[内　容]:[番号]],3,TRUE)","v":"支出"},"----------","てき",0]
[1336,"2018-03-30",{"$f":"VLOOKUP(入出金tbl[[#This Row],[内　容]],科目tbl[[内　容]:[番号]],2,TRUE)","v":"財務収支"},{"$f":"VLOOKUP(入出金tbl[[#This Row],[内　容]],科目tbl[[内　容]:[番号]],3,TRUE)","v":"支出"},"短期借入金返済","てき",310]
[1337,"2018-03-30",{"$f":"VLOOKUP(入出金tbl[[#This Row],[内　容]],科目tbl[[内　容]:[番号]],2,TRUE)","v":"財務収支"},{"$f":"VLOOKUP(入出金tbl[[#This Row],[内　容]],科目tbl[[内　容]:[番号]],3,TRUE)","v":"支出"},"長期借入金返済","てき",320]
[1338,"2018-03-30",{"$f":"VLOOKUP(入出金tbl[[#This Row],[内　容]],科目tbl[[内　容]:[番号]],2,TRUE)","v":"財務収支"},{"$f":"VLOOKUP(入出金tbl[[#This Row],[内　容]],科目tbl[[内　容]:[番号]],3,TRUE)","v":"支出"},"社長借入金返済","てき",330]
[1339,"2018-03-30",{"$f":"VLOOKUP(入出金tbl[[#This Row],[内　容]],科目tbl[[内　容]:[番号]],2,TRUE)","v":"財務収支"},{"$f":"VLOOKUP(入出金tbl[[#This Row],[内　容]],科目tbl[[内　容]:[番号]],3,TRUE)","v":"支出"},"その他返済","てき",340]
[1340,"2018-03-30",{"$f":"VLOOKUP(入出金tbl[[#This Row],[内　容]],科目tbl[[内　容]:[番号]],2,TRUE)","v":"財務収支"},{"$f":"VLOOKUP(入出金tbl[[#This Row],[内　容]],科目tbl[[内　容]:[番号]],3,TRUE)","v":"支出"},"----------","てき",0]
[1341,"2018-03-31",{"$f":"VLOOKUP(入出金tbl[[#This Row],[内　容]],科目tbl[[内　容]:[番号]],2,TRUE)","v":"経常収支"},{"$f":"VLOOKUP(入出金tbl[[#This Row],[内　容]],科目tbl[[内　容]:[番号]],3,TRUE)","v":"収入"},"現金売上","摘要",10]
[1342,"2018-03-31",{"$f":"VLOOKUP(入出金tbl[[#This Row],[内　容]],科目tbl[[内　容]:[番号]],2,TRUE)","v":"経常収支"},{"$f":"VLOOKUP(入出金tbl[[#This Row],[内　容]],科目tbl[[内　容]:[番号]],3,TRUE)","v":"収入"},"売掛金回収","摘要",20]
[1343,"2018-03-31",{"$f":"VLOOKUP(入出金tbl[[#This Row],[内　容]],科目tbl[[内　容]:[番号]],2,TRUE)","v":"経常収支"},{"$f":"VLOOKUP(入出金tbl[[#This Row],[内　容]],科目tbl[[内　容]:[番号]],3,TRUE)","v":"収入"},"受取手形回収","てき",30]
[1344,"2018-03-31",{"$f":"VLOOKUP(入出金tbl[[#This Row],[内　容]],科目tbl[[内　容]:[番号]],2,TRUE)","v":"経常収支"},{"$f":"VLOOKUP(入出金tbl[[#This Row],[内　容]],科目tbl[[内　容]:[番号]],3,TRUE)","v":"収入"},"手形割引","てき",40]
[1345,"2018-03-31",{"$f":"VLOOKUP(入出金tbl[[#This Row],[内　容]],科目tbl[[内　容]:[番号]],2,TRUE)","v":"経常収支"},{"$f":"VLOOKUP(入出金tbl[[#This Row],[内　容]],科目tbl[[内　容]:[番号]],3,TRUE)","v":"収入"},"その他収入","てき",50]
[1346,"2018-03-31",{"$f":"VLOOKUP(入出金tbl[[#This Row],[内　容]],科目tbl[[内　容]:[番号]],2,TRUE)","v":"財務収支"},{"$f":"VLOOKUP(入出金tbl[[#This Row],[内　容]],科目tbl[[内　容]:[番号]],3,TRUE)","v":"支出"},"----------","てき",0]
[1347,"2018-03-31",{"$f":"VLOOKUP(入出金tbl[[#This Row],[内　容]],科目tbl[[内　容]:[番号]],2,TRUE)","v":"経常収支"},{"$f":"VLOOKUP(入出金tbl[[#This Row],[内　容]],科目tbl[[内　容]:[番号]],3,TRUE)","v":"支出"},"現金仕入","てき",70]
[1348,"2018-03-31",{"$f":"VLOOKUP(入出金tbl[[#This Row],[内　容]],科目tbl[[内　容]:[番号]],2,TRUE)","v":"経常収支"},{"$f":"VLOOKUP(入出金tbl[[#This Row],[内　容]],科目tbl[[内　容]:[番号]],3,TRUE)","v":"支出"},"買掛金支払","てき",80]
[1349,"2018-03-31",{"$f":"VLOOKUP(入出金tbl[[#This Row],[内　容]],科目tbl[[内　容]:[番号]],2,TRUE)","v":"経常収支"},{"$f":"VLOOKUP(入出金tbl[[#This Row],[内　容]],科目tbl[[内　容]:[番号]],3,TRUE)","v":"支出"},"手形支払","てき",90]
[1350,"2018-03-31",{"$f":"VLOOKUP(入出金tbl[[#This Row],[内　容]],科目tbl[[内　容]:[番号]],2,TRUE)","v":"経常収支"},{"$f":"VLOOKUP(入出金tbl[[#This Row],[内　容]],科目tbl[[内　容]:[番号]],3,TRUE)","v":"支出"},"賃金・給与現金支払","てき",100]
[1351,"2018-03-31",{"$f":"VLOOKUP(入出金tbl[[#This Row],[内　容]],科目tbl[[内　容]:[番号]],2,TRUE)","v":"経常収支"},{"$f":"VLOOKUP(入出金tbl[[#This Row],[内　容]],科目tbl[[内　容]:[番号]],3,TRUE)","v":"支出"},"賞与支払い","てき",110]
[1352,"2018-03-31",{"$f":"VLOOKUP(入出金tbl[[#This Row],[内　容]],科目tbl[[内　容]:[番号]],2,TRUE)","v":"経常収支"},{"$f":"VLOOKUP(入出金tbl[[#This Row],[内　容]],科目tbl[[内　容]:[番号]],3,TRUE)","v":"支出"},"支払利息・割引料","てき",120]
[1353,"2018-03-31",{"$f":"VLOOKUP(入出金tbl[[#This Row],[内　容]],科目tbl[[内　容]:[番号]],2,TRUE)","v":"経常収支"},{"$f":"VLOOKUP(入出金tbl[[#This Row],[内　容]],科目tbl[[内　容]:[番号]],3,TRUE)","v":"支出"},"諸経費現金支払","てき",130]
[1354,"2018-03-31",{"$f":"VLOOKUP(入出金tbl[[#This Row],[内　容]],科目tbl[[内　容]:[番号]],2,TRUE)","v":"財務収支"},{"$f":"VLOOKUP(入出金tbl[[#This Row],[内　容]],科目tbl[[内　容]:[番号]],3,TRUE)","v":"支出"},"----------","てき",0]
[1355,"2018-03-31",{"$f":"VLOOKUP(入出金tbl[[#This Row],[内　容]],科目tbl[[内　容]:[番号]],2,TRUE)","v":"経常外収支"},{"$f":"VLOOKUP(入出金tbl[[#This Row],[内　容]],科目tbl[[内　容]:[番号]],3,TRUE)","v":"収入"},"固定資産等売却手取","てき",150]
[1356,"2018-03-31",{"$f":"VLOOKUP(入出金tbl[[#This Row],[内　容]],科目tbl[[内　容]:[番号]],2,TRUE)","v":"経常外収支"},{"$f":"VLOOKUP(入出金tbl[[#This Row],[内　容]],科目tbl[[内　容]:[番号]],3,TRUE)","v":"収入"},"定期預金等解約","てき",160]
[1357,"2018-03-31",{"$f":"VLOOKUP(入出金tbl[[#This Row],[内　容]],科目tbl[[内　容]:[番号]],2,TRUE)","v":"経常外収支"},{"$f":"VLOOKUP(入出金tbl[[#This Row],[内　容]],科目tbl[[内　容]:[番号]],3,TRUE)","v":"収入"},"その他臨時収入","てき",170]
[1358,"2018-03-31",{"$f":"VLOOKUP(入出金tbl[[#This Row],[内　容]],科目tbl[[内　容]:[番号]],2,TRUE)","v":"財務収支"},{"$f":"VLOOKUP(入出金tbl[[#This Row],[内　容]],科目tbl[[内　容]:[番号]],3,TRUE)","v":"支出"},"----------","てき",0]
[1359,"2018-03-31",{"$f":"VLOOKUP(入出金tbl[[#This Row],[内　容]],科目tbl[[内　容]:[番号]],2,TRUE)","v":"経常外収支"},{"$f":"VLOOKUP(入出金tbl[[#This Row],[内　容]],科目tbl[[内　容]:[番号]],3,TRUE)","v":"支出"},"税金","てき",190]
[1360,"2018-03-31",{"$f":"VLOOKUP(入出金tbl[[#This Row],[内　容]],科目tbl[[内　容]:[番号]],2,TRUE)","v":"経常外収支"},{"$f":"VLOOKUP(入出金tbl[[#This Row],[内　容]],科目tbl[[内　容]:[番号]],3,TRUE)","v":"支出"},"役員賞与","てき",200]
[1361,"2018-03-31",{"$f":"VLOOKUP(入出金tbl[[#This Row],[内　容]],科目tbl[[内　容]:[番号]],2,TRUE)","v":"経常外収支"},{"$f":"VLOOKUP(入出金tbl[[#This Row],[内　容]],科目tbl[[内　容]:[番号]],3,TRUE)","v":"支出"},"配当","てき",210]
[1362,"2018-03-31",{"$f":"VLOOKUP(入出金tbl[[#This Row],[内　容]],科目tbl[[内　容]:[番号]],2,TRUE)","v":"経常外収支"},{"$f":"VLOOKUP(入出金tbl[[#This Row],[内　容]],科目tbl[[内　容]:[番号]],3,TRUE)","v":"支出"},"固定資産購入支出","てき",220]
[1363,"2018-03-31",{"$f":"VLOOKUP(入出金tbl[[#This Row],[内　容]],科目tbl[[内　容]:[番号]],2,TRUE)","v":"経常外収支"},{"$f":"VLOOKUP(入出金tbl[[#This Row],[内　容]],科目tbl[[内　容]:[番号]],3,TRUE)","v":"支出"},"定期預金等設定","てき",230]
[1364,"2018-03-31",{"$f":"VLOOKUP(入出金tbl[[#This Row],[内　容]],科目tbl[[内　容]:[番号]],2,TRUE)","v":"経常外収支"},{"$f":"VLOOKUP(入出金tbl[[#This Row],[内　容]],科目tbl[[内　容]:[番号]],3,TRUE)","v":"支出"},"その他臨時支出","てき",240]
[1365,"2018-03-31",{"$f":"VLOOKUP(入出金tbl[[#This Row],[内　容]],科目tbl[[内　容]:[番号]],2,TRUE)","v":"経常外収支"},{"$f":"VLOOKUP(入出金tbl[[#This Row],[内　容]],科目tbl[[内　容]:[番号]],3,TRUE)","v":"支出"},"テスト4","てき",250]
[1366,"2018-03-31",{"$f":"VLOOKUP(入出金tbl[[#This Row],[内　容]],科目tbl[[内　容]:[番号]],2,TRUE)","v":"財務収支"},{"$f":"VLOOKUP(入出金tbl[[#This Row],[内　容]],科目tbl[[内　容]:[番号]],3,TRUE)","v":"収入"},"短期借入金調達","てき",260]
[1367,"2018-03-31",{"$f":"VLOOKUP(入出金tbl[[#This Row],[内　容]],科目tbl[[内　容]:[番号]],2,TRUE)","v":"財務収支"},{"$f":"VLOOKUP(入出金tbl[[#This Row],[内　容]],科目tbl[[内　容]:[番号]],3,TRUE)","v":"収入"},"長期借入金調達","てき",270]
[1368,"2018-03-31",{"$f":"VLOOKUP(入出金tbl[[#This Row],[内　容]],科目tbl[[内　容]:[番号]],2,TRUE)","v":"財務収支"},{"$f":"VLOOKUP(入出金tbl[[#This Row],[内　容]],科目tbl[[内　容]:[番号]],3,TRUE)","v":"収入"},"社長借入金調達","てき",280]
[1369,"2018-03-31",{"$f":"VLOOKUP(入出金tbl[[#This Row],[内　容]],科目tbl[[内　容]:[番号]],2,TRUE)","v":"財務収支"},{"$f":"VLOOKUP(入出金tbl[[#This Row],[内　容]],科目tbl[[内　容]:[番号]],3,TRUE)","v":"支出"},"----------","てき",0]
[1370,"2018-03-31",{"$f":"VLOOKUP(入出金tbl[[#This Row],[内　容]],科目tbl[[内　容]:[番号]],2,TRUE)","v":"財務収支"},{"$f":"VLOOKUP(入出金tbl[[#This Row],[内　容]],科目tbl[[内　容]:[番号]],3,TRUE)","v":"支出"},"短期借入金返済","てき",310]
[1371,"2018-03-31",{"$f":"VLOOKUP(入出金tbl[[#This Row],[内　容]],科目tbl[[内　容]:[番号]],2,TRUE)","v":"財務収支"},{"$f":"VLOOKUP(入出金tbl[[#This Row],[内　容]],科目tbl[[内　容]:[番号]],3,TRUE)","v":"支出"},"長期借入金返済","てき",320]
[1372,"2018-03-31",{"$f":"VLOOKUP(入出金tbl[[#This Row],[内　容]],科目tbl[[内　容]:[番号]],2,TRUE)","v":"財務収支"},{"$f":"VLOOKUP(入出金tbl[[#This Row],[内　容]],科目tbl[[内　容]:[番号]],3,TRUE)","v":"支出"},"社長借入金返済","てき",330]
[1373,"2018-03-31",{"$f":"VLOOKUP(入出金tbl[[#This Row],[内　容]],科目tbl[[内　容]:[番号]],2,TRUE)","v":"財務収支"},{"$f":"VLOOKUP(入出金tbl[[#This Row],[内　容]],科目tbl[[内　容]:[番号]],3,TRUE)","v":"支出"},"その他返済","てき",340]
[1374,"2018-03-31",{"$f":"VLOOKUP(入出金tbl[[#This Row],[内　容]],科目tbl[[内　容]:[番号]],2,TRUE)","v":"財務収支"},{"$f":"VLOOKUP(入出金tbl[[#This Row],[内　容]],科目tbl[[内　容]:[番号]],3,TRUE)","v":"支出"},"----------","てき",0]
[1375,"2018-03-21",{"$f":"VLOOKUP(入出金tbl[[#This Row],[内　容]],科目tbl[[内　容]:[番号]],2,TRUE)","v":"財務収支"},{"$f":"VLOOKUP(入出金tbl[[#This Row],[内　容]],科目tbl[[内　容]:[番号]],3,TRUE)","v":"収入"},"その他調達","てき",290]
[1376,"2018-03-22",{"$f":"VLOOKUP(入出金tbl[[#This Row],[内　容]],科目tbl[[内　容]:[番号]],2,TRUE)","v":"財務収支"},{"$f":"VLOOKUP(入出金tbl[[#This Row],[内　容]],科目tbl[[内　容]:[番号]],3,TRUE)","v":"収入"},"その他調達","てき",290]
[1377,"2018-03-23",{"$f":"VLOOKUP(入出金tbl[[#This Row],[内　容]],科目tbl[[内　容]:[番号]],2,TRUE)","v":"財務収支"},{"$f":"VLOOKUP(入出金tbl[[#This Row],[内　容]],科目tbl[[内　容]:[番号]],3,TRUE)","v":"収入"},"その他調達","てき",290]
[1378,"2018-03-24",{"$f":"VLOOKUP(入出金tbl[[#This Row],[内　容]],科目tbl[[内　容]:[番号]],2,TRUE)","v":"財務収支"},{"$f":"VLOOKUP(入出金tbl[[#This Row],[内　容]],科目tbl[[内　容]:[番号]],3,TRUE)","v":"収入"},"その他調達","てき",290]
[1379,"2018-03-25",{"$f":"VLOOKUP(入出金tbl[[#This Row],[内　容]],科目tbl[[内　容]:[番号]],2,TRUE)","v":"財務収支"},{"$f":"VLOOKUP(入出金tbl[[#This Row],[内　容]],科目tbl[[内　容]:[番号]],3,TRUE)","v":"収入"},"その他調達","てき",290]
[1380,"2018-03-26",{"$f":"VLOOKUP(入出金tbl[[#This Row],[内　容]],科目tbl[[内　容]:[番号]],2,TRUE)","v":"財務収支"},{"$f":"VLOOKUP(入出金tbl[[#This Row],[内　容]],科目tbl[[内　容]:[番号]],3,TRUE)","v":"収入"},"その他調達","てき",290]
[1381,"2018-03-27",{"$f":"VLOOKUP(入出金tbl[[#This Row],[内　容]],科目tbl[[内　容]:[番号]],2,TRUE)","v":"財務収支"},{"$f":"VLOOKUP(入出金tbl[[#This Row],[内　容]],科目tbl[[内　容]:[番号]],3,TRUE)","v":"収入"},"その他調達","てき",290]
[1382,"2018-03-28",{"$f":"VLOOKUP(入出金tbl[[#This Row],[内　容]],科目tbl[[内　容]:[番号]],2,TRUE)","v":"財務収支"},{"$f":"VLOOKUP(入出金tbl[[#This Row],[内　容]],科目tbl[[内　容]:[番号]],3,TRUE)","v":"収入"},"その他調達","てき",290]
[1383,"2018-03-29",{"$f":"VLOOKUP(入出金tbl[[#This Row],[内　容]],科目tbl[[内　容]:[番号]],2,TRUE)","v":"財務収支"},{"$f":"VLOOKUP(入出金tbl[[#This Row],[内　容]],科目tbl[[内　容]:[番号]],3,TRUE)","v":"収入"},"その他調達","てき",290]
[1384,"2018-03-30",{"$f":"VLOOKUP(入出金tbl[[#This Row],[内　容]],科目tbl[[内　容]:[番号]],2,TRUE)","v":"財務収支"},{"$f":"VLOOKUP(入出金tbl[[#This Row],[内　容]],科目tbl[[内　容]:[番号]],3,TRUE)","v":"収入"},"その他調達","てき",290]
[1385,"2018-03-31",{"$f":"VLOOKUP(入出金tbl[[#This Row],[内　容]],科目tbl[[内　容]:[番号]],2,TRUE)","v":"財務収支"},{"$f":"VLOOKUP(入出金tbl[[#This Row],[内　容]],科目tbl[[内　容]:[番号]],3,TRUE)","v":"収入"},"その他調達","てき",290]
[1386,"2018-03-01",{"$f":"VLOOKUP(入出金tbl[[#This Row],[内　容]],科目tbl[[内　容]:[番号]],2,TRUE)","v":"経常収支"},{"$f":"VLOOKUP(入出金tbl[[#This Row],[内　容]],科目tbl[[内　容]:[番号]],3,TRUE)","v":"収入"},"現金売上","摘要",10]
[1387,"2018-03-01",{"$f":"VLOOKUP(入出金tbl[[#This Row],[内　容]],科目tbl[[内　容]:[番号]],2,TRUE)","v":"経常収支"},{"$f":"VLOOKUP(入出金tbl[[#This Row],[内　容]],科目tbl[[内　容]:[番号]],3,TRUE)","v":"収入"},"売掛金回収","摘要",20]
[1388,"2018-03-01",{"$f":"VLOOKUP(入出金tbl[[#This Row],[内　容]],科目tbl[[内　容]:[番号]],2,TRUE)","v":"経常収支"},{"$f":"VLOOKUP(入出金tbl[[#This Row],[内　容]],科目tbl[[内　容]:[番号]],3,TRUE)","v":"収入"},"受取手形回収","てき",30]
[1389,"2018-03-01",{"$f":"VLOOKUP(入出金tbl[[#This Row],[内　容]],科目tbl[[内　容]:[番号]],2,TRUE)","v":"経常収支"},{"$f":"VLOOKUP(入出金tbl[[#This Row],[内　容]],科目tbl[[内　容]:[番号]],3,TRUE)","v":"収入"},"手形割引","てき",40]
[1390,"2018-03-01",{"$f":"VLOOKUP(入出金tbl[[#This Row],[内　容]],科目tbl[[内　容]:[番号]],2,TRUE)","v":"経常収支"},{"$f":"VLOOKUP(入出金tbl[[#This Row],[内　容]],科目tbl[[内　容]:[番号]],3,TRUE)","v":"収入"},"その他収入","てき",50]
[1391,"2018-03-01",{"$f":"VLOOKUP(入出金tbl[[#This Row],[内　容]],科目tbl[[内　容]:[番号]],2,TRUE)","v":"財務収支"},{"$f":"VLOOKUP(入出金tbl[[#This Row],[内　容]],科目tbl[[内　容]:[番号]],3,TRUE)","v":"支出"},"----------","てき",0]
[1392,"2018-03-01",{"$f":"VLOOKUP(入出金tbl[[#This Row],[内　容]],科目tbl[[内　容]:[番号]],2,TRUE)","v":"経常収支"},{"$f":"VLOOKUP(入出金tbl[[#This Row],[内　容]],科目tbl[[内　容]:[番号]],3,TRUE)","v":"支出"},"現金仕入","てき",70]
[1393,"2018-03-01",{"$f":"VLOOKUP(入出金tbl[[#This Row],[内　容]],科目tbl[[内　容]:[番号]],2,TRUE)","v":"経常収支"},{"$f":"VLOOKUP(入出金tbl[[#This Row],[内　容]],科目tbl[[内　容]:[番号]],3,TRUE)","v":"支出"},"買掛金支払","てき",80]
[1394,"2018-03-01",{"$f":"VLOOKUP(入出金tbl[[#This Row],[内　容]],科目tbl[[内　容]:[番号]],2,TRUE)","v":"経常収支"},{"$f":"VLOOKUP(入出金tbl[[#This Row],[内　容]],科目tbl[[内　容]:[番号]],3,TRUE)","v":"支出"},"手形支払","てき",90]
[1395,"2018-03-01",{"$f":"VLOOKUP(入出金tbl[[#This Row],[内　容]],科目tbl[[内　容]:[番号]],2,TRUE)","v":"経常収支"},{"$f":"VLOOKUP(入出金tbl[[#This Row],[内　容]],科目tbl[[内　容]:[番号]],3,TRUE)","v":"支出"},"賃金・給与現金支払","てき",100]
[1396,"2018-03-01",{"$f":"VLOOKUP(入出金tbl[[#This Row],[内　容]],科目tbl[[内　容]:[番号]],2,TRUE)","v":"経常収支"},{"$f":"VLOOKUP(入出金tbl[[#This Row],[内　容]],科目tbl[[内　容]:[番号]],3,TRUE)","v":"支出"},"賞与支払い","てき",110]
[1397,"2018-03-01",{"$f":"VLOOKUP(入出金tbl[[#This Row],[内　容]],科目tbl[[内　容]:[番号]],2,TRUE)","v":"経常収支"},{"$f":"VLOOKUP(入出金tbl[[#This Row],[内　容]],科目tbl[[内　容]:[番号]],3,TRUE)","v":"支出"},"支払利息・割引料","てき",120]
[1398,"2018-03-01",{"$f":"VLOOKUP(入出金tbl[[#This Row],[内　容]],科目tbl[[内　容]:[番号]],2,TRUE)","v":"経常収支"},{"$f":"VLOOKUP(入出金tbl[[#This Row],[内　容]],科目tbl[[内　容]:[番号]],3,TRUE)","v":"支出"},"諸経費現金支払","てき",130]
[1399,"2018-03-01",{"$f":"VLOOKUP(入出金tbl[[#This Row],[内　容]],科目tbl[[内　容]:[番号]],2,TRUE)","v":"財務収支"},{"$f":"VLOOKUP(入出金tbl[[#This Row],[内　容]],科目tbl[[内　容]:[番号]],3,TRUE)","v":"支出"},"----------","てき",0]
[1400,"2018-03-01",{"$f":"VLOOKUP(入出金tbl[[#This Row],[内　容]],科目tbl[[内　容]:[番号]],2,TRUE)","v":"経常外収支"},{"$f":"VLOOKUP(入出金tbl[[#This Row],[内　容]],科目tbl[[内　容]:[番号]],3,TRUE)","v":"収入"},"固定資産等売却手取","てき",150]
[1401,"2018-03-01",{"$f":"VLOOKUP(入出金tbl[[#This Row],[内　容]],科目tbl[[内　容]:[番号]],2,TRUE)","v":"経常外収支"},{"$f":"VLOOKUP(入出金tbl[[#This Row],[内　容]],科目tbl[[内　容]:[番号]],3,TRUE)","v":"収入"},"定期預金等解約","てき",160]
[1402,"2018-03-01",{"$f":"VLOOKUP(入出金tbl[[#This Row],[内　容]],科目tbl[[内　容]:[番号]],2,TRUE)","v":"経常外収支"},{"$f":"VLOOKUP(入出金tbl[[#This Row],[内　容]],科目tbl[[内　容]:[番号]],3,TRUE)","v":"収入"},"その他臨時収入","てき",170]
[1403,"2018-03-01",{"$f":"VLOOKUP(入出金tbl[[#This Row],[内　容]],科目tbl[[内　容]:[番号]],2,TRUE)","v":"財務収支"},{"$f":"VLOOKUP(入出金tbl[[#This Row],[内　容]],科目tbl[[内　容]:[番号]],3,TRUE)","v":"支出"},"----------","てき",0]
[1404,"2018-03-01",{"$f":"VLOOKUP(入出金tbl[[#This Row],[内　容]],科目tbl[[内　容]:[番号]],2,TRUE)","v":"経常外収支"},{"$f":"VLOOKUP(入出金tbl[[#This Row],[内　容]],科目tbl[[内　容]:[番号]],3,TRUE)","v":"支出"},"税金","てき",190]
[1405,"2018-03-01",{"$f":"VLOOKUP(入出金tbl[[#This Row],[内　容]],科目tbl[[内　容]:[番号]],2,TRUE)","v":"経常外収支"},{"$f":"VLOOKUP(入出金tbl[[#This Row],[内　容]],科目tbl[[内　容]:[番号]],3,TRUE)","v":"支出"},"役員賞与","てき",200]
[1406,"2018-03-01",{"$f":"VLOOKUP(入出金tbl[[#This Row],[内　容]],科目tbl[[内　容]:[番号]],2,TRUE)","v":"経常外収支"},{"$f":"VLOOKUP(入出金tbl[[#This Row],[内　容]],科目tbl[[内　容]:[番号]],3,TRUE)","v":"支出"},"配当","てき",210]
[1407,"2018-03-01",{"$f":"VLOOKUP(入出金tbl[[#This Row],[内　容]],科目tbl[[内　容]:[番号]],2,TRUE)","v":"経常外収支"},{"$f":"VLOOKUP(入出金tbl[[#This Row],[内　容]],科目tbl[[内　容]:[番号]],3,TRUE)","v":"支出"},"固定資産購入支出","てき",220]
[1408,"2018-03-01",{"$f":"VLOOKUP(入出金tbl[[#This Row],[内　容]],科目tbl[[内　容]:[番号]],2,TRUE)","v":"経常外収支"},{"$f":"VLOOKUP(入出金tbl[[#This Row],[内　容]],科目tbl[[内　容]:[番号]],3,TRUE)","v":"支出"},"定期預金等設定","てき",230]
[1409,"2018-03-01",{"$f":"VLOOKUP(入出金tbl[[#This Row],[内　容]],科目tbl[[内　容]:[番号]],2,TRUE)","v":"経常外収支"},{"$f":"VLOOKUP(入出金tbl[[#This Row],[内　容]],科目tbl[[内　容]:[番号]],3,TRUE)","v":"支出"},"その他臨時支出","てき",240]
[1410,"2018-03-01",{"$f":"VLOOKUP(入出金tbl[[#This Row],[内　容]],科目tbl[[内　容]:[番号]],2,TRUE)","v":"経常外収支"},{"$f":"VLOOKUP(入出金tbl[[#This Row],[内　容]],科目tbl[[内　容]:[番号]],3,TRUE)","v":"支出"},"テスト4","てき",250]
[1411,"2018-03-01",{"$f":"VLOOKUP(入出金tbl[[#This Row],[内　容]],科目tbl[[内　容]:[番号]],2,TRUE)","v":"財務収支"},{"$f":"VLOOKUP(入出金tbl[[#This Row],[内　容]],科目tbl[[内　容]:[番号]],3,TRUE)","v":"収入"},"短期借入金調達","てき",260]
[1412,"2018-03-01",{"$f":"VLOOKUP(入出金tbl[[#This Row],[内　容]],科目tbl[[内　容]:[番号]],2,TRUE)","v":"財務収支"},{"$f":"VLOOKUP(入出金tbl[[#This Row],[内　容]],科目tbl[[内　容]:[番号]],3,TRUE)","v":"収入"},"長期借入金調達","てき",270]
[1413,"2018-03-01",{"$f":"VLOOKUP(入出金tbl[[#This Row],[内　容]],科目tbl[[内　容]:[番号]],2,TRUE)","v":"財務収支"},{"$f":"VLOOKUP(入出金tbl[[#This Row],[内　容]],科目tbl[[内　容]:[番号]],3,TRUE)","v":"収入"},"社長借入金調達","てき",280]
[1414,"2018-03-01",{"$f":"VLOOKUP(入出金tbl[[#This Row],[内　容]],科目tbl[[内　容]:[番号]],2,TRUE)","v":"財務収支"},{"$f":"VLOOKUP(入出金tbl[[#This Row],[内　容]],科目tbl[[内　容]:[番号]],3,TRUE)","v":"収入"},"その他調達","てき",290]
[1415,"2018-03-01",{"$f":"VLOOKUP(入出金tbl[[#This Row],[内　容]],科目tbl[[内　容]:[番号]],2,TRUE)","v":"財務収支"},{"$f":"VLOOKUP(入出金tbl[[#This Row],[内　容]],科目tbl[[内　容]:[番号]],3,TRUE)","v":"支出"},"----------","てき",0]
[1416,"2018-03-01",{"$f":"VLOOKUP(入出金tbl[[#This Row],[内　容]],科目tbl[[内　容]:[番号]],2,TRUE)","v":"財務収支"},{"$f":"VLOOKUP(入出金tbl[[#This Row],[内　容]],科目tbl[[内　容]:[番号]],3,TRUE)","v":"支出"},"短期借入金返済","てき",310]
[1417,"2018-03-01",{"$f":"VLOOKUP(入出金tbl[[#This Row],[内　容]],科目tbl[[内　容]:[番号]],2,TRUE)","v":"財務収支"},{"$f":"VLOOKUP(入出金tbl[[#This Row],[内　容]],科目tbl[[内　容]:[番号]],3,TRUE)","v":"支出"},"長期借入金返済","てき",320]
[1418,"2018-03-01",{"$f":"VLOOKUP(入出金tbl[[#This Row],[内　容]],科目tbl[[内　容]:[番号]],2,TRUE)","v":"財務収支"},{"$f":"VLOOKUP(入出金tbl[[#This Row],[内　容]],科目tbl[[内　容]:[番号]],3,TRUE)","v":"支出"},"社長借入金返済","てき",330]
[1419,"2018-03-01",{"$f":"VLOOKUP(入出金tbl[[#This Row],[内　容]],科目tbl[[内　容]:[番号]],2,TRUE)","v":"財務収支"},{"$f":"VLOOKUP(入出金tbl[[#This Row],[内　容]],科目tbl[[内　容]:[番号]],3,TRUE)","v":"支出"},"その他返済","てき",340]
[1420,"2018-03-01",{"$f":"VLOOKUP(入出金tbl[[#This Row],[内　容]],科目tbl[[内　容]:[番号]],2,TRUE)","v":"財務収支"},{"$f":"VLOOKUP(入出金tbl[[#This Row],[内　容]],科目tbl[[内　容]:[番号]],3,TRUE)","v":"支出"},"----------","てき",0]
[1421,"2018-03-02",{"$f":"VLOOKUP(入出金tbl[[#This Row],[内　容]],科目tbl[[内　容]:[番号]],2,TRUE)","v":"経常収支"},{"$f":"VLOOKUP(入出金tbl[[#This Row],[内　容]],科目tbl[[内　容]:[番号]],3,TRUE)","v":"収入"},"現金売上","摘要",10]
[1422,"2018-03-02",{"$f":"VLOOKUP(入出金tbl[[#This Row],[内　容]],科目tbl[[内　容]:[番号]],2,TRUE)","v":"経常収支"},{"$f":"VLOOKUP(入出金tbl[[#This Row],[内　容]],科目tbl[[内　容]:[番号]],3,TRUE)","v":"収入"},"売掛金回収","摘要",20]
[1423,"2018-03-02",{"$f":"VLOOKUP(入出金tbl[[#This Row],[内　容]],科目tbl[[内　容]:[番号]],2,TRUE)","v":"経常収支"},{"$f":"VLOOKUP(入出金tbl[[#This Row],[内　容]],科目tbl[[内　容]:[番号]],3,TRUE)","v":"収入"},"受取手形回収","てき",30]
[1424,"2018-03-02",{"$f":"VLOOKUP(入出金tbl[[#This Row],[内　容]],科目tbl[[内　容]:[番号]],2,TRUE)","v":"経常収支"},{"$f":"VLOOKUP(入出金tbl[[#This Row],[内　容]],科目tbl[[内　容]:[番号]],3,TRUE)","v":"収入"},"手形割引","てき",40]
[1425,"2018-03-02",{"$f":"VLOOKUP(入出金tbl[[#This Row],[内　容]],科目tbl[[内　容]:[番号]],2,TRUE)","v":"経常収支"},{"$f":"VLOOKUP(入出金tbl[[#This Row],[内　容]],科目tbl[[内　容]:[番号]],3,TRUE)","v":"収入"},"その他収入","てき",50]
[1426,"2018-03-02",{"$f":"VLOOKUP(入出金tbl[[#This Row],[内　容]],科目tbl[[内　容]:[番号]],2,TRUE)","v":"財務収支"},{"$f":"VLOOKUP(入出金tbl[[#This Row],[内　容]],科目tbl[[内　容]:[番号]],3,TRUE)","v":"支出"},"----------","てき",0]
[1427,"2018-03-02",{"$f":"VLOOKUP(入出金tbl[[#This Row],[内　容]],科目tbl[[内　容]:[番号]],2,TRUE)","v":"経常収支"},{"$f":"VLOOKUP(入出金tbl[[#This Row],[内　容]],科目tbl[[内　容]:[番号]],3,TRUE)","v":"支出"},"現金仕入","てき",70]
[1428,"2018-03-02",{"$f":"VLOOKUP(入出金tbl[[#This Row],[内　容]],科目tbl[[内　容]:[番号]],2,TRUE)","v":"経常収支"},{"$f":"VLOOKUP(入出金tbl[[#This Row],[内　容]],科目tbl[[内　容]:[番号]],3,TRUE)","v":"支出"},"買掛金支払","てき",80]
[1429,"2018-03-02",{"$f":"VLOOKUP(入出金tbl[[#This Row],[内　容]],科目tbl[[内　容]:[番号]],2,TRUE)","v":"経常収支"},{"$f":"VLOOKUP(入出金tbl[[#This Row],[内　容]],科目tbl[[内　容]:[番号]],3,TRUE)","v":"支出"},"手形支払","てき",90]
[1430,"2018-03-02",{"$f":"VLOOKUP(入出金tbl[[#This Row],[内　容]],科目tbl[[内　容]:[番号]],2,TRUE)","v":"経常収支"},{"$f":"VLOOKUP(入出金tbl[[#This Row],[内　容]],科目tbl[[内　容]:[番号]],3,TRUE)","v":"支出"},"賃金・給与現金支払","てき",100]
[1431,"2018-03-02",{"$f":"VLOOKUP(入出金tbl[[#This Row],[内　容]],科目tbl[[内　容]:[番号]],2,TRUE)","v":"経常収支"},{"$f":"VLOOKUP(入出金tbl[[#This Row],[内　容]],科目tbl[[内　容]:[番号]],3,TRUE)","v":"支出"},"賞与支払い","てき",110]
[1432,"2018-03-02",{"$f":"VLOOKUP(入出金tbl[[#This Row],[内　容]],科目tbl[[内　容]:[番号]],2,TRUE)","v":"経常収支"},{"$f":"VLOOKUP(入出金tbl[[#This Row],[内　容]],科目tbl[[内　容]:[番号]],3,TRUE)","v":"支出"},"支払利息・割引料","てき",120]
[1433,"2018-03-02",{"$f":"VLOOKUP(入出金tbl[[#This Row],[内　容]],科目tbl[[内　容]:[番号]],2,TRUE)","v":"経常収支"},{"$f":"VLOOKUP(入出金tbl[[#This Row],[内　容]],科目tbl[[内　容]:[番号]],3,TRUE)","v":"支出"},"諸経費現金支払","てき",130]
[1434,"2018-03-02",{"$f":"VLOOKUP(入出金tbl[[#This Row],[内　容]],科目tbl[[内　容]:[番号]],2,TRUE)","v":"財務収支"},{"$f":"VLOOKUP(入出金tbl[[#This Row],[内　容]],科目tbl[[内　容]:[番号]],3,TRUE)","v":"支出"},"----------","てき",0]
[1435,"2018-03-02",{"$f":"VLOOKUP(入出金tbl[[#This Row],[内　容]],科目tbl[[内　容]:[番号]],2,TRUE)","v":"経常外収支"},{"$f":"VLOOKUP(入出金tbl[[#This Row],[内　容]],科目tbl[[内　容]:[番号]],3,TRUE)","v":"収入"},"固定資産等売却手取","てき",150]
[1436,"2018-03-02",{"$f":"VLOOKUP(入出金tbl[[#This Row],[内　容]],科目tbl[[内　容]:[番号]],2,TRUE)","v":"経常外収支"},{"$f":"VLOOKUP(入出金tbl[[#This Row],[内　容]],科目tbl[[内　容]:[番号]],3,TRUE)","v":"収入"},"定期預金等解約","てき",160]
[1437,"2018-03-02",{"$f":"VLOOKUP(入出金tbl[[#This Row],[内　容]],科目tbl[[内　容]:[番号]],2,TRUE)","v":"経常外収支"},{"$f":"VLOOKUP(入出金tbl[[#This Row],[内　容]],科目tbl[[内　容]:[番号]],3,TRUE)","v":"収入"},"その他臨時収入","てき",170]
[1438,"2018-03-02",{"$f":"VLOOKUP(入出金tbl[[#This Row],[内　容]],科目tbl[[内　容]:[番号]],2,TRUE)","v":"財務収支"},{"$f":"VLOOKUP(入出金tbl[[#This Row],[内　容]],科目tbl[[内　容]:[番号]],3,TRUE)","v":"支出"},"----------","てき",0]
[1439,"2018-03-02",{"$f":"VLOOKUP(入出金tbl[[#This Row],[内　容]],科目tbl[[内　容]:[番号]],2,TRUE)","v":"経常外収支"},{"$f":"VLOOKUP(入出金tbl[[#This Row],[内　容]],科目tbl[[内　容]:[番号]],3,TRUE)","v":"支出"},"税金","てき",190]
[1440,"2018-03-02",{"$f":"VLOOKUP(入出金tbl[[#This Row],[内　容]],科目tbl[[内　容]:[番号]],2,TRUE)","v":"経常外収支"},{"$f":"VLOOKUP(入出金tbl[[#This Row],[内　容]],科目tbl[[内　容]:[番号]],3,TRUE)","v":"支出"},"役員賞与","てき",200]
[1441,"2018-03-02",{"$f":"VLOOKUP(入出金tbl[[#This Row],[内　容]],科目tbl[[内　容]:[番号]],2,TRUE)","v":"経常外収支"},{"$f":"VLOOKUP(入出金tbl[[#This Row],[内　容]],科目tbl[[内　容]:[番号]],3,TRUE)","v":"支出"},"配当","てき",210]
[1442,"2018-03-02",{"$f":"VLOOKUP(入出金tbl[[#This Row],[内　容]],科目tbl[[内　容]:[番号]],2,TRUE)","v":"経常外収支"},{"$f":"VLOOKUP(入出金tbl[[#This Row],[内　容]],科目tbl[[内　容]:[番号]],3,TRUE)","v":"支出"},"固定資産購入支出","てき",220]
[1443,"2018-03-02",{"$f":"VLOOKUP(入出金tbl[[#This Row],[内　容]],科目tbl[[内　容]:[番号]],2,TRUE)","v":"経常外収支"},{"$f":"VLOOKUP(入出金tbl[[#This Row],[内　容]],科目tbl[[内　容]:[番号]],3,TRUE)","v":"支出"},"定期預金等設定","てき",230]
[1444,"2018-03-02",{"$f":"VLOOKUP(入出金tbl[[#This Row],[内　容]],科目tbl[[内　容]:[番号]],2,TRUE)","v":"経常外収支"},{"$f":"VLOOKUP(入出金tbl[[#This Row],[内　容]],科目tbl[[内　容]:[番号]],3,TRUE)","v":"支出"},"その他臨時支出","てき",240]
[1445,"2018-03-02",{"$f":"VLOOKUP(入出金tbl[[#This Row],[内　容]],科目tbl[[内　容]:[番号]],2,TRUE)","v":"経常外収支"},{"$f":"VLOOKUP(入出金tbl[[#This Row],[内　容]],科目tbl[[内　容]:[番号]],3,TRUE)","v":"支出"},"テスト4","てき",250]
[1446,"2018-03-02",{"$f":"VLOOKUP(入出金tbl[[#This Row],[内　容]],科目tbl[[内　容]:[番号]],2,TRUE)","v":"財務収支"},{"$f":"VLOOKUP(入出金tbl[[#This Row],[内　容]],科目tbl[[内　容]:[番号]],3,TRUE)","v":"収入"},"短期借入金調達","てき",260]
[1447,"2018-03-02",{"$f":"VLOOKUP(入出金tbl[[#This Row],[内　容]],科目tbl[[内　容]:[番号]],2,TRUE)","v":"財務収支"},{"$f":"VLOOKUP(入出金tbl[[#This Row],[内　容]],科目tbl[[内　容]:[番号]],3,TRUE)","v":"収入"},"長期借入金調達","てき",270]
[1448,"2018-03-02",{"$f":"VLOOKUP(入出金tbl[[#This Row],[内　容]],科目tbl[[内　容]:[番号]],2,TRUE)","v":"財務収支"},{"$f":"VLOOKUP(入出金tbl[[#This Row],[内　容]],科目tbl[[内　容]:[番号]],3,TRUE)","v":"収入"},"社長借入金調達","てき",280]
[1449,"2018-03-02",{"$f":"VLOOKUP(入出金tbl[[#This Row],[内　容]],科目tbl[[内　容]:[番号]],2,TRUE)","v":"財務収支"},{"$f":"VLOOKUP(入出金tbl[[#This Row],[内　容]],科目tbl[[内　容]:[番号]],3,TRUE)","v":"収入"},"その他調達","てき",290]
[1450,"2018-03-02",{"$f":"VLOOKUP(入出金tbl[[#This Row],[内　容]],科目tbl[[内　容]:[番号]],2,TRUE)","v":"財務収支"},{"$f":"VLOOKUP(入出金tbl[[#This Row],[内　容]],科目tbl[[内　容]:[番号]],3,TRUE)","v":"支出"},"----------","てき",0]
[1451,"2018-03-02",{"$f":"VLOOKUP(入出金tbl[[#This Row],[内　容]],科目tbl[[内　容]:[番号]],2,TRUE)","v":"財務収支"},{"$f":"VLOOKUP(入出金tbl[[#This Row],[内　容]],科目tbl[[内　容]:[番号]],3,TRUE)","v":"支出"},"短期借入金返済","てき",310]
[1452,"2018-03-02",{"$f":"VLOOKUP(入出金tbl[[#This Row],[内　容]],科目tbl[[内　容]:[番号]],2,TRUE)","v":"財務収支"},{"$f":"VLOOKUP(入出金tbl[[#This Row],[内　容]],科目tbl[[内　容]:[番号]],3,TRUE)","v":"支出"},"長期借入金返済","てき",320]
[1453,"2018-03-02",{"$f":"VLOOKUP(入出金tbl[[#This Row],[内　容]],科目tbl[[内　容]:[番号]],2,TRUE)","v":"財務収支"},{"$f":"VLOOKUP(入出金tbl[[#This Row],[内　容]],科目tbl[[内　容]:[番号]],3,TRUE)","v":"支出"},"社長借入金返済","てき",330]
[1454,"2018-03-02",{"$f":"VLOOKUP(入出金tbl[[#This Row],[内　容]],科目tbl[[内　容]:[番号]],2,TRUE)","v":"財務収支"},{"$f":"VLOOKUP(入出金tbl[[#This Row],[内　容]],科目tbl[[内　容]:[番号]],3,TRUE)","v":"支出"},"その他返済","てき",340]
[1455,"2018-03-02",{"$f":"VLOOKUP(入出金tbl[[#This Row],[内　容]],科目tbl[[内　容]:[番号]],2,TRUE)","v":"財務収支"},{"$f":"VLOOKUP(入出金tbl[[#This Row],[内　容]],科目tbl[[内　容]:[番号]],3,TRUE)","v":"支出"},"----------","てき",0]
[1456,"2018-03-03",{"$f":"VLOOKUP(入出金tbl[[#This Row],[内　容]],科目tbl[[内　容]:[番号]],2,TRUE)","v":"経常収支"},{"$f":"VLOOKUP(入出金tbl[[#This Row],[内　容]],科目tbl[[内　容]:[番号]],3,TRUE)","v":"収入"},"現金売上","摘要",10]
[1457,"2018-03-03",{"$f":"VLOOKUP(入出金tbl[[#This Row],[内　容]],科目tbl[[内　容]:[番号]],2,TRUE)","v":"経常収支"},{"$f":"VLOOKUP(入出金tbl[[#This Row],[内　容]],科目tbl[[内　容]:[番号]],3,TRUE)","v":"収入"},"売掛金回収","摘要",20]
[1458,"2018-03-03",{"$f":"VLOOKUP(入出金tbl[[#This Row],[内　容]],科目tbl[[内　容]:[番号]],2,TRUE)","v":"経常収支"},{"$f":"VLOOKUP(入出金tbl[[#This Row],[内　容]],科目tbl[[内　容]:[番号]],3,TRUE)","v":"収入"},"受取手形回収","てき",30]
[1459,"2018-03-03",{"$f":"VLOOKUP(入出金tbl[[#This Row],[内　容]],科目tbl[[内　容]:[番号]],2,TRUE)","v":"経常収支"},{"$f":"VLOOKUP(入出金tbl[[#This Row],[内　容]],科目tbl[[内　容]:[番号]],3,TRUE)","v":"収入"},"手形割引","てき",40]
[1460,"2018-03-03",{"$f":"VLOOKUP(入出金tbl[[#This Row],[内　容]],科目tbl[[内　容]:[番号]],2,TRUE)","v":"経常収支"},{"$f":"VLOOKUP(入出金tbl[[#This Row],[内　容]],科目tbl[[内　容]:[番号]],3,TRUE)","v":"収入"},"その他収入","てき",50]
[1461,"2018-03-03",{"$f":"VLOOKUP(入出金tbl[[#This Row],[内　容]],科目tbl[[内　容]:[番号]],2,TRUE)","v":"財務収支"},{"$f":"VLOOKUP(入出金tbl[[#This Row],[内　容]],科目tbl[[内　容]:[番号]],3,TRUE)","v":"支出"},"----------","てき",0]
[1462,"2018-03-03",{"$f":"VLOOKUP(入出金tbl[[#This Row],[内　容]],科目tbl[[内　容]:[番号]],2,TRUE)","v":"経常収支"},{"$f":"VLOOKUP(入出金tbl[[#This Row],[内　容]],科目tbl[[内　容]:[番号]],3,TRUE)","v":"支出"},"現金仕入","てき",70]
[1463,"2018-03-03",{"$f":"VLOOKUP(入出金tbl[[#This Row],[内　容]],科目tbl[[内　容]:[番号]],2,TRUE)","v":"経常収支"},{"$f":"VLOOKUP(入出金tbl[[#This Row],[内　容]],科目tbl[[内　容]:[番号]],3,TRUE)","v":"支出"},"買掛金支払","てき",80]
[1464,"2018-03-03",{"$f":"VLOOKUP(入出金tbl[[#This Row],[内　容]],科目tbl[[内　容]:[番号]],2,TRUE)","v":"経常収支"},{"$f":"VLOOKUP(入出金tbl[[#This Row],[内　容]],科目tbl[[内　容]:[番号]],3,TRUE)","v":"支出"},"手形支払","てき",90]
[1465,"2018-03-03",{"$f":"VLOOKUP(入出金tbl[[#This Row],[内　容]],科目tbl[[内　容]:[番号]],2,TRUE)","v":"経常収支"},{"$f":"VLOOKUP(入出金tbl[[#This Row],[内　容]],科目tbl[[内　容]:[番号]],3,TRUE)","v":"支出"},"賃金・給与現金支払","てき",100]
[1466,"2018-03-03",{"$f":"VLOOKUP(入出金tbl[[#This Row],[内　容]],科目tbl[[内　容]:[番号]],2,TRUE)","v":"経常収支"},{"$f":"VLOOKUP(入出金tbl[[#This Row],[内　容]],科目tbl[[内　容]:[番号]],3,TRUE)","v":"支出"},"賞与支払い","てき",110]
[1467,"2018-03-03",{"$f":"VLOOKUP(入出金tbl[[#This Row],[内　容]],科目tbl[[内　容]:[番号]],2,TRUE)","v":"経常収支"},{"$f":"VLOOKUP(入出金tbl[[#This Row],[内　容]],科目tbl[[内　容]:[番号]],3,TRUE)","v":"支出"},"支払利息・割引料","てき",120]
[1468,"2018-03-03",{"$f":"VLOOKUP(入出金tbl[[#This Row],[内　容]],科目tbl[[内　容]:[番号]],2,TRUE)","v":"経常収支"},{"$f":"VLOOKUP(入出金tbl[[#This Row],[内　容]],科目tbl[[内　容]:[番号]],3,TRUE)","v":"支出"},"諸経費現金支払","てき",130]
[1469,"2018-03-03",{"$f":"VLOOKUP(入出金tbl[[#This Row],[内　容]],科目tbl[[内　容]:[番号]],2,TRUE)","v":"財務収支"},{"$f":"VLOOKUP(入出金tbl[[#This Row],[内　容]],科目tbl[[内　容]:[番号]],3,TRUE)","v":"支出"},"----------","てき",0]
[1470,"2018-03-03",{"$f":"VLOOKUP(入出金tbl[[#This Row],[内　容]],科目tbl[[内　容]:[番号]],2,TRUE)","v":"経常外収支"},{"$f":"VLOOKUP(入出金tbl[[#This Row],[内　容]],科目tbl[[内　容]:[番号]],3,TRUE)","v":"収入"},"固定資産等売却手取","てき",150]
[1471,"2018-03-03",{"$f":"VLOOKUP(入出金tbl[[#This Row],[内　容]],科目tbl[[内　容]:[番号]],2,TRUE)","v":"経常外収支"},{"$f":"VLOOKUP(入出金tbl[[#This Row],[内　容]],科目tbl[[内　容]:[番号]],3,TRUE)","v":"収入"},"定期預金等解約","てき",160]
[1472,"2018-03-03",{"$f":"VLOOKUP(入出金tbl[[#This Row],[内　容]],科目tbl[[内　容]:[番号]],2,TRUE)","v":"経常外収支"},{"$f":"VLOOKUP(入出金tbl[[#This Row],[内　容]],科目tbl[[内　容]:[番号]],3,TRUE)","v":"収入"},"その他臨時収入","てき",170]
[1473,"2018-03-03",{"$f":"VLOOKUP(入出金tbl[[#This Row],[内　容]],科目tbl[[内　容]:[番号]],2,TRUE)","v":"財務収支"},{"$f":"VLOOKUP(入出金tbl[[#This Row],[内　容]],科目tbl[[内　容]:[番号]],3,TRUE)","v":"支出"},"----------","てき",0]
[1474,"2018-03-03",{"$f":"VLOOKUP(入出金tbl[[#This Row],[内　容]],科目tbl[[内　容]:[番号]],2,TRUE)","v":"経常外収支"},{"$f":"VLOOKUP(入出金tbl[[#This Row],[内　容]],科目tbl[[内　容]:[番号]],3,TRUE)","v":"支出"},"税金","てき",190]
[1475,"2018-03-03",{"$f":"VLOOKUP(入出金tbl[[#This Row],[内　容]],科目tbl[[内　容]:[番号]],2,TRUE)","v":"経常外収支"},{"$f":"VLOOKUP(入出金tbl[[#This Row],[内　容]],科目tbl[[内　容]:[番号]],3,TRUE)","v":"支出"},"役員賞与","てき",200]
[1476,"2018-03-03",{"$f":"VLOOKUP(入出金tbl[[#This Row],[内　容]],科目tbl[[内　容]:[番号]],2,TRUE)","v":"経常外収支"},{"$f":"VLOOKUP(入出金tbl[[#This Row],[内　容]],科目tbl[[内　容]:[番号]],3,TRUE)","v":"支出"},"配当","てき",210]
[1477,"2018-03-03",{"$f":"VLOOKUP(入出金tbl[[#This Row],[内　容]],科目tbl[[内　容]:[番号]],2,TRUE)","v":"経常外収支"},{"$f":"VLOOKUP(入出金tbl[[#This Row],[内　容]],科目tbl[[内　容]:[番号]],3,TRUE)","v":"支出"},"固定資産購入支出","てき",220]
[1478,"2018-03-03",{"$f":"VLOOKUP(入出金tbl[[#This Row],[内　容]],科目tbl[[内　容]:[番号]],2,TRUE)","v":"経常外収支"},{"$f":"VLOOKUP(入出金tbl[[#This Row],[内　容]],科目tbl[[内　容]:[番号]],3,TRUE)","v":"支出"},"定期預金等設定","てき",230]
[1479,"2018-03-03",{"$f":"VLOOKUP(入出金tbl[[#This Row],[内　容]],科目tbl[[内　容]:[番号]],2,TRUE)","v":"経常外収支"},{"$f":"VLOOKUP(入出金tbl[[#This Row],[内　容]],科目tbl[[内　容]:[番号]],3,TRUE)","v":"支出"},"その他臨時支出","てき",240]
[1480,"2018-03-03",{"$f":"VLOOKUP(入出金tbl[[#This Row],[内　容]],科目tbl[[内　容]:[番号]],2,TRUE)","v":"経常外収支"},{"$f":"VLOOKUP(入出金tbl[[#This Row],[内　容]],科目tbl[[内　容]:[番号]],3,TRUE)","v":"支出"},"テスト4","てき",250]
[1481,"2018-03-03",{"$f":"VLOOKUP(入出金tbl[[#This Row],[内　容]],科目tbl[[内　容]:[番号]],2,TRUE)","v":"財務収支"},{"$f":"VLOOKUP(入出金tbl[[#This Row],[内　容]],科目tbl[[内　容]:[番号]],3,TRUE)","v":"収入"},"短期借入金調達","てき",260]
[1482,"2018-03-03",{"$f":"VLOOKUP(入出金tbl[[#This Row],[内　容]],科目tbl[[内　容]:[番号]],2,TRUE)","v":"財務収支"},{"$f":"VLOOKUP(入出金tbl[[#This Row],[内　容]],科目tbl[[内　容]:[番号]],3,TRUE)","v":"収入"},"長期借入金調達","てき",270]
[1483,"2018-03-03",{"$f":"VLOOKUP(入出金tbl[[#This Row],[内　容]],科目tbl[[内　容]:[番号]],2,TRUE)","v":"財務収支"},{"$f":"VLOOKUP(入出金tbl[[#This Row],[内　容]],科目tbl[[内　容]:[番号]],3,TRUE)","v":"収入"},"社長借入金調達","てき",280]
[1484,"2018-03-03",{"$f":"VLOOKUP(入出金tbl[[#This Row],[内　容]],科目tbl[[内　容]:[番号]],2,TRUE)","v":"財務収支"},{"$f":"VLOOKUP(入出金tbl[[#This Row],[内　容]],科目tbl[[内　容]:[番号]],3,TRUE)","v":"収入"},"その他調達","てき",290]
[1485,"2018-03-03",{"$f":"VLOOKUP(入出金tbl[[#This Row],[内　容]],科目tbl[[内　容]:[番号]],2,TRUE)","v":"財務収支"},{"$f":"VLOOKUP(入出金tbl[[#This Row],[内　容]],科目tbl[[内　容]:[番号]],3,TRUE)","v":"支出"},"----------","てき",0]
[1486,"2018-03-03",{"$f":"VLOOKUP(入出金tbl[[#This Row],[内　容]],科目tbl[[内　容]:[番号]],2,TRUE)","v":"財務収支"},{"$f":"VLOOKUP(入出金tbl[[#This Row],[内　容]],科目tbl[[内　容]:[番号]],3,TRUE)","v":"支出"},"短期借入金返済","てき",310]
[1487,"2018-03-03",{"$f":"VLOOKUP(入出金tbl[[#This Row],[内　容]],科目tbl[[内　容]:[番号]],2,TRUE)","v":"財務収支"},{"$f":"VLOOKUP(入出金tbl[[#This Row],[内　容]],科目tbl[[内　容]:[番号]],3,TRUE)","v":"支出"},"長期借入金返済","てき",320]
[1488,"2018-03-03",{"$f":"VLOOKUP(入出金tbl[[#This Row],[内　容]],科目tbl[[内　容]:[番号]],2,TRUE)","v":"財務収支"},{"$f":"VLOOKUP(入出金tbl[[#This Row],[内　容]],科目tbl[[内　容]:[番号]],3,TRUE)","v":"支出"},"社長借入金返済","てき",330]
[1489,"2018-03-03",{"$f":"VLOOKUP(入出金tbl[[#This Row],[内　容]],科目tbl[[内　容]:[番号]],2,TRUE)","v":"財務収支"},{"$f":"VLOOKUP(入出金tbl[[#This Row],[内　容]],科目tbl[[内　容]:[番号]],3,TRUE)","v":"支出"},"その他返済","てき",340]
[1490,"2018-03-03",{"$f":"VLOOKUP(入出金tbl[[#This Row],[内　容]],科目tbl[[内　容]:[番号]],2,TRUE)","v":"財務収支"},{"$f":"VLOOKUP(入出金tbl[[#This Row],[内　容]],科目tbl[[内　容]:[番号]],3,TRUE)","v":"支出"},"----------","てき",0]
[1491,"2018-03-04",{"$f":"VLOOKUP(入出金tbl[[#This Row],[内　容]],科目tbl[[内　容]:[番号]],2,TRUE)","v":"経常収支"},{"$f":"VLOOKUP(入出金tbl[[#This Row],[内　容]],科目tbl[[内　容]:[番号]],3,TRUE)","v":"収入"},"現金売上","摘要",10]
[1492,"2018-03-04",{"$f":"VLOOKUP(入出金tbl[[#This Row],[内　容]],科目tbl[[内　容]:[番号]],2,TRUE)","v":"経常収支"},{"$f":"VLOOKUP(入出金tbl[[#This Row],[内　容]],科目tbl[[内　容]:[番号]],3,TRUE)","v":"収入"},"売掛金回収","摘要",20]
[1493,"2018-03-04",{"$f":"VLOOKUP(入出金tbl[[#This Row],[内　容]],科目tbl[[内　容]:[番号]],2,TRUE)","v":"経常収支"},{"$f":"VLOOKUP(入出金tbl[[#This Row],[内　容]],科目tbl[[内　容]:[番号]],3,TRUE)","v":"収入"},"受取手形回収","てき",30]
[1494,"2018-03-04",{"$f":"VLOOKUP(入出金tbl[[#This Row],[内　容]],科目tbl[[内　容]:[番号]],2,TRUE)","v":"経常収支"},{"$f":"VLOOKUP(入出金tbl[[#This Row],[内　容]],科目tbl[[内　容]:[番号]],3,TRUE)","v":"収入"},"手形割引","てき",40]
[1495,"2018-03-04",{"$f":"VLOOKUP(入出金tbl[[#This Row],[内　容]],科目tbl[[内　容]:[番号]],2,TRUE)","v":"経常収支"},{"$f":"VLOOKUP(入出金tbl[[#This Row],[内　容]],科目tbl[[内　容]:[番号]],3,TRUE)","v":"収入"},"その他収入","てき",50]
[1496,"2018-03-04",{"$f":"VLOOKUP(入出金tbl[[#This Row],[内　容]],科目tbl[[内　容]:[番号]],2,TRUE)","v":"財務収支"},{"$f":"VLOOKUP(入出金tbl[[#This Row],[内　容]],科目tbl[[内　容]:[番号]],3,TRUE)","v":"支出"},"----------","てき",0]
[1497,"2018-03-04",{"$f":"VLOOKUP(入出金tbl[[#This Row],[内　容]],科目tbl[[内　容]:[番号]],2,TRUE)","v":"経常収支"},{"$f":"VLOOKUP(入出金tbl[[#This Row],[内　容]],科目tbl[[内　容]:[番号]],3,TRUE)","v":"支出"},"現金仕入","てき",70]
[1498,"2018-03-04",{"$f":"VLOOKUP(入出金tbl[[#This Row],[内　容]],科目tbl[[内　容]:[番号]],2,TRUE)","v":"経常収支"},{"$f":"VLOOKUP(入出金tbl[[#This Row],[内　容]],科目tbl[[内　容]:[番号]],3,TRUE)","v":"支出"},"買掛金支払","てき",80]
[1499,"2018-03-04",{"$f":"VLOOKUP(入出金tbl[[#This Row],[内　容]],科目tbl[[内　容]:[番号]],2,TRUE)","v":"経常収支"},{"$f":"VLOOKUP(入出金tbl[[#This Row],[内　容]],科目tbl[[内　容]:[番号]],3,TRUE)","v":"支出"},"手形支払","てき",90]
[1500,"2018-03-04",{"$f":"VLOOKUP(入出金tbl[[#This Row],[内　容]],科目tbl[[内　容]:[番号]],2,TRUE)","v":"経常収支"},{"$f":"VLOOKUP(入出金tbl[[#This Row],[内　容]],科目tbl[[内　容]:[番号]],3,TRUE)","v":"支出"},"賃金・給与現金支払","てき",100]
[1501,"2018-03-04",{"$f":"VLOOKUP(入出金tbl[[#This Row],[内　容]],科目tbl[[内　容]:[番号]],2,TRUE)","v":"経常収支"},{"$f":"VLOOKUP(入出金tbl[[#This Row],[内　容]],科目tbl[[内　容]:[番号]],3,TRUE)","v":"支出"},"賞与支払い","てき",110]
[1502,"2018-03-04",{"$f":"VLOOKUP(入出金tbl[[#This Row],[内　容]],科目tbl[[内　容]:[番号]],2,TRUE)","v":"経常収支"},{"$f":"VLOOKUP(入出金tbl[[#This Row],[内　容]],科目tbl[[内　容]:[番号]],3,TRUE)","v":"支出"},"支払利息・割引料","てき",120]
[1503,"2018-03-04",{"$f":"VLOOKUP(入出金tbl[[#This Row],[内　容]],科目tbl[[内　容]:[番号]],2,TRUE)","v":"経常収支"},{"$f":"VLOOKUP(入出金tbl[[#This Row],[内　容]],科目tbl[[内　容]:[番号]],3,TRUE)","v":"支出"},"諸経費現金支払","てき",130]
[1504,"2018-03-04",{"$f":"VLOOKUP(入出金tbl[[#This Row],[内　容]],科目tbl[[内　容]:[番号]],2,TRUE)","v":"財務収支"},{"$f":"VLOOKUP(入出金tbl[[#This Row],[内　容]],科目tbl[[内　容]:[番号]],3,TRUE)","v":"支出"},"----------","てき",0]
[1505,"2018-03-04",{"$f":"VLOOKUP(入出金tbl[[#This Row],[内　容]],科目tbl[[内　容]:[番号]],2,TRUE)","v":"経常外収支"},{"$f":"VLOOKUP(入出金tbl[[#This Row],[内　容]],科目tbl[[内　容]:[番号]],3,TRUE)","v":"収入"},"固定資産等売却手取","てき",150]
[1506,"2018-03-04",{"$f":"VLOOKUP(入出金tbl[[#This Row],[内　容]],科目tbl[[内　容]:[番号]],2,TRUE)","v":"経常外収支"},{"$f":"VLOOKUP(入出金tbl[[#This Row],[内　容]],科目tbl[[内　容]:[番号]],3,TRUE)","v":"収入"},"定期預金等解約","てき",160]
[1507,"2018-03-04",{"$f":"VLOOKUP(入出金tbl[[#This Row],[内　容]],科目tbl[[内　容]:[番号]],2,TRUE)","v":"経常外収支"},{"$f":"VLOOKUP(入出金tbl[[#This Row],[内　容]],科目tbl[[内　容]:[番号]],3,TRUE)","v":"収入"},"その他臨時収入","てき",170]
[1508,"2018-03-04",{"$f":"VLOOKUP(入出金tbl[[#This Row],[内　容]],科目tbl[[内　容]:[番号]],2,TRUE)","v":"財務収支"},{"$f":"VLOOKUP(入出金tbl[[#This Row],[内　容]],科目tbl[[内　容]:[番号]],3,TRUE)","v":"支出"},"----------","てき",0]
[1509,"2018-03-04",{"$f":"VLOOKUP(入出金tbl[[#This Row],[内　容]],科目tbl[[内　容]:[番号]],2,TRUE)","v":"経常外収支"},{"$f":"VLOOKUP(入出金tbl[[#This Row],[内　容]],科目tbl[[内　容]:[番号]],3,TRUE)","v":"支出"},"税金","てき",190]
[1510,"2018-03-04",{"$f":"VLOOKUP(入出金tbl[[#This Row],[内　容]],科目tbl[[内　容]:[番号]],2,TRUE)","v":"経常外収支"},{"$f":"VLOOKUP(入出金tbl[[#This Row],[内　容]],科目tbl[[内　容]:[番号]],3,TRUE)","v":"支出"},"役員賞与","てき",200]
[1511,"2018-03-04",{"$f":"VLOOKUP(入出金tbl[[#This Row],[内　容]],科目tbl[[内　容]:[番号]],2,TRUE)","v":"経常外収支"},{"$f":"VLOOKUP(入出金tbl[[#This Row],[内　容]],科目tbl[[内　容]:[番号]],3,TRUE)","v":"支出"},"配当","てき",210]
[1512,"2018-03-04",{"$f":"VLOOKUP(入出金tbl[[#This Row],[内　容]],科目tbl[[内　容]:[番号]],2,TRUE)","v":"経常外収支"},{"$f":"VLOOKUP(入出金tbl[[#This Row],[内　容]],科目tbl[[内　容]:[番号]],3,TRUE)","v":"支出"},"固定資産購入支出","てき",220]
[1513,"2018-03-04",{"$f":"VLOOKUP(入出金tbl[[#This Row],[内　容]],科目tbl[[内　容]:[番号]],2,TRUE)","v":"経常外収支"},{"$f":"VLOOKUP(入出金tbl[[#This Row],[内　容]],科目tbl[[内　容]:[番号]],3,TRUE)","v":"支出"},"定期預金等設定","てき",230]
[1514,"2018-03-04",{"$f":"VLOOKUP(入出金tbl[[#This Row],[内　容]],科目tbl[[内　容]:[番号]],2,TRUE)","v":"経常外収支"},{"$f":"VLOOKUP(入出金tbl[[#This Row],[内　容]],科目tbl[[内　容]:[番号]],3,TRUE)","v":"支出"},"その他臨時支出","てき",240]
[1515,"2018-03-04",{"$f":"VLOOKUP(入出金tbl[[#This Row],[内　容]],科目tbl[[内　容]:[番号]],2,TRUE)","v":"経常外収支"},{"$f":"VLOOKUP(入出金tbl[[#This Row],[内　容]],科目tbl[[内　容]:[番号]],3,TRUE)","v":"支出"},"テスト4","てき",250]
[1516,"2018-03-04",{"$f":"VLOOKUP(入出金tbl[[#This Row],[内　容]],科目tbl[[内　容]:[番号]],2,TRUE)","v":"財務収支"},{"$f":"VLOOKUP(入出金tbl[[#This Row],[内　容]],科目tbl[[内　容]:[番号]],3,TRUE)","v":"収入"},"短期借入金調達","てき",260]
[1517,"2018-03-04",{"$f":"VLOOKUP(入出金tbl[[#This Row],[内　容]],科目tbl[[内　容]:[番号]],2,TRUE)","v":"財務収支"},{"$f":"VLOOKUP(入出金tbl[[#This Row],[内　容]],科目tbl[[内　容]:[番号]],3,TRUE)","v":"収入"},"長期借入金調達","てき",270]
[1518,"2018-03-04",{"$f":"VLOOKUP(入出金tbl[[#This Row],[内　容]],科目tbl[[内　容]:[番号]],2,TRUE)","v":"財務収支"},{"$f":"VLOOKUP(入出金tbl[[#This Row],[内　容]],科目tbl[[内　容]:[番号]],3,TRUE)","v":"収入"},"社長借入金調達","てき",280]
[1519,"2018-03-04",{"$f":"VLOOKUP(入出金tbl[[#This Row],[内　容]],科目tbl[[内　容]:[番号]],2,TRUE)","v":"財務収支"},{"$f":"VLOOKUP(入出金tbl[[#This Row],[内　容]],科目tbl[[内　容]:[番号]],3,TRUE)","v":"収入"},"その他調達","てき",290]
[1520,"2018-03-04",{"$f":"VLOOKUP(入出金tbl[[#This Row],[内　容]],科目tbl[[内　容]:[番号]],2,TRUE)","v":"財務収支"},{"$f":"VLOOKUP(入出金tbl[[#This Row],[内　容]],科目tbl[[内　容]:[番号]],3,TRUE)","v":"支出"},"----------","てき",0]
[1521,"2018-03-04",{"$f":"VLOOKUP(入出金tbl[[#This Row],[内　容]],科目tbl[[内　容]:[番号]],2,TRUE)","v":"財務収支"},{"$f":"VLOOKUP(入出金tbl[[#This Row],[内　容]],科目tbl[[内　容]:[番号]],3,TRUE)","v":"支出"},"短期借入金返済","てき",310]
[1522,"2018-03-04",{"$f":"VLOOKUP(入出金tbl[[#This Row],[内　容]],科目tbl[[内　容]:[番号]],2,TRUE)","v":"財務収支"},{"$f":"VLOOKUP(入出金tbl[[#This Row],[内　容]],科目tbl[[内　容]:[番号]],3,TRUE)","v":"支出"},"長期借入金返済","てき",320]
[1523,"2018-03-04",{"$f":"VLOOKUP(入出金tbl[[#This Row],[内　容]],科目tbl[[内　容]:[番号]],2,TRUE)","v":"財務収支"},{"$f":"VLOOKUP(入出金tbl[[#This Row],[内　容]],科目tbl[[内　容]:[番号]],3,TRUE)","v":"支出"},"社長借入金返済","てき",330]
[1524,"2018-03-04",{"$f":"VLOOKUP(入出金tbl[[#This Row],[内　容]],科目tbl[[内　容]:[番号]],2,TRUE)","v":"財務収支"},{"$f":"VLOOKUP(入出金tbl[[#This Row],[内　容]],科目tbl[[内　容]:[番号]],3,TRUE)","v":"支出"},"その他返済","てき",340]
[1525,"2018-03-04",{"$f":"VLOOKUP(入出金tbl[[#This Row],[内　容]],科目tbl[[内　容]:[番号]],2,TRUE)","v":"財務収支"},{"$f":"VLOOKUP(入出金tbl[[#This Row],[内　容]],科目tbl[[内　容]:[番号]],3,TRUE)","v":"支出"},"----------","てき",0]
[1526,"2018-03-05",{"$f":"VLOOKUP(入出金tbl[[#This Row],[内　容]],科目tbl[[内　容]:[番号]],2,TRUE)","v":"経常収支"},{"$f":"VLOOKUP(入出金tbl[[#This Row],[内　容]],科目tbl[[内　容]:[番号]],3,TRUE)","v":"収入"},"現金売上","摘要",10]
[1527,"2018-03-05",{"$f":"VLOOKUP(入出金tbl[[#This Row],[内　容]],科目tbl[[内　容]:[番号]],2,TRUE)","v":"経常収支"},{"$f":"VLOOKUP(入出金tbl[[#This Row],[内　容]],科目tbl[[内　容]:[番号]],3,TRUE)","v":"収入"},"売掛金回収","摘要",20]
[1528,"2018-03-05",{"$f":"VLOOKUP(入出金tbl[[#This Row],[内　容]],科目tbl[[内　容]:[番号]],2,TRUE)","v":"経常収支"},{"$f":"VLOOKUP(入出金tbl[[#This Row],[内　容]],科目tbl[[内　容]:[番号]],3,TRUE)","v":"収入"},"受取手形回収","てき",30]
[1529,"2018-03-05",{"$f":"VLOOKUP(入出金tbl[[#This Row],[内　容]],科目tbl[[内　容]:[番号]],2,TRUE)","v":"経常収支"},{"$f":"VLOOKUP(入出金tbl[[#This Row],[内　容]],科目tbl[[内　容]:[番号]],3,TRUE)","v":"収入"},"手形割引","てき",40]
[1530,"2018-03-05",{"$f":"VLOOKUP(入出金tbl[[#This Row],[内　容]],科目tbl[[内　容]:[番号]],2,TRUE)","v":"経常収支"},{"$f":"VLOOKUP(入出金tbl[[#This Row],[内　容]],科目tbl[[内　容]:[番号]],3,TRUE)","v":"収入"},"その他収入","てき",50]
[1531,"2018-03-05",{"$f":"VLOOKUP(入出金tbl[[#This Row],[内　容]],科目tbl[[内　容]:[番号]],2,TRUE)","v":"財務収支"},{"$f":"VLOOKUP(入出金tbl[[#This Row],[内　容]],科目tbl[[内　容]:[番号]],3,TRUE)","v":"支出"},"----------","てき",0]
[1532,"2018-03-05",{"$f":"VLOOKUP(入出金tbl[[#This Row],[内　容]],科目tbl[[内　容]:[番号]],2,TRUE)","v":"経常収支"},{"$f":"VLOOKUP(入出金tbl[[#This Row],[内　容]],科目tbl[[内　容]:[番号]],3,TRUE)","v":"支出"},"現金仕入","てき",70]
[1533,"2018-03-05",{"$f":"VLOOKUP(入出金tbl[[#This Row],[内　容]],科目tbl[[内　容]:[番号]],2,TRUE)","v":"経常収支"},{"$f":"VLOOKUP(入出金tbl[[#This Row],[内　容]],科目tbl[[内　容]:[番号]],3,TRUE)","v":"支出"},"買掛金支払","てき",80]
[1534,"2018-03-05",{"$f":"VLOOKUP(入出金tbl[[#This Row],[内　容]],科目tbl[[内　容]:[番号]],2,TRUE)","v":"経常収支"},{"$f":"VLOOKUP(入出金tbl[[#This Row],[内　容]],科目tbl[[内　容]:[番号]],3,TRUE)","v":"支出"},"手形支払","てき",90]
[1535,"2018-03-05",{"$f":"VLOOKUP(入出金tbl[[#This Row],[内　容]],科目tbl[[内　容]:[番号]],2,TRUE)","v":"経常収支"},{"$f":"VLOOKUP(入出金tbl[[#This Row],[内　容]],科目tbl[[内　容]:[番号]],3,TRUE)","v":"支出"},"賃金・給与現金支払","てき",100]
[1536,"2018-03-05",{"$f":"VLOOKUP(入出金tbl[[#This Row],[内　容]],科目tbl[[内　容]:[番号]],2,TRUE)","v":"経常収支"},{"$f":"VLOOKUP(入出金tbl[[#This Row],[内　容]],科目tbl[[内　容]:[番号]],3,TRUE)","v":"支出"},"賞与支払い","てき",110]
[1537,"2018-03-05",{"$f":"VLOOKUP(入出金tbl[[#This Row],[内　容]],科目tbl[[内　容]:[番号]],2,TRUE)","v":"経常収支"},{"$f":"VLOOKUP(入出金tbl[[#This Row],[内　容]],科目tbl[[内　容]:[番号]],3,TRUE)","v":"支出"},"支払利息・割引料","てき",120]
[1538,"2018-03-05",{"$f":"VLOOKUP(入出金tbl[[#This Row],[内　容]],科目tbl[[内　容]:[番号]],2,TRUE)","v":"経常収支"},{"$f":"VLOOKUP(入出金tbl[[#This Row],[内　容]],科目tbl[[内　容]:[番号]],3,TRUE)","v":"支出"},"諸経費現金支払","てき",130]
[1539,"2018-03-05",{"$f":"VLOOKUP(入出金tbl[[#This Row],[内　容]],科目tbl[[内　容]:[番号]],2,TRUE)","v":"財務収支"},{"$f":"VLOOKUP(入出金tbl[[#This Row],[内　容]],科目tbl[[内　容]:[番号]],3,TRUE)","v":"支出"},"----------","てき",0]
[1540,"2018-03-05",{"$f":"VLOOKUP(入出金tbl[[#This Row],[内　容]],科目tbl[[内　容]:[番号]],2,TRUE)","v":"経常外収支"},{"$f":"VLOOKUP(入出金tbl[[#This Row],[内　容]],科目tbl[[内　容]:[番号]],3,TRUE)","v":"収入"},"固定資産等売却手取","てき",150]
[1541,"2018-03-05",{"$f":"VLOOKUP(入出金tbl[[#This Row],[内　容]],科目tbl[[内　容]:[番号]],2,TRUE)","v":"経常外収支"},{"$f":"VLOOKUP(入出金tbl[[#This Row],[内　容]],科目tbl[[内　容]:[番号]],3,TRUE)","v":"収入"},"定期預金等解約","てき",160]
[1542,"2018-03-05",{"$f":"VLOOKUP(入出金tbl[[#This Row],[内　容]],科目tbl[[内　容]:[番号]],2,TRUE)","v":"経常外収支"},{"$f":"VLOOKUP(入出金tbl[[#This Row],[内　容]],科目tbl[[内　容]:[番号]],3,TRUE)","v":"収入"},"その他臨時収入","てき",170]
[1543,"2018-03-05",{"$f":"VLOOKUP(入出金tbl[[#This Row],[内　容]],科目tbl[[内　容]:[番号]],2,TRUE)","v":"財務収支"},{"$f":"VLOOKUP(入出金tbl[[#This Row],[内　容]],科目tbl[[内　容]:[番号]],3,TRUE)","v":"支出"},"----------","てき",0]
[1544,"2018-03-05",{"$f":"VLOOKUP(入出金tbl[[#This Row],[内　容]],科目tbl[[内　容]:[番号]],2,TRUE)","v":"経常外収支"},{"$f":"VLOOKUP(入出金tbl[[#This Row],[内　容]],科目tbl[[内　容]:[番号]],3,TRUE)","v":"支出"},"税金","てき",190]
[1545,"2018-03-05",{"$f":"VLOOKUP(入出金tbl[[#This Row],[内　容]],科目tbl[[内　容]:[番号]],2,TRUE)","v":"経常外収支"},{"$f":"VLOOKUP(入出金tbl[[#This Row],[内　容]],科目tbl[[内　容]:[番号]],3,TRUE)","v":"支出"},"役員賞与","てき",200]
[1546,"2018-03-05",{"$f":"VLOOKUP(入出金tbl[[#This Row],[内　容]],科目tbl[[内　容]:[番号]],2,TRUE)","v":"経常外収支"},{"$f":"VLOOKUP(入出金tbl[[#This Row],[内　容]],科目tbl[[内　容]:[番号]],3,TRUE)","v":"支出"},"配当","てき",210]
[1547,"2018-03-05",{"$f":"VLOOKUP(入出金tbl[[#This Row],[内　容]],科目tbl[[内　容]:[番号]],2,TRUE)","v":"経常外収支"},{"$f":"VLOOKUP(入出金tbl[[#This Row],[内　容]],科目tbl[[内　容]:[番号]],3,TRUE)","v":"支出"},"固定資産購入支出","てき",220]
[1548,"2018-03-05",{"$f":"VLOOKUP(入出金tbl[[#This Row],[内　容]],科目tbl[[内　容]:[番号]],2,TRUE)","v":"経常外収支"},{"$f":"VLOOKUP(入出金tbl[[#This Row],[内　容]],科目tbl[[内　容]:[番号]],3,TRUE)","v":"支出"},"定期預金等設定","てき",230]
[1549,"2018-03-05",{"$f":"VLOOKUP(入出金tbl[[#This Row],[内　容]],科目tbl[[内　容]:[番号]],2,TRUE)","v":"経常外収支"},{"$f":"VLOOKUP(入出金tbl[[#This Row],[内　容]],科目tbl[[内　容]:[番号]],3,TRUE)","v":"支出"},"その他臨時支出","てき",240]
[1550,"2018-03-05",{"$f":"VLOOKUP(入出金tbl[[#This Row],[内　容]],科目tbl[[内　容]:[番号]],2,TRUE)","v":"経常外収支"},{"$f":"VLOOKUP(入出金tbl[[#This Row],[内　容]],科目tbl[[内　容]:[番号]],3,TRUE)","v":"支出"},"テスト4","てき",250]
[1551,"2018-03-05",{"$f":"VLOOKUP(入出金tbl[[#This Row],[内　容]],科目tbl[[内　容]:[番号]],2,TRUE)","v":"財務収支"},{"$f":"VLOOKUP(入出金tbl[[#This Row],[内　容]],科目tbl[[内　容]:[番号]],3,TRUE)","v":"収入"},"短期借入金調達","てき",260]
[1552,"2018-03-05",{"$f":"VLOOKUP(入出金tbl[[#This Row],[内　容]],科目tbl[[内　容]:[番号]],2,TRUE)","v":"財務収支"},{"$f":"VLOOKUP(入出金tbl[[#This Row],[内　容]],科目tbl[[内　容]:[番号]],3,TRUE)","v":"収入"},"長期借入金調達","てき",270]
[1553,"2018-03-05",{"$f":"VLOOKUP(入出金tbl[[#This Row],[内　容]],科目tbl[[内　容]:[番号]],2,TRUE)","v":"財務収支"},{"$f":"VLOOKUP(入出金tbl[[#This Row],[内　容]],科目tbl[[内　容]:[番号]],3,TRUE)","v":"収入"},"社長借入金調達","てき",280]
[1554,"2018-03-05",{"$f":"VLOOKUP(入出金tbl[[#This Row],[内　容]],科目tbl[[内　容]:[番号]],2,TRUE)","v":"財務収支"},{"$f":"VLOOKUP(入出金tbl[[#This Row],[内　容]],科目tbl[[内　容]:[番号]],3,TRUE)","v":"収入"},"その他調達","てき",290]
[1555,"2018-03-05",{"$f":"VLOOKUP(入出金tbl[[#This Row],[内　容]],科目tbl[[内　容]:[番号]],2,TRUE)","v":"財務収支"},{"$f":"VLOOKUP(入出金tbl[[#This Row],[内　容]],科目tbl[[内　容]:[番号]],3,TRUE)","v":"支出"},"----------","てき",0]
[1556,"2018-03-05",{"$f":"VLOOKUP(入出金tbl[[#This Row],[内　容]],科目tbl[[内　容]:[番号]],2,TRUE)","v":"財務収支"},{"$f":"VLOOKUP(入出金tbl[[#This Row],[内　容]],科目tbl[[内　容]:[番号]],3,TRUE)","v":"支出"},"短期借入金返済","てき",310]
[1557,"2018-03-05",{"$f":"VLOOKUP(入出金tbl[[#This Row],[内　容]],科目tbl[[内　容]:[番号]],2,TRUE)","v":"財務収支"},{"$f":"VLOOKUP(入出金tbl[[#This Row],[内　容]],科目tbl[[内　容]:[番号]],3,TRUE)","v":"支出"},"長期借入金返済","てき",320]
[1558,"2018-03-05",{"$f":"VLOOKUP(入出金tbl[[#This Row],[内　容]],科目tbl[[内　容]:[番号]],2,TRUE)","v":"財務収支"},{"$f":"VLOOKUP(入出金tbl[[#This Row],[内　容]],科目tbl[[内　容]:[番号]],3,TRUE)","v":"支出"},"社長借入金返済","てき",330]
[1559,"2018-03-05",{"$f":"VLOOKUP(入出金tbl[[#This Row],[内　容]],科目tbl[[内　容]:[番号]],2,TRUE)","v":"財務収支"},{"$f":"VLOOKUP(入出金tbl[[#This Row],[内　容]],科目tbl[[内　容]:[番号]],3,TRUE)","v":"支出"},"その他返済","てき",340]
[1560,"2018-03-05",{"$f":"VLOOKUP(入出金tbl[[#This Row],[内　容]],科目tbl[[内　容]:[番号]],2,TRUE)","v":"財務収支"},{"$f":"VLOOKUP(入出金tbl[[#This Row],[内　容]],科目tbl[[内　容]:[番号]],3,TRUE)","v":"支出"},"----------","てき",0]
[1561,"2018-03-06",{"$f":"VLOOKUP(入出金tbl[[#This Row],[内　容]],科目tbl[[内　容]:[番号]],2,TRUE)","v":"経常収支"},{"$f":"VLOOKUP(入出金tbl[[#This Row],[内　容]],科目tbl[[内　容]:[番号]],3,TRUE)","v":"収入"},"現金売上","摘要",10]
[1562,"2018-03-06",{"$f":"VLOOKUP(入出金tbl[[#This Row],[内　容]],科目tbl[[内　容]:[番号]],2,TRUE)","v":"経常収支"},{"$f":"VLOOKUP(入出金tbl[[#This Row],[内　容]],科目tbl[[内　容]:[番号]],3,TRUE)","v":"収入"},"売掛金回収","摘要",20]
[1563,"2018-03-06",{"$f":"VLOOKUP(入出金tbl[[#This Row],[内　容]],科目tbl[[内　容]:[番号]],2,TRUE)","v":"経常収支"},{"$f":"VLOOKUP(入出金tbl[[#This Row],[内　容]],科目tbl[[内　容]:[番号]],3,TRUE)","v":"収入"},"受取手形回収","てき",30]
[1564,"2018-03-06",{"$f":"VLOOKUP(入出金tbl[[#This Row],[内　容]],科目tbl[[内　容]:[番号]],2,TRUE)","v":"経常収支"},{"$f":"VLOOKUP(入出金tbl[[#This Row],[内　容]],科目tbl[[内　容]:[番号]],3,TRUE)","v":"収入"},"手形割引","てき",40]
[1565,"2018-03-06",{"$f":"VLOOKUP(入出金tbl[[#This Row],[内　容]],科目tbl[[内　容]:[番号]],2,TRUE)","v":"経常収支"},{"$f":"VLOOKUP(入出金tbl[[#This Row],[内　容]],科目tbl[[内　容]:[番号]],3,TRUE)","v":"収入"},"その他収入","てき",50]
[1566,"2018-03-06",{"$f":"VLOOKUP(入出金tbl[[#This Row],[内　容]],科目tbl[[内　容]:[番号]],2,TRUE)","v":"財務収支"},{"$f":"VLOOKUP(入出金tbl[[#This Row],[内　容]],科目tbl[[内　容]:[番号]],3,TRUE)","v":"支出"},"----------","てき",0]
[1567,"2018-03-06",{"$f":"VLOOKUP(入出金tbl[[#This Row],[内　容]],科目tbl[[内　容]:[番号]],2,TRUE)","v":"経常収支"},{"$f":"VLOOKUP(入出金tbl[[#This Row],[内　容]],科目tbl[[内　容]:[番号]],3,TRUE)","v":"支出"},"現金仕入","てき",70]
[1568,"2018-03-06",{"$f":"VLOOKUP(入出金tbl[[#This Row],[内　容]],科目tbl[[内　容]:[番号]],2,TRUE)","v":"経常収支"},{"$f":"VLOOKUP(入出金tbl[[#This Row],[内　容]],科目tbl[[内　容]:[番号]],3,TRUE)","v":"支出"},"買掛金支払","てき",80]
[1569,"2018-03-06",{"$f":"VLOOKUP(入出金tbl[[#This Row],[内　容]],科目tbl[[内　容]:[番号]],2,TRUE)","v":"経常収支"},{"$f":"VLOOKUP(入出金tbl[[#This Row],[内　容]],科目tbl[[内　容]:[番号]],3,TRUE)","v":"支出"},"手形支払","てき",90]
[1570,"2018-03-06",{"$f":"VLOOKUP(入出金tbl[[#This Row],[内　容]],科目tbl[[内　容]:[番号]],2,TRUE)","v":"経常収支"},{"$f":"VLOOKUP(入出金tbl[[#This Row],[内　容]],科目tbl[[内　容]:[番号]],3,TRUE)","v":"支出"},"賃金・給与現金支払","てき",100]
[1571,"2018-03-06",{"$f":"VLOOKUP(入出金tbl[[#This Row],[内　容]],科目tbl[[内　容]:[番号]],2,TRUE)","v":"経常収支"},{"$f":"VLOOKUP(入出金tbl[[#This Row],[内　容]],科目tbl[[内　容]:[番号]],3,TRUE)","v":"支出"},"賞与支払い","てき",110]
[1572,"2018-03-06",{"$f":"VLOOKUP(入出金tbl[[#This Row],[内　容]],科目tbl[[内　容]:[番号]],2,TRUE)","v":"経常収支"},{"$f":"VLOOKUP(入出金tbl[[#This Row],[内　容]],科目tbl[[内　容]:[番号]],3,TRUE)","v":"支出"},"支払利息・割引料","てき",120]
[1573,"2018-03-06",{"$f":"VLOOKUP(入出金tbl[[#This Row],[内　容]],科目tbl[[内　容]:[番号]],2,TRUE)","v":"経常収支"},{"$f":"VLOOKUP(入出金tbl[[#This Row],[内　容]],科目tbl[[内　容]:[番号]],3,TRUE)","v":"支出"},"諸経費現金支払","てき",130]
[1574,"2018-03-06",{"$f":"VLOOKUP(入出金tbl[[#This Row],[内　容]],科目tbl[[内　容]:[番号]],2,TRUE)","v":"財務収支"},{"$f":"VLOOKUP(入出金tbl[[#This Row],[内　容]],科目tbl[[内　容]:[番号]],3,TRUE)","v":"支出"},"----------","てき",0]
[1575,"2018-03-06",{"$f":"VLOOKUP(入出金tbl[[#This Row],[内　容]],科目tbl[[内　容]:[番号]],2,TRUE)","v":"経常外収支"},{"$f":"VLOOKUP(入出金tbl[[#This Row],[内　容]],科目tbl[[内　容]:[番号]],3,TRUE)","v":"収入"},"固定資産等売却手取","てき",150]
[1576,"2018-03-06",{"$f":"VLOOKUP(入出金tbl[[#This Row],[内　容]],科目tbl[[内　容]:[番号]],2,TRUE)","v":"経常外収支"},{"$f":"VLOOKUP(入出金tbl[[#This Row],[内　容]],科目tbl[[内　容]:[番号]],3,TRUE)","v":"収入"},"定期預金等解約","てき",160]
[1577,"2018-03-06",{"$f":"VLOOKUP(入出金tbl[[#This Row],[内　容]],科目tbl[[内　容]:[番号]],2,TRUE)","v":"経常外収支"},{"$f":"VLOOKUP(入出金tbl[[#This Row],[内　容]],科目tbl[[内　容]:[番号]],3,TRUE)","v":"収入"},"その他臨時収入","てき",170]
[1578,"2018-03-06",{"$f":"VLOOKUP(入出金tbl[[#This Row],[内　容]],科目tbl[[内　容]:[番号]],2,TRUE)","v":"財務収支"},{"$f":"VLOOKUP(入出金tbl[[#This Row],[内　容]],科目tbl[[内　容]:[番号]],3,TRUE)","v":"支出"},"----------","てき",0]
[1579,"2018-03-06",{"$f":"VLOOKUP(入出金tbl[[#This Row],[内　容]],科目tbl[[内　容]:[番号]],2,TRUE)","v":"経常外収支"},{"$f":"VLOOKUP(入出金tbl[[#This Row],[内　容]],科目tbl[[内　容]:[番号]],3,TRUE)","v":"支出"},"税金","てき",190]
[1580,"2018-03-06",{"$f":"VLOOKUP(入出金tbl[[#This Row],[内　容]],科目tbl[[内　容]:[番号]],2,TRUE)","v":"経常外収支"},{"$f":"VLOOKUP(入出金tbl[[#This Row],[内　容]],科目tbl[[内　容]:[番号]],3,TRUE)","v":"支出"},"役員賞与","てき",200]
[1581,"2018-03-06",{"$f":"VLOOKUP(入出金tbl[[#This Row],[内　容]],科目tbl[[内　容]:[番号]],2,TRUE)","v":"経常外収支"},{"$f":"VLOOKUP(入出金tbl[[#This Row],[内　容]],科目tbl[[内　容]:[番号]],3,TRUE)","v":"支出"},"配当","てき",210]
[1582,"2018-03-06",{"$f":"VLOOKUP(入出金tbl[[#This Row],[内　容]],科目tbl[[内　容]:[番号]],2,TRUE)","v":"経常外収支"},{"$f":"VLOOKUP(入出金tbl[[#This Row],[内　容]],科目tbl[[内　容]:[番号]],3,TRUE)","v":"支出"},"固定資産購入支出","てき",220]
[1583,"2018-03-06",{"$f":"VLOOKUP(入出金tbl[[#This Row],[内　容]],科目tbl[[内　容]:[番号]],2,TRUE)","v":"経常外収支"},{"$f":"VLOOKUP(入出金tbl[[#This Row],[内　容]],科目tbl[[内　容]:[番号]],3,TRUE)","v":"支出"},"定期預金等設定","てき",230]
[1584,"2018-03-06",{"$f":"VLOOKUP(入出金tbl[[#This Row],[内　容]],科目tbl[[内　容]:[番号]],2,TRUE)","v":"経常外収支"},{"$f":"VLOOKUP(入出金tbl[[#This Row],[内　容]],科目tbl[[内　容]:[番号]],3,TRUE)","v":"支出"},"その他臨時支出","てき",240]
[1585,"2018-03-06",{"$f":"VLOOKUP(入出金tbl[[#This Row],[内　容]],科目tbl[[内　容]:[番号]],2,TRUE)","v":"経常外収支"},{"$f":"VLOOKUP(入出金tbl[[#This Row],[内　容]],科目tbl[[内　容]:[番号]],3,TRUE)","v":"支出"},"テスト4","てき",250]
[1586,"2018-03-06",{"$f":"VLOOKUP(入出金tbl[[#This Row],[内　容]],科目tbl[[内　容]:[番号]],2,TRUE)","v":"財務収支"},{"$f":"VLOOKUP(入出金tbl[[#This Row],[内　容]],科目tbl[[内　容]:[番号]],3,TRUE)","v":"収入"},"短期借入金調達","てき",260]
[1587,"2018-03-06",{"$f":"VLOOKUP(入出金tbl[[#This Row],[内　容]],科目tbl[[内　容]:[番号]],2,TRUE)","v":"財務収支"},{"$f":"VLOOKUP(入出金tbl[[#This Row],[内　容]],科目tbl[[内　容]:[番号]],3,TRUE)","v":"収入"},"長期借入金調達","てき",270]
[1588,"2018-03-06",{"$f":"VLOOKUP(入出金tbl[[#This Row],[内　容]],科目tbl[[内　容]:[番号]],2,TRUE)","v":"財務収支"},{"$f":"VLOOKUP(入出金tbl[[#This Row],[内　容]],科目tbl[[内　容]:[番号]],3,TRUE)","v":"収入"},"社長借入金調達","てき",280]
[1589,"2018-03-06",{"$f":"VLOOKUP(入出金tbl[[#This Row],[内　容]],科目tbl[[内　容]:[番号]],2,TRUE)","v":"財務収支"},{"$f":"VLOOKUP(入出金tbl[[#This Row],[内　容]],科目tbl[[内　容]:[番号]],3,TRUE)","v":"収入"},"その他調達","てき",290]
[1590,"2018-03-06",{"$f":"VLOOKUP(入出金tbl[[#This Row],[内　容]],科目tbl[[内　容]:[番号]],2,TRUE)","v":"財務収支"},{"$f":"VLOOKUP(入出金tbl[[#This Row],[内　容]],科目tbl[[内　容]:[番号]],3,TRUE)","v":"支出"},"----------","てき",0]
[1591,"2018-03-06",{"$f":"VLOOKUP(入出金tbl[[#This Row],[内　容]],科目tbl[[内　容]:[番号]],2,TRUE)","v":"財務収支"},{"$f":"VLOOKUP(入出金tbl[[#This Row],[内　容]],科目tbl[[内　容]:[番号]],3,TRUE)","v":"支出"},"短期借入金返済","てき",310]
[1592,"2018-03-06",{"$f":"VLOOKUP(入出金tbl[[#This Row],[内　容]],科目tbl[[内　容]:[番号]],2,TRUE)","v":"財務収支"},{"$f":"VLOOKUP(入出金tbl[[#This Row],[内　容]],科目tbl[[内　容]:[番号]],3,TRUE)","v":"支出"},"長期借入金返済","てき",320]
[1593,"2018-03-06",{"$f":"VLOOKUP(入出金tbl[[#This Row],[内　容]],科目tbl[[内　容]:[番号]],2,TRUE)","v":"財務収支"},{"$f":"VLOOKUP(入出金tbl[[#This Row],[内　容]],科目tbl[[内　容]:[番号]],3,TRUE)","v":"支出"},"社長借入金返済","てき",330]
[1594,"2018-03-06",{"$f":"VLOOKUP(入出金tbl[[#This Row],[内　容]],科目tbl[[内　容]:[番号]],2,TRUE)","v":"財務収支"},{"$f":"VLOOKUP(入出金tbl[[#This Row],[内　容]],科目tbl[[内　容]:[番号]],3,TRUE)","v":"支出"},"その他返済","てき",340]
[1595,"2018-03-06",{"$f":"VLOOKUP(入出金tbl[[#This Row],[内　容]],科目tbl[[内　容]:[番号]],2,TRUE)","v":"財務収支"},{"$f":"VLOOKUP(入出金tbl[[#This Row],[内　容]],科目tbl[[内　容]:[番号]],3,TRUE)","v":"支出"},"----------","てき",0]
[1596,"2018-03-07",{"$f":"VLOOKUP(入出金tbl[[#This Row],[内　容]],科目tbl[[内　容]:[番号]],2,TRUE)","v":"経常収支"},{"$f":"VLOOKUP(入出金tbl[[#This Row],[内　容]],科目tbl[[内　容]:[番号]],3,TRUE)","v":"収入"},"現金売上","摘要",10]
[1597,"2018-03-07",{"$f":"VLOOKUP(入出金tbl[[#This Row],[内　容]],科目tbl[[内　容]:[番号]],2,TRUE)","v":"経常収支"},{"$f":"VLOOKUP(入出金tbl[[#This Row],[内　容]],科目tbl[[内　容]:[番号]],3,TRUE)","v":"収入"},"売掛金回収","摘要",20]
[1598,"2018-03-07",{"$f":"VLOOKUP(入出金tbl[[#This Row],[内　容]],科目tbl[[内　容]:[番号]],2,TRUE)","v":"経常収支"},{"$f":"VLOOKUP(入出金tbl[[#This Row],[内　容]],科目tbl[[内　容]:[番号]],3,TRUE)","v":"収入"},"受取手形回収","てき",30]
[1599,"2018-03-07",{"$f":"VLOOKUP(入出金tbl[[#This Row],[内　容]],科目tbl[[内　容]:[番号]],2,TRUE)","v":"経常収支"},{"$f":"VLOOKUP(入出金tbl[[#This Row],[内　容]],科目tbl[[内　容]:[番号]],3,TRUE)","v":"収入"},"手形割引","てき",40]
[1600,"2018-03-07",{"$f":"VLOOKUP(入出金tbl[[#This Row],[内　容]],科目tbl[[内　容]:[番号]],2,TRUE)","v":"経常収支"},{"$f":"VLOOKUP(入出金tbl[[#This Row],[内　容]],科目tbl[[内　容]:[番号]],3,TRUE)","v":"収入"},"その他収入","てき",50]
[1601,"2018-03-07",{"$f":"VLOOKUP(入出金tbl[[#This Row],[内　容]],科目tbl[[内　容]:[番号]],2,TRUE)","v":"財務収支"},{"$f":"VLOOKUP(入出金tbl[[#This Row],[内　容]],科目tbl[[内　容]:[番号]],3,TRUE)","v":"支出"},"----------","てき",0]
[1602,"2018-03-07",{"$f":"VLOOKUP(入出金tbl[[#This Row],[内　容]],科目tbl[[内　容]:[番号]],2,TRUE)","v":"経常収支"},{"$f":"VLOOKUP(入出金tbl[[#This Row],[内　容]],科目tbl[[内　容]:[番号]],3,TRUE)","v":"支出"},"現金仕入","てき",70]
[1603,"2018-03-07",{"$f":"VLOOKUP(入出金tbl[[#This Row],[内　容]],科目tbl[[内　容]:[番号]],2,TRUE)","v":"経常収支"},{"$f":"VLOOKUP(入出金tbl[[#This Row],[内　容]],科目tbl[[内　容]:[番号]],3,TRUE)","v":"支出"},"買掛金支払","てき",80]
[1604,"2018-03-07",{"$f":"VLOOKUP(入出金tbl[[#This Row],[内　容]],科目tbl[[内　容]:[番号]],2,TRUE)","v":"経常収支"},{"$f":"VLOOKUP(入出金tbl[[#This Row],[内　容]],科目tbl[[内　容]:[番号]],3,TRUE)","v":"支出"},"手形支払","てき",90]
[1605,"2018-03-07",{"$f":"VLOOKUP(入出金tbl[[#This Row],[内　容]],科目tbl[[内　容]:[番号]],2,TRUE)","v":"経常収支"},{"$f":"VLOOKUP(入出金tbl[[#This Row],[内　容]],科目tbl[[内　容]:[番号]],3,TRUE)","v":"支出"},"賃金・給与現金支払","てき",100]
[1606,"2018-03-07",{"$f":"VLOOKUP(入出金tbl[[#This Row],[内　容]],科目tbl[[内　容]:[番号]],2,TRUE)","v":"経常収支"},{"$f":"VLOOKUP(入出金tbl[[#This Row],[内　容]],科目tbl[[内　容]:[番号]],3,TRUE)","v":"支出"},"賞与支払い","てき",110]
[1607,"2018-03-07",{"$f":"VLOOKUP(入出金tbl[[#This Row],[内　容]],科目tbl[[内　容]:[番号]],2,TRUE)","v":"経常収支"},{"$f":"VLOOKUP(入出金tbl[[#This Row],[内　容]],科目tbl[[内　容]:[番号]],3,TRUE)","v":"支出"},"支払利息・割引料","てき",120]
[1608,"2018-03-07",{"$f":"VLOOKUP(入出金tbl[[#This Row],[内　容]],科目tbl[[内　容]:[番号]],2,TRUE)","v":"経常収支"},{"$f":"VLOOKUP(入出金tbl[[#This Row],[内　容]],科目tbl[[内　容]:[番号]],3,TRUE)","v":"支出"},"諸経費現金支払","てき",130]
[1609,"2018-03-07",{"$f":"VLOOKUP(入出金tbl[[#This Row],[内　容]],科目tbl[[内　容]:[番号]],2,TRUE)","v":"財務収支"},{"$f":"VLOOKUP(入出金tbl[[#This Row],[内　容]],科目tbl[[内　容]:[番号]],3,TRUE)","v":"支出"},"----------","てき",0]
[1610,"2018-03-07",{"$f":"VLOOKUP(入出金tbl[[#This Row],[内　容]],科目tbl[[内　容]:[番号]],2,TRUE)","v":"経常外収支"},{"$f":"VLOOKUP(入出金tbl[[#This Row],[内　容]],科目tbl[[内　容]:[番号]],3,TRUE)","v":"収入"},"固定資産等売却手取","てき",150]
[1611,"2018-03-07",{"$f":"VLOOKUP(入出金tbl[[#This Row],[内　容]],科目tbl[[内　容]:[番号]],2,TRUE)","v":"経常外収支"},{"$f":"VLOOKUP(入出金tbl[[#This Row],[内　容]],科目tbl[[内　容]:[番号]],3,TRUE)","v":"収入"},"定期預金等解約","てき",160]
[1612,"2018-03-07",{"$f":"VLOOKUP(入出金tbl[[#This Row],[内　容]],科目tbl[[内　容]:[番号]],2,TRUE)","v":"経常外収支"},{"$f":"VLOOKUP(入出金tbl[[#This Row],[内　容]],科目tbl[[内　容]:[番号]],3,TRUE)","v":"収入"},"その他臨時収入","てき",170]
[1613,"2018-03-07",{"$f":"VLOOKUP(入出金tbl[[#This Row],[内　容]],科目tbl[[内　容]:[番号]],2,TRUE)","v":"財務収支"},{"$f":"VLOOKUP(入出金tbl[[#This Row],[内　容]],科目tbl[[内　容]:[番号]],3,TRUE)","v":"支出"},"----------","てき",0]
[1614,"2018-03-07",{"$f":"VLOOKUP(入出金tbl[[#This Row],[内　容]],科目tbl[[内　容]:[番号]],2,TRUE)","v":"経常外収支"},{"$f":"VLOOKUP(入出金tbl[[#This Row],[内　容]],科目tbl[[内　容]:[番号]],3,TRUE)","v":"支出"},"税金","てき",190]
[1615,"2018-03-07",{"$f":"VLOOKUP(入出金tbl[[#This Row],[内　容]],科目tbl[[内　容]:[番号]],2,TRUE)","v":"経常外収支"},{"$f":"VLOOKUP(入出金tbl[[#This Row],[内　容]],科目tbl[[内　容]:[番号]],3,TRUE)","v":"支出"},"役員賞与","てき",200]
[1616,"2018-03-07",{"$f":"VLOOKUP(入出金tbl[[#This Row],[内　容]],科目tbl[[内　容]:[番号]],2,TRUE)","v":"経常外収支"},{"$f":"VLOOKUP(入出金tbl[[#This Row],[内　容]],科目tbl[[内　容]:[番号]],3,TRUE)","v":"支出"},"配当","てき",210]
[1617,"2018-03-07",{"$f":"VLOOKUP(入出金tbl[[#This Row],[内　容]],科目tbl[[内　容]:[番号]],2,TRUE)","v":"経常外収支"},{"$f":"VLOOKUP(入出金tbl[[#This Row],[内　容]],科目tbl[[内　容]:[番号]],3,TRUE)","v":"支出"},"固定資産購入支出","てき",220]
[1618,"2018-03-07",{"$f":"VLOOKUP(入出金tbl[[#This Row],[内　容]],科目tbl[[内　容]:[番号]],2,TRUE)","v":"経常外収支"},{"$f":"VLOOKUP(入出金tbl[[#This Row],[内　容]],科目tbl[[内　容]:[番号]],3,TRUE)","v":"支出"},"定期預金等設定","てき",230]
[1619,"2018-03-07",{"$f":"VLOOKUP(入出金tbl[[#This Row],[内　容]],科目tbl[[内　容]:[番号]],2,TRUE)","v":"経常外収支"},{"$f":"VLOOKUP(入出金tbl[[#This Row],[内　容]],科目tbl[[内　容]:[番号]],3,TRUE)","v":"支出"},"その他臨時支出","てき",240]
[1620,"2018-03-07",{"$f":"VLOOKUP(入出金tbl[[#This Row],[内　容]],科目tbl[[内　容]:[番号]],2,TRUE)","v":"経常外収支"},{"$f":"VLOOKUP(入出金tbl[[#This Row],[内　容]],科目tbl[[内　容]:[番号]],3,TRUE)","v":"支出"},"テスト4","てき",250]
[1621,"2018-03-07",{"$f":"VLOOKUP(入出金tbl[[#This Row],[内　容]],科目tbl[[内　容]:[番号]],2,TRUE)","v":"財務収支"},{"$f":"VLOOKUP(入出金tbl[[#This Row],[内　容]],科目tbl[[内　容]:[番号]],3,TRUE)","v":"収入"},"短期借入金調達","てき",260]
[1622,"2018-03-07",{"$f":"VLOOKUP(入出金tbl[[#This Row],[内　容]],科目tbl[[内　容]:[番号]],2,TRUE)","v":"財務収支"},{"$f":"VLOOKUP(入出金tbl[[#This Row],[内　容]],科目tbl[[内　容]:[番号]],3,TRUE)","v":"収入"},"長期借入金調達","てき",270]
[1623,"2018-03-07",{"$f":"VLOOKUP(入出金tbl[[#This Row],[内　容]],科目tbl[[内　容]:[番号]],2,TRUE)","v":"財務収支"},{"$f":"VLOOKUP(入出金tbl[[#This Row],[内　容]],科目tbl[[内　容]:[番号]],3,TRUE)","v":"収入"},"社長借入金調達","てき",280]
[1624,"2018-03-07",{"$f":"VLOOKUP(入出金tbl[[#This Row],[内　容]],科目tbl[[内　容]:[番号]],2,TRUE)","v":"財務収支"},{"$f":"VLOOKUP(入出金tbl[[#This Row],[内　容]],科目tbl[[内　容]:[番号]],3,TRUE)","v":"収入"},"その他調達","てき",290]
[1625,"2018-03-07",{"$f":"VLOOKUP(入出金tbl[[#This Row],[内　容]],科目tbl[[内　容]:[番号]],2,TRUE)","v":"財務収支"},{"$f":"VLOOKUP(入出金tbl[[#This Row],[内　容]],科目tbl[[内　容]:[番号]],3,TRUE)","v":"支出"},"----------","てき",0]
[1626,"2018-03-07",{"$f":"VLOOKUP(入出金tbl[[#This Row],[内　容]],科目tbl[[内　容]:[番号]],2,TRUE)","v":"財務収支"},{"$f":"VLOOKUP(入出金tbl[[#This Row],[内　容]],科目tbl[[内　容]:[番号]],3,TRUE)","v":"支出"},"短期借入金返済","てき",310]
[1627,"2018-03-07",{"$f":"VLOOKUP(入出金tbl[[#This Row],[内　容]],科目tbl[[内　容]:[番号]],2,TRUE)","v":"財務収支"},{"$f":"VLOOKUP(入出金tbl[[#This Row],[内　容]],科目tbl[[内　容]:[番号]],3,TRUE)","v":"支出"},"長期借入金返済","てき",320]
[1628,"2018-03-07",{"$f":"VLOOKUP(入出金tbl[[#This Row],[内　容]],科目tbl[[内　容]:[番号]],2,TRUE)","v":"財務収支"},{"$f":"VLOOKUP(入出金tbl[[#This Row],[内　容]],科目tbl[[内　容]:[番号]],3,TRUE)","v":"支出"},"社長借入金返済","てき",330]
[1629,"2018-03-07",{"$f":"VLOOKUP(入出金tbl[[#This Row],[内　容]],科目tbl[[内　容]:[番号]],2,TRUE)","v":"財務収支"},{"$f":"VLOOKUP(入出金tbl[[#This Row],[内　容]],科目tbl[[内　容]:[番号]],3,TRUE)","v":"支出"},"その他返済","てき",340]
[1630,"2018-03-07",{"$f":"VLOOKUP(入出金tbl[[#This Row],[内　容]],科目tbl[[内　容]:[番号]],2,TRUE)","v":"財務収支"},{"$f":"VLOOKUP(入出金tbl[[#This Row],[内　容]],科目tbl[[内　容]:[番号]],3,TRUE)","v":"支出"},"----------","てき",0]
[1631,"2018-03-08",{"$f":"VLOOKUP(入出金tbl[[#This Row],[内　容]],科目tbl[[内　容]:[番号]],2,TRUE)","v":"経常収支"},{"$f":"VLOOKUP(入出金tbl[[#This Row],[内　容]],科目tbl[[内　容]:[番号]],3,TRUE)","v":"収入"},"現金売上","摘要",10]
[1632,"2018-03-08",{"$f":"VLOOKUP(入出金tbl[[#This Row],[内　容]],科目tbl[[内　容]:[番号]],2,TRUE)","v":"経常収支"},{"$f":"VLOOKUP(入出金tbl[[#This Row],[内　容]],科目tbl[[内　容]:[番号]],3,TRUE)","v":"収入"},"売掛金回収","摘要",20]
[1633,"2018-03-08",{"$f":"VLOOKUP(入出金tbl[[#This Row],[内　容]],科目tbl[[内　容]:[番号]],2,TRUE)","v":"経常収支"},{"$f":"VLOOKUP(入出金tbl[[#This Row],[内　容]],科目tbl[[内　容]:[番号]],3,TRUE)","v":"収入"},"受取手形回収","てき",30]
[1634,"2018-03-08",{"$f":"VLOOKUP(入出金tbl[[#This Row],[内　容]],科目tbl[[内　容]:[番号]],2,TRUE)","v":"経常収支"},{"$f":"VLOOKUP(入出金tbl[[#This Row],[内　容]],科目tbl[[内　容]:[番号]],3,TRUE)","v":"収入"},"手形割引","てき",40]
[1635,"2018-03-08",{"$f":"VLOOKUP(入出金tbl[[#This Row],[内　容]],科目tbl[[内　容]:[番号]],2,TRUE)","v":"経常収支"},{"$f":"VLOOKUP(入出金tbl[[#This Row],[内　容]],科目tbl[[内　容]:[番号]],3,TRUE)","v":"収入"},"その他収入","てき",50]
[1636,"2018-03-08",{"$f":"VLOOKUP(入出金tbl[[#This Row],[内　容]],科目tbl[[内　容]:[番号]],2,TRUE)","v":"財務収支"},{"$f":"VLOOKUP(入出金tbl[[#This Row],[内　容]],科目tbl[[内　容]:[番号]],3,TRUE)","v":"支出"},"----------","てき",0]
[1637,"2018-03-08",{"$f":"VLOOKUP(入出金tbl[[#This Row],[内　容]],科目tbl[[内　容]:[番号]],2,TRUE)","v":"経常収支"},{"$f":"VLOOKUP(入出金tbl[[#This Row],[内　容]],科目tbl[[内　容]:[番号]],3,TRUE)","v":"支出"},"現金仕入","てき",70]
[1638,"2018-03-08",{"$f":"VLOOKUP(入出金tbl[[#This Row],[内　容]],科目tbl[[内　容]:[番号]],2,TRUE)","v":"経常収支"},{"$f":"VLOOKUP(入出金tbl[[#This Row],[内　容]],科目tbl[[内　容]:[番号]],3,TRUE)","v":"支出"},"買掛金支払","てき",80]
[1639,"2018-03-08",{"$f":"VLOOKUP(入出金tbl[[#This Row],[内　容]],科目tbl[[内　容]:[番号]],2,TRUE)","v":"経常収支"},{"$f":"VLOOKUP(入出金tbl[[#This Row],[内　容]],科目tbl[[内　容]:[番号]],3,TRUE)","v":"支出"},"手形支払","てき",90]
[1640,"2018-03-08",{"$f":"VLOOKUP(入出金tbl[[#This Row],[内　容]],科目tbl[[内　容]:[番号]],2,TRUE)","v":"経常収支"},{"$f":"VLOOKUP(入出金tbl[[#This Row],[内　容]],科目tbl[[内　容]:[番号]],3,TRUE)","v":"支出"},"賃金・給与現金支払","てき",100]
[1641,"2018-03-08",{"$f":"VLOOKUP(入出金tbl[[#This Row],[内　容]],科目tbl[[内　容]:[番号]],2,TRUE)","v":"経常収支"},{"$f":"VLOOKUP(入出金tbl[[#This Row],[内　容]],科目tbl[[内　容]:[番号]],3,TRUE)","v":"支出"},"賞与支払い","てき",110]
[1642,"2018-03-08",{"$f":"VLOOKUP(入出金tbl[[#This Row],[内　容]],科目tbl[[内　容]:[番号]],2,TRUE)","v":"経常収支"},{"$f":"VLOOKUP(入出金tbl[[#This Row],[内　容]],科目tbl[[内　容]:[番号]],3,TRUE)","v":"支出"},"支払利息・割引料","てき",120]
[1643,"2018-03-08",{"$f":"VLOOKUP(入出金tbl[[#This Row],[内　容]],科目tbl[[内　容]:[番号]],2,TRUE)","v":"経常収支"},{"$f":"VLOOKUP(入出金tbl[[#This Row],[内　容]],科目tbl[[内　容]:[番号]],3,TRUE)","v":"支出"},"諸経費現金支払","てき",130]
[1644,"2018-03-08",{"$f":"VLOOKUP(入出金tbl[[#This Row],[内　容]],科目tbl[[内　容]:[番号]],2,TRUE)","v":"財務収支"},{"$f":"VLOOKUP(入出金tbl[[#This Row],[内　容]],科目tbl[[内　容]:[番号]],3,TRUE)","v":"支出"},"----------","てき",0]
[1645,"2018-03-08",{"$f":"VLOOKUP(入出金tbl[[#This Row],[内　容]],科目tbl[[内　容]:[番号]],2,TRUE)","v":"経常外収支"},{"$f":"VLOOKUP(入出金tbl[[#This Row],[内　容]],科目tbl[[内　容]:[番号]],3,TRUE)","v":"収入"},"固定資産等売却手取","てき",150]
[1646,"2018-03-08",{"$f":"VLOOKUP(入出金tbl[[#This Row],[内　容]],科目tbl[[内　容]:[番号]],2,TRUE)","v":"経常外収支"},{"$f":"VLOOKUP(入出金tbl[[#This Row],[内　容]],科目tbl[[内　容]:[番号]],3,TRUE)","v":"収入"},"定期預金等解約","てき",160]
[1647,"2018-03-08",{"$f":"VLOOKUP(入出金tbl[[#This Row],[内　容]],科目tbl[[内　容]:[番号]],2,TRUE)","v":"経常外収支"},{"$f":"VLOOKUP(入出金tbl[[#This Row],[内　容]],科目tbl[[内　容]:[番号]],3,TRUE)","v":"収入"},"その他臨時収入","てき",170]
[1648,"2018-03-08",{"$f":"VLOOKUP(入出金tbl[[#This Row],[内　容]],科目tbl[[内　容]:[番号]],2,TRUE)","v":"財務収支"},{"$f":"VLOOKUP(入出金tbl[[#This Row],[内　容]],科目tbl[[内　容]:[番号]],3,TRUE)","v":"支出"},"----------","てき",0]
[1649,"2018-03-08",{"$f":"VLOOKUP(入出金tbl[[#This Row],[内　容]],科目tbl[[内　容]:[番号]],2,TRUE)","v":"経常外収支"},{"$f":"VLOOKUP(入出金tbl[[#This Row],[内　容]],科目tbl[[内　容]:[番号]],3,TRUE)","v":"支出"},"税金","てき",190]
[1650,"2018-03-08",{"$f":"VLOOKUP(入出金tbl[[#This Row],[内　容]],科目tbl[[内　容]:[番号]],2,TRUE)","v":"経常外収支"},{"$f":"VLOOKUP(入出金tbl[[#This Row],[内　容]],科目tbl[[内　容]:[番号]],3,TRUE)","v":"支出"},"役員賞与","てき",200]
[1651,"2018-03-08",{"$f":"VLOOKUP(入出金tbl[[#This Row],[内　容]],科目tbl[[内　容]:[番号]],2,TRUE)","v":"経常外収支"},{"$f":"VLOOKUP(入出金tbl[[#This Row],[内　容]],科目tbl[[内　容]:[番号]],3,TRUE)","v":"支出"},"配当","てき",210]
[1652,"2018-03-08",{"$f":"VLOOKUP(入出金tbl[[#This Row],[内　容]],科目tbl[[内　容]:[番号]],2,TRUE)","v":"経常外収支"},{"$f":"VLOOKUP(入出金tbl[[#This Row],[内　容]],科目tbl[[内　容]:[番号]],3,TRUE)","v":"支出"},"固定資産購入支出","てき",220]
[1653,"2018-03-08",{"$f":"VLOOKUP(入出金tbl[[#This Row],[内　容]],科目tbl[[内　容]:[番号]],2,TRUE)","v":"経常外収支"},{"$f":"VLOOKUP(入出金tbl[[#This Row],[内　容]],科目tbl[[内　容]:[番号]],3,TRUE)","v":"支出"},"定期預金等設定","てき",230]
[1654,"2018-03-08",{"$f":"VLOOKUP(入出金tbl[[#This Row],[内　容]],科目tbl[[内　容]:[番号]],2,TRUE)","v":"経常外収支"},{"$f":"VLOOKUP(入出金tbl[[#This Row],[内　容]],科目tbl[[内　容]:[番号]],3,TRUE)","v":"支出"},"その他臨時支出","てき",240]
[1655,"2018-03-08",{"$f":"VLOOKUP(入出金tbl[[#This Row],[内　容]],科目tbl[[内　容]:[番号]],2,TRUE)","v":"経常外収支"},{"$f":"VLOOKUP(入出金tbl[[#This Row],[内　容]],科目tbl[[内　容]:[番号]],3,TRUE)","v":"支出"},"テスト4","てき",250]
[1656,"2018-03-08",{"$f":"VLOOKUP(入出金tbl[[#This Row],[内　容]],科目tbl[[内　容]:[番号]],2,TRUE)","v":"財務収支"},{"$f":"VLOOKUP(入出金tbl[[#This Row],[内　容]],科目tbl[[内　容]:[番号]],3,TRUE)","v":"収入"},"短期借入金調達","てき",260]
[1657,"2018-03-08",{"$f":"VLOOKUP(入出金tbl[[#This Row],[内　容]],科目tbl[[内　容]:[番号]],2,TRUE)","v":"財務収支"},{"$f":"VLOOKUP(入出金tbl[[#This Row],[内　容]],科目tbl[[内　容]:[番号]],3,TRUE)","v":"収入"},"長期借入金調達","てき",270]
[1658,"2018-03-08",{"$f":"VLOOKUP(入出金tbl[[#This Row],[内　容]],科目tbl[[内　容]:[番号]],2,TRUE)","v":"財務収支"},{"$f":"VLOOKUP(入出金tbl[[#This Row],[内　容]],科目tbl[[内　容]:[番号]],3,TRUE)","v":"収入"},"社長借入金調達","てき",280]
[1659,"2018-03-08",{"$f":"VLOOKUP(入出金tbl[[#This Row],[内　容]],科目tbl[[内　容]:[番号]],2,TRUE)","v":"財務収支"},{"$f":"VLOOKUP(入出金tbl[[#This Row],[内　容]],科目tbl[[内　容]:[番号]],3,TRUE)","v":"収入"},"その他調達","てき",290]
[1660,"2018-03-08",{"$f":"VLOOKUP(入出金tbl[[#This Row],[内　容]],科目tbl[[内　容]:[番号]],2,TRUE)","v":"財務収支"},{"$f":"VLOOKUP(入出金tbl[[#This Row],[内　容]],科目tbl[[内　容]:[番号]],3,TRUE)","v":"支出"},"----------","てき",0]
[1661,"2018-03-08",{"$f":"VLOOKUP(入出金tbl[[#This Row],[内　容]],科目tbl[[内　容]:[番号]],2,TRUE)","v":"財務収支"},{"$f":"VLOOKUP(入出金tbl[[#This Row],[内　容]],科目tbl[[内　容]:[番号]],3,TRUE)","v":"支出"},"短期借入金返済","てき",310]
[1662,"2018-03-08",{"$f":"VLOOKUP(入出金tbl[[#This Row],[内　容]],科目tbl[[内　容]:[番号]],2,TRUE)","v":"財務収支"},{"$f":"VLOOKUP(入出金tbl[[#This Row],[内　容]],科目tbl[[内　容]:[番号]],3,TRUE)","v":"支出"},"長期借入金返済","てき",320]
[1663,"2018-03-08",{"$f":"VLOOKUP(入出金tbl[[#This Row],[内　容]],科目tbl[[内　容]:[番号]],2,TRUE)","v":"財務収支"},{"$f":"VLOOKUP(入出金tbl[[#This Row],[内　容]],科目tbl[[内　容]:[番号]],3,TRUE)","v":"支出"},"社長借入金返済","てき",330]
[1664,"2018-03-08",{"$f":"VLOOKUP(入出金tbl[[#This Row],[内　容]],科目tbl[[内　容]:[番号]],2,TRUE)","v":"財務収支"},{"$f":"VLOOKUP(入出金tbl[[#This Row],[内　容]],科目tbl[[内　容]:[番号]],3,TRUE)","v":"支出"},"その他返済","てき",340]
[1665,"2018-03-08",{"$f":"VLOOKUP(入出金tbl[[#This Row],[内　容]],科目tbl[[内　容]:[番号]],2,TRUE)","v":"財務収支"},{"$f":"VLOOKUP(入出金tbl[[#This Row],[内　容]],科目tbl[[内　容]:[番号]],3,TRUE)","v":"支出"},"----------","てき",0]
[1666,"2018-03-09",{"$f":"VLOOKUP(入出金tbl[[#This Row],[内　容]],科目tbl[[内　容]:[番号]],2,TRUE)","v":"経常収支"},{"$f":"VLOOKUP(入出金tbl[[#This Row],[内　容]],科目tbl[[内　容]:[番号]],3,TRUE)","v":"収入"},"現金売上","摘要",10]
[1667,"2018-03-09",{"$f":"VLOOKUP(入出金tbl[[#This Row],[内　容]],科目tbl[[内　容]:[番号]],2,TRUE)","v":"経常収支"},{"$f":"VLOOKUP(入出金tbl[[#This Row],[内　容]],科目tbl[[内　容]:[番号]],3,TRUE)","v":"収入"},"売掛金回収","摘要",20]
[1668,"2018-03-09",{"$f":"VLOOKUP(入出金tbl[[#This Row],[内　容]],科目tbl[[内　容]:[番号]],2,TRUE)","v":"経常収支"},{"$f":"VLOOKUP(入出金tbl[[#This Row],[内　容]],科目tbl[[内　容]:[番号]],3,TRUE)","v":"収入"},"受取手形回収","てき",30]
[1669,"2018-03-09",{"$f":"VLOOKUP(入出金tbl[[#This Row],[内　容]],科目tbl[[内　容]:[番号]],2,TRUE)","v":"経常収支"},{"$f":"VLOOKUP(入出金tbl[[#This Row],[内　容]],科目tbl[[内　容]:[番号]],3,TRUE)","v":"収入"},"手形割引","てき",40]
[1670,"2018-03-09",{"$f":"VLOOKUP(入出金tbl[[#This Row],[内　容]],科目tbl[[内　容]:[番号]],2,TRUE)","v":"経常収支"},{"$f":"VLOOKUP(入出金tbl[[#This Row],[内　容]],科目tbl[[内　容]:[番号]],3,TRUE)","v":"収入"},"その他収入","てき",50]
[1671,"2018-03-09",{"$f":"VLOOKUP(入出金tbl[[#This Row],[内　容]],科目tbl[[内　容]:[番号]],2,TRUE)","v":"財務収支"},{"$f":"VLOOKUP(入出金tbl[[#This Row],[内　容]],科目tbl[[内　容]:[番号]],3,TRUE)","v":"支出"},"----------","てき",0]
[1672,"2018-03-09",{"$f":"VLOOKUP(入出金tbl[[#This Row],[内　容]],科目tbl[[内　容]:[番号]],2,TRUE)","v":"経常収支"},{"$f":"VLOOKUP(入出金tbl[[#This Row],[内　容]],科目tbl[[内　容]:[番号]],3,TRUE)","v":"支出"},"現金仕入","てき",70]
[1673,"2018-03-09",{"$f":"VLOOKUP(入出金tbl[[#This Row],[内　容]],科目tbl[[内　容]:[番号]],2,TRUE)","v":"経常収支"},{"$f":"VLOOKUP(入出金tbl[[#This Row],[内　容]],科目tbl[[内　容]:[番号]],3,TRUE)","v":"支出"},"買掛金支払","てき",80]
[1674,"2018-03-09",{"$f":"VLOOKUP(入出金tbl[[#This Row],[内　容]],科目tbl[[内　容]:[番号]],2,TRUE)","v":"経常収支"},{"$f":"VLOOKUP(入出金tbl[[#This Row],[内　容]],科目tbl[[内　容]:[番号]],3,TRUE)","v":"支出"},"手形支払","てき",90]
[1675,"2018-03-09",{"$f":"VLOOKUP(入出金tbl[[#This Row],[内　容]],科目tbl[[内　容]:[番号]],2,TRUE)","v":"経常収支"},{"$f":"VLOOKUP(入出金tbl[[#This Row],[内　容]],科目tbl[[内　容]:[番号]],3,TRUE)","v":"支出"},"賃金・給与現金支払","てき",100]
[1676,"2018-03-09",{"$f":"VLOOKUP(入出金tbl[[#This Row],[内　容]],科目tbl[[内　容]:[番号]],2,TRUE)","v":"経常収支"},{"$f":"VLOOKUP(入出金tbl[[#This Row],[内　容]],科目tbl[[内　容]:[番号]],3,TRUE)","v":"支出"},"賞与支払い","てき",110]
[1677,"2018-03-09",{"$f":"VLOOKUP(入出金tbl[[#This Row],[内　容]],科目tbl[[内　容]:[番号]],2,TRUE)","v":"経常収支"},{"$f":"VLOOKUP(入出金tbl[[#This Row],[内　容]],科目tbl[[内　容]:[番号]],3,TRUE)","v":"支出"},"支払利息・割引料","てき",120]
[1678,"2018-03-09",{"$f":"VLOOKUP(入出金tbl[[#This Row],[内　容]],科目tbl[[内　容]:[番号]],2,TRUE)","v":"経常収支"},{"$f":"VLOOKUP(入出金tbl[[#This Row],[内　容]],科目tbl[[内　容]:[番号]],3,TRUE)","v":"支出"},"諸経費現金支払","てき",130]
[1679,"2018-03-09",{"$f":"VLOOKUP(入出金tbl[[#This Row],[内　容]],科目tbl[[内　容]:[番号]],2,TRUE)","v":"財務収支"},{"$f":"VLOOKUP(入出金tbl[[#This Row],[内　容]],科目tbl[[内　容]:[番号]],3,TRUE)","v":"支出"},"----------","てき",0]
[1680,"2018-03-09",{"$f":"VLOOKUP(入出金tbl[[#This Row],[内　容]],科目tbl[[内　容]:[番号]],2,TRUE)","v":"経常外収支"},{"$f":"VLOOKUP(入出金tbl[[#This Row],[内　容]],科目tbl[[内　容]:[番号]],3,TRUE)","v":"収入"},"固定資産等売却手取","てき",150]
[1681,"2018-03-09",{"$f":"VLOOKUP(入出金tbl[[#This Row],[内　容]],科目tbl[[内　容]:[番号]],2,TRUE)","v":"経常外収支"},{"$f":"VLOOKUP(入出金tbl[[#This Row],[内　容]],科目tbl[[内　容]:[番号]],3,TRUE)","v":"収入"},"定期預金等解約","てき",160]
[1682,"2018-03-09",{"$f":"VLOOKUP(入出金tbl[[#This Row],[内　容]],科目tbl[[内　容]:[番号]],2,TRUE)","v":"経常外収支"},{"$f":"VLOOKUP(入出金tbl[[#This Row],[内　容]],科目tbl[[内　容]:[番号]],3,TRUE)","v":"収入"},"その他臨時収入","てき",170]
[1683,"2018-03-09",{"$f":"VLOOKUP(入出金tbl[[#This Row],[内　容]],科目tbl[[内　容]:[番号]],2,TRUE)","v":"財務収支"},{"$f":"VLOOKUP(入出金tbl[[#This Row],[内　容]],科目tbl[[内　容]:[番号]],3,TRUE)","v":"支出"},"----------","てき",0]
[1684,"2018-03-09",{"$f":"VLOOKUP(入出金tbl[[#This Row],[内　容]],科目tbl[[内　容]:[番号]],2,TRUE)","v":"経常外収支"},{"$f":"VLOOKUP(入出金tbl[[#This Row],[内　容]],科目tbl[[内　容]:[番号]],3,TRUE)","v":"支出"},"税金","てき",190]
[1685,"2018-03-09",{"$f":"VLOOKUP(入出金tbl[[#This Row],[内　容]],科目tbl[[内　容]:[番号]],2,TRUE)","v":"経常外収支"},{"$f":"VLOOKUP(入出金tbl[[#This Row],[内　容]],科目tbl[[内　容]:[番号]],3,TRUE)","v":"支出"},"役員賞与","てき",200]
[1686,"2018-03-09",{"$f":"VLOOKUP(入出金tbl[[#This Row],[内　容]],科目tbl[[内　容]:[番号]],2,TRUE)","v":"経常外収支"},{"$f":"VLOOKUP(入出金tbl[[#This Row],[内　容]],科目tbl[[内　容]:[番号]],3,TRUE)","v":"支出"},"配当","てき",210]
[1687,"2018-03-09",{"$f":"VLOOKUP(入出金tbl[[#This Row],[内　容]],科目tbl[[内　容]:[番号]],2,TRUE)","v":"経常外収支"},{"$f":"VLOOKUP(入出金tbl[[#This Row],[内　容]],科目tbl[[内　容]:[番号]],3,TRUE)","v":"支出"},"固定資産購入支出","てき",220]
[1688,"2018-03-09",{"$f":"VLOOKUP(入出金tbl[[#This Row],[内　容]],科目tbl[[内　容]:[番号]],2,TRUE)","v":"経常外収支"},{"$f":"VLOOKUP(入出金tbl[[#This Row],[内　容]],科目tbl[[内　容]:[番号]],3,TRUE)","v":"支出"},"定期預金等設定","てき",230]
[1689,"2018-03-09",{"$f":"VLOOKUP(入出金tbl[[#This Row],[内　容]],科目tbl[[内　容]:[番号]],2,TRUE)","v":"経常外収支"},{"$f":"VLOOKUP(入出金tbl[[#This Row],[内　容]],科目tbl[[内　容]:[番号]],3,TRUE)","v":"支出"},"その他臨時支出","てき",240]
[1690,"2018-03-09",{"$f":"VLOOKUP(入出金tbl[[#This Row],[内　容]],科目tbl[[内　容]:[番号]],2,TRUE)","v":"経常外収支"},{"$f":"VLOOKUP(入出金tbl[[#This Row],[内　容]],科目tbl[[内　容]:[番号]],3,TRUE)","v":"支出"},"テスト4","てき",250]
[1691,"2018-03-09",{"$f":"VLOOKUP(入出金tbl[[#This Row],[内　容]],科目tbl[[内　容]:[番号]],2,TRUE)","v":"財務収支"},{"$f":"VLOOKUP(入出金tbl[[#This Row],[内　容]],科目tbl[[内　容]:[番号]],3,TRUE)","v":"収入"},"短期借入金調達","てき",260]
[1692,"2018-03-09",{"$f":"VLOOKUP(入出金tbl[[#This Row],[内　容]],科目tbl[[内　容]:[番号]],2,TRUE)","v":"財務収支"},{"$f":"VLOOKUP(入出金tbl[[#This Row],[内　容]],科目tbl[[内　容]:[番号]],3,TRUE)","v":"収入"},"長期借入金調達","てき",270]
[1693,"2018-03-09",{"$f":"VLOOKUP(入出金tbl[[#This Row],[内　容]],科目tbl[[内　容]:[番号]],2,TRUE)","v":"財務収支"},{"$f":"VLOOKUP(入出金tbl[[#This Row],[内　容]],科目tbl[[内　容]:[番号]],3,TRUE)","v":"収入"},"社長借入金調達","てき",280]
[1694,"2018-03-09",{"$f":"VLOOKUP(入出金tbl[[#This Row],[内　容]],科目tbl[[内　容]:[番号]],2,TRUE)","v":"財務収支"},{"$f":"VLOOKUP(入出金tbl[[#This Row],[内　容]],科目tbl[[内　容]:[番号]],3,TRUE)","v":"収入"},"その他調達","てき",290]
[1695,"2018-03-09",{"$f":"VLOOKUP(入出金tbl[[#This Row],[内　容]],科目tbl[[内　容]:[番号]],2,TRUE)","v":"財務収支"},{"$f":"VLOOKUP(入出金tbl[[#This Row],[内　容]],科目tbl[[内　容]:[番号]],3,TRUE)","v":"支出"},"----------","てき",0]
[1696,"2018-03-09",{"$f":"VLOOKUP(入出金tbl[[#This Row],[内　容]],科目tbl[[内　容]:[番号]],2,TRUE)","v":"財務収支"},{"$f":"VLOOKUP(入出金tbl[[#This Row],[内　容]],科目tbl[[内　容]:[番号]],3,TRUE)","v":"支出"},"短期借入金返済","てき",310]
[1697,"2018-03-09",{"$f":"VLOOKUP(入出金tbl[[#This Row],[内　容]],科目tbl[[内　容]:[番号]],2,TRUE)","v":"財務収支"},{"$f":"VLOOKUP(入出金tbl[[#This Row],[内　容]],科目tbl[[内　容]:[番号]],3,TRUE)","v":"支出"},"長期借入金返済","てき",320]
[1698,"2018-03-09",{"$f":"VLOOKUP(入出金tbl[[#This Row],[内　容]],科目tbl[[内　容]:[番号]],2,TRUE)","v":"財務収支"},{"$f":"VLOOKUP(入出金tbl[[#This Row],[内　容]],科目tbl[[内　容]:[番号]],3,TRUE)","v":"支出"},"社長借入金返済","てき",330]
[1699,"2018-03-09",{"$f":"VLOOKUP(入出金tbl[[#This Row],[内　容]],科目tbl[[内　容]:[番号]],2,TRUE)","v":"財務収支"},{"$f":"VLOOKUP(入出金tbl[[#This Row],[内　容]],科目tbl[[内　容]:[番号]],3,TRUE)","v":"支出"},"その他返済","てき",340]
[1700,"2018-03-09",{"$f":"VLOOKUP(入出金tbl[[#This Row],[内　容]],科目tbl[[内　容]:[番号]],2,TRUE)","v":"財務収支"},{"$f":"VLOOKUP(入出金tbl[[#This Row],[内　容]],科目tbl[[内　容]:[番号]],3,TRUE)","v":"支出"},"----------","てき",0]
[1701,"2018-03-10",{"$f":"VLOOKUP(入出金tbl[[#This Row],[内　容]],科目tbl[[内　容]:[番号]],2,TRUE)","v":"経常収支"},{"$f":"VLOOKUP(入出金tbl[[#This Row],[内　容]],科目tbl[[内　容]:[番号]],3,TRUE)","v":"収入"},"現金売上","摘要",10]
[1702,"2018-03-10",{"$f":"VLOOKUP(入出金tbl[[#This Row],[内　容]],科目tbl[[内　容]:[番号]],2,TRUE)","v":"経常収支"},{"$f":"VLOOKUP(入出金tbl[[#This Row],[内　容]],科目tbl[[内　容]:[番号]],3,TRUE)","v":"収入"},"売掛金回収","摘要",20]
[1703,"2018-03-10",{"$f":"VLOOKUP(入出金tbl[[#This Row],[内　容]],科目tbl[[内　容]:[番号]],2,TRUE)","v":"経常収支"},{"$f":"VLOOKUP(入出金tbl[[#This Row],[内　容]],科目tbl[[内　容]:[番号]],3,TRUE)","v":"収入"},"受取手形回収","てき",30]
[1704,"2018-03-10",{"$f":"VLOOKUP(入出金tbl[[#This Row],[内　容]],科目tbl[[内　容]:[番号]],2,TRUE)","v":"経常収支"},{"$f":"VLOOKUP(入出金tbl[[#This Row],[内　容]],科目tbl[[内　容]:[番号]],3,TRUE)","v":"収入"},"手形割引","てき",40]
[1705,"2018-03-10",{"$f":"VLOOKUP(入出金tbl[[#This Row],[内　容]],科目tbl[[内　容]:[番号]],2,TRUE)","v":"経常収支"},{"$f":"VLOOKUP(入出金tbl[[#This Row],[内　容]],科目tbl[[内　容]:[番号]],3,TRUE)","v":"収入"},"その他収入","てき",50]
[1706,"2018-03-10",{"$f":"VLOOKUP(入出金tbl[[#This Row],[内　容]],科目tbl[[内　容]:[番号]],2,TRUE)","v":"財務収支"},{"$f":"VLOOKUP(入出金tbl[[#This Row],[内　容]],科目tbl[[内　容]:[番号]],3,TRUE)","v":"支出"},"----------","てき",0]
[1707,"2018-03-10",{"$f":"VLOOKUP(入出金tbl[[#This Row],[内　容]],科目tbl[[内　容]:[番号]],2,TRUE)","v":"経常収支"},{"$f":"VLOOKUP(入出金tbl[[#This Row],[内　容]],科目tbl[[内　容]:[番号]],3,TRUE)","v":"支出"},"現金仕入","てき",70]
[1708,"2018-03-10",{"$f":"VLOOKUP(入出金tbl[[#This Row],[内　容]],科目tbl[[内　容]:[番号]],2,TRUE)","v":"経常収支"},{"$f":"VLOOKUP(入出金tbl[[#This Row],[内　容]],科目tbl[[内　容]:[番号]],3,TRUE)","v":"支出"},"買掛金支払","てき",80]
[1709,"2018-03-10",{"$f":"VLOOKUP(入出金tbl[[#This Row],[内　容]],科目tbl[[内　容]:[番号]],2,TRUE)","v":"経常収支"},{"$f":"VLOOKUP(入出金tbl[[#This Row],[内　容]],科目tbl[[内　容]:[番号]],3,TRUE)","v":"支出"},"手形支払","てき",90]
[1710,"2018-03-10",{"$f":"VLOOKUP(入出金tbl[[#This Row],[内　容]],科目tbl[[内　容]:[番号]],2,TRUE)","v":"経常収支"},{"$f":"VLOOKUP(入出金tbl[[#This Row],[内　容]],科目tbl[[内　容]:[番号]],3,TRUE)","v":"支出"},"賃金・給与現金支払","てき",100]
[1711,"2018-03-10",{"$f":"VLOOKUP(入出金tbl[[#This Row],[内　容]],科目tbl[[内　容]:[番号]],2,TRUE)","v":"経常収支"},{"$f":"VLOOKUP(入出金tbl[[#This Row],[内　容]],科目tbl[[内　容]:[番号]],3,TRUE)","v":"支出"},"賞与支払い","てき",110]
[1712,"2018-03-10",{"$f":"VLOOKUP(入出金tbl[[#This Row],[内　容]],科目tbl[[内　容]:[番号]],2,TRUE)","v":"経常収支"},{"$f":"VLOOKUP(入出金tbl[[#This Row],[内　容]],科目tbl[[内　容]:[番号]],3,TRUE)","v":"支出"},"支払利息・割引料","てき",120]
[1713,"2018-03-10",{"$f":"VLOOKUP(入出金tbl[[#This Row],[内　容]],科目tbl[[内　容]:[番号]],2,TRUE)","v":"経常収支"},{"$f":"VLOOKUP(入出金tbl[[#This Row],[内　容]],科目tbl[[内　容]:[番号]],3,TRUE)","v":"支出"},"諸経費現金支払","てき",130]
[1714,"2018-03-10",{"$f":"VLOOKUP(入出金tbl[[#This Row],[内　容]],科目tbl[[内　容]:[番号]],2,TRUE)","v":"財務収支"},{"$f":"VLOOKUP(入出金tbl[[#This Row],[内　容]],科目tbl[[内　容]:[番号]],3,TRUE)","v":"支出"},"----------","てき",0]
[1715,"2018-03-10",{"$f":"VLOOKUP(入出金tbl[[#This Row],[内　容]],科目tbl[[内　容]:[番号]],2,TRUE)","v":"経常外収支"},{"$f":"VLOOKUP(入出金tbl[[#This Row],[内　容]],科目tbl[[内　容]:[番号]],3,TRUE)","v":"収入"},"固定資産等売却手取","てき",150]
[1716,"2018-03-10",{"$f":"VLOOKUP(入出金tbl[[#This Row],[内　容]],科目tbl[[内　容]:[番号]],2,TRUE)","v":"経常外収支"},{"$f":"VLOOKUP(入出金tbl[[#This Row],[内　容]],科目tbl[[内　容]:[番号]],3,TRUE)","v":"収入"},"定期預金等解約","てき",160]
[1717,"2018-03-10",{"$f":"VLOOKUP(入出金tbl[[#This Row],[内　容]],科目tbl[[内　容]:[番号]],2,TRUE)","v":"経常外収支"},{"$f":"VLOOKUP(入出金tbl[[#This Row],[内　容]],科目tbl[[内　容]:[番号]],3,TRUE)","v":"収入"},"その他臨時収入","てき",170]
[1718,"2018-03-10",{"$f":"VLOOKUP(入出金tbl[[#This Row],[内　容]],科目tbl[[内　容]:[番号]],2,TRUE)","v":"財務収支"},{"$f":"VLOOKUP(入出金tbl[[#This Row],[内　容]],科目tbl[[内　容]:[番号]],3,TRUE)","v":"支出"},"----------","てき",0]
[1719,"2018-03-10",{"$f":"VLOOKUP(入出金tbl[[#This Row],[内　容]],科目tbl[[内　容]:[番号]],2,TRUE)","v":"経常外収支"},{"$f":"VLOOKUP(入出金tbl[[#This Row],[内　容]],科目tbl[[内　容]:[番号]],3,TRUE)","v":"支出"},"税金","てき",190]
[1720,"2018-03-10",{"$f":"VLOOKUP(入出金tbl[[#This Row],[内　容]],科目tbl[[内　容]:[番号]],2,TRUE)","v":"経常外収支"},{"$f":"VLOOKUP(入出金tbl[[#This Row],[内　容]],科目tbl[[内　容]:[番号]],3,TRUE)","v":"支出"},"役員賞与","てき",200]
[1721,"2018-03-10",{"$f":"VLOOKUP(入出金tbl[[#This Row],[内　容]],科目tbl[[内　容]:[番号]],2,TRUE)","v":"経常外収支"},{"$f":"VLOOKUP(入出金tbl[[#This Row],[内　容]],科目tbl[[内　容]:[番号]],3,TRUE)","v":"支出"},"配当","てき",210]
[1722,"2018-03-10",{"$f":"VLOOKUP(入出金tbl[[#This Row],[内　容]],科目tbl[[内　容]:[番号]],2,TRUE)","v":"経常外収支"},{"$f":"VLOOKUP(入出金tbl[[#This Row],[内　容]],科目tbl[[内　容]:[番号]],3,TRUE)","v":"支出"},"固定資産購入支出","てき",220]
[1723,"2018-03-10",{"$f":"VLOOKUP(入出金tbl[[#This Row],[内　容]],科目tbl[[内　容]:[番号]],2,TRUE)","v":"経常外収支"},{"$f":"VLOOKUP(入出金tbl[[#This Row],[内　容]],科目tbl[[内　容]:[番号]],3,TRUE)","v":"支出"},"定期預金等設定","てき",230]
[1724,"2018-03-10",{"$f":"VLOOKUP(入出金tbl[[#This Row],[内　容]],科目tbl[[内　容]:[番号]],2,TRUE)","v":"経常外収支"},{"$f":"VLOOKUP(入出金tbl[[#This Row],[内　容]],科目tbl[[内　容]:[番号]],3,TRUE)","v":"支出"},"その他臨時支出","てき",240]
[1725,"2018-03-10",{"$f":"VLOOKUP(入出金tbl[[#This Row],[内　容]],科目tbl[[内　容]:[番号]],2,TRUE)","v":"経常外収支"},{"$f":"VLOOKUP(入出金tbl[[#This Row],[内　容]],科目tbl[[内　容]:[番号]],3,TRUE)","v":"支出"},"テスト4","てき",250]
[1726,"2018-03-10",{"$f":"VLOOKUP(入出金tbl[[#This Row],[内　容]],科目tbl[[内　容]:[番号]],2,TRUE)","v":"財務収支"},{"$f":"VLOOKUP(入出金tbl[[#This Row],[内　容]],科目tbl[[内　容]:[番号]],3,TRUE)","v":"収入"},"短期借入金調達","てき",260]
[1727,"2018-03-10",{"$f":"VLOOKUP(入出金tbl[[#This Row],[内　容]],科目tbl[[内　容]:[番号]],2,TRUE)","v":"財務収支"},{"$f":"VLOOKUP(入出金tbl[[#This Row],[内　容]],科目tbl[[内　容]:[番号]],3,TRUE)","v":"収入"},"長期借入金調達","てき",270]
[1728,"2018-03-10",{"$f":"VLOOKUP(入出金tbl[[#This Row],[内　容]],科目tbl[[内　容]:[番号]],2,TRUE)","v":"財務収支"},{"$f":"VLOOKUP(入出金tbl[[#This Row],[内　容]],科目tbl[[内　容]:[番号]],3,TRUE)","v":"収入"},"社長借入金調達","てき",280]
[1729,"2018-03-10",{"$f":"VLOOKUP(入出金tbl[[#This Row],[内　容]],科目tbl[[内　容]:[番号]],2,TRUE)","v":"財務収支"},{"$f":"VLOOKUP(入出金tbl[[#This Row],[内　容]],科目tbl[[内　容]:[番号]],3,TRUE)","v":"収入"},"その他調達","てき",290]
[1730,"2018-03-10",{"$f":"VLOOKUP(入出金tbl[[#This Row],[内　容]],科目tbl[[内　容]:[番号]],2,TRUE)","v":"財務収支"},{"$f":"VLOOKUP(入出金tbl[[#This Row],[内　容]],科目tbl[[内　容]:[番号]],3,TRUE)","v":"支出"},"----------","てき",0]
[1731,"2018-03-10",{"$f":"VLOOKUP(入出金tbl[[#This Row],[内　容]],科目tbl[[内　容]:[番号]],2,TRUE)","v":"財務収支"},{"$f":"VLOOKUP(入出金tbl[[#This Row],[内　容]],科目tbl[[内　容]:[番号]],3,TRUE)","v":"支出"},"短期借入金返済","てき",310]
[1732,"2018-03-10",{"$f":"VLOOKUP(入出金tbl[[#This Row],[内　容]],科目tbl[[内　容]:[番号]],2,TRUE)","v":"財務収支"},{"$f":"VLOOKUP(入出金tbl[[#This Row],[内　容]],科目tbl[[内　容]:[番号]],3,TRUE)","v":"支出"},"長期借入金返済","てき",320]
[1733,"2018-03-10",{"$f":"VLOOKUP(入出金tbl[[#This Row],[内　容]],科目tbl[[内　容]:[番号]],2,TRUE)","v":"財務収支"},{"$f":"VLOOKUP(入出金tbl[[#This Row],[内　容]],科目tbl[[内　容]:[番号]],3,TRUE)","v":"支出"},"社長借入金返済","てき",330]
[1734,"2018-03-10",{"$f":"VLOOKUP(入出金tbl[[#This Row],[内　容]],科目tbl[[内　容]:[番号]],2,TRUE)","v":"財務収支"},{"$f":"VLOOKUP(入出金tbl[[#This Row],[内　容]],科目tbl[[内　容]:[番号]],3,TRUE)","v":"支出"},"その他返済","てき",340]
[1735,"2018-03-10",{"$f":"VLOOKUP(入出金tbl[[#This Row],[内　容]],科目tbl[[内　容]:[番号]],2,TRUE)","v":"財務収支"},{"$f":"VLOOKUP(入出金tbl[[#This Row],[内　容]],科目tbl[[内　容]:[番号]],3,TRUE)","v":"支出"},"----------","てき",0]
[1736,"2018-03-11",{"$f":"VLOOKUP(入出金tbl[[#This Row],[内　容]],科目tbl[[内　容]:[番号]],2,TRUE)","v":"経常収支"},{"$f":"VLOOKUP(入出金tbl[[#This Row],[内　容]],科目tbl[[内　容]:[番号]],3,TRUE)","v":"収入"},"現金売上","摘要",10]
[1737,"2018-03-11",{"$f":"VLOOKUP(入出金tbl[[#This Row],[内　容]],科目tbl[[内　容]:[番号]],2,TRUE)","v":"経常収支"},{"$f":"VLOOKUP(入出金tbl[[#This Row],[内　容]],科目tbl[[内　容]:[番号]],3,TRUE)","v":"収入"},"売掛金回収","摘要",20]
[1738,"2018-03-11",{"$f":"VLOOKUP(入出金tbl[[#This Row],[内　容]],科目tbl[[内　容]:[番号]],2,TRUE)","v":"経常収支"},{"$f":"VLOOKUP(入出金tbl[[#This Row],[内　容]],科目tbl[[内　容]:[番号]],3,TRUE)","v":"収入"},"受取手形回収","てき",30]
[1739,"2018-03-11",{"$f":"VLOOKUP(入出金tbl[[#This Row],[内　容]],科目tbl[[内　容]:[番号]],2,TRUE)","v":"経常収支"},{"$f":"VLOOKUP(入出金tbl[[#This Row],[内　容]],科目tbl[[内　容]:[番号]],3,TRUE)","v":"収入"},"手形割引","てき",40]
[1740,"2018-03-11",{"$f":"VLOOKUP(入出金tbl[[#This Row],[内　容]],科目tbl[[内　容]:[番号]],2,TRUE)","v":"経常収支"},{"$f":"VLOOKUP(入出金tbl[[#This Row],[内　容]],科目tbl[[内　容]:[番号]],3,TRUE)","v":"収入"},"その他収入","てき",50]
[1741,"2018-03-11",{"$f":"VLOOKUP(入出金tbl[[#This Row],[内　容]],科目tbl[[内　容]:[番号]],2,TRUE)","v":"財務収支"},{"$f":"VLOOKUP(入出金tbl[[#This Row],[内　容]],科目tbl[[内　容]:[番号]],3,TRUE)","v":"支出"},"----------","てき",0]
[1742,"2018-03-11",{"$f":"VLOOKUP(入出金tbl[[#This Row],[内　容]],科目tbl[[内　容]:[番号]],2,TRUE)","v":"経常収支"},{"$f":"VLOOKUP(入出金tbl[[#This Row],[内　容]],科目tbl[[内　容]:[番号]],3,TRUE)","v":"支出"},"現金仕入","てき",70]
[1743,"2018-03-11",{"$f":"VLOOKUP(入出金tbl[[#This Row],[内　容]],科目tbl[[内　容]:[番号]],2,TRUE)","v":"経常収支"},{"$f":"VLOOKUP(入出金tbl[[#This Row],[内　容]],科目tbl[[内　容]:[番号]],3,TRUE)","v":"支出"},"買掛金支払","てき",80]
[1744,"2018-03-11",{"$f":"VLOOKUP(入出金tbl[[#This Row],[内　容]],科目tbl[[内　容]:[番号]],2,TRUE)","v":"経常収支"},{"$f":"VLOOKUP(入出金tbl[[#This Row],[内　容]],科目tbl[[内　容]:[番号]],3,TRUE)","v":"支出"},"手形支払","てき",90]
[1745,"2018-03-11",{"$f":"VLOOKUP(入出金tbl[[#This Row],[内　容]],科目tbl[[内　容]:[番号]],2,TRUE)","v":"経常収支"},{"$f":"VLOOKUP(入出金tbl[[#This Row],[内　容]],科目tbl[[内　容]:[番号]],3,TRUE)","v":"支出"},"賃金・給与現金支払","てき",100]
[1746,"2018-03-11",{"$f":"VLOOKUP(入出金tbl[[#This Row],[内　容]],科目tbl[[内　容]:[番号]],2,TRUE)","v":"経常収支"},{"$f":"VLOOKUP(入出金tbl[[#This Row],[内　容]],科目tbl[[内　容]:[番号]],3,TRUE)","v":"支出"},"賞与支払い","てき",110]
[1747,"2018-03-11",{"$f":"VLOOKUP(入出金tbl[[#This Row],[内　容]],科目tbl[[内　容]:[番号]],2,TRUE)","v":"経常収支"},{"$f":"VLOOKUP(入出金tbl[[#This Row],[内　容]],科目tbl[[内　容]:[番号]],3,TRUE)","v":"支出"},"支払利息・割引料","てき",120]
[1748,"2018-03-11",{"$f":"VLOOKUP(入出金tbl[[#This Row],[内　容]],科目tbl[[内　容]:[番号]],2,TRUE)","v":"経常収支"},{"$f":"VLOOKUP(入出金tbl[[#This Row],[内　容]],科目tbl[[内　容]:[番号]],3,TRUE)","v":"支出"},"諸経費現金支払","てき",130]
[1749,"2018-03-11",{"$f":"VLOOKUP(入出金tbl[[#This Row],[内　容]],科目tbl[[内　容]:[番号]],2,TRUE)","v":"財務収支"},{"$f":"VLOOKUP(入出金tbl[[#This Row],[内　容]],科目tbl[[内　容]:[番号]],3,TRUE)","v":"支出"},"----------","てき",0]
[1750,"2018-03-11",{"$f":"VLOOKUP(入出金tbl[[#This Row],[内　容]],科目tbl[[内　容]:[番号]],2,TRUE)","v":"経常外収支"},{"$f":"VLOOKUP(入出金tbl[[#This Row],[内　容]],科目tbl[[内　容]:[番号]],3,TRUE)","v":"収入"},"固定資産等売却手取","てき",150]
[1751,"2018-03-11",{"$f":"VLOOKUP(入出金tbl[[#This Row],[内　容]],科目tbl[[内　容]:[番号]],2,TRUE)","v":"経常外収支"},{"$f":"VLOOKUP(入出金tbl[[#This Row],[内　容]],科目tbl[[内　容]:[番号]],3,TRUE)","v":"収入"},"定期預金等解約","てき",160]
[1752,"2018-03-11",{"$f":"VLOOKUP(入出金tbl[[#This Row],[内　容]],科目tbl[[内　容]:[番号]],2,TRUE)","v":"経常外収支"},{"$f":"VLOOKUP(入出金tbl[[#This Row],[内　容]],科目tbl[[内　容]:[番号]],3,TRUE)","v":"収入"},"その他臨時収入","てき",170]
[1753,"2018-03-11",{"$f":"VLOOKUP(入出金tbl[[#This Row],[内　容]],科目tbl[[内　容]:[番号]],2,TRUE)","v":"財務収支"},{"$f":"VLOOKUP(入出金tbl[[#This Row],[内　容]],科目tbl[[内　容]:[番号]],3,TRUE)","v":"支出"},"----------","てき",0]
[1754,"2018-03-11",{"$f":"VLOOKUP(入出金tbl[[#This Row],[内　容]],科目tbl[[内　容]:[番号]],2,TRUE)","v":"経常外収支"},{"$f":"VLOOKUP(入出金tbl[[#This Row],[内　容]],科目tbl[[内　容]:[番号]],3,TRUE)","v":"支出"},"税金","てき",190]
[1755,"2018-03-11",{"$f":"VLOOKUP(入出金tbl[[#This Row],[内　容]],科目tbl[[内　容]:[番号]],2,TRUE)","v":"経常外収支"},{"$f":"VLOOKUP(入出金tbl[[#This Row],[内　容]],科目tbl[[内　容]:[番号]],3,TRUE)","v":"支出"},"役員賞与","てき",200]
[1756,"2018-03-11",{"$f":"VLOOKUP(入出金tbl[[#This Row],[内　容]],科目tbl[[内　容]:[番号]],2,TRUE)","v":"経常外収支"},{"$f":"VLOOKUP(入出金tbl[[#This Row],[内　容]],科目tbl[[内　容]:[番号]],3,TRUE)","v":"支出"},"配当","てき",210]
[1757,"2018-03-11",{"$f":"VLOOKUP(入出金tbl[[#This Row],[内　容]],科目tbl[[内　容]:[番号]],2,TRUE)","v":"経常外収支"},{"$f":"VLOOKUP(入出金tbl[[#This Row],[内　容]],科目tbl[[内　容]:[番号]],3,TRUE)","v":"支出"},"固定資産購入支出","てき",220]
[1758,"2018-03-11",{"$f":"VLOOKUP(入出金tbl[[#This Row],[内　容]],科目tbl[[内　容]:[番号]],2,TRUE)","v":"経常外収支"},{"$f":"VLOOKUP(入出金tbl[[#This Row],[内　容]],科目tbl[[内　容]:[番号]],3,TRUE)","v":"支出"},"定期預金等設定","てき",230]
[1759,"2018-03-11",{"$f":"VLOOKUP(入出金tbl[[#This Row],[内　容]],科目tbl[[内　容]:[番号]],2,TRUE)","v":"経常外収支"},{"$f":"VLOOKUP(入出金tbl[[#This Row],[内　容]],科目tbl[[内　容]:[番号]],3,TRUE)","v":"支出"},"その他臨時支出","てき",240]
[1760,"2018-03-11",{"$f":"VLOOKUP(入出金tbl[[#This Row],[内　容]],科目tbl[[内　容]:[番号]],2,TRUE)","v":"経常外収支"},{"$f":"VLOOKUP(入出金tbl[[#This Row],[内　容]],科目tbl[[内　容]:[番号]],3,TRUE)","v":"支出"},"テスト4","てき",250]
[1761,"2018-03-11",{"$f":"VLOOKUP(入出金tbl[[#This Row],[内　容]],科目tbl[[内　容]:[番号]],2,TRUE)","v":"財務収支"},{"$f":"VLOOKUP(入出金tbl[[#This Row],[内　容]],科目tbl[[内　容]:[番号]],3,TRUE)","v":"収入"},"短期借入金調達","てき",260]
[1762,"2018-03-11",{"$f":"VLOOKUP(入出金tbl[[#This Row],[内　容]],科目tbl[[内　容]:[番号]],2,TRUE)","v":"財務収支"},{"$f":"VLOOKUP(入出金tbl[[#This Row],[内　容]],科目tbl[[内　容]:[番号]],3,TRUE)","v":"収入"},"長期借入金調達","てき",270]
[1763,"2018-03-11",{"$f":"VLOOKUP(入出金tbl[[#This Row],[内　容]],科目tbl[[内　容]:[番号]],2,TRUE)","v":"財務収支"},{"$f":"VLOOKUP(入出金tbl[[#This Row],[内　容]],科目tbl[[内　容]:[番号]],3,TRUE)","v":"収入"},"社長借入金調達","てき",280]
[1764,"2018-03-11",{"$f":"VLOOKUP(入出金tbl[[#This Row],[内　容]],科目tbl[[内　容]:[番号]],2,TRUE)","v":"財務収支"},{"$f":"VLOOKUP(入出金tbl[[#This Row],[内　容]],科目tbl[[内　容]:[番号]],3,TRUE)","v":"収入"},"その他調達","てき",290]
[1765,"2018-03-11",{"$f":"VLOOKUP(入出金tbl[[#This Row],[内　容]],科目tbl[[内　容]:[番号]],2,TRUE)","v":"財務収支"},{"$f":"VLOOKUP(入出金tbl[[#This Row],[内　容]],科目tbl[[内　容]:[番号]],3,TRUE)","v":"支出"},"----------","てき",0]
[1766,"2018-03-11",{"$f":"VLOOKUP(入出金tbl[[#This Row],[内　容]],科目tbl[[内　容]:[番号]],2,TRUE)","v":"財務収支"},{"$f":"VLOOKUP(入出金tbl[[#This Row],[内　容]],科目tbl[[内　容]:[番号]],3,TRUE)","v":"支出"},"短期借入金返済","てき",310]
[1767,"2018-03-11",{"$f":"VLOOKUP(入出金tbl[[#This Row],[内　容]],科目tbl[[内　容]:[番号]],2,TRUE)","v":"財務収支"},{"$f":"VLOOKUP(入出金tbl[[#This Row],[内　容]],科目tbl[[内　容]:[番号]],3,TRUE)","v":"支出"},"長期借入金返済","てき",320]
[1768,"2018-03-11",{"$f":"VLOOKUP(入出金tbl[[#This Row],[内　容]],科目tbl[[内　容]:[番号]],2,TRUE)","v":"財務収支"},{"$f":"VLOOKUP(入出金tbl[[#This Row],[内　容]],科目tbl[[内　容]:[番号]],3,TRUE)","v":"支出"},"社長借入金返済","てき",330]
[1769,"2018-03-11",{"$f":"VLOOKUP(入出金tbl[[#This Row],[内　容]],科目tbl[[内　容]:[番号]],2,TRUE)","v":"財務収支"},{"$f":"VLOOKUP(入出金tbl[[#This Row],[内　容]],科目tbl[[内　容]:[番号]],3,TRUE)","v":"支出"},"その他返済","てき",340]
[1770,"2018-03-11",{"$f":"VLOOKUP(入出金tbl[[#This Row],[内　容]],科目tbl[[内　容]:[番号]],2,TRUE)","v":"財務収支"},{"$f":"VLOOKUP(入出金tbl[[#This Row],[内　容]],科目tbl[[内　容]:[番号]],3,TRUE)","v":"支出"},"----------","てき",0]
[1771,"2018-03-12",{"$f":"VLOOKUP(入出金tbl[[#This Row],[内　容]],科目tbl[[内　容]:[番号]],2,TRUE)","v":"経常収支"},{"$f":"VLOOKUP(入出金tbl[[#This Row],[内　容]],科目tbl[[内　容]:[番号]],3,TRUE)","v":"収入"},"現金売上","摘要",10]
[1772,"2018-03-12",{"$f":"VLOOKUP(入出金tbl[[#This Row],[内　容]],科目tbl[[内　容]:[番号]],2,TRUE)","v":"経常収支"},{"$f":"VLOOKUP(入出金tbl[[#This Row],[内　容]],科目tbl[[内　容]:[番号]],3,TRUE)","v":"収入"},"売掛金回収","摘要",20]
[1773,"2018-03-12",{"$f":"VLOOKUP(入出金tbl[[#This Row],[内　容]],科目tbl[[内　容]:[番号]],2,TRUE)","v":"経常収支"},{"$f":"VLOOKUP(入出金tbl[[#This Row],[内　容]],科目tbl[[内　容]:[番号]],3,TRUE)","v":"収入"},"受取手形回収","てき",30]
[1774,"2018-03-12",{"$f":"VLOOKUP(入出金tbl[[#This Row],[内　容]],科目tbl[[内　容]:[番号]],2,TRUE)","v":"経常収支"},{"$f":"VLOOKUP(入出金tbl[[#This Row],[内　容]],科目tbl[[内　容]:[番号]],3,TRUE)","v":"収入"},"手形割引","てき",40]
[1775,"2018-03-12",{"$f":"VLOOKUP(入出金tbl[[#This Row],[内　容]],科目tbl[[内　容]:[番号]],2,TRUE)","v":"経常収支"},{"$f":"VLOOKUP(入出金tbl[[#This Row],[内　容]],科目tbl[[内　容]:[番号]],3,TRUE)","v":"収入"},"その他収入","てき",50]
[1776,"2018-03-12",{"$f":"VLOOKUP(入出金tbl[[#This Row],[内　容]],科目tbl[[内　容]:[番号]],2,TRUE)","v":"財務収支"},{"$f":"VLOOKUP(入出金tbl[[#This Row],[内　容]],科目tbl[[内　容]:[番号]],3,TRUE)","v":"支出"},"----------","てき",0]
[1777,"2018-03-12",{"$f":"VLOOKUP(入出金tbl[[#This Row],[内　容]],科目tbl[[内　容]:[番号]],2,TRUE)","v":"経常収支"},{"$f":"VLOOKUP(入出金tbl[[#This Row],[内　容]],科目tbl[[内　容]:[番号]],3,TRUE)","v":"支出"},"現金仕入","てき",70]
[1778,"2018-03-12",{"$f":"VLOOKUP(入出金tbl[[#This Row],[内　容]],科目tbl[[内　容]:[番号]],2,TRUE)","v":"経常収支"},{"$f":"VLOOKUP(入出金tbl[[#This Row],[内　容]],科目tbl[[内　容]:[番号]],3,TRUE)","v":"支出"},"買掛金支払","てき",80]
[1779,"2018-03-12",{"$f":"VLOOKUP(入出金tbl[[#This Row],[内　容]],科目tbl[[内　容]:[番号]],2,TRUE)","v":"経常収支"},{"$f":"VLOOKUP(入出金tbl[[#This Row],[内　容]],科目tbl[[内　容]:[番号]],3,TRUE)","v":"支出"},"手形支払","てき",90]
[1780,"2018-03-12",{"$f":"VLOOKUP(入出金tbl[[#This Row],[内　容]],科目tbl[[内　容]:[番号]],2,TRUE)","v":"経常収支"},{"$f":"VLOOKUP(入出金tbl[[#This Row],[内　容]],科目tbl[[内　容]:[番号]],3,TRUE)","v":"支出"},"賃金・給与現金支払","てき",100]
[1781,"2018-03-12",{"$f":"VLOOKUP(入出金tbl[[#This Row],[内　容]],科目tbl[[内　容]:[番号]],2,TRUE)","v":"経常収支"},{"$f":"VLOOKUP(入出金tbl[[#This Row],[内　容]],科目tbl[[内　容]:[番号]],3,TRUE)","v":"支出"},"賞与支払い","てき",110]
[1782,"2018-03-12",{"$f":"VLOOKUP(入出金tbl[[#This Row],[内　容]],科目tbl[[内　容]:[番号]],2,TRUE)","v":"経常収支"},{"$f":"VLOOKUP(入出金tbl[[#This Row],[内　容]],科目tbl[[内　容]:[番号]],3,TRUE)","v":"支出"},"支払利息・割引料","てき",120]
[1783,"2018-03-12",{"$f":"VLOOKUP(入出金tbl[[#This Row],[内　容]],科目tbl[[内　容]:[番号]],2,TRUE)","v":"経常収支"},{"$f":"VLOOKUP(入出金tbl[[#This Row],[内　容]],科目tbl[[内　容]:[番号]],3,TRUE)","v":"支出"},"諸経費現金支払","てき",130]
[1784,"2018-03-12",{"$f":"VLOOKUP(入出金tbl[[#This Row],[内　容]],科目tbl[[内　容]:[番号]],2,TRUE)","v":"財務収支"},{"$f":"VLOOKUP(入出金tbl[[#This Row],[内　容]],科目tbl[[内　容]:[番号]],3,TRUE)","v":"支出"},"----------","てき",0]
[1785,"2018-03-12",{"$f":"VLOOKUP(入出金tbl[[#This Row],[内　容]],科目tbl[[内　容]:[番号]],2,TRUE)","v":"経常外収支"},{"$f":"VLOOKUP(入出金tbl[[#This Row],[内　容]],科目tbl[[内　容]:[番号]],3,TRUE)","v":"収入"},"固定資産等売却手取","てき",150]
[1786,"2018-03-12",{"$f":"VLOOKUP(入出金tbl[[#This Row],[内　容]],科目tbl[[内　容]:[番号]],2,TRUE)","v":"経常外収支"},{"$f":"VLOOKUP(入出金tbl[[#This Row],[内　容]],科目tbl[[内　容]:[番号]],3,TRUE)","v":"収入"},"定期預金等解約","てき",160]
[1787,"2018-03-12",{"$f":"VLOOKUP(入出金tbl[[#This Row],[内　容]],科目tbl[[内　容]:[番号]],2,TRUE)","v":"経常外収支"},{"$f":"VLOOKUP(入出金tbl[[#This Row],[内　容]],科目tbl[[内　容]:[番号]],3,TRUE)","v":"収入"},"その他臨時収入","てき",170]
[1788,"2018-03-12",{"$f":"VLOOKUP(入出金tbl[[#This Row],[内　容]],科目tbl[[内　容]:[番号]],2,TRUE)","v":"財務収支"},{"$f":"VLOOKUP(入出金tbl[[#This Row],[内　容]],科目tbl[[内　容]:[番号]],3,TRUE)","v":"支出"},"----------","てき",0]
[1789,"2018-03-12",{"$f":"VLOOKUP(入出金tbl[[#This Row],[内　容]],科目tbl[[内　容]:[番号]],2,TRUE)","v":"経常外収支"},{"$f":"VLOOKUP(入出金tbl[[#This Row],[内　容]],科目tbl[[内　容]:[番号]],3,TRUE)","v":"支出"},"税金","てき",190]
[1790,"2018-03-12",{"$f":"VLOOKUP(入出金tbl[[#This Row],[内　容]],科目tbl[[内　容]:[番号]],2,TRUE)","v":"経常外収支"},{"$f":"VLOOKUP(入出金tbl[[#This Row],[内　容]],科目tbl[[内　容]:[番号]],3,TRUE)","v":"支出"},"役員賞与","てき",200]
[1791,"2018-03-12",{"$f":"VLOOKUP(入出金tbl[[#This Row],[内　容]],科目tbl[[内　容]:[番号]],2,TRUE)","v":"経常外収支"},{"$f":"VLOOKUP(入出金tbl[[#This Row],[内　容]],科目tbl[[内　容]:[番号]],3,TRUE)","v":"支出"},"配当","てき",210]
[1792,"2018-03-12",{"$f":"VLOOKUP(入出金tbl[[#This Row],[内　容]],科目tbl[[内　容]:[番号]],2,TRUE)","v":"経常外収支"},{"$f":"VLOOKUP(入出金tbl[[#This Row],[内　容]],科目tbl[[内　容]:[番号]],3,TRUE)","v":"支出"},"固定資産購入支出","てき",220]
[1793,"2018-03-12",{"$f":"VLOOKUP(入出金tbl[[#This Row],[内　容]],科目tbl[[内　容]:[番号]],2,TRUE)","v":"経常外収支"},{"$f":"VLOOKUP(入出金tbl[[#This Row],[内　容]],科目tbl[[内　容]:[番号]],3,TRUE)","v":"支出"},"定期預金等設定","てき",230]
[1794,"2018-03-12",{"$f":"VLOOKUP(入出金tbl[[#This Row],[内　容]],科目tbl[[内　容]:[番号]],2,TRUE)","v":"経常外収支"},{"$f":"VLOOKUP(入出金tbl[[#This Row],[内　容]],科目tbl[[内　容]:[番号]],3,TRUE)","v":"支出"},"その他臨時支出","てき",240]
[1795,"2018-03-12",{"$f":"VLOOKUP(入出金tbl[[#This Row],[内　容]],科目tbl[[内　容]:[番号]],2,TRUE)","v":"経常外収支"},{"$f":"VLOOKUP(入出金tbl[[#This Row],[内　容]],科目tbl[[内　容]:[番号]],3,TRUE)","v":"支出"},"テスト4","てき",250]
[1796,"2018-03-12",{"$f":"VLOOKUP(入出金tbl[[#This Row],[内　容]],科目tbl[[内　容]:[番号]],2,TRUE)","v":"財務収支"},{"$f":"VLOOKUP(入出金tbl[[#This Row],[内　容]],科目tbl[[内　容]:[番号]],3,TRUE)","v":"収入"},"短期借入金調達","てき",260]
[1797,"2018-03-12",{"$f":"VLOOKUP(入出金tbl[[#This Row],[内　容]],科目tbl[[内　容]:[番号]],2,TRUE)","v":"財務収支"},{"$f":"VLOOKUP(入出金tbl[[#This Row],[内　容]],科目tbl[[内　容]:[番号]],3,TRUE)","v":"収入"},"長期借入金調達","てき",270]
[1798,"2018-03-12",{"$f":"VLOOKUP(入出金tbl[[#This Row],[内　容]],科目tbl[[内　容]:[番号]],2,TRUE)","v":"財務収支"},{"$f":"VLOOKUP(入出金tbl[[#This Row],[内　容]],科目tbl[[内　容]:[番号]],3,TRUE)","v":"収入"},"社長借入金調達","てき",280]
[1799,"2018-03-12",{"$f":"VLOOKUP(入出金tbl[[#This Row],[内　容]],科目tbl[[内　容]:[番号]],2,TRUE)","v":"財務収支"},{"$f":"VLOOKUP(入出金tbl[[#This Row],[内　容]],科目tbl[[内　容]:[番号]],3,TRUE)","v":"収入"},"その他調達","てき",290]
[1800,"2018-03-12",{"$f":"VLOOKUP(入出金tbl[[#This Row],[内　容]],科目tbl[[内　容]:[番号]],2,TRUE)","v":"財務収支"},{"$f":"VLOOKUP(入出金tbl[[#This Row],[内　容]],科目tbl[[内　容]:[番号]],3,TRUE)","v":"支出"},"----------","てき",0]
[1801,"2018-03-12",{"$f":"VLOOKUP(入出金tbl[[#This Row],[内　容]],科目tbl[[内　容]:[番号]],2,TRUE)","v":"財務収支"},{"$f":"VLOOKUP(入出金tbl[[#This Row],[内　容]],科目tbl[[内　容]:[番号]],3,TRUE)","v":"支出"},"短期借入金返済","てき",310]
[1802,"2018-03-12",{"$f":"VLOOKUP(入出金tbl[[#This Row],[内　容]],科目tbl[[内　容]:[番号]],2,TRUE)","v":"財務収支"},{"$f":"VLOOKUP(入出金tbl[[#This Row],[内　容]],科目tbl[[内　容]:[番号]],3,TRUE)","v":"支出"},"長期借入金返済","てき",320]
[1803,"2018-03-12",{"$f":"VLOOKUP(入出金tbl[[#This Row],[内　容]],科目tbl[[内　容]:[番号]],2,TRUE)","v":"財務収支"},{"$f":"VLOOKUP(入出金tbl[[#This Row],[内　容]],科目tbl[[内　容]:[番号]],3,TRUE)","v":"支出"},"社長借入金返済","てき",330]
[1804,"2018-03-12",{"$f":"VLOOKUP(入出金tbl[[#This Row],[内　容]],科目tbl[[内　容]:[番号]],2,TRUE)","v":"財務収支"},{"$f":"VLOOKUP(入出金tbl[[#This Row],[内　容]],科目tbl[[内　容]:[番号]],3,TRUE)","v":"支出"},"その他返済","てき",340]
[1805,"2018-03-12",{"$f":"VLOOKUP(入出金tbl[[#This Row],[内　容]],科目tbl[[内　容]:[番号]],2,TRUE)","v":"財務収支"},{"$f":"VLOOKUP(入出金tbl[[#This Row],[内　容]],科目tbl[[内　容]:[番号]],3,TRUE)","v":"支出"},"----------","てき",0]
[1806,"2018-03-13",{"$f":"VLOOKUP(入出金tbl[[#This Row],[内　容]],科目tbl[[内　容]:[番号]],2,TRUE)","v":"経常収支"},{"$f":"VLOOKUP(入出金tbl[[#This Row],[内　容]],科目tbl[[内　容]:[番号]],3,TRUE)","v":"収入"},"現金売上","摘要",10]
[1807,"2018-03-13",{"$f":"VLOOKUP(入出金tbl[[#This Row],[内　容]],科目tbl[[内　容]:[番号]],2,TRUE)","v":"経常収支"},{"$f":"VLOOKUP(入出金tbl[[#This Row],[内　容]],科目tbl[[内　容]:[番号]],3,TRUE)","v":"収入"},"売掛金回収","摘要",20]
[1808,"2018-03-13",{"$f":"VLOOKUP(入出金tbl[[#This Row],[内　容]],科目tbl[[内　容]:[番号]],2,TRUE)","v":"経常収支"},{"$f":"VLOOKUP(入出金tbl[[#This Row],[内　容]],科目tbl[[内　容]:[番号]],3,TRUE)","v":"収入"},"受取手形回収","てき",30]
[1809,"2018-03-13",{"$f":"VLOOKUP(入出金tbl[[#This Row],[内　容]],科目tbl[[内　容]:[番号]],2,TRUE)","v":"経常収支"},{"$f":"VLOOKUP(入出金tbl[[#This Row],[内　容]],科目tbl[[内　容]:[番号]],3,TRUE)","v":"収入"},"手形割引","てき",40]
[1810,"2018-03-13",{"$f":"VLOOKUP(入出金tbl[[#This Row],[内　容]],科目tbl[[内　容]:[番号]],2,TRUE)","v":"経常収支"},{"$f":"VLOOKUP(入出金tbl[[#This Row],[内　容]],科目tbl[[内　容]:[番号]],3,TRUE)","v":"収入"},"その他収入","てき",50]
[1811,"2018-03-13",{"$f":"VLOOKUP(入出金tbl[[#This Row],[内　容]],科目tbl[[内　容]:[番号]],2,TRUE)","v":"財務収支"},{"$f":"VLOOKUP(入出金tbl[[#This Row],[内　容]],科目tbl[[内　容]:[番号]],3,TRUE)","v":"支出"},"----------","てき",0]
[1812,"2018-03-13",{"$f":"VLOOKUP(入出金tbl[[#This Row],[内　容]],科目tbl[[内　容]:[番号]],2,TRUE)","v":"経常収支"},{"$f":"VLOOKUP(入出金tbl[[#This Row],[内　容]],科目tbl[[内　容]:[番号]],3,TRUE)","v":"支出"},"現金仕入","てき",70]
[1813,"2018-03-13",{"$f":"VLOOKUP(入出金tbl[[#This Row],[内　容]],科目tbl[[内　容]:[番号]],2,TRUE)","v":"経常収支"},{"$f":"VLOOKUP(入出金tbl[[#This Row],[内　容]],科目tbl[[内　容]:[番号]],3,TRUE)","v":"支出"},"買掛金支払","てき",80]
[1814,"2018-03-13",{"$f":"VLOOKUP(入出金tbl[[#This Row],[内　容]],科目tbl[[内　容]:[番号]],2,TRUE)","v":"経常収支"},{"$f":"VLOOKUP(入出金tbl[[#This Row],[内　容]],科目tbl[[内　容]:[番号]],3,TRUE)","v":"支出"},"手形支払","てき",90]
[1815,"2018-03-13",{"$f":"VLOOKUP(入出金tbl[[#This Row],[内　容]],科目tbl[[内　容]:[番号]],2,TRUE)","v":"経常収支"},{"$f":"VLOOKUP(入出金tbl[[#This Row],[内　容]],科目tbl[[内　容]:[番号]],3,TRUE)","v":"支出"},"賃金・給与現金支払","てき",100]
[1816,"2018-03-13",{"$f":"VLOOKUP(入出金tbl[[#This Row],[内　容]],科目tbl[[内　容]:[番号]],2,TRUE)","v":"経常収支"},{"$f":"VLOOKUP(入出金tbl[[#This Row],[内　容]],科目tbl[[内　容]:[番号]],3,TRUE)","v":"支出"},"賞与支払い","てき",110]
[1817,"2018-03-13",{"$f":"VLOOKUP(入出金tbl[[#This Row],[内　容]],科目tbl[[内　容]:[番号]],2,TRUE)","v":"経常収支"},{"$f":"VLOOKUP(入出金tbl[[#This Row],[内　容]],科目tbl[[内　容]:[番号]],3,TRUE)","v":"支出"},"支払利息・割引料","てき",120]
[1818,"2018-03-13",{"$f":"VLOOKUP(入出金tbl[[#This Row],[内　容]],科目tbl[[内　容]:[番号]],2,TRUE)","v":"経常収支"},{"$f":"VLOOKUP(入出金tbl[[#This Row],[内　容]],科目tbl[[内　容]:[番号]],3,TRUE)","v":"支出"},"諸経費現金支払","てき",130]
[1819,"2018-03-13",{"$f":"VLOOKUP(入出金tbl[[#This Row],[内　容]],科目tbl[[内　容]:[番号]],2,TRUE)","v":"財務収支"},{"$f":"VLOOKUP(入出金tbl[[#This Row],[内　容]],科目tbl[[内　容]:[番号]],3,TRUE)","v":"支出"},"----------","てき",0]
[1820,"2018-03-13",{"$f":"VLOOKUP(入出金tbl[[#This Row],[内　容]],科目tbl[[内　容]:[番号]],2,TRUE)","v":"経常外収支"},{"$f":"VLOOKUP(入出金tbl[[#This Row],[内　容]],科目tbl[[内　容]:[番号]],3,TRUE)","v":"収入"},"固定資産等売却手取","てき",150]
[1821,"2018-03-13",{"$f":"VLOOKUP(入出金tbl[[#This Row],[内　容]],科目tbl[[内　容]:[番号]],2,TRUE)","v":"経常外収支"},{"$f":"VLOOKUP(入出金tbl[[#This Row],[内　容]],科目tbl[[内　容]:[番号]],3,TRUE)","v":"収入"},"定期預金等解約","てき",160]
[1822,"2018-03-13",{"$f":"VLOOKUP(入出金tbl[[#This Row],[内　容]],科目tbl[[内　容]:[番号]],2,TRUE)","v":"経常外収支"},{"$f":"VLOOKUP(入出金tbl[[#This Row],[内　容]],科目tbl[[内　容]:[番号]],3,TRUE)","v":"収入"},"その他臨時収入","てき",170]
[1823,"2018-03-13",{"$f":"VLOOKUP(入出金tbl[[#This Row],[内　容]],科目tbl[[内　容]:[番号]],2,TRUE)","v":"財務収支"},{"$f":"VLOOKUP(入出金tbl[[#This Row],[内　容]],科目tbl[[内　容]:[番号]],3,TRUE)","v":"支出"},"----------","てき",0]
[1824,"2018-03-13",{"$f":"VLOOKUP(入出金tbl[[#This Row],[内　容]],科目tbl[[内　容]:[番号]],2,TRUE)","v":"経常外収支"},{"$f":"VLOOKUP(入出金tbl[[#This Row],[内　容]],科目tbl[[内　容]:[番号]],3,TRUE)","v":"支出"},"税金","てき",190]
[1825,"2018-03-13",{"$f":"VLOOKUP(入出金tbl[[#This Row],[内　容]],科目tbl[[内　容]:[番号]],2,TRUE)","v":"経常外収支"},{"$f":"VLOOKUP(入出金tbl[[#This Row],[内　容]],科目tbl[[内　容]:[番号]],3,TRUE)","v":"支出"},"役員賞与","てき",200]
[1826,"2018-03-13",{"$f":"VLOOKUP(入出金tbl[[#This Row],[内　容]],科目tbl[[内　容]:[番号]],2,TRUE)","v":"経常外収支"},{"$f":"VLOOKUP(入出金tbl[[#This Row],[内　容]],科目tbl[[内　容]:[番号]],3,TRUE)","v":"支出"},"配当","てき",210]
[1827,"2018-03-13",{"$f":"VLOOKUP(入出金tbl[[#This Row],[内　容]],科目tbl[[内　容]:[番号]],2,TRUE)","v":"経常外収支"},{"$f":"VLOOKUP(入出金tbl[[#This Row],[内　容]],科目tbl[[内　容]:[番号]],3,TRUE)","v":"支出"},"固定資産購入支出","てき",220]
[1828,"2018-03-13",{"$f":"VLOOKUP(入出金tbl[[#This Row],[内　容]],科目tbl[[内　容]:[番号]],2,TRUE)","v":"経常外収支"},{"$f":"VLOOKUP(入出金tbl[[#This Row],[内　容]],科目tbl[[内　容]:[番号]],3,TRUE)","v":"支出"},"定期預金等設定","てき",230]
[1829,"2018-03-13",{"$f":"VLOOKUP(入出金tbl[[#This Row],[内　容]],科目tbl[[内　容]:[番号]],2,TRUE)","v":"経常外収支"},{"$f":"VLOOKUP(入出金tbl[[#This Row],[内　容]],科目tbl[[内　容]:[番号]],3,TRUE)","v":"支出"},"その他臨時支出","てき",240]
[1830,"2018-03-13",{"$f":"VLOOKUP(入出金tbl[[#This Row],[内　容]],科目tbl[[内　容]:[番号]],2,TRUE)","v":"経常外収支"},{"$f":"VLOOKUP(入出金tbl[[#This Row],[内　容]],科目tbl[[内　容]:[番号]],3,TRUE)","v":"支出"},"テスト4","てき",250]
[1831,"2018-03-13",{"$f":"VLOOKUP(入出金tbl[[#This Row],[内　容]],科目tbl[[内　容]:[番号]],2,TRUE)","v":"財務収支"},{"$f":"VLOOKUP(入出金tbl[[#This Row],[内　容]],科目tbl[[内　容]:[番号]],3,TRUE)","v":"収入"},"短期借入金調達","てき",260]
[1832,"2018-03-13",{"$f":"VLOOKUP(入出金tbl[[#This Row],[内　容]],科目tbl[[内　容]:[番号]],2,TRUE)","v":"財務収支"},{"$f":"VLOOKUP(入出金tbl[[#This Row],[内　容]],科目tbl[[内　容]:[番号]],3,TRUE)","v":"収入"},"長期借入金調達","てき",270]
[1833,"2018-03-13",{"$f":"VLOOKUP(入出金tbl[[#This Row],[内　容]],科目tbl[[内　容]:[番号]],2,TRUE)","v":"財務収支"},{"$f":"VLOOKUP(入出金tbl[[#This Row],[内　容]],科目tbl[[内　容]:[番号]],3,TRUE)","v":"収入"},"社長借入金調達","てき",280]
[1834,"2018-03-13",{"$f":"VLOOKUP(入出金tbl[[#This Row],[内　容]],科目tbl[[内　容]:[番号]],2,TRUE)","v":"財務収支"},{"$f":"VLOOKUP(入出金tbl[[#This Row],[内　容]],科目tbl[[内　容]:[番号]],3,TRUE)","v":"収入"},"その他調達","てき",290]
[1835,"2018-03-13",{"$f":"VLOOKUP(入出金tbl[[#This Row],[内　容]],科目tbl[[内　容]:[番号]],2,TRUE)","v":"財務収支"},{"$f":"VLOOKUP(入出金tbl[[#This Row],[内　容]],科目tbl[[内　容]:[番号]],3,TRUE)","v":"支出"},"----------","てき",0]
[1836,"2018-03-13",{"$f":"VLOOKUP(入出金tbl[[#This Row],[内　容]],科目tbl[[内　容]:[番号]],2,TRUE)","v":"財務収支"},{"$f":"VLOOKUP(入出金tbl[[#This Row],[内　容]],科目tbl[[内　容]:[番号]],3,TRUE)","v":"支出"},"短期借入金返済","てき",310]
[1837,"2018-03-13",{"$f":"VLOOKUP(入出金tbl[[#This Row],[内　容]],科目tbl[[内　容]:[番号]],2,TRUE)","v":"財務収支"},{"$f":"VLOOKUP(入出金tbl[[#This Row],[内　容]],科目tbl[[内　容]:[番号]],3,TRUE)","v":"支出"},"長期借入金返済","てき",320]
[1838,"2018-03-13",{"$f":"VLOOKUP(入出金tbl[[#This Row],[内　容]],科目tbl[[内　容]:[番号]],2,TRUE)","v":"財務収支"},{"$f":"VLOOKUP(入出金tbl[[#This Row],[内　容]],科目tbl[[内　容]:[番号]],3,TRUE)","v":"支出"},"社長借入金返済","てき",330]
[1839,"2018-03-13",{"$f":"VLOOKUP(入出金tbl[[#This Row],[内　容]],科目tbl[[内　容]:[番号]],2,TRUE)","v":"財務収支"},{"$f":"VLOOKUP(入出金tbl[[#This Row],[内　容]],科目tbl[[内　容]:[番号]],3,TRUE)","v":"支出"},"その他返済","てき",340]
[1840,"2018-03-13",{"$f":"VLOOKUP(入出金tbl[[#This Row],[内　容]],科目tbl[[内　容]:[番号]],2,TRUE)","v":"財務収支"},{"$f":"VLOOKUP(入出金tbl[[#This Row],[内　容]],科目tbl[[内　容]:[番号]],3,TRUE)","v":"支出"},"----------","てき",0]
[1841,"2018-03-14",{"$f":"VLOOKUP(入出金tbl[[#This Row],[内　容]],科目tbl[[内　容]:[番号]],2,TRUE)","v":"経常収支"},{"$f":"VLOOKUP(入出金tbl[[#This Row],[内　容]],科目tbl[[内　容]:[番号]],3,TRUE)","v":"収入"},"現金売上","摘要",10]
[1842,"2018-03-14",{"$f":"VLOOKUP(入出金tbl[[#This Row],[内　容]],科目tbl[[内　容]:[番号]],2,TRUE)","v":"経常収支"},{"$f":"VLOOKUP(入出金tbl[[#This Row],[内　容]],科目tbl[[内　容]:[番号]],3,TRUE)","v":"収入"},"売掛金回収","摘要",20]
[1843,"2018-03-14",{"$f":"VLOOKUP(入出金tbl[[#This Row],[内　容]],科目tbl[[内　容]:[番号]],2,TRUE)","v":"経常収支"},{"$f":"VLOOKUP(入出金tbl[[#This Row],[内　容]],科目tbl[[内　容]:[番号]],3,TRUE)","v":"収入"},"受取手形回収","てき",30]
[1844,"2018-03-14",{"$f":"VLOOKUP(入出金tbl[[#This Row],[内　容]],科目tbl[[内　容]:[番号]],2,TRUE)","v":"経常収支"},{"$f":"VLOOKUP(入出金tbl[[#This Row],[内　容]],科目tbl[[内　容]:[番号]],3,TRUE)","v":"収入"},"手形割引","てき",40]
[1845,"2018-03-14",{"$f":"VLOOKUP(入出金tbl[[#This Row],[内　容]],科目tbl[[内　容]:[番号]],2,TRUE)","v":"経常収支"},{"$f":"VLOOKUP(入出金tbl[[#This Row],[内　容]],科目tbl[[内　容]:[番号]],3,TRUE)","v":"収入"},"その他収入","てき",50]
[1846,"2018-03-14",{"$f":"VLOOKUP(入出金tbl[[#This Row],[内　容]],科目tbl[[内　容]:[番号]],2,TRUE)","v":"財務収支"},{"$f":"VLOOKUP(入出金tbl[[#This Row],[内　容]],科目tbl[[内　容]:[番号]],3,TRUE)","v":"支出"},"----------","てき",0]
[1847,"2018-03-14",{"$f":"VLOOKUP(入出金tbl[[#This Row],[内　容]],科目tbl[[内　容]:[番号]],2,TRUE)","v":"経常収支"},{"$f":"VLOOKUP(入出金tbl[[#This Row],[内　容]],科目tbl[[内　容]:[番号]],3,TRUE)","v":"支出"},"現金仕入","てき",70]
[1848,"2018-03-14",{"$f":"VLOOKUP(入出金tbl[[#This Row],[内　容]],科目tbl[[内　容]:[番号]],2,TRUE)","v":"経常収支"},{"$f":"VLOOKUP(入出金tbl[[#This Row],[内　容]],科目tbl[[内　容]:[番号]],3,TRUE)","v":"支出"},"買掛金支払","てき",80]
[1849,"2018-03-14",{"$f":"VLOOKUP(入出金tbl[[#This Row],[内　容]],科目tbl[[内　容]:[番号]],2,TRUE)","v":"経常収支"},{"$f":"VLOOKUP(入出金tbl[[#This Row],[内　容]],科目tbl[[内　容]:[番号]],3,TRUE)","v":"支出"},"手形支払","てき",90]
[1850,"2018-03-14",{"$f":"VLOOKUP(入出金tbl[[#This Row],[内　容]],科目tbl[[内　容]:[番号]],2,TRUE)","v":"経常収支"},{"$f":"VLOOKUP(入出金tbl[[#This Row],[内　容]],科目tbl[[内　容]:[番号]],3,TRUE)","v":"支出"},"賃金・給与現金支払","てき",100]
[1851,"2018-03-14",{"$f":"VLOOKUP(入出金tbl[[#This Row],[内　容]],科目tbl[[内　容]:[番号]],2,TRUE)","v":"経常収支"},{"$f":"VLOOKUP(入出金tbl[[#This Row],[内　容]],科目tbl[[内　容]:[番号]],3,TRUE)","v":"支出"},"賞与支払い","てき",110]
[1852,"2018-03-14",{"$f":"VLOOKUP(入出金tbl[[#This Row],[内　容]],科目tbl[[内　容]:[番号]],2,TRUE)","v":"経常収支"},{"$f":"VLOOKUP(入出金tbl[[#This Row],[内　容]],科目tbl[[内　容]:[番号]],3,TRUE)","v":"支出"},"支払利息・割引料","てき",120]
[1853,"2018-03-14",{"$f":"VLOOKUP(入出金tbl[[#This Row],[内　容]],科目tbl[[内　容]:[番号]],2,TRUE)","v":"経常収支"},{"$f":"VLOOKUP(入出金tbl[[#This Row],[内　容]],科目tbl[[内　容]:[番号]],3,TRUE)","v":"支出"},"諸経費現金支払","てき",130]
[1854,"2018-03-14",{"$f":"VLOOKUP(入出金tbl[[#This Row],[内　容]],科目tbl[[内　容]:[番号]],2,TRUE)","v":"財務収支"},{"$f":"VLOOKUP(入出金tbl[[#This Row],[内　容]],科目tbl[[内　容]:[番号]],3,TRUE)","v":"支出"},"----------","てき",0]
[1855,"2018-03-14",{"$f":"VLOOKUP(入出金tbl[[#This Row],[内　容]],科目tbl[[内　容]:[番号]],2,TRUE)","v":"経常外収支"},{"$f":"VLOOKUP(入出金tbl[[#This Row],[内　容]],科目tbl[[内　容]:[番号]],3,TRUE)","v":"収入"},"固定資産等売却手取","てき",150]
[1856,"2018-03-14",{"$f":"VLOOKUP(入出金tbl[[#This Row],[内　容]],科目tbl[[内　容]:[番号]],2,TRUE)","v":"経常外収支"},{"$f":"VLOOKUP(入出金tbl[[#This Row],[内　容]],科目tbl[[内　容]:[番号]],3,TRUE)","v":"収入"},"定期預金等解約","てき",160]
[1857,"2018-03-14",{"$f":"VLOOKUP(入出金tbl[[#This Row],[内　容]],科目tbl[[内　容]:[番号]],2,TRUE)","v":"経常外収支"},{"$f":"VLOOKUP(入出金tbl[[#This Row],[内　容]],科目tbl[[内　容]:[番号]],3,TRUE)","v":"収入"},"その他臨時収入","てき",170]
[1858,"2018-03-14",{"$f":"VLOOKUP(入出金tbl[[#This Row],[内　容]],科目tbl[[内　容]:[番号]],2,TRUE)","v":"財務収支"},{"$f":"VLOOKUP(入出金tbl[[#This Row],[内　容]],科目tbl[[内　容]:[番号]],3,TRUE)","v":"支出"},"----------","てき",0]
[1859,"2018-03-14",{"$f":"VLOOKUP(入出金tbl[[#This Row],[内　容]],科目tbl[[内　容]:[番号]],2,TRUE)","v":"経常外収支"},{"$f":"VLOOKUP(入出金tbl[[#This Row],[内　容]],科目tbl[[内　容]:[番号]],3,TRUE)","v":"支出"},"税金","てき",190]
[1860,"2018-03-14",{"$f":"VLOOKUP(入出金tbl[[#This Row],[内　容]],科目tbl[[内　容]:[番号]],2,TRUE)","v":"経常外収支"},{"$f":"VLOOKUP(入出金tbl[[#This Row],[内　容]],科目tbl[[内　容]:[番号]],3,TRUE)","v":"支出"},"役員賞与","てき",200]
[1861,"2018-03-14",{"$f":"VLOOKUP(入出金tbl[[#This Row],[内　容]],科目tbl[[内　容]:[番号]],2,TRUE)","v":"経常外収支"},{"$f":"VLOOKUP(入出金tbl[[#This Row],[内　容]],科目tbl[[内　容]:[番号]],3,TRUE)","v":"支出"},"配当","てき",210]
[1862,"2018-03-14",{"$f":"VLOOKUP(入出金tbl[[#This Row],[内　容]],科目tbl[[内　容]:[番号]],2,TRUE)","v":"経常外収支"},{"$f":"VLOOKUP(入出金tbl[[#This Row],[内　容]],科目tbl[[内　容]:[番号]],3,TRUE)","v":"支出"},"固定資産購入支出","てき",220]
[1863,"2018-03-14",{"$f":"VLOOKUP(入出金tbl[[#This Row],[内　容]],科目tbl[[内　容]:[番号]],2,TRUE)","v":"経常外収支"},{"$f":"VLOOKUP(入出金tbl[[#This Row],[内　容]],科目tbl[[内　容]:[番号]],3,TRUE)","v":"支出"},"定期預金等設定","てき",230]
[1864,"2018-03-14",{"$f":"VLOOKUP(入出金tbl[[#This Row],[内　容]],科目tbl[[内　容]:[番号]],2,TRUE)","v":"経常外収支"},{"$f":"VLOOKUP(入出金tbl[[#This Row],[内　容]],科目tbl[[内　容]:[番号]],3,TRUE)","v":"支出"},"その他臨時支出","てき",240]
[1865,"2018-03-14",{"$f":"VLOOKUP(入出金tbl[[#This Row],[内　容]],科目tbl[[内　容]:[番号]],2,TRUE)","v":"経常外収支"},{"$f":"VLOOKUP(入出金tbl[[#This Row],[内　容]],科目tbl[[内　容]:[番号]],3,TRUE)","v":"支出"},"テスト4","てき",250]
[1866,"2018-03-14",{"$f":"VLOOKUP(入出金tbl[[#This Row],[内　容]],科目tbl[[内　容]:[番号]],2,TRUE)","v":"財務収支"},{"$f":"VLOOKUP(入出金tbl[[#This Row],[内　容]],科目tbl[[内　容]:[番号]],3,TRUE)","v":"収入"},"短期借入金調達","てき",260]
[1867,"2018-03-14",{"$f":"VLOOKUP(入出金tbl[[#This Row],[内　容]],科目tbl[[内　容]:[番号]],2,TRUE)","v":"財務収支"},{"$f":"VLOOKUP(入出金tbl[[#This Row],[内　容]],科目tbl[[内　容]:[番号]],3,TRUE)","v":"収入"},"長期借入金調達","てき",270]
[1868,"2018-03-14",{"$f":"VLOOKUP(入出金tbl[[#This Row],[内　容]],科目tbl[[内　容]:[番号]],2,TRUE)","v":"財務収支"},{"$f":"VLOOKUP(入出金tbl[[#This Row],[内　容]],科目tbl[[内　容]:[番号]],3,TRUE)","v":"収入"},"社長借入金調達","てき",280]
[1869,"2018-03-14",{"$f":"VLOOKUP(入出金tbl[[#This Row],[内　容]],科目tbl[[内　容]:[番号]],2,TRUE)","v":"財務収支"},{"$f":"VLOOKUP(入出金tbl[[#This Row],[内　容]],科目tbl[[内　容]:[番号]],3,TRUE)","v":"収入"},"その他調達","てき",290]
[1870,"2018-03-14",{"$f":"VLOOKUP(入出金tbl[[#This Row],[内　容]],科目tbl[[内　容]:[番号]],2,TRUE)","v":"財務収支"},{"$f":"VLOOKUP(入出金tbl[[#This Row],[内　容]],科目tbl[[内　容]:[番号]],3,TRUE)","v":"支出"},"----------","てき",0]
[1871,"2018-03-14",{"$f":"VLOOKUP(入出金tbl[[#This Row],[内　容]],科目tbl[[内　容]:[番号]],2,TRUE)","v":"財務収支"},{"$f":"VLOOKUP(入出金tbl[[#This Row],[内　容]],科目tbl[[内　容]:[番号]],3,TRUE)","v":"支出"},"短期借入金返済","てき",310]
[1872,"2018-03-14",{"$f":"VLOOKUP(入出金tbl[[#This Row],[内　容]],科目tbl[[内　容]:[番号]],2,TRUE)","v":"財務収支"},{"$f":"VLOOKUP(入出金tbl[[#This Row],[内　容]],科目tbl[[内　容]:[番号]],3,TRUE)","v":"支出"},"長期借入金返済","てき",320]
[1873,"2018-03-14",{"$f":"VLOOKUP(入出金tbl[[#This Row],[内　容]],科目tbl[[内　容]:[番号]],2,TRUE)","v":"財務収支"},{"$f":"VLOOKUP(入出金tbl[[#This Row],[内　容]],科目tbl[[内　容]:[番号]],3,TRUE)","v":"支出"},"社長借入金返済","てき",330]
[1874,"2018-03-14",{"$f":"VLOOKUP(入出金tbl[[#This Row],[内　容]],科目tbl[[内　容]:[番号]],2,TRUE)","v":"財務収支"},{"$f":"VLOOKUP(入出金tbl[[#This Row],[内　容]],科目tbl[[内　容]:[番号]],3,TRUE)","v":"支出"},"その他返済","てき",340]
[1875,"2018-03-14",{"$f":"VLOOKUP(入出金tbl[[#This Row],[内　容]],科目tbl[[内　容]:[番号]],2,TRUE)","v":"財務収支"},{"$f":"VLOOKUP(入出金tbl[[#This Row],[内　容]],科目tbl[[内　容]:[番号]],3,TRUE)","v":"支出"},"----------","てき",0]
[1876,"2018-03-15",{"$f":"VLOOKUP(入出金tbl[[#This Row],[内　容]],科目tbl[[内　容]:[番号]],2,TRUE)","v":"経常収支"},{"$f":"VLOOKUP(入出金tbl[[#This Row],[内　容]],科目tbl[[内　容]:[番号]],3,TRUE)","v":"収入"},"現金売上","摘要",10]
[1877,"2018-03-15",{"$f":"VLOOKUP(入出金tbl[[#This Row],[内　容]],科目tbl[[内　容]:[番号]],2,TRUE)","v":"経常収支"},{"$f":"VLOOKUP(入出金tbl[[#This Row],[内　容]],科目tbl[[内　容]:[番号]],3,TRUE)","v":"収入"},"売掛金回収","摘要",20]
[1878,"2018-03-15",{"$f":"VLOOKUP(入出金tbl[[#This Row],[内　容]],科目tbl[[内　容]:[番号]],2,TRUE)","v":"経常収支"},{"$f":"VLOOKUP(入出金tbl[[#This Row],[内　容]],科目tbl[[内　容]:[番号]],3,TRUE)","v":"収入"},"受取手形回収","てき",30]
[1879,"2018-03-15",{"$f":"VLOOKUP(入出金tbl[[#This Row],[内　容]],科目tbl[[内　容]:[番号]],2,TRUE)","v":"経常収支"},{"$f":"VLOOKUP(入出金tbl[[#This Row],[内　容]],科目tbl[[内　容]:[番号]],3,TRUE)","v":"収入"},"手形割引","てき",40]
[1880,"2018-03-15",{"$f":"VLOOKUP(入出金tbl[[#This Row],[内　容]],科目tbl[[内　容]:[番号]],2,TRUE)","v":"経常収支"},{"$f":"VLOOKUP(入出金tbl[[#This Row],[内　容]],科目tbl[[内　容]:[番号]],3,TRUE)","v":"収入"},"その他収入","てき",50]
[1881,"2018-03-15",{"$f":"VLOOKUP(入出金tbl[[#This Row],[内　容]],科目tbl[[内　容]:[番号]],2,TRUE)","v":"財務収支"},{"$f":"VLOOKUP(入出金tbl[[#This Row],[内　容]],科目tbl[[内　容]:[番号]],3,TRUE)","v":"支出"},"----------","てき",0]
[1882,"2018-03-15",{"$f":"VLOOKUP(入出金tbl[[#This Row],[内　容]],科目tbl[[内　容]:[番号]],2,TRUE)","v":"経常収支"},{"$f":"VLOOKUP(入出金tbl[[#This Row],[内　容]],科目tbl[[内　容]:[番号]],3,TRUE)","v":"支出"},"現金仕入","てき",70]
[1883,"2018-03-15",{"$f":"VLOOKUP(入出金tbl[[#This Row],[内　容]],科目tbl[[内　容]:[番号]],2,TRUE)","v":"経常収支"},{"$f":"VLOOKUP(入出金tbl[[#This Row],[内　容]],科目tbl[[内　容]:[番号]],3,TRUE)","v":"支出"},"買掛金支払","てき",80]
[1884,"2018-03-15",{"$f":"VLOOKUP(入出金tbl[[#This Row],[内　容]],科目tbl[[内　容]:[番号]],2,TRUE)","v":"経常収支"},{"$f":"VLOOKUP(入出金tbl[[#This Row],[内　容]],科目tbl[[内　容]:[番号]],3,TRUE)","v":"支出"},"手形支払","てき",90]
[1885,"2018-03-15",{"$f":"VLOOKUP(入出金tbl[[#This Row],[内　容]],科目tbl[[内　容]:[番号]],2,TRUE)","v":"経常収支"},{"$f":"VLOOKUP(入出金tbl[[#This Row],[内　容]],科目tbl[[内　容]:[番号]],3,TRUE)","v":"支出"},"賃金・給与現金支払","てき",100]
[1886,"2018-03-15",{"$f":"VLOOKUP(入出金tbl[[#This Row],[内　容]],科目tbl[[内　容]:[番号]],2,TRUE)","v":"経常収支"},{"$f":"VLOOKUP(入出金tbl[[#This Row],[内　容]],科目tbl[[内　容]:[番号]],3,TRUE)","v":"支出"},"賞与支払い","てき",110]
[1887,"2018-03-15",{"$f":"VLOOKUP(入出金tbl[[#This Row],[内　容]],科目tbl[[内　容]:[番号]],2,TRUE)","v":"経常収支"},{"$f":"VLOOKUP(入出金tbl[[#This Row],[内　容]],科目tbl[[内　容]:[番号]],3,TRUE)","v":"支出"},"支払利息・割引料","てき",120]
[1888,"2018-03-15",{"$f":"VLOOKUP(入出金tbl[[#This Row],[内　容]],科目tbl[[内　容]:[番号]],2,TRUE)","v":"経常収支"},{"$f":"VLOOKUP(入出金tbl[[#This Row],[内　容]],科目tbl[[内　容]:[番号]],3,TRUE)","v":"支出"},"諸経費現金支払","てき",130]
[1889,"2018-03-15",{"$f":"VLOOKUP(入出金tbl[[#This Row],[内　容]],科目tbl[[内　容]:[番号]],2,TRUE)","v":"財務収支"},{"$f":"VLOOKUP(入出金tbl[[#This Row],[内　容]],科目tbl[[内　容]:[番号]],3,TRUE)","v":"支出"},"----------","てき",0]
[1890,"2018-03-15",{"$f":"VLOOKUP(入出金tbl[[#This Row],[内　容]],科目tbl[[内　容]:[番号]],2,TRUE)","v":"経常外収支"},{"$f":"VLOOKUP(入出金tbl[[#This Row],[内　容]],科目tbl[[内　容]:[番号]],3,TRUE)","v":"収入"},"固定資産等売却手取","てき",150]
[1891,"2018-03-15",{"$f":"VLOOKUP(入出金tbl[[#This Row],[内　容]],科目tbl[[内　容]:[番号]],2,TRUE)","v":"経常外収支"},{"$f":"VLOOKUP(入出金tbl[[#This Row],[内　容]],科目tbl[[内　容]:[番号]],3,TRUE)","v":"収入"},"定期預金等解約","てき",160]
[1892,"2018-03-15",{"$f":"VLOOKUP(入出金tbl[[#This Row],[内　容]],科目tbl[[内　容]:[番号]],2,TRUE)","v":"経常外収支"},{"$f":"VLOOKUP(入出金tbl[[#This Row],[内　容]],科目tbl[[内　容]:[番号]],3,TRUE)","v":"収入"},"その他臨時収入","てき",170]
[1893,"2018-03-15",{"$f":"VLOOKUP(入出金tbl[[#This Row],[内　容]],科目tbl[[内　容]:[番号]],2,TRUE)","v":"財務収支"},{"$f":"VLOOKUP(入出金tbl[[#This Row],[内　容]],科目tbl[[内　容]:[番号]],3,TRUE)","v":"支出"},"----------","てき",0]
[1894,"2018-03-15",{"$f":"VLOOKUP(入出金tbl[[#This Row],[内　容]],科目tbl[[内　容]:[番号]],2,TRUE)","v":"経常外収支"},{"$f":"VLOOKUP(入出金tbl[[#This Row],[内　容]],科目tbl[[内　容]:[番号]],3,TRUE)","v":"支出"},"税金","てき",190]
[1895,"2018-03-15",{"$f":"VLOOKUP(入出金tbl[[#This Row],[内　容]],科目tbl[[内　容]:[番号]],2,TRUE)","v":"経常外収支"},{"$f":"VLOOKUP(入出金tbl[[#This Row],[内　容]],科目tbl[[内　容]:[番号]],3,TRUE)","v":"支出"},"役員賞与","てき",200]
[1896,"2018-03-15",{"$f":"VLOOKUP(入出金tbl[[#This Row],[内　容]],科目tbl[[内　容]:[番号]],2,TRUE)","v":"経常外収支"},{"$f":"VLOOKUP(入出金tbl[[#This Row],[内　容]],科目tbl[[内　容]:[番号]],3,TRUE)","v":"支出"},"配当","てき",210]
[1897,"2018-03-15",{"$f":"VLOOKUP(入出金tbl[[#This Row],[内　容]],科目tbl[[内　容]:[番号]],2,TRUE)","v":"経常外収支"},{"$f":"VLOOKUP(入出金tbl[[#This Row],[内　容]],科目tbl[[内　容]:[番号]],3,TRUE)","v":"支出"},"固定資産購入支出","てき",220]
[1898,"2018-03-15",{"$f":"VLOOKUP(入出金tbl[[#This Row],[内　容]],科目tbl[[内　容]:[番号]],2,TRUE)","v":"経常外収支"},{"$f":"VLOOKUP(入出金tbl[[#This Row],[内　容]],科目tbl[[内　容]:[番号]],3,TRUE)","v":"支出"},"定期預金等設定","てき",230]
[1899,"2018-03-15",{"$f":"VLOOKUP(入出金tbl[[#This Row],[内　容]],科目tbl[[内　容]:[番号]],2,TRUE)","v":"経常外収支"},{"$f":"VLOOKUP(入出金tbl[[#This Row],[内　容]],科目tbl[[内　容]:[番号]],3,TRUE)","v":"支出"},"その他臨時支出","てき",240]
[1900,"2018-03-15",{"$f":"VLOOKUP(入出金tbl[[#This Row],[内　容]],科目tbl[[内　容]:[番号]],2,TRUE)","v":"経常外収支"},{"$f":"VLOOKUP(入出金tbl[[#This Row],[内　容]],科目tbl[[内　容]:[番号]],3,TRUE)","v":"支出"},"テスト4","てき",250]
[1901,"2018-03-15",{"$f":"VLOOKUP(入出金tbl[[#This Row],[内　容]],科目tbl[[内　容]:[番号]],2,TRUE)","v":"財務収支"},{"$f":"VLOOKUP(入出金tbl[[#This Row],[内　容]],科目tbl[[内　容]:[番号]],3,TRUE)","v":"収入"},"短期借入金調達","てき",260]
[1902,"2018-03-15",{"$f":"VLOOKUP(入出金tbl[[#This Row],[内　容]],科目tbl[[内　容]:[番号]],2,TRUE)","v":"財務収支"},{"$f":"VLOOKUP(入出金tbl[[#This Row],[内　容]],科目tbl[[内　容]:[番号]],3,TRUE)","v":"収入"},"長期借入金調達","てき",270]
[1903,"2018-03-15",{"$f":"VLOOKUP(入出金tbl[[#This Row],[内　容]],科目tbl[[内　容]:[番号]],2,TRUE)","v":"財務収支"},{"$f":"VLOOKUP(入出金tbl[[#This Row],[内　容]],科目tbl[[内　容]:[番号]],3,TRUE)","v":"収入"},"社長借入金調達","てき",280]
[1904,"2018-03-15",{"$f":"VLOOKUP(入出金tbl[[#This Row],[内　容]],科目tbl[[内　容]:[番号]],2,TRUE)","v":"財務収支"},{"$f":"VLOOKUP(入出金tbl[[#This Row],[内　容]],科目tbl[[内　容]:[番号]],3,TRUE)","v":"収入"},"その他調達","てき",290]
[1905,"2018-03-15",{"$f":"VLOOKUP(入出金tbl[[#This Row],[内　容]],科目tbl[[内　容]:[番号]],2,TRUE)","v":"財務収支"},{"$f":"VLOOKUP(入出金tbl[[#This Row],[内　容]],科目tbl[[内　容]:[番号]],3,TRUE)","v":"支出"},"----------","てき",0]
[1906,"2018-03-15",{"$f":"VLOOKUP(入出金tbl[[#This Row],[内　容]],科目tbl[[内　容]:[番号]],2,TRUE)","v":"財務収支"},{"$f":"VLOOKUP(入出金tbl[[#This Row],[内　容]],科目tbl[[内　容]:[番号]],3,TRUE)","v":"支出"},"短期借入金返済","てき",310]
[1907,"2018-03-15",{"$f":"VLOOKUP(入出金tbl[[#This Row],[内　容]],科目tbl[[内　容]:[番号]],2,TRUE)","v":"財務収支"},{"$f":"VLOOKUP(入出金tbl[[#This Row],[内　容]],科目tbl[[内　容]:[番号]],3,TRUE)","v":"支出"},"長期借入金返済","てき",320]
[1908,"2018-03-15",{"$f":"VLOOKUP(入出金tbl[[#This Row],[内　容]],科目tbl[[内　容]:[番号]],2,TRUE)","v":"財務収支"},{"$f":"VLOOKUP(入出金tbl[[#This Row],[内　容]],科目tbl[[内　容]:[番号]],3,TRUE)","v":"支出"},"社長借入金返済","てき",330]
[1909,"2018-03-15",{"$f":"VLOOKUP(入出金tbl[[#This Row],[内　容]],科目tbl[[内　容]:[番号]],2,TRUE)","v":"財務収支"},{"$f":"VLOOKUP(入出金tbl[[#This Row],[内　容]],科目tbl[[内　容]:[番号]],3,TRUE)","v":"支出"},"その他返済","てき",340]
[1910,"2018-03-15",{"$f":"VLOOKUP(入出金tbl[[#This Row],[内　容]],科目tbl[[内　容]:[番号]],2,TRUE)","v":"財務収支"},{"$f":"VLOOKUP(入出金tbl[[#This Row],[内　容]],科目tbl[[内　容]:[番号]],3,TRUE)","v":"支出"},"----------","てき",0]
[1911,"2018-03-16",{"$f":"VLOOKUP(入出金tbl[[#This Row],[内　容]],科目tbl[[内　容]:[番号]],2,TRUE)","v":"経常収支"},{"$f":"VLOOKUP(入出金tbl[[#This Row],[内　容]],科目tbl[[内　容]:[番号]],3,TRUE)","v":"収入"},"現金売上","摘要",10]
[1912,"2018-03-16",{"$f":"VLOOKUP(入出金tbl[[#This Row],[内　容]],科目tbl[[内　容]:[番号]],2,TRUE)","v":"経常収支"},{"$f":"VLOOKUP(入出金tbl[[#This Row],[内　容]],科目tbl[[内　容]:[番号]],3,TRUE)","v":"収入"},"売掛金回収","摘要",20]
[1913,"2018-03-16",{"$f":"VLOOKUP(入出金tbl[[#This Row],[内　容]],科目tbl[[内　容]:[番号]],2,TRUE)","v":"経常収支"},{"$f":"VLOOKUP(入出金tbl[[#This Row],[内　容]],科目tbl[[内　容]:[番号]],3,TRUE)","v":"収入"},"受取手形回収","てき",30]
[1914,"2018-03-16",{"$f":"VLOOKUP(入出金tbl[[#This Row],[内　容]],科目tbl[[内　容]:[番号]],2,TRUE)","v":"経常収支"},{"$f":"VLOOKUP(入出金tbl[[#This Row],[内　容]],科目tbl[[内　容]:[番号]],3,TRUE)","v":"収入"},"手形割引","てき",40]
[1915,"2018-03-16",{"$f":"VLOOKUP(入出金tbl[[#This Row],[内　容]],科目tbl[[内　容]:[番号]],2,TRUE)","v":"経常収支"},{"$f":"VLOOKUP(入出金tbl[[#This Row],[内　容]],科目tbl[[内　容]:[番号]],3,TRUE)","v":"収入"},"その他収入","てき",50]
[1916,"2018-03-16",{"$f":"VLOOKUP(入出金tbl[[#This Row],[内　容]],科目tbl[[内　容]:[番号]],2,TRUE)","v":"財務収支"},{"$f":"VLOOKUP(入出金tbl[[#This Row],[内　容]],科目tbl[[内　容]:[番号]],3,TRUE)","v":"支出"},"----------","てき",0]
[1917,"2018-03-16",{"$f":"VLOOKUP(入出金tbl[[#This Row],[内　容]],科目tbl[[内　容]:[番号]],2,TRUE)","v":"経常収支"},{"$f":"VLOOKUP(入出金tbl[[#This Row],[内　容]],科目tbl[[内　容]:[番号]],3,TRUE)","v":"支出"},"現金仕入","てき",70]
[1918,"2018-03-16",{"$f":"VLOOKUP(入出金tbl[[#This Row],[内　容]],科目tbl[[内　容]:[番号]],2,TRUE)","v":"経常収支"},{"$f":"VLOOKUP(入出金tbl[[#This Row],[内　容]],科目tbl[[内　容]:[番号]],3,TRUE)","v":"支出"},"買掛金支払","てき",80]
[1919,"2018-03-16",{"$f":"VLOOKUP(入出金tbl[[#This Row],[内　容]],科目tbl[[内　容]:[番号]],2,TRUE)","v":"経常収支"},{"$f":"VLOOKUP(入出金tbl[[#This Row],[内　容]],科目tbl[[内　容]:[番号]],3,TRUE)","v":"支出"},"手形支払","てき",90]
[1920,"2018-03-16",{"$f":"VLOOKUP(入出金tbl[[#This Row],[内　容]],科目tbl[[内　容]:[番号]],2,TRUE)","v":"経常収支"},{"$f":"VLOOKUP(入出金tbl[[#This Row],[内　容]],科目tbl[[内　容]:[番号]],3,TRUE)","v":"支出"},"賃金・給与現金支払","てき",100]
[1921,"2018-03-16",{"$f":"VLOOKUP(入出金tbl[[#This Row],[内　容]],科目tbl[[内　容]:[番号]],2,TRUE)","v":"経常収支"},{"$f":"VLOOKUP(入出金tbl[[#This Row],[内　容]],科目tbl[[内　容]:[番号]],3,TRUE)","v":"支出"},"賞与支払い","てき",110]
[1922,"2018-03-16",{"$f":"VLOOKUP(入出金tbl[[#This Row],[内　容]],科目tbl[[内　容]:[番号]],2,TRUE)","v":"経常収支"},{"$f":"VLOOKUP(入出金tbl[[#This Row],[内　容]],科目tbl[[内　容]:[番号]],3,TRUE)","v":"支出"},"支払利息・割引料","てき",120]
[1923,"2018-03-16",{"$f":"VLOOKUP(入出金tbl[[#This Row],[内　容]],科目tbl[[内　容]:[番号]],2,TRUE)","v":"経常収支"},{"$f":"VLOOKUP(入出金tbl[[#This Row],[内　容]],科目tbl[[内　容]:[番号]],3,TRUE)","v":"支出"},"諸経費現金支払","てき",130]
[1924,"2018-03-16",{"$f":"VLOOKUP(入出金tbl[[#This Row],[内　容]],科目tbl[[内　容]:[番号]],2,TRUE)","v":"財務収支"},{"$f":"VLOOKUP(入出金tbl[[#This Row],[内　容]],科目tbl[[内　容]:[番号]],3,TRUE)","v":"支出"},"----------","てき",0]
[1925,"2018-03-16",{"$f":"VLOOKUP(入出金tbl[[#This Row],[内　容]],科目tbl[[内　容]:[番号]],2,TRUE)","v":"経常外収支"},{"$f":"VLOOKUP(入出金tbl[[#This Row],[内　容]],科目tbl[[内　容]:[番号]],3,TRUE)","v":"収入"},"固定資産等売却手取","てき",150]
[1926,"2018-03-16",{"$f":"VLOOKUP(入出金tbl[[#This Row],[内　容]],科目tbl[[内　容]:[番号]],2,TRUE)","v":"経常外収支"},{"$f":"VLOOKUP(入出金tbl[[#This Row],[内　容]],科目tbl[[内　容]:[番号]],3,TRUE)","v":"収入"},"定期預金等解約","てき",160]
[1927,"2018-03-16",{"$f":"VLOOKUP(入出金tbl[[#This Row],[内　容]],科目tbl[[内　容]:[番号]],2,TRUE)","v":"経常外収支"},{"$f":"VLOOKUP(入出金tbl[[#This Row],[内　容]],科目tbl[[内　容]:[番号]],3,TRUE)","v":"収入"},"その他臨時収入","てき",170]
[1928,"2018-03-16",{"$f":"VLOOKUP(入出金tbl[[#This Row],[内　容]],科目tbl[[内　容]:[番号]],2,TRUE)","v":"財務収支"},{"$f":"VLOOKUP(入出金tbl[[#This Row],[内　容]],科目tbl[[内　容]:[番号]],3,TRUE)","v":"支出"},"----------","てき",0]
[1929,"2018-03-16",{"$f":"VLOOKUP(入出金tbl[[#This Row],[内　容]],科目tbl[[内　容]:[番号]],2,TRUE)","v":"経常外収支"},{"$f":"VLOOKUP(入出金tbl[[#This Row],[内　容]],科目tbl[[内　容]:[番号]],3,TRUE)","v":"支出"},"税金","てき",190]
[1930,"2018-03-16",{"$f":"VLOOKUP(入出金tbl[[#This Row],[内　容]],科目tbl[[内　容]:[番号]],2,TRUE)","v":"経常外収支"},{"$f":"VLOOKUP(入出金tbl[[#This Row],[内　容]],科目tbl[[内　容]:[番号]],3,TRUE)","v":"支出"},"役員賞与","てき",200]
[1931,"2018-03-16",{"$f":"VLOOKUP(入出金tbl[[#This Row],[内　容]],科目tbl[[内　容]:[番号]],2,TRUE)","v":"経常外収支"},{"$f":"VLOOKUP(入出金tbl[[#This Row],[内　容]],科目tbl[[内　容]:[番号]],3,TRUE)","v":"支出"},"配当","てき",210]
[1932,"2018-03-16",{"$f":"VLOOKUP(入出金tbl[[#This Row],[内　容]],科目tbl[[内　容]:[番号]],2,TRUE)","v":"経常外収支"},{"$f":"VLOOKUP(入出金tbl[[#This Row],[内　容]],科目tbl[[内　容]:[番号]],3,TRUE)","v":"支出"},"固定資産購入支出","てき",220]
[1933,"2018-03-16",{"$f":"VLOOKUP(入出金tbl[[#This Row],[内　容]],科目tbl[[内　容]:[番号]],2,TRUE)","v":"経常外収支"},{"$f":"VLOOKUP(入出金tbl[[#This Row],[内　容]],科目tbl[[内　容]:[番号]],3,TRUE)","v":"支出"},"定期預金等設定","てき",230]
[1934,"2018-03-16",{"$f":"VLOOKUP(入出金tbl[[#This Row],[内　容]],科目tbl[[内　容]:[番号]],2,TRUE)","v":"経常外収支"},{"$f":"VLOOKUP(入出金tbl[[#This Row],[内　容]],科目tbl[[内　容]:[番号]],3,TRUE)","v":"支出"},"その他臨時支出","てき",240]
[1935,"2018-03-16",{"$f":"VLOOKUP(入出金tbl[[#This Row],[内　容]],科目tbl[[内　容]:[番号]],2,TRUE)","v":"経常外収支"},{"$f":"VLOOKUP(入出金tbl[[#This Row],[内　容]],科目tbl[[内　容]:[番号]],3,TRUE)","v":"支出"},"テスト4","てき",250]
[1936,"2018-03-16",{"$f":"VLOOKUP(入出金tbl[[#This Row],[内　容]],科目tbl[[内　容]:[番号]],2,TRUE)","v":"財務収支"},{"$f":"VLOOKUP(入出金tbl[[#This Row],[内　容]],科目tbl[[内　容]:[番号]],3,TRUE)","v":"収入"},"短期借入金調達","てき",260]
[1937,"2018-03-16",{"$f":"VLOOKUP(入出金tbl[[#This Row],[内　容]],科目tbl[[内　容]:[番号]],2,TRUE)","v":"財務収支"},{"$f":"VLOOKUP(入出金tbl[[#This Row],[内　容]],科目tbl[[内　容]:[番号]],3,TRUE)","v":"収入"},"長期借入金調達","てき",270]
[1938,"2018-03-16",{"$f":"VLOOKUP(入出金tbl[[#This Row],[内　容]],科目tbl[[内　容]:[番号]],2,TRUE)","v":"財務収支"},{"$f":"VLOOKUP(入出金tbl[[#This Row],[内　容]],科目tbl[[内　容]:[番号]],3,TRUE)","v":"収入"},"社長借入金調達","てき",280]
[1939,"2018-03-16",{"$f":"VLOOKUP(入出金tbl[[#This Row],[内　容]],科目tbl[[内　容]:[番号]],2,TRUE)","v":"財務収支"},{"$f":"VLOOKUP(入出金tbl[[#This Row],[内　容]],科目tbl[[内　容]:[番号]],3,TRUE)","v":"収入"},"その他調達","てき",290]
[1940,"2018-03-16",{"$f":"VLOOKUP(入出金tbl[[#This Row],[内　容]],科目tbl[[内　容]:[番号]],2,TRUE)","v":"財務収支"},{"$f":"VLOOKUP(入出金tbl[[#This Row],[内　容]],科目tbl[[内　容]:[番号]],3,TRUE)","v":"支出"},"----------","てき",0]
[1941,"2018-03-16",{"$f":"VLOOKUP(入出金tbl[[#This Row],[内　容]],科目tbl[[内　容]:[番号]],2,TRUE)","v":"財務収支"},{"$f":"VLOOKUP(入出金tbl[[#This Row],[内　容]],科目tbl[[内　容]:[番号]],3,TRUE)","v":"支出"},"短期借入金返済","てき",310]
[1942,"2018-03-16",{"$f":"VLOOKUP(入出金tbl[[#This Row],[内　容]],科目tbl[[内　容]:[番号]],2,TRUE)","v":"財務収支"},{"$f":"VLOOKUP(入出金tbl[[#This Row],[内　容]],科目tbl[[内　容]:[番号]],3,TRUE)","v":"支出"},"長期借入金返済","てき",320]
[1943,"2018-03-16",{"$f":"VLOOKUP(入出金tbl[[#This Row],[内　容]],科目tbl[[内　容]:[番号]],2,TRUE)","v":"財務収支"},{"$f":"VLOOKUP(入出金tbl[[#This Row],[内　容]],科目tbl[[内　容]:[番号]],3,TRUE)","v":"支出"},"社長借入金返済","てき",330]
[1944,"2018-03-16",{"$f":"VLOOKUP(入出金tbl[[#This Row],[内　容]],科目tbl[[内　容]:[番号]],2,TRUE)","v":"財務収支"},{"$f":"VLOOKUP(入出金tbl[[#This Row],[内　容]],科目tbl[[内　容]:[番号]],3,TRUE)","v":"支出"},"その他返済","てき",340]
[1945,"2018-03-16",{"$f":"VLOOKUP(入出金tbl[[#This Row],[内　容]],科目tbl[[内　容]:[番号]],2,TRUE)","v":"財務収支"},{"$f":"VLOOKUP(入出金tbl[[#This Row],[内　容]],科目tbl[[内　容]:[番号]],3,TRUE)","v":"支出"},"----------","てき",0]
[1946,"2018-03-17",{"$f":"VLOOKUP(入出金tbl[[#This Row],[内　容]],科目tbl[[内　容]:[番号]],2,TRUE)","v":"経常収支"},{"$f":"VLOOKUP(入出金tbl[[#This Row],[内　容]],科目tbl[[内　容]:[番号]],3,TRUE)","v":"収入"},"現金売上","摘要",10]
[1947,"2018-03-17",{"$f":"VLOOKUP(入出金tbl[[#This Row],[内　容]],科目tbl[[内　容]:[番号]],2,TRUE)","v":"経常収支"},{"$f":"VLOOKUP(入出金tbl[[#This Row],[内　容]],科目tbl[[内　容]:[番号]],3,TRUE)","v":"収入"},"売掛金回収","摘要",20]
[1948,"2018-03-17",{"$f":"VLOOKUP(入出金tbl[[#This Row],[内　容]],科目tbl[[内　容]:[番号]],2,TRUE)","v":"経常収支"},{"$f":"VLOOKUP(入出金tbl[[#This Row],[内　容]],科目tbl[[内　容]:[番号]],3,TRUE)","v":"収入"},"受取手形回収","てき",30]
[1949,"2018-03-17",{"$f":"VLOOKUP(入出金tbl[[#This Row],[内　容]],科目tbl[[内　容]:[番号]],2,TRUE)","v":"経常収支"},{"$f":"VLOOKUP(入出金tbl[[#This Row],[内　容]],科目tbl[[内　容]:[番号]],3,TRUE)","v":"収入"},"手形割引","てき",40]
[1950,"2018-03-17",{"$f":"VLOOKUP(入出金tbl[[#This Row],[内　容]],科目tbl[[内　容]:[番号]],2,TRUE)","v":"経常収支"},{"$f":"VLOOKUP(入出金tbl[[#This Row],[内　容]],科目tbl[[内　容]:[番号]],3,TRUE)","v":"収入"},"その他収入","てき",50]
[1951,"2018-03-17",{"$f":"VLOOKUP(入出金tbl[[#This Row],[内　容]],科目tbl[[内　容]:[番号]],2,TRUE)","v":"財務収支"},{"$f":"VLOOKUP(入出金tbl[[#This Row],[内　容]],科目tbl[[内　容]:[番号]],3,TRUE)","v":"支出"},"----------","てき",0]
[1952,"2018-03-17",{"$f":"VLOOKUP(入出金tbl[[#This Row],[内　容]],科目tbl[[内　容]:[番号]],2,TRUE)","v":"経常収支"},{"$f":"VLOOKUP(入出金tbl[[#This Row],[内　容]],科目tbl[[内　容]:[番号]],3,TRUE)","v":"支出"},"現金仕入","てき",70]
[1953,"2018-03-17",{"$f":"VLOOKUP(入出金tbl[[#This Row],[内　容]],科目tbl[[内　容]:[番号]],2,TRUE)","v":"経常収支"},{"$f":"VLOOKUP(入出金tbl[[#This Row],[内　容]],科目tbl[[内　容]:[番号]],3,TRUE)","v":"支出"},"買掛金支払","てき",80]
[1954,"2018-03-17",{"$f":"VLOOKUP(入出金tbl[[#This Row],[内　容]],科目tbl[[内　容]:[番号]],2,TRUE)","v":"経常収支"},{"$f":"VLOOKUP(入出金tbl[[#This Row],[内　容]],科目tbl[[内　容]:[番号]],3,TRUE)","v":"支出"},"手形支払","てき",90]
[1955,"2018-03-17",{"$f":"VLOOKUP(入出金tbl[[#This Row],[内　容]],科目tbl[[内　容]:[番号]],2,TRUE)","v":"経常収支"},{"$f":"VLOOKUP(入出金tbl[[#This Row],[内　容]],科目tbl[[内　容]:[番号]],3,TRUE)","v":"支出"},"賃金・給与現金支払","てき",100]
[1956,"2018-03-17",{"$f":"VLOOKUP(入出金tbl[[#This Row],[内　容]],科目tbl[[内　容]:[番号]],2,TRUE)","v":"経常収支"},{"$f":"VLOOKUP(入出金tbl[[#This Row],[内　容]],科目tbl[[内　容]:[番号]],3,TRUE)","v":"支出"},"賞与支払い","てき",110]
[1957,"2018-03-17",{"$f":"VLOOKUP(入出金tbl[[#This Row],[内　容]],科目tbl[[内　容]:[番号]],2,TRUE)","v":"経常収支"},{"$f":"VLOOKUP(入出金tbl[[#This Row],[内　容]],科目tbl[[内　容]:[番号]],3,TRUE)","v":"支出"},"支払利息・割引料","てき",120]
[1958,"2018-03-17",{"$f":"VLOOKUP(入出金tbl[[#This Row],[内　容]],科目tbl[[内　容]:[番号]],2,TRUE)","v":"経常収支"},{"$f":"VLOOKUP(入出金tbl[[#This Row],[内　容]],科目tbl[[内　容]:[番号]],3,TRUE)","v":"支出"},"諸経費現金支払","てき",130]
[1959,"2018-03-17",{"$f":"VLOOKUP(入出金tbl[[#This Row],[内　容]],科目tbl[[内　容]:[番号]],2,TRUE)","v":"財務収支"},{"$f":"VLOOKUP(入出金tbl[[#This Row],[内　容]],科目tbl[[内　容]:[番号]],3,TRUE)","v":"支出"},"----------","てき",0]
[1960,"2018-03-17",{"$f":"VLOOKUP(入出金tbl[[#This Row],[内　容]],科目tbl[[内　容]:[番号]],2,TRUE)","v":"経常外収支"},{"$f":"VLOOKUP(入出金tbl[[#This Row],[内　容]],科目tbl[[内　容]:[番号]],3,TRUE)","v":"収入"},"固定資産等売却手取","てき",150]
[1961,"2018-03-17",{"$f":"VLOOKUP(入出金tbl[[#This Row],[内　容]],科目tbl[[内　容]:[番号]],2,TRUE)","v":"経常外収支"},{"$f":"VLOOKUP(入出金tbl[[#This Row],[内　容]],科目tbl[[内　容]:[番号]],3,TRUE)","v":"収入"},"定期預金等解約","てき",160]
[1962,"2018-03-17",{"$f":"VLOOKUP(入出金tbl[[#This Row],[内　容]],科目tbl[[内　容]:[番号]],2,TRUE)","v":"経常外収支"},{"$f":"VLOOKUP(入出金tbl[[#This Row],[内　容]],科目tbl[[内　容]:[番号]],3,TRUE)","v":"収入"},"その他臨時収入","てき",170]
[1963,"2018-03-17",{"$f":"VLOOKUP(入出金tbl[[#This Row],[内　容]],科目tbl[[内　容]:[番号]],2,TRUE)","v":"財務収支"},{"$f":"VLOOKUP(入出金tbl[[#This Row],[内　容]],科目tbl[[内　容]:[番号]],3,TRUE)","v":"支出"},"----------","てき",0]
[1964,"2018-03-17",{"$f":"VLOOKUP(入出金tbl[[#This Row],[内　容]],科目tbl[[内　容]:[番号]],2,TRUE)","v":"経常外収支"},{"$f":"VLOOKUP(入出金tbl[[#This Row],[内　容]],科目tbl[[内　容]:[番号]],3,TRUE)","v":"支出"},"税金","てき",190]
[1965,"2018-03-17",{"$f":"VLOOKUP(入出金tbl[[#This Row],[内　容]],科目tbl[[内　容]:[番号]],2,TRUE)","v":"経常外収支"},{"$f":"VLOOKUP(入出金tbl[[#This Row],[内　容]],科目tbl[[内　容]:[番号]],3,TRUE)","v":"支出"},"役員賞与","てき",200]
[1966,"2018-03-17",{"$f":"VLOOKUP(入出金tbl[[#This Row],[内　容]],科目tbl[[内　容]:[番号]],2,TRUE)","v":"経常外収支"},{"$f":"VLOOKUP(入出金tbl[[#This Row],[内　容]],科目tbl[[内　容]:[番号]],3,TRUE)","v":"支出"},"配当","てき",210]
[1967,"2018-03-17",{"$f":"VLOOKUP(入出金tbl[[#This Row],[内　容]],科目tbl[[内　容]:[番号]],2,TRUE)","v":"経常外収支"},{"$f":"VLOOKUP(入出金tbl[[#This Row],[内　容]],科目tbl[[内　容]:[番号]],3,TRUE)","v":"支出"},"固定資産購入支出","てき",220]
[1968,"2018-03-17",{"$f":"VLOOKUP(入出金tbl[[#This Row],[内　容]],科目tbl[[内　容]:[番号]],2,TRUE)","v":"経常外収支"},{"$f":"VLOOKUP(入出金tbl[[#This Row],[内　容]],科目tbl[[内　容]:[番号]],3,TRUE)","v":"支出"},"定期預金等設定","てき",230]
[1969,"2018-03-17",{"$f":"VLOOKUP(入出金tbl[[#This Row],[内　容]],科目tbl[[内　容]:[番号]],2,TRUE)","v":"経常外収支"},{"$f":"VLOOKUP(入出金tbl[[#This Row],[内　容]],科目tbl[[内　容]:[番号]],3,TRUE)","v":"支出"},"その他臨時支出","てき",240]
[1970,"2018-03-17",{"$f":"VLOOKUP(入出金tbl[[#This Row],[内　容]],科目tbl[[内　容]:[番号]],2,TRUE)","v":"経常外収支"},{"$f":"VLOOKUP(入出金tbl[[#This Row],[内　容]],科目tbl[[内　容]:[番号]],3,TRUE)","v":"支出"},"テスト4","てき",250]
[1971,"2018-03-17",{"$f":"VLOOKUP(入出金tbl[[#This Row],[内　容]],科目tbl[[内　容]:[番号]],2,TRUE)","v":"財務収支"},{"$f":"VLOOKUP(入出金tbl[[#This Row],[内　容]],科目tbl[[内　容]:[番号]],3,TRUE)","v":"収入"},"短期借入金調達","てき",260]
[1972,"2018-03-17",{"$f":"VLOOKUP(入出金tbl[[#This Row],[内　容]],科目tbl[[内　容]:[番号]],2,TRUE)","v":"財務収支"},{"$f":"VLOOKUP(入出金tbl[[#This Row],[内　容]],科目tbl[[内　容]:[番号]],3,TRUE)","v":"収入"},"長期借入金調達","てき",270]
[1973,"2018-03-17",{"$f":"VLOOKUP(入出金tbl[[#This Row],[内　容]],科目tbl[[内　容]:[番号]],2,TRUE)","v":"財務収支"},{"$f":"VLOOKUP(入出金tbl[[#This Row],[内　容]],科目tbl[[内　容]:[番号]],3,TRUE)","v":"収入"},"社長借入金調達","てき",280]
[1974,"2018-03-17",{"$f":"VLOOKUP(入出金tbl[[#This Row],[内　容]],科目tbl[[内　容]:[番号]],2,TRUE)","v":"財務収支"},{"$f":"VLOOKUP(入出金tbl[[#This Row],[内　容]],科目tbl[[内　容]:[番号]],3,TRUE)","v":"収入"},"その他調達","てき",290]
[1975,"2018-03-17",{"$f":"VLOOKUP(入出金tbl[[#This Row],[内　容]],科目tbl[[内　容]:[番号]],2,TRUE)","v":"財務収支"},{"$f":"VLOOKUP(入出金tbl[[#This Row],[内　容]],科目tbl[[内　容]:[番号]],3,TRUE)","v":"支出"},"----------","てき",0]
[1976,"2018-03-17",{"$f":"VLOOKUP(入出金tbl[[#This Row],[内　容]],科目tbl[[内　容]:[番号]],2,TRUE)","v":"財務収支"},{"$f":"VLOOKUP(入出金tbl[[#This Row],[内　容]],科目tbl[[内　容]:[番号]],3,TRUE)","v":"支出"},"短期借入金返済","てき",310]
[1977,"2018-03-17",{"$f":"VLOOKUP(入出金tbl[[#This Row],[内　容]],科目tbl[[内　容]:[番号]],2,TRUE)","v":"財務収支"},{"$f":"VLOOKUP(入出金tbl[[#This Row],[内　容]],科目tbl[[内　容]:[番号]],3,TRUE)","v":"支出"},"長期借入金返済","てき",320]
[1978,"2018-03-17",{"$f":"VLOOKUP(入出金tbl[[#This Row],[内　容]],科目tbl[[内　容]:[番号]],2,TRUE)","v":"財務収支"},{"$f":"VLOOKUP(入出金tbl[[#This Row],[内　容]],科目tbl[[内　容]:[番号]],3,TRUE)","v":"支出"},"社長借入金返済","てき",330]
[1979,"2018-03-17",{"$f":"VLOOKUP(入出金tbl[[#This Row],[内　容]],科目tbl[[内　容]:[番号]],2,TRUE)","v":"財務収支"},{"$f":"VLOOKUP(入出金tbl[[#This Row],[内　容]],科目tbl[[内　容]:[番号]],3,TRUE)","v":"支出"},"その他返済","てき",340]
[1980,"2018-03-17",{"$f":"VLOOKUP(入出金tbl[[#This Row],[内　容]],科目tbl[[内　容]:[番号]],2,TRUE)","v":"財務収支"},{"$f":"VLOOKUP(入出金tbl[[#This Row],[内　容]],科目tbl[[内　容]:[番号]],3,TRUE)","v":"支出"},"----------","てき",0]
[1981,"2018-03-18",{"$f":"VLOOKUP(入出金tbl[[#This Row],[内　容]],科目tbl[[内　容]:[番号]],2,TRUE)","v":"経常収支"},{"$f":"VLOOKUP(入出金tbl[[#This Row],[内　容]],科目tbl[[内　容]:[番号]],3,TRUE)","v":"収入"},"現金売上","摘要",10]
[1982,"2018-03-18",{"$f":"VLOOKUP(入出金tbl[[#This Row],[内　容]],科目tbl[[内　容]:[番号]],2,TRUE)","v":"経常収支"},{"$f":"VLOOKUP(入出金tbl[[#This Row],[内　容]],科目tbl[[内　容]:[番号]],3,TRUE)","v":"収入"},"売掛金回収","摘要",20]
[1983,"2018-03-18",{"$f":"VLOOKUP(入出金tbl[[#This Row],[内　容]],科目tbl[[内　容]:[番号]],2,TRUE)","v":"経常収支"},{"$f":"VLOOKUP(入出金tbl[[#This Row],[内　容]],科目tbl[[内　容]:[番号]],3,TRUE)","v":"収入"},"受取手形回収","てき",30]
[1984,"2018-03-18",{"$f":"VLOOKUP(入出金tbl[[#This Row],[内　容]],科目tbl[[内　容]:[番号]],2,TRUE)","v":"経常収支"},{"$f":"VLOOKUP(入出金tbl[[#This Row],[内　容]],科目tbl[[内　容]:[番号]],3,TRUE)","v":"収入"},"手形割引","てき",40]
[1985,"2018-03-18",{"$f":"VLOOKUP(入出金tbl[[#This Row],[内　容]],科目tbl[[内　容]:[番号]],2,TRUE)","v":"経常収支"},{"$f":"VLOOKUP(入出金tbl[[#This Row],[内　容]],科目tbl[[内　容]:[番号]],3,TRUE)","v":"収入"},"その他収入","てき",50]
[1986,"2018-03-18",{"$f":"VLOOKUP(入出金tbl[[#This Row],[内　容]],科目tbl[[内　容]:[番号]],2,TRUE)","v":"財務収支"},{"$f":"VLOOKUP(入出金tbl[[#This Row],[内　容]],科目tbl[[内　容]:[番号]],3,TRUE)","v":"支出"},"----------","てき",0]
[1987,"2018-03-18",{"$f":"VLOOKUP(入出金tbl[[#This Row],[内　容]],科目tbl[[内　容]:[番号]],2,TRUE)","v":"経常収支"},{"$f":"VLOOKUP(入出金tbl[[#This Row],[内　容]],科目tbl[[内　容]:[番号]],3,TRUE)","v":"支出"},"現金仕入","てき",70]
[1988,"2018-03-18",{"$f":"VLOOKUP(入出金tbl[[#This Row],[内　容]],科目tbl[[内　容]:[番号]],2,TRUE)","v":"経常収支"},{"$f":"VLOOKUP(入出金tbl[[#This Row],[内　容]],科目tbl[[内　容]:[番号]],3,TRUE)","v":"支出"},"買掛金支払","てき",80]
[1989,"2018-03-18",{"$f":"VLOOKUP(入出金tbl[[#This Row],[内　容]],科目tbl[[内　容]:[番号]],2,TRUE)","v":"経常収支"},{"$f":"VLOOKUP(入出金tbl[[#This Row],[内　容]],科目tbl[[内　容]:[番号]],3,TRUE)","v":"支出"},"手形支払","てき",90]
[1990,"2018-03-18",{"$f":"VLOOKUP(入出金tbl[[#This Row],[内　容]],科目tbl[[内　容]:[番号]],2,TRUE)","v":"経常収支"},{"$f":"VLOOKUP(入出金tbl[[#This Row],[内　容]],科目tbl[[内　容]:[番号]],3,TRUE)","v":"支出"},"賃金・給与現金支払","てき",100]
[1991,"2018-03-18",{"$f":"VLOOKUP(入出金tbl[[#This Row],[内　容]],科目tbl[[内　容]:[番号]],2,TRUE)","v":"経常収支"},{"$f":"VLOOKUP(入出金tbl[[#This Row],[内　容]],科目tbl[[内　容]:[番号]],3,TRUE)","v":"支出"},"賞与支払い","てき",110]
[1992,"2018-03-18",{"$f":"VLOOKUP(入出金tbl[[#This Row],[内　容]],科目tbl[[内　容]:[番号]],2,TRUE)","v":"経常収支"},{"$f":"VLOOKUP(入出金tbl[[#This Row],[内　容]],科目tbl[[内　容]:[番号]],3,TRUE)","v":"支出"},"支払利息・割引料","てき",120]
[1993,"2018-03-18",{"$f":"VLOOKUP(入出金tbl[[#This Row],[内　容]],科目tbl[[内　容]:[番号]],2,TRUE)","v":"経常収支"},{"$f":"VLOOKUP(入出金tbl[[#This Row],[内　容]],科目tbl[[内　容]:[番号]],3,TRUE)","v":"支出"},"諸経費現金支払","てき",130]
[1994,"2018-03-18",{"$f":"VLOOKUP(入出金tbl[[#This Row],[内　容]],科目tbl[[内　容]:[番号]],2,TRUE)","v":"財務収支"},{"$f":"VLOOKUP(入出金tbl[[#This Row],[内　容]],科目tbl[[内　容]:[番号]],3,TRUE)","v":"支出"},"----------","てき",0]
[1995,"2018-03-18",{"$f":"VLOOKUP(入出金tbl[[#This Row],[内　容]],科目tbl[[内　容]:[番号]],2,TRUE)","v":"経常外収支"},{"$f":"VLOOKUP(入出金tbl[[#This Row],[内　容]],科目tbl[[内　容]:[番号]],3,TRUE)","v":"収入"},"固定資産等売却手取","てき",150]
[1996,"2018-03-18",{"$f":"VLOOKUP(入出金tbl[[#This Row],[内　容]],科目tbl[[内　容]:[番号]],2,TRUE)","v":"経常外収支"},{"$f":"VLOOKUP(入出金tbl[[#This Row],[内　容]],科目tbl[[内　容]:[番号]],3,TRUE)","v":"収入"},"定期預金等解約","てき",160]
[1997,"2018-03-18",{"$f":"VLOOKUP(入出金tbl[[#This Row],[内　容]],科目tbl[[内　容]:[番号]],2,TRUE)","v":"経常外収支"},{"$f":"VLOOKUP(入出金tbl[[#This Row],[内　容]],科目tbl[[内　容]:[番号]],3,TRUE)","v":"収入"},"その他臨時収入","てき",170]
[1998,"2018-03-18",{"$f":"VLOOKUP(入出金tbl[[#This Row],[内　容]],科目tbl[[内　容]:[番号]],2,TRUE)","v":"財務収支"},{"$f":"VLOOKUP(入出金tbl[[#This Row],[内　容]],科目tbl[[内　容]:[番号]],3,TRUE)","v":"支出"},"----------","てき",0]
[1999,"2018-03-18",{"$f":"VLOOKUP(入出金tbl[[#This Row],[内　容]],科目tbl[[内　容]:[番号]],2,TRUE)","v":"経常外収支"},{"$f":"VLOOKUP(入出金tbl[[#This Row],[内　容]],科目tbl[[内　容]:[番号]],3,TRUE)","v":"支出"},"税金","てき",190]
[2000,"2018-03-18",{"$f":"VLOOKUP(入出金tbl[[#This Row],[内　容]],科目tbl[[内　容]:[番号]],2,TRUE)","v":"経常外収支"},{"$f":"VLOOKUP(入出金tbl[[#This Row],[内　容]],科目tbl[[内　容]:[番号]],3,TRUE)","v":"支出"},"役員賞与","てき",200]
[2001,"2018-03-18",{"$f":"VLOOKUP(入出金tbl[[#This Row],[内　容]],科目tbl[[内　容]:[番号]],2,TRUE)","v":"経常外収支"},{"$f":"VLOOKUP(入出金tbl[[#This Row],[内　容]],科目tbl[[内　容]:[番号]],3,TRUE)","v":"支出"},"配当","てき",210]
[2002,"2018-03-18",{"$f":"VLOOKUP(入出金tbl[[#This Row],[内　容]],科目tbl[[内　容]:[番号]],2,TRUE)","v":"経常外収支"},{"$f":"VLOOKUP(入出金tbl[[#This Row],[内　容]],科目tbl[[内　容]:[番号]],3,TRUE)","v":"支出"},"固定資産購入支出","てき",220]
[2003,"2018-03-18",{"$f":"VLOOKUP(入出金tbl[[#This Row],[内　容]],科目tbl[[内　容]:[番号]],2,TRUE)","v":"経常外収支"},{"$f":"VLOOKUP(入出金tbl[[#This Row],[内　容]],科目tbl[[内　容]:[番号]],3,TRUE)","v":"支出"},"定期預金等設定","てき",230]
[2004,"2018-03-18",{"$f":"VLOOKUP(入出金tbl[[#This Row],[内　容]],科目tbl[[内　容]:[番号]],2,TRUE)","v":"経常外収支"},{"$f":"VLOOKUP(入出金tbl[[#This Row],[内　容]],科目tbl[[内　容]:[番号]],3,TRUE)","v":"支出"},"その他臨時支出","てき",240]
[2005,"2018-03-18",{"$f":"VLOOKUP(入出金tbl[[#This Row],[内　容]],科目tbl[[内　容]:[番号]],2,TRUE)","v":"経常外収支"},{"$f":"VLOOKUP(入出金tbl[[#This Row],[内　容]],科目tbl[[内　容]:[番号]],3,TRUE)","v":"支出"},"テスト4","てき",250]
[2006,"2018-03-18",{"$f":"VLOOKUP(入出金tbl[[#This Row],[内　容]],科目tbl[[内　容]:[番号]],2,TRUE)","v":"財務収支"},{"$f":"VLOOKUP(入出金tbl[[#This Row],[内　容]],科目tbl[[内　容]:[番号]],3,TRUE)","v":"収入"},"短期借入金調達","てき",260]
[2007,"2018-03-18",{"$f":"VLOOKUP(入出金tbl[[#This Row],[内　容]],科目tbl[[内　容]:[番号]],2,TRUE)","v":"財務収支"},{"$f":"VLOOKUP(入出金tbl[[#This Row],[内　容]],科目tbl[[内　容]:[番号]],3,TRUE)","v":"収入"},"長期借入金調達","てき",270]
[2008,"2018-03-18",{"$f":"VLOOKUP(入出金tbl[[#This Row],[内　容]],科目tbl[[内　容]:[番号]],2,TRUE)","v":"財務収支"},{"$f":"VLOOKUP(入出金tbl[[#This Row],[内　容]],科目tbl[[内　容]:[番号]],3,TRUE)","v":"収入"},"社長借入金調達","てき",280]
[2009,"2018-03-18",{"$f":"VLOOKUP(入出金tbl[[#This Row],[内　容]],科目tbl[[内　容]:[番号]],2,TRUE)","v":"財務収支"},{"$f":"VLOOKUP(入出金tbl[[#This Row],[内　容]],科目tbl[[内　容]:[番号]],3,TRUE)","v":"収入"},"その他調達","てき",290]
[2010,"2018-03-18",{"$f":"VLOOKUP(入出金tbl[[#This Row],[内　容]],科目tbl[[内　容]:[番号]],2,TRUE)","v":"財務収支"},{"$f":"VLOOKUP(入出金tbl[[#This Row],[内　容]],科目tbl[[内　容]:[番号]],3,TRUE)","v":"支出"},"----------","てき",0]
[2011,"2018-03-18",{"$f":"VLOOKUP(入出金tbl[[#This Row],[内　容]],科目tbl[[内　容]:[番号]],2,TRUE)","v":"財務収支"},{"$f":"VLOOKUP(入出金tbl[[#This Row],[内　容]],科目tbl[[内　容]:[番号]],3,TRUE)","v":"支出"},"短期借入金返済","てき",310]
[2012,"2018-03-18",{"$f":"VLOOKUP(入出金tbl[[#This Row],[内　容]],科目tbl[[内　容]:[番号]],2,TRUE)","v":"財務収支"},{"$f":"VLOOKUP(入出金tbl[[#This Row],[内　容]],科目tbl[[内　容]:[番号]],3,TRUE)","v":"支出"},"長期借入金返済","てき",320]
[2013,"2018-03-18",{"$f":"VLOOKUP(入出金tbl[[#This Row],[内　容]],科目tbl[[内　容]:[番号]],2,TRUE)","v":"財務収支"},{"$f":"VLOOKUP(入出金tbl[[#This Row],[内　容]],科目tbl[[内　容]:[番号]],3,TRUE)","v":"支出"},"社長借入金返済","てき",330]
[2014,"2018-03-18",{"$f":"VLOOKUP(入出金tbl[[#This Row],[内　容]],科目tbl[[内　容]:[番号]],2,TRUE)","v":"財務収支"},{"$f":"VLOOKUP(入出金tbl[[#This Row],[内　容]],科目tbl[[内　容]:[番号]],3,TRUE)","v":"支出"},"その他返済","てき",340]
[2015,"2018-03-18",{"$f":"VLOOKUP(入出金tbl[[#This Row],[内　容]],科目tbl[[内　容]:[番号]],2,TRUE)","v":"財務収支"},{"$f":"VLOOKUP(入出金tbl[[#This Row],[内　容]],科目tbl[[内　容]:[番号]],3,TRUE)","v":"支出"},"----------","てき",0]
[2016,"2018-03-19",{"$f":"VLOOKUP(入出金tbl[[#This Row],[内　容]],科目tbl[[内　容]:[番号]],2,TRUE)","v":"経常収支"},{"$f":"VLOOKUP(入出金tbl[[#This Row],[内　容]],科目tbl[[内　容]:[番号]],3,TRUE)","v":"収入"},"現金売上","摘要",10]
[2017,"2018-03-19",{"$f":"VLOOKUP(入出金tbl[[#This Row],[内　容]],科目tbl[[内　容]:[番号]],2,TRUE)","v":"経常収支"},{"$f":"VLOOKUP(入出金tbl[[#This Row],[内　容]],科目tbl[[内　容]:[番号]],3,TRUE)","v":"収入"},"売掛金回収","摘要",20]
[2018,"2018-03-19",{"$f":"VLOOKUP(入出金tbl[[#This Row],[内　容]],科目tbl[[内　容]:[番号]],2,TRUE)","v":"経常収支"},{"$f":"VLOOKUP(入出金tbl[[#This Row],[内　容]],科目tbl[[内　容]:[番号]],3,TRUE)","v":"収入"},"受取手形回収","てき",30]
[2019,"2018-03-19",{"$f":"VLOOKUP(入出金tbl[[#This Row],[内　容]],科目tbl[[内　容]:[番号]],2,TRUE)","v":"経常収支"},{"$f":"VLOOKUP(入出金tbl[[#This Row],[内　容]],科目tbl[[内　容]:[番号]],3,TRUE)","v":"収入"},"手形割引","てき",40]
[2020,"2018-03-19",{"$f":"VLOOKUP(入出金tbl[[#This Row],[内　容]],科目tbl[[内　容]:[番号]],2,TRUE)","v":"経常収支"},{"$f":"VLOOKUP(入出金tbl[[#This Row],[内　容]],科目tbl[[内　容]:[番号]],3,TRUE)","v":"収入"},"その他収入","てき",50]
[2021,"2018-03-19",{"$f":"VLOOKUP(入出金tbl[[#This Row],[内　容]],科目tbl[[内　容]:[番号]],2,TRUE)","v":"財務収支"},{"$f":"VLOOKUP(入出金tbl[[#This Row],[内　容]],科目tbl[[内　容]:[番号]],3,TRUE)","v":"支出"},"----------","てき",0]
[2022,"2018-03-19",{"$f":"VLOOKUP(入出金tbl[[#This Row],[内　容]],科目tbl[[内　容]:[番号]],2,TRUE)","v":"経常収支"},{"$f":"VLOOKUP(入出金tbl[[#This Row],[内　容]],科目tbl[[内　容]:[番号]],3,TRUE)","v":"支出"},"現金仕入","てき",70]
[2023,"2018-03-19",{"$f":"VLOOKUP(入出金tbl[[#This Row],[内　容]],科目tbl[[内　容]:[番号]],2,TRUE)","v":"経常収支"},{"$f":"VLOOKUP(入出金tbl[[#This Row],[内　容]],科目tbl[[内　容]:[番号]],3,TRUE)","v":"支出"},"買掛金支払","てき",80]
[2024,"2018-03-19",{"$f":"VLOOKUP(入出金tbl[[#This Row],[内　容]],科目tbl[[内　容]:[番号]],2,TRUE)","v":"経常収支"},{"$f":"VLOOKUP(入出金tbl[[#This Row],[内　容]],科目tbl[[内　容]:[番号]],3,TRUE)","v":"支出"},"手形支払","てき",90]
[2025,"2018-03-19",{"$f":"VLOOKUP(入出金tbl[[#This Row],[内　容]],科目tbl[[内　容]:[番号]],2,TRUE)","v":"経常収支"},{"$f":"VLOOKUP(入出金tbl[[#This Row],[内　容]],科目tbl[[内　容]:[番号]],3,TRUE)","v":"支出"},"賃金・給与現金支払","てき",100]
[2026,"2018-03-19",{"$f":"VLOOKUP(入出金tbl[[#This Row],[内　容]],科目tbl[[内　容]:[番号]],2,TRUE)","v":"経常収支"},{"$f":"VLOOKUP(入出金tbl[[#This Row],[内　容]],科目tbl[[内　容]:[番号]],3,TRUE)","v":"支出"},"賞与支払い","てき",110]
[2027,"2018-03-19",{"$f":"VLOOKUP(入出金tbl[[#This Row],[内　容]],科目tbl[[内　容]:[番号]],2,TRUE)","v":"経常収支"},{"$f":"VLOOKUP(入出金tbl[[#This Row],[内　容]],科目tbl[[内　容]:[番号]],3,TRUE)","v":"支出"},"支払利息・割引料","てき",120]
[2028,"2018-03-19",{"$f":"VLOOKUP(入出金tbl[[#This Row],[内　容]],科目tbl[[内　容]:[番号]],2,TRUE)","v":"経常収支"},{"$f":"VLOOKUP(入出金tbl[[#This Row],[内　容]],科目tbl[[内　容]:[番号]],3,TRUE)","v":"支出"},"諸経費現金支払","てき",130]
[2029,"2018-03-19",{"$f":"VLOOKUP(入出金tbl[[#This Row],[内　容]],科目tbl[[内　容]:[番号]],2,TRUE)","v":"財務収支"},{"$f":"VLOOKUP(入出金tbl[[#This Row],[内　容]],科目tbl[[内　容]:[番号]],3,TRUE)","v":"支出"},"----------","てき",0]
[2030,"2018-03-19",{"$f":"VLOOKUP(入出金tbl[[#This Row],[内　容]],科目tbl[[内　容]:[番号]],2,TRUE)","v":"経常外収支"},{"$f":"VLOOKUP(入出金tbl[[#This Row],[内　容]],科目tbl[[内　容]:[番号]],3,TRUE)","v":"収入"},"固定資産等売却手取","てき",150]
[2031,"2018-03-19",{"$f":"VLOOKUP(入出金tbl[[#This Row],[内　容]],科目tbl[[内　容]:[番号]],2,TRUE)","v":"経常外収支"},{"$f":"VLOOKUP(入出金tbl[[#This Row],[内　容]],科目tbl[[内　容]:[番号]],3,TRUE)","v":"収入"},"定期預金等解約","てき",160]
[2032,"2018-03-19",{"$f":"VLOOKUP(入出金tbl[[#This Row],[内　容]],科目tbl[[内　容]:[番号]],2,TRUE)","v":"経常外収支"},{"$f":"VLOOKUP(入出金tbl[[#This Row],[内　容]],科目tbl[[内　容]:[番号]],3,TRUE)","v":"収入"},"その他臨時収入","てき",170]
[2033,"2018-03-19",{"$f":"VLOOKUP(入出金tbl[[#This Row],[内　容]],科目tbl[[内　容]:[番号]],2,TRUE)","v":"財務収支"},{"$f":"VLOOKUP(入出金tbl[[#This Row],[内　容]],科目tbl[[内　容]:[番号]],3,TRUE)","v":"支出"},"----------","てき",0]
[2034,"2018-03-19",{"$f":"VLOOKUP(入出金tbl[[#This Row],[内　容]],科目tbl[[内　容]:[番号]],2,TRUE)","v":"経常外収支"},{"$f":"VLOOKUP(入出金tbl[[#This Row],[内　容]],科目tbl[[内　容]:[番号]],3,TRUE)","v":"支出"},"税金","てき",190]
[2035,"2018-03-19",{"$f":"VLOOKUP(入出金tbl[[#This Row],[内　容]],科目tbl[[内　容]:[番号]],2,TRUE)","v":"経常外収支"},{"$f":"VLOOKUP(入出金tbl[[#This Row],[内　容]],科目tbl[[内　容]:[番号]],3,TRUE)","v":"支出"},"役員賞与","てき",200]
[2036,"2018-03-19",{"$f":"VLOOKUP(入出金tbl[[#This Row],[内　容]],科目tbl[[内　容]:[番号]],2,TRUE)","v":"経常外収支"},{"$f":"VLOOKUP(入出金tbl[[#This Row],[内　容]],科目tbl[[内　容]:[番号]],3,TRUE)","v":"支出"},"配当","てき",210]
[2037,"2018-03-19",{"$f":"VLOOKUP(入出金tbl[[#This Row],[内　容]],科目tbl[[内　容]:[番号]],2,TRUE)","v":"経常外収支"},{"$f":"VLOOKUP(入出金tbl[[#This Row],[内　容]],科目tbl[[内　容]:[番号]],3,TRUE)","v":"支出"},"固定資産購入支出","てき",220]
[2038,"2018-03-19",{"$f":"VLOOKUP(入出金tbl[[#This Row],[内　容]],科目tbl[[内　容]:[番号]],2,TRUE)","v":"経常外収支"},{"$f":"VLOOKUP(入出金tbl[[#This Row],[内　容]],科目tbl[[内　容]:[番号]],3,TRUE)","v":"支出"},"定期預金等設定","てき",230]
[2039,"2018-03-19",{"$f":"VLOOKUP(入出金tbl[[#This Row],[内　容]],科目tbl[[内　容]:[番号]],2,TRUE)","v":"経常外収支"},{"$f":"VLOOKUP(入出金tbl[[#This Row],[内　容]],科目tbl[[内　容]:[番号]],3,TRUE)","v":"支出"},"その他臨時支出","てき",240]
[2040,"2018-03-19",{"$f":"VLOOKUP(入出金tbl[[#This Row],[内　容]],科目tbl[[内　容]:[番号]],2,TRUE)","v":"経常外収支"},{"$f":"VLOOKUP(入出金tbl[[#This Row],[内　容]],科目tbl[[内　容]:[番号]],3,TRUE)","v":"支出"},"テスト4","てき",250]
[2041,"2018-03-19",{"$f":"VLOOKUP(入出金tbl[[#This Row],[内　容]],科目tbl[[内　容]:[番号]],2,TRUE)","v":"財務収支"},{"$f":"VLOOKUP(入出金tbl[[#This Row],[内　容]],科目tbl[[内　容]:[番号]],3,TRUE)","v":"収入"},"短期借入金調達","てき",260]
[2042,"2018-03-19",{"$f":"VLOOKUP(入出金tbl[[#This Row],[内　容]],科目tbl[[内　容]:[番号]],2,TRUE)","v":"財務収支"},{"$f":"VLOOKUP(入出金tbl[[#This Row],[内　容]],科目tbl[[内　容]:[番号]],3,TRUE)","v":"収入"},"長期借入金調達","てき",270]
[2043,"2018-03-19",{"$f":"VLOOKUP(入出金tbl[[#This Row],[内　容]],科目tbl[[内　容]:[番号]],2,TRUE)","v":"財務収支"},{"$f":"VLOOKUP(入出金tbl[[#This Row],[内　容]],科目tbl[[内　容]:[番号]],3,TRUE)","v":"収入"},"社長借入金調達","てき",280]
[2044,"2018-03-19",{"$f":"VLOOKUP(入出金tbl[[#This Row],[内　容]],科目tbl[[内　容]:[番号]],2,TRUE)","v":"財務収支"},{"$f":"VLOOKUP(入出金tbl[[#This Row],[内　容]],科目tbl[[内　容]:[番号]],3,TRUE)","v":"収入"},"その他調達","てき",290]
[2045,"2018-03-19",{"$f":"VLOOKUP(入出金tbl[[#This Row],[内　容]],科目tbl[[内　容]:[番号]],2,TRUE)","v":"財務収支"},{"$f":"VLOOKUP(入出金tbl[[#This Row],[内　容]],科目tbl[[内　容]:[番号]],3,TRUE)","v":"支出"},"----------","てき",0]
[2046,"2018-03-19",{"$f":"VLOOKUP(入出金tbl[[#This Row],[内　容]],科目tbl[[内　容]:[番号]],2,TRUE)","v":"財務収支"},{"$f":"VLOOKUP(入出金tbl[[#This Row],[内　容]],科目tbl[[内　容]:[番号]],3,TRUE)","v":"支出"},"短期借入金返済","てき",310]
[2047,"2018-03-19",{"$f":"VLOOKUP(入出金tbl[[#This Row],[内　容]],科目tbl[[内　容]:[番号]],2,TRUE)","v":"財務収支"},{"$f":"VLOOKUP(入出金tbl[[#This Row],[内　容]],科目tbl[[内　容]:[番号]],3,TRUE)","v":"支出"},"長期借入金返済","てき",320]
[2048,"2018-03-19",{"$f":"VLOOKUP(入出金tbl[[#This Row],[内　容]],科目tbl[[内　容]:[番号]],2,TRUE)","v":"財務収支"},{"$f":"VLOOKUP(入出金tbl[[#This Row],[内　容]],科目tbl[[内　容]:[番号]],3,TRUE)","v":"支出"},"社長借入金返済","てき",330]
[2049,"2018-03-19",{"$f":"VLOOKUP(入出金tbl[[#This Row],[内　容]],科目tbl[[内　容]:[番号]],2,TRUE)","v":"財務収支"},{"$f":"VLOOKUP(入出金tbl[[#This Row],[内　容]],科目tbl[[内　容]:[番号]],3,TRUE)","v":"支出"},"その他返済","てき",340]
[2050,"2018-03-19",{"$f":"VLOOKUP(入出金tbl[[#This Row],[内　容]],科目tbl[[内　容]:[番号]],2,TRUE)","v":"財務収支"},{"$f":"VLOOKUP(入出金tbl[[#This Row],[内　容]],科目tbl[[内　容]:[番号]],3,TRUE)","v":"支出"},"----------","てき",0]
[2051,"2018-03-20",{"$f":"VLOOKUP(入出金tbl[[#This Row],[内　容]],科目tbl[[内　容]:[番号]],2,TRUE)","v":"経常収支"},{"$f":"VLOOKUP(入出金tbl[[#This Row],[内　容]],科目tbl[[内　容]:[番号]],3,TRUE)","v":"収入"},"現金売上","摘要",10]
[2052,"2018-03-20",{"$f":"VLOOKUP(入出金tbl[[#This Row],[内　容]],科目tbl[[内　容]:[番号]],2,TRUE)","v":"経常収支"},{"$f":"VLOOKUP(入出金tbl[[#This Row],[内　容]],科目tbl[[内　容]:[番号]],3,TRUE)","v":"収入"},"売掛金回収","摘要",20]
[2053,"2018-03-20",{"$f":"VLOOKUP(入出金tbl[[#This Row],[内　容]],科目tbl[[内　容]:[番号]],2,TRUE)","v":"経常収支"},{"$f":"VLOOKUP(入出金tbl[[#This Row],[内　容]],科目tbl[[内　容]:[番号]],3,TRUE)","v":"収入"},"受取手形回収","てき",30]
[2054,"2018-03-20",{"$f":"VLOOKUP(入出金tbl[[#This Row],[内　容]],科目tbl[[内　容]:[番号]],2,TRUE)","v":"経常収支"},{"$f":"VLOOKUP(入出金tbl[[#This Row],[内　容]],科目tbl[[内　容]:[番号]],3,TRUE)","v":"収入"},"手形割引","てき",40]
[2055,"2018-03-20",{"$f":"VLOOKUP(入出金tbl[[#This Row],[内　容]],科目tbl[[内　容]:[番号]],2,TRUE)","v":"経常収支"},{"$f":"VLOOKUP(入出金tbl[[#This Row],[内　容]],科目tbl[[内　容]:[番号]],3,TRUE)","v":"収入"},"その他収入","てき",50]
[2056,"2018-03-20",{"$f":"VLOOKUP(入出金tbl[[#This Row],[内　容]],科目tbl[[内　容]:[番号]],2,TRUE)","v":"財務収支"},{"$f":"VLOOKUP(入出金tbl[[#This Row],[内　容]],科目tbl[[内　容]:[番号]],3,TRUE)","v":"支出"},"----------","てき",0]
[2057,"2018-03-20",{"$f":"VLOOKUP(入出金tbl[[#This Row],[内　容]],科目tbl[[内　容]:[番号]],2,TRUE)","v":"経常収支"},{"$f":"VLOOKUP(入出金tbl[[#This Row],[内　容]],科目tbl[[内　容]:[番号]],3,TRUE)","v":"支出"},"現金仕入","てき",70]
[2058,"2018-03-20",{"$f":"VLOOKUP(入出金tbl[[#This Row],[内　容]],科目tbl[[内　容]:[番号]],2,TRUE)","v":"経常収支"},{"$f":"VLOOKUP(入出金tbl[[#This Row],[内　容]],科目tbl[[内　容]:[番号]],3,TRUE)","v":"支出"},"買掛金支払","てき",80]
[2059,"2018-03-20",{"$f":"VLOOKUP(入出金tbl[[#This Row],[内　容]],科目tbl[[内　容]:[番号]],2,TRUE)","v":"経常収支"},{"$f":"VLOOKUP(入出金tbl[[#This Row],[内　容]],科目tbl[[内　容]:[番号]],3,TRUE)","v":"支出"},"手形支払","てき",90]
[2060,"2018-03-20",{"$f":"VLOOKUP(入出金tbl[[#This Row],[内　容]],科目tbl[[内　容]:[番号]],2,TRUE)","v":"経常収支"},{"$f":"VLOOKUP(入出金tbl[[#This Row],[内　容]],科目tbl[[内　容]:[番号]],3,TRUE)","v":"支出"},"賃金・給与現金支払","てき",100]
[2061,"2018-03-20",{"$f":"VLOOKUP(入出金tbl[[#This Row],[内　容]],科目tbl[[内　容]:[番号]],2,TRUE)","v":"経常収支"},{"$f":"VLOOKUP(入出金tbl[[#This Row],[内　容]],科目tbl[[内　容]:[番号]],3,TRUE)","v":"支出"},"賞与支払い","てき",110]
[2062,"2018-03-20",{"$f":"VLOOKUP(入出金tbl[[#This Row],[内　容]],科目tbl[[内　容]:[番号]],2,TRUE)","v":"経常収支"},{"$f":"VLOOKUP(入出金tbl[[#This Row],[内　容]],科目tbl[[内　容]:[番号]],3,TRUE)","v":"支出"},"支払利息・割引料","てき",120]
[2063,"2018-03-20",{"$f":"VLOOKUP(入出金tbl[[#This Row],[内　容]],科目tbl[[内　容]:[番号]],2,TRUE)","v":"経常収支"},{"$f":"VLOOKUP(入出金tbl[[#This Row],[内　容]],科目tbl[[内　容]:[番号]],3,TRUE)","v":"支出"},"諸経費現金支払","てき",130]
[2064,"2018-03-20",{"$f":"VLOOKUP(入出金tbl[[#This Row],[内　容]],科目tbl[[内　容]:[番号]],2,TRUE)","v":"財務収支"},{"$f":"VLOOKUP(入出金tbl[[#This Row],[内　容]],科目tbl[[内　容]:[番号]],3,TRUE)","v":"支出"},"----------","てき",0]
[2065,"2018-03-20",{"$f":"VLOOKUP(入出金tbl[[#This Row],[内　容]],科目tbl[[内　容]:[番号]],2,TRUE)","v":"経常外収支"},{"$f":"VLOOKUP(入出金tbl[[#This Row],[内　容]],科目tbl[[内　容]:[番号]],3,TRUE)","v":"収入"},"固定資産等売却手取","てき",150]
[2066,"2018-03-20",{"$f":"VLOOKUP(入出金tbl[[#This Row],[内　容]],科目tbl[[内　容]:[番号]],2,TRUE)","v":"経常外収支"},{"$f":"VLOOKUP(入出金tbl[[#This Row],[内　容]],科目tbl[[内　容]:[番号]],3,TRUE)","v":"収入"},"定期預金等解約","てき",160]
[2067,"2018-03-20",{"$f":"VLOOKUP(入出金tbl[[#This Row],[内　容]],科目tbl[[内　容]:[番号]],2,TRUE)","v":"経常外収支"},{"$f":"VLOOKUP(入出金tbl[[#This Row],[内　容]],科目tbl[[内　容]:[番号]],3,TRUE)","v":"収入"},"その他臨時収入","てき",170]
[2068,"2018-03-20",{"$f":"VLOOKUP(入出金tbl[[#This Row],[内　容]],科目tbl[[内　容]:[番号]],2,TRUE)","v":"財務収支"},{"$f":"VLOOKUP(入出金tbl[[#This Row],[内　容]],科目tbl[[内　容]:[番号]],3,TRUE)","v":"支出"},"----------","てき",0]
[2069,"2018-03-20",{"$f":"VLOOKUP(入出金tbl[[#This Row],[内　容]],科目tbl[[内　容]:[番号]],2,TRUE)","v":"経常外収支"},{"$f":"VLOOKUP(入出金tbl[[#This Row],[内　容]],科目tbl[[内　容]:[番号]],3,TRUE)","v":"支出"},"税金","てき",190]
[2070,"2018-03-20",{"$f":"VLOOKUP(入出金tbl[[#This Row],[内　容]],科目tbl[[内　容]:[番号]],2,TRUE)","v":"経常外収支"},{"$f":"VLOOKUP(入出金tbl[[#This Row],[内　容]],科目tbl[[内　容]:[番号]],3,TRUE)","v":"支出"},"役員賞与","てき",200]
[2071,"2018-03-20",{"$f":"VLOOKUP(入出金tbl[[#This Row],[内　容]],科目tbl[[内　容]:[番号]],2,TRUE)","v":"経常外収支"},{"$f":"VLOOKUP(入出金tbl[[#This Row],[内　容]],科目tbl[[内　容]:[番号]],3,TRUE)","v":"支出"},"配当","てき",210]
[2072,"2018-03-20",{"$f":"VLOOKUP(入出金tbl[[#This Row],[内　容]],科目tbl[[内　容]:[番号]],2,TRUE)","v":"経常外収支"},{"$f":"VLOOKUP(入出金tbl[[#This Row],[内　容]],科目tbl[[内　容]:[番号]],3,TRUE)","v":"支出"},"固定資産購入支出","てき",220]
[2073,"2018-03-20",{"$f":"VLOOKUP(入出金tbl[[#This Row],[内　容]],科目tbl[[内　容]:[番号]],2,TRUE)","v":"経常外収支"},{"$f":"VLOOKUP(入出金tbl[[#This Row],[内　容]],科目tbl[[内　容]:[番号]],3,TRUE)","v":"支出"},"定期預金等設定","てき",230]
[2074,"2018-03-20",{"$f":"VLOOKUP(入出金tbl[[#This Row],[内　容]],科目tbl[[内　容]:[番号]],2,TRUE)","v":"経常外収支"},{"$f":"VLOOKUP(入出金tbl[[#This Row],[内　容]],科目tbl[[内　容]:[番号]],3,TRUE)","v":"支出"},"その他臨時支出","てき",240]
[2075,"2018-03-20",{"$f":"VLOOKUP(入出金tbl[[#This Row],[内　容]],科目tbl[[内　容]:[番号]],2,TRUE)","v":"経常外収支"},{"$f":"VLOOKUP(入出金tbl[[#This Row],[内　容]],科目tbl[[内　容]:[番号]],3,TRUE)","v":"支出"},"テスト4","てき",250]
[2076,"2018-03-20",{"$f":"VLOOKUP(入出金tbl[[#This Row],[内　容]],科目tbl[[内　容]:[番号]],2,TRUE)","v":"財務収支"},{"$f":"VLOOKUP(入出金tbl[[#This Row],[内　容]],科目tbl[[内　容]:[番号]],3,TRUE)","v":"収入"},"短期借入金調達","てき",260]
[2077,"2018-03-20",{"$f":"VLOOKUP(入出金tbl[[#This Row],[内　容]],科目tbl[[内　容]:[番号]],2,TRUE)","v":"財務収支"},{"$f":"VLOOKUP(入出金tbl[[#This Row],[内　容]],科目tbl[[内　容]:[番号]],3,TRUE)","v":"収入"},"長期借入金調達","てき",270]
[2078,"2018-03-20",{"$f":"VLOOKUP(入出金tbl[[#This Row],[内　容]],科目tbl[[内　容]:[番号]],2,TRUE)","v":"財務収支"},{"$f":"VLOOKUP(入出金tbl[[#This Row],[内　容]],科目tbl[[内　容]:[番号]],3,TRUE)","v":"収入"},"社長借入金調達","てき",280]
[2079,"2018-03-20",{"$f":"VLOOKUP(入出金tbl[[#This Row],[内　容]],科目tbl[[内　容]:[番号]],2,TRUE)","v":"財務収支"},{"$f":"VLOOKUP(入出金tbl[[#This Row],[内　容]],科目tbl[[内　容]:[番号]],3,TRUE)","v":"収入"},"その他調達","てき",290]
[2080,"2018-03-20",{"$f":"VLOOKUP(入出金tbl[[#This Row],[内　容]],科目tbl[[内　容]:[番号]],2,TRUE)","v":"財務収支"},{"$f":"VLOOKUP(入出金tbl[[#This Row],[内　容]],科目tbl[[内　容]:[番号]],3,TRUE)","v":"支出"},"----------","てき",0]
[2081,"2018-03-20",{"$f":"VLOOKUP(入出金tbl[[#This Row],[内　容]],科目tbl[[内　容]:[番号]],2,TRUE)","v":"財務収支"},{"$f":"VLOOKUP(入出金tbl[[#This Row],[内　容]],科目tbl[[内　容]:[番号]],3,TRUE)","v":"支出"},"短期借入金返済","てき",310]
[2082,"2018-03-20",{"$f":"VLOOKUP(入出金tbl[[#This Row],[内　容]],科目tbl[[内　容]:[番号]],2,TRUE)","v":"財務収支"},{"$f":"VLOOKUP(入出金tbl[[#This Row],[内　容]],科目tbl[[内　容]:[番号]],3,TRUE)","v":"支出"},"長期借入金返済","てき",320]
[2083,"2018-03-20",{"$f":"VLOOKUP(入出金tbl[[#This Row],[内　容]],科目tbl[[内　容]:[番号]],2,TRUE)","v":"財務収支"},{"$f":"VLOOKUP(入出金tbl[[#This Row],[内　容]],科目tbl[[内　容]:[番号]],3,TRUE)","v":"支出"},"社長借入金返済","てき",330]
[2084,"2018-03-20",{"$f":"VLOOKUP(入出金tbl[[#This Row],[内　容]],科目tbl[[内　容]:[番号]],2,TRUE)","v":"財務収支"},{"$f":"VLOOKUP(入出金tbl[[#This Row],[内　容]],科目tbl[[内　容]:[番号]],3,TRUE)","v":"支出"},"その他返済","てき",340]
[2085,"2018-03-20",{"$f":"VLOOKUP(入出金tbl[[#This Row],[内　容]],科目tbl[[内　容]:[番号]],2,TRUE)","v":"財務収支"},{"$f":"VLOOKUP(入出金tbl[[#This Row],[内　容]],科目tbl[[内　容]:[番号]],3,TRUE)","v":"支出"},"----------","てき",0]
[2086,"2018-01-01",{"$f":"VLOOKUP(入出金tbl[[#This Row],[内　容]],科目tbl[[内　容]:[番号]],2,TRUE)","v":"経常収支"},{"$f":"VLOOKUP(入出金tbl[[#This Row],[内　容]],科目tbl[[内　容]:[番号]],3,TRUE)","v":"収入"},"現金売上","てき",1000]
[2087,"2018-04-03",{"$f":"VLOOKUP(入出金tbl[[#This Row],[内　容]],科目tbl[[内　容]:[番号]],2,TRUE)","v":"経常収支"},{"$f":"VLOOKUP(入出金tbl[[#This Row],[内　容]],科目tbl[[内　容]:[番号]],3,TRUE)","v":"収入"},"現金売上","てき",0]
[2088,"2018-04-01",{"$f":"VLOOKUP(入出金tbl[[#This Row],[内　容]],科目tbl[[内　容]:[番号]],2,TRUE)","v":"-"},{"$f":"VLOOKUP(入出金tbl[[#This Row],[内　容]],科目tbl[[内　容]:[番号]],3,TRUE)","v":"-"},"繰越調整","てき",10]
[2089,"2018-04-02",{"$f":"VLOOKUP(入出金tbl[[#This Row],[内　容]],科目tbl[[内　容]:[番号]],2,TRUE)","v":"-"},{"$f":"VLOOKUP(入出金tbl[[#This Row],[内　容]],科目tbl[[内　容]:[番号]],3,TRUE)","v":"-"},"繰越調整","てき",20]
[2090,"2018-04-03",{"$f":"VLOOKUP(入出金tbl[[#This Row],[内　容]],科目tbl[[内　容]:[番号]],2,TRUE)","v":"-"},{"$f":"VLOOKUP(入出金tbl[[#This Row],[内　容]],科目tbl[[内　容]:[番号]],3,TRUE)","v":"-"},"繰越調整","てき",30]
[2091,"2018-04-04",{"$f":"VLOOKUP(入出金tbl[[#This Row],[内　容]],科目tbl[[内　容]:[番号]],2,TRUE)","v":"-"},{"$f":"VLOOKUP(入出金tbl[[#This Row],[内　容]],科目tbl[[内　容]:[番号]],3,TRUE)","v":"-"},"繰越調整","てき",40]
[2092,"2018-04-05",{"$f":"VLOOKUP(入出金tbl[[#This Row],[内　容]],科目tbl[[内　容]:[番号]],2,TRUE)","v":"-"},{"$f":"VLOOKUP(入出金tbl[[#This Row],[内　容]],科目tbl[[内　容]:[番号]],3,TRUE)","v":"-"},"繰越調整","てき",50]
[2093,"2018-04-06",{"$f":"VLOOKUP(入出金tbl[[#This Row],[内　容]],科目tbl[[内　容]:[番号]],2,TRUE)","v":"-"},{"$f":"VLOOKUP(入出金tbl[[#This Row],[内　容]],科目tbl[[内　容]:[番号]],3,TRUE)","v":"-"},"繰越調整","てき",60]
[2094,"2018-04-07",{"$f":"VLOOKUP(入出金tbl[[#This Row],[内　容]],科目tbl[[内　容]:[番号]],2,TRUE)","v":"-"},{"$f":"VLOOKUP(入出金tbl[[#This Row],[内　容]],科目tbl[[内　容]:[番号]],3,TRUE)","v":"-"},"繰越調整","てき",70]
[2095,"2018-04-08",{"$f":"VLOOKUP(入出金tbl[[#This Row],[内　容]],科目tbl[[内　容]:[番号]],2,TRUE)","v":"-"},{"$f":"VLOOKUP(入出金tbl[[#This Row],[内　容]],科目tbl[[内　容]:[番号]],3,TRUE)","v":"-"},"繰越調整","てき",80]
[2096,"2018-04-09",{"$f":"VLOOKUP(入出金tbl[[#This Row],[内　容]],科目tbl[[内　容]:[番号]],2,TRUE)","v":"-"},{"$f":"VLOOKUP(入出金tbl[[#This Row],[内　容]],科目tbl[[内　容]:[番号]],3,TRUE)","v":"-"},"繰越調整","てき",90]
[2097,"2018-04-10",{"$f":"VLOOKUP(入出金tbl[[#This Row],[内　容]],科目tbl[[内　容]:[番号]],2,TRUE)","v":"-"},{"$f":"VLOOKUP(入出金tbl[[#This Row],[内　容]],科目tbl[[内　容]:[番号]],3,TRUE)","v":"-"},"繰越調整","てき",100]
[2098,"2018-04-11",{"$f":"VLOOKUP(入出金tbl[[#This Row],[内　容]],科目tbl[[内　容]:[番号]],2,TRUE)","v":"-"},{"$f":"VLOOKUP(入出金tbl[[#This Row],[内　容]],科目tbl[[内　容]:[番号]],3,TRUE)","v":"-"},"繰越調整","てき",110]
[2099,"2018-04-12",{"$f":"VLOOKUP(入出金tbl[[#This Row],[内　容]],科目tbl[[内　容]:[番号]],2,TRUE)","v":"-"},{"$f":"VLOOKUP(入出金tbl[[#This Row],[内　容]],科目tbl[[内　容]:[番号]],3,TRUE)","v":"-"},"繰越調整","てき",120]
[2100,"2018-04-13",{"$f":"VLOOKUP(入出金tbl[[#This Row],[内　容]],科目tbl[[内　容]:[番号]],2,TRUE)","v":"-"},{"$f":"VLOOKUP(入出金tbl[[#This Row],[内　容]],科目tbl[[内　容]:[番号]],3,TRUE)","v":"-"},"繰越調整","てき",130]
[2101,"2018-04-14",{"$f":"VLOOKUP(入出金tbl[[#This Row],[内　容]],科目tbl[[内　容]:[番号]],2,TRUE)","v":"-"},{"$f":"VLOOKUP(入出金tbl[[#This Row],[内　容]],科目tbl[[内　容]:[番号]],3,TRUE)","v":"-"},"繰越調整","てき",140]
[2102,"2018-04-15",{"$f":"VLOOKUP(入出金tbl[[#This Row],[内　容]],科目tbl[[内　容]:[番号]],2,TRUE)","v":"-"},{"$f":"VLOOKUP(入出金tbl[[#This Row],[内　容]],科目tbl[[内　容]:[番号]],3,TRUE)","v":"-"},"繰越調整","てき",150]
[2103,"2018-04-16",{"$f":"VLOOKUP(入出金tbl[[#This Row],[内　容]],科目tbl[[内　容]:[番号]],2,TRUE)","v":"-"},{"$f":"VLOOKUP(入出金tbl[[#This Row],[内　容]],科目tbl[[内　容]:[番号]],3,TRUE)","v":"-"},"繰越調整","てき",160]
[2104,"2018-04-17",{"$f":"VLOOKUP(入出金tbl[[#This Row],[内　容]],科目tbl[[内　容]:[番号]],2,TRUE)","v":"-"},{"$f":"VLOOKUP(入出金tbl[[#This Row],[内　容]],科目tbl[[内　容]:[番号]],3,TRUE)","v":"-"},"繰越調整","てき",170]
[2105,"2018-04-18",{"$f":"VLOOKUP(入出金tbl[[#This Row],[内　容]],科目tbl[[内　容]:[番号]],2,TRUE)","v":"-"},{"$f":"VLOOKUP(入出金tbl[[#This Row],[内　容]],科目tbl[[内　容]:[番号]],3,TRUE)","v":"-"},"繰越調整","てき",180]
[2106,"2018-04-19",{"$f":"VLOOKUP(入出金tbl[[#This Row],[内　容]],科目tbl[[内　容]:[番号]],2,TRUE)","v":"-"},{"$f":"VLOOKUP(入出金tbl[[#This Row],[内　容]],科目tbl[[内　容]:[番号]],3,TRUE)","v":"-"},"繰越調整","てき",190]
[2107,"2018-04-20",{"$f":"VLOOKUP(入出金tbl[[#This Row],[内　容]],科目tbl[[内　容]:[番号]],2,TRUE)","v":"-"},{"$f":"VLOOKUP(入出金tbl[[#This Row],[内　容]],科目tbl[[内　容]:[番号]],3,TRUE)","v":"-"},"繰越調整","てき",200]
[2108,"2018-04-21",{"$f":"VLOOKUP(入出金tbl[[#This Row],[内　容]],科目tbl[[内　容]:[番号]],2,TRUE)","v":"-"},{"$f":"VLOOKUP(入出金tbl[[#This Row],[内　容]],科目tbl[[内　容]:[番号]],3,TRUE)","v":"-"},"繰越調整","てき",210]
[2109,"2018-04-22",{"$f":"VLOOKUP(入出金tbl[[#This Row],[内　容]],科目tbl[[内　容]:[番号]],2,TRUE)","v":"-"},{"$f":"VLOOKUP(入出金tbl[[#This Row],[内　容]],科目tbl[[内　容]:[番号]],3,TRUE)","v":"-"},"繰越調整","てき",220]
[2110,"2018-04-23",{"$f":"VLOOKUP(入出金tbl[[#This Row],[内　容]],科目tbl[[内　容]:[番号]],2,TRUE)","v":"-"},{"$f":"VLOOKUP(入出金tbl[[#This Row],[内　容]],科目tbl[[内　容]:[番号]],3,TRUE)","v":"-"},"繰越調整","てき",230]
[2111,"2018-04-24",{"$f":"VLOOKUP(入出金tbl[[#This Row],[内　容]],科目tbl[[内　容]:[番号]],2,TRUE)","v":"-"},{"$f":"VLOOKUP(入出金tbl[[#This Row],[内　容]],科目tbl[[内　容]:[番号]],3,TRUE)","v":"-"},"繰越調整","てき",240]
[2112,"2018-04-25",{"$f":"VLOOKUP(入出金tbl[[#This Row],[内　容]],科目tbl[[内　容]:[番号]],2,TRUE)","v":"-"},{"$f":"VLOOKUP(入出金tbl[[#This Row],[内　容]],科目tbl[[内　容]:[番号]],3,TRUE)","v":"-"},"繰越調整","てき",250]
[2113,"2018-04-26",{"$f":"VLOOKUP(入出金tbl[[#This Row],[内　容]],科目tbl[[内　容]:[番号]],2,TRUE)","v":"-"},{"$f":"VLOOKUP(入出金tbl[[#This Row],[内　容]],科目tbl[[内　容]:[番号]],3,TRUE)","v":"-"},"繰越調整","てき",260]
[2114,"2018-04-27",{"$f":"VLOOKUP(入出金tbl[[#This Row],[内　容]],科目tbl[[内　容]:[番号]],2,TRUE)","v":"-"},{"$f":"VLOOKUP(入出金tbl[[#This Row],[内　容]],科目tbl[[内　容]:[番号]],3,TRUE)","v":"-"},"繰越調整","てき",270]
[2115,"2018-04-28",{"$f":"VLOOKUP(入出金tbl[[#This Row],[内　容]],科目tbl[[内　容]:[番号]],2,TRUE)","v":"-"},{"$f":"VLOOKUP(入出金tbl[[#This Row],[内　容]],科目tbl[[内　容]:[番号]],3,TRUE)","v":"-"},"繰越調整","てき",280]
[2116,"2018-04-29",{"$f":"VLOOKUP(入出金tbl[[#This Row],[内　容]],科目tbl[[内　容]:[番号]],2,TRUE)","v":"-"},{"$f":"VLOOKUP(入出金tbl[[#This Row],[内　容]],科目tbl[[内　容]:[番号]],3,TRUE)","v":"-"},"繰越調整","てき",290]
[2117,"2018-04-30",{"$f":"VLOOKUP(入出金tbl[[#This Row],[内　容]],科目tbl[[内　容]:[番号]],2,TRUE)","v":"-"},{"$f":"VLOOKUP(入出金tbl[[#This Row],[内　容]],科目tbl[[内　容]:[番号]],3,TRUE)","v":"-"},"繰越調整","てき",300]
[2118,"2018-04-01",{"$f":"VLOOKUP(入出金tbl[[#This Row],[内　容]],科目tbl[[内　容]:[番号]],2,TRUE)","v":"経常収支"},{"$f":"VLOOKUP(入出金tbl[[#This Row],[内　容]],科目tbl[[内　容]:[番号]],3,TRUE)","v":"収入"},"現金売上","摘要",10]
[2119,"2018-04-01",{"$f":"VLOOKUP(入出金tbl[[#This Row],[内　容]],科目tbl[[内　容]:[番号]],2,TRUE)","v":"経常収支"},{"$f":"VLOOKUP(入出金tbl[[#This Row],[内　容]],科目tbl[[内　容]:[番号]],3,TRUE)","v":"収入"},"売掛金回収","摘要",20]
[2120,"2018-04-01",{"$f":"VLOOKUP(入出金tbl[[#This Row],[内　容]],科目tbl[[内　容]:[番号]],2,TRUE)","v":"経常収支"},{"$f":"VLOOKUP(入出金tbl[[#This Row],[内　容]],科目tbl[[内　容]:[番号]],3,TRUE)","v":"収入"},"受取手形回収","てき",30]
[2121,"2018-04-01",{"$f":"VLOOKUP(入出金tbl[[#This Row],[内　容]],科目tbl[[内　容]:[番号]],2,TRUE)","v":"経常収支"},{"$f":"VLOOKUP(入出金tbl[[#This Row],[内　容]],科目tbl[[内　容]:[番号]],3,TRUE)","v":"収入"},"手形割引","てき",40]
[2122,"2018-04-01",{"$f":"VLOOKUP(入出金tbl[[#This Row],[内　容]],科目tbl[[内　容]:[番号]],2,TRUE)","v":"経常収支"},{"$f":"VLOOKUP(入出金tbl[[#This Row],[内　容]],科目tbl[[内　容]:[番号]],3,TRUE)","v":"収入"},"その他収入","てき",50]
[2123,"2018-04-01",{"$f":"VLOOKUP(入出金tbl[[#This Row],[内　容]],科目tbl[[内　容]:[番号]],2,TRUE)","v":"財務収支"},{"$f":"VLOOKUP(入出金tbl[[#This Row],[内　容]],科目tbl[[内　容]:[番号]],3,TRUE)","v":"支出"},"----------","てき",0]
[2124,"2018-04-01",{"$f":"VLOOKUP(入出金tbl[[#This Row],[内　容]],科目tbl[[内　容]:[番号]],2,TRUE)","v":"経常収支"},{"$f":"VLOOKUP(入出金tbl[[#This Row],[内　容]],科目tbl[[内　容]:[番号]],3,TRUE)","v":"支出"},"現金仕入","てき",70]
[2125,"2018-04-01",{"$f":"VLOOKUP(入出金tbl[[#This Row],[内　容]],科目tbl[[内　容]:[番号]],2,TRUE)","v":"経常収支"},{"$f":"VLOOKUP(入出金tbl[[#This Row],[内　容]],科目tbl[[内　容]:[番号]],3,TRUE)","v":"支出"},"買掛金支払","てき",80]
[2126,"2018-04-01",{"$f":"VLOOKUP(入出金tbl[[#This Row],[内　容]],科目tbl[[内　容]:[番号]],2,TRUE)","v":"経常収支"},{"$f":"VLOOKUP(入出金tbl[[#This Row],[内　容]],科目tbl[[内　容]:[番号]],3,TRUE)","v":"支出"},"手形支払","てき",90]
[2127,"2018-04-01",{"$f":"VLOOKUP(入出金tbl[[#This Row],[内　容]],科目tbl[[内　容]:[番号]],2,TRUE)","v":"経常収支"},{"$f":"VLOOKUP(入出金tbl[[#This Row],[内　容]],科目tbl[[内　容]:[番号]],3,TRUE)","v":"支出"},"賃金・給与現金支払","てき",100]
[2128,"2018-04-01",{"$f":"VLOOKUP(入出金tbl[[#This Row],[内　容]],科目tbl[[内　容]:[番号]],2,TRUE)","v":"経常収支"},{"$f":"VLOOKUP(入出金tbl[[#This Row],[内　容]],科目tbl[[内　容]:[番号]],3,TRUE)","v":"支出"},"賞与支払い","てき",110]
[2129,"2018-04-01",{"$f":"VLOOKUP(入出金tbl[[#This Row],[内　容]],科目tbl[[内　容]:[番号]],2,TRUE)","v":"経常収支"},{"$f":"VLOOKUP(入出金tbl[[#This Row],[内　容]],科目tbl[[内　容]:[番号]],3,TRUE)","v":"支出"},"支払利息・割引料","てき",120]
[2130,"2018-04-01",{"$f":"VLOOKUP(入出金tbl[[#This Row],[内　容]],科目tbl[[内　容]:[番号]],2,TRUE)","v":"経常収支"},{"$f":"VLOOKUP(入出金tbl[[#This Row],[内　容]],科目tbl[[内　容]:[番号]],3,TRUE)","v":"支出"},"諸経費現金支払","てき",130]
[2131,"2018-04-01",{"$f":"VLOOKUP(入出金tbl[[#This Row],[内　容]],科目tbl[[内　容]:[番号]],2,TRUE)","v":"財務収支"},{"$f":"VLOOKUP(入出金tbl[[#This Row],[内　容]],科目tbl[[内　容]:[番号]],3,TRUE)","v":"支出"},"----------","てき",0]
[2132,"2018-04-01",{"$f":"VLOOKUP(入出金tbl[[#This Row],[内　容]],科目tbl[[内　容]:[番号]],2,TRUE)","v":"経常外収支"},{"$f":"VLOOKUP(入出金tbl[[#This Row],[内　容]],科目tbl[[内　容]:[番号]],3,TRUE)","v":"収入"},"固定資産等売却手取","てき",150]
[2133,"2018-04-01",{"$f":"VLOOKUP(入出金tbl[[#This Row],[内　容]],科目tbl[[内　容]:[番号]],2,TRUE)","v":"経常外収支"},{"$f":"VLOOKUP(入出金tbl[[#This Row],[内　容]],科目tbl[[内　容]:[番号]],3,TRUE)","v":"収入"},"定期預金等解約","てき",160]
[2134,"2018-04-01",{"$f":"VLOOKUP(入出金tbl[[#This Row],[内　容]],科目tbl[[内　容]:[番号]],2,TRUE)","v":"経常外収支"},{"$f":"VLOOKUP(入出金tbl[[#This Row],[内　容]],科目tbl[[内　容]:[番号]],3,TRUE)","v":"収入"},"その他臨時収入","てき",170]
[2135,"2018-04-01",{"$f":"VLOOKUP(入出金tbl[[#This Row],[内　容]],科目tbl[[内　容]:[番号]],2,TRUE)","v":"財務収支"},{"$f":"VLOOKUP(入出金tbl[[#This Row],[内　容]],科目tbl[[内　容]:[番号]],3,TRUE)","v":"支出"},"----------","てき",0]
[2136,"2018-04-01",{"$f":"VLOOKUP(入出金tbl[[#This Row],[内　容]],科目tbl[[内　容]:[番号]],2,TRUE)","v":"経常外収支"},{"$f":"VLOOKUP(入出金tbl[[#This Row],[内　容]],科目tbl[[内　容]:[番号]],3,TRUE)","v":"支出"},"税金","てき",190]
[2137,"2018-04-01",{"$f":"VLOOKUP(入出金tbl[[#This Row],[内　容]],科目tbl[[内　容]:[番号]],2,TRUE)","v":"経常外収支"},{"$f":"VLOOKUP(入出金tbl[[#This Row],[内　容]],科目tbl[[内　容]:[番号]],3,TRUE)","v":"支出"},"役員賞与","てき",200]
[2138,"2018-04-01",{"$f":"VLOOKUP(入出金tbl[[#This Row],[内　容]],科目tbl[[内　容]:[番号]],2,TRUE)","v":"経常外収支"},{"$f":"VLOOKUP(入出金tbl[[#This Row],[内　容]],科目tbl[[内　容]:[番号]],3,TRUE)","v":"支出"},"配当","てき",210]
[2139,"2018-04-01",{"$f":"VLOOKUP(入出金tbl[[#This Row],[内　容]],科目tbl[[内　容]:[番号]],2,TRUE)","v":"経常外収支"},{"$f":"VLOOKUP(入出金tbl[[#This Row],[内　容]],科目tbl[[内　容]:[番号]],3,TRUE)","v":"支出"},"固定資産購入支出","てき",220]
[2140,"2018-04-01",{"$f":"VLOOKUP(入出金tbl[[#This Row],[内　容]],科目tbl[[内　容]:[番号]],2,TRUE)","v":"経常外収支"},{"$f":"VLOOKUP(入出金tbl[[#This Row],[内　容]],科目tbl[[内　容]:[番号]],3,TRUE)","v":"支出"},"定期預金等設定","てき",230]
[2141,"2018-04-01",{"$f":"VLOOKUP(入出金tbl[[#This Row],[内　容]],科目tbl[[内　容]:[番号]],2,TRUE)","v":"経常外収支"},{"$f":"VLOOKUP(入出金tbl[[#This Row],[内　容]],科目tbl[[内　容]:[番号]],3,TRUE)","v":"支出"},"その他臨時支出","てき",240]
[2142,"2018-04-01",{"$f":"VLOOKUP(入出金tbl[[#This Row],[内　容]],科目tbl[[内　容]:[番号]],2,TRUE)","v":"経常外収支"},{"$f":"VLOOKUP(入出金tbl[[#This Row],[内　容]],科目tbl[[内　容]:[番号]],3,TRUE)","v":"支出"},"テスト4","てき",250]
[2143,"2018-04-01",{"$f":"VLOOKUP(入出金tbl[[#This Row],[内　容]],科目tbl[[内　容]:[番号]],2,TRUE)","v":"財務収支"},{"$f":"VLOOKUP(入出金tbl[[#This Row],[内　容]],科目tbl[[内　容]:[番号]],3,TRUE)","v":"収入"},"短期借入金調達","てき",260]
[2144,"2018-04-01",{"$f":"VLOOKUP(入出金tbl[[#This Row],[内　容]],科目tbl[[内　容]:[番号]],2,TRUE)","v":"財務収支"},{"$f":"VLOOKUP(入出金tbl[[#This Row],[内　容]],科目tbl[[内　容]:[番号]],3,TRUE)","v":"収入"},"長期借入金調達","てき",270]
[2145,"2018-04-01",{"$f":"VLOOKUP(入出金tbl[[#This Row],[内　容]],科目tbl[[内　容]:[番号]],2,TRUE)","v":"財務収支"},{"$f":"VLOOKUP(入出金tbl[[#This Row],[内　容]],科目tbl[[内　容]:[番号]],3,TRUE)","v":"収入"},"社長借入金調達","てき",280]
[2146,"2018-04-01",{"$f":"VLOOKUP(入出金tbl[[#This Row],[内　容]],科目tbl[[内　容]:[番号]],2,TRUE)","v":"財務収支"},{"$f":"VLOOKUP(入出金tbl[[#This Row],[内　容]],科目tbl[[内　容]:[番号]],3,TRUE)","v":"収入"},"その他調達","てき",290]
[2147,"2018-04-01",{"$f":"VLOOKUP(入出金tbl[[#This Row],[内　容]],科目tbl[[内　容]:[番号]],2,TRUE)","v":"財務収支"},{"$f":"VLOOKUP(入出金tbl[[#This Row],[内　容]],科目tbl[[内　容]:[番号]],3,TRUE)","v":"支出"},"----------","てき",0]
[2148,"2018-04-01",{"$f":"VLOOKUP(入出金tbl[[#This Row],[内　容]],科目tbl[[内　容]:[番号]],2,TRUE)","v":"財務収支"},{"$f":"VLOOKUP(入出金tbl[[#This Row],[内　容]],科目tbl[[内　容]:[番号]],3,TRUE)","v":"支出"},"短期借入金返済","てき",310]
[2149,"2018-04-01",{"$f":"VLOOKUP(入出金tbl[[#This Row],[内　容]],科目tbl[[内　容]:[番号]],2,TRUE)","v":"財務収支"},{"$f":"VLOOKUP(入出金tbl[[#This Row],[内　容]],科目tbl[[内　容]:[番号]],3,TRUE)","v":"支出"},"長期借入金返済","てき",320]
[2150,"2018-04-01",{"$f":"VLOOKUP(入出金tbl[[#This Row],[内　容]],科目tbl[[内　容]:[番号]],2,TRUE)","v":"財務収支"},{"$f":"VLOOKUP(入出金tbl[[#This Row],[内　容]],科目tbl[[内　容]:[番号]],3,TRUE)","v":"支出"},"社長借入金返済","てき",330]
[2151,"2018-04-01",{"$f":"VLOOKUP(入出金tbl[[#This Row],[内　容]],科目tbl[[内　容]:[番号]],2,TRUE)","v":"財務収支"},{"$f":"VLOOKUP(入出金tbl[[#This Row],[内　容]],科目tbl[[内　容]:[番号]],3,TRUE)","v":"支出"},"その他返済","てき",340]
[2152,"2018-04-01",{"$f":"VLOOKUP(入出金tbl[[#This Row],[内　容]],科目tbl[[内　容]:[番号]],2,TRUE)","v":"財務収支"},{"$f":"VLOOKUP(入出金tbl[[#This Row],[内　容]],科目tbl[[内　容]:[番号]],3,TRUE)","v":"支出"},"----------","てき",0]
[2153,"2018-04-02",{"$f":"VLOOKUP(入出金tbl[[#This Row],[内　容]],科目tbl[[内　容]:[番号]],2,TRUE)","v":"経常収支"},{"$f":"VLOOKUP(入出金tbl[[#This Row],[内　容]],科目tbl[[内　容]:[番号]],3,TRUE)","v":"収入"},"現金売上","摘要",10]
[2154,"2018-04-02",{"$f":"VLOOKUP(入出金tbl[[#This Row],[内　容]],科目tbl[[内　容]:[番号]],2,TRUE)","v":"経常収支"},{"$f":"VLOOKUP(入出金tbl[[#This Row],[内　容]],科目tbl[[内　容]:[番号]],3,TRUE)","v":"収入"},"売掛金回収","摘要",20]
[2155,"2018-04-02",{"$f":"VLOOKUP(入出金tbl[[#This Row],[内　容]],科目tbl[[内　容]:[番号]],2,TRUE)","v":"経常収支"},{"$f":"VLOOKUP(入出金tbl[[#This Row],[内　容]],科目tbl[[内　容]:[番号]],3,TRUE)","v":"収入"},"受取手形回収","てき",30]
[2156,"2018-04-02",{"$f":"VLOOKUP(入出金tbl[[#This Row],[内　容]],科目tbl[[内　容]:[番号]],2,TRUE)","v":"経常収支"},{"$f":"VLOOKUP(入出金tbl[[#This Row],[内　容]],科目tbl[[内　容]:[番号]],3,TRUE)","v":"収入"},"手形割引","てき",40]
[2157,"2018-04-02",{"$f":"VLOOKUP(入出金tbl[[#This Row],[内　容]],科目tbl[[内　容]:[番号]],2,TRUE)","v":"経常収支"},{"$f":"VLOOKUP(入出金tbl[[#This Row],[内　容]],科目tbl[[内　容]:[番号]],3,TRUE)","v":"収入"},"その他収入","てき",50]
[2158,"2018-04-02",{"$f":"VLOOKUP(入出金tbl[[#This Row],[内　容]],科目tbl[[内　容]:[番号]],2,TRUE)","v":"財務収支"},{"$f":"VLOOKUP(入出金tbl[[#This Row],[内　容]],科目tbl[[内　容]:[番号]],3,TRUE)","v":"支出"},"----------","てき",0]
[2159,"2018-04-02",{"$f":"VLOOKUP(入出金tbl[[#This Row],[内　容]],科目tbl[[内　容]:[番号]],2,TRUE)","v":"経常収支"},{"$f":"VLOOKUP(入出金tbl[[#This Row],[内　容]],科目tbl[[内　容]:[番号]],3,TRUE)","v":"支出"},"現金仕入","てき",70]
[2160,"2018-04-02",{"$f":"VLOOKUP(入出金tbl[[#This Row],[内　容]],科目tbl[[内　容]:[番号]],2,TRUE)","v":"経常収支"},{"$f":"VLOOKUP(入出金tbl[[#This Row],[内　容]],科目tbl[[内　容]:[番号]],3,TRUE)","v":"支出"},"買掛金支払","てき",80]
[2161,"2018-04-02",{"$f":"VLOOKUP(入出金tbl[[#This Row],[内　容]],科目tbl[[内　容]:[番号]],2,TRUE)","v":"経常収支"},{"$f":"VLOOKUP(入出金tbl[[#This Row],[内　容]],科目tbl[[内　容]:[番号]],3,TRUE)","v":"支出"},"手形支払","てき",90]
[2162,"2018-04-02",{"$f":"VLOOKUP(入出金tbl[[#This Row],[内　容]],科目tbl[[内　容]:[番号]],2,TRUE)","v":"経常収支"},{"$f":"VLOOKUP(入出金tbl[[#This Row],[内　容]],科目tbl[[内　容]:[番号]],3,TRUE)","v":"支出"},"賃金・給与現金支払","てき",100]
[2163,"2018-04-02",{"$f":"VLOOKUP(入出金tbl[[#This Row],[内　容]],科目tbl[[内　容]:[番号]],2,TRUE)","v":"経常収支"},{"$f":"VLOOKUP(入出金tbl[[#This Row],[内　容]],科目tbl[[内　容]:[番号]],3,TRUE)","v":"支出"},"賞与支払い","てき",110]
[2164,"2018-04-02",{"$f":"VLOOKUP(入出金tbl[[#This Row],[内　容]],科目tbl[[内　容]:[番号]],2,TRUE)","v":"経常収支"},{"$f":"VLOOKUP(入出金tbl[[#This Row],[内　容]],科目tbl[[内　容]:[番号]],3,TRUE)","v":"支出"},"支払利息・割引料","てき",120]
[2165,"2018-04-02",{"$f":"VLOOKUP(入出金tbl[[#This Row],[内　容]],科目tbl[[内　容]:[番号]],2,TRUE)","v":"経常収支"},{"$f":"VLOOKUP(入出金tbl[[#This Row],[内　容]],科目tbl[[内　容]:[番号]],3,TRUE)","v":"支出"},"諸経費現金支払","てき",130]
[2166,"2018-04-02",{"$f":"VLOOKUP(入出金tbl[[#This Row],[内　容]],科目tbl[[内　容]:[番号]],2,TRUE)","v":"財務収支"},{"$f":"VLOOKUP(入出金tbl[[#This Row],[内　容]],科目tbl[[内　容]:[番号]],3,TRUE)","v":"支出"},"----------","てき",0]
[2167,"2018-04-02",{"$f":"VLOOKUP(入出金tbl[[#This Row],[内　容]],科目tbl[[内　容]:[番号]],2,TRUE)","v":"経常外収支"},{"$f":"VLOOKUP(入出金tbl[[#This Row],[内　容]],科目tbl[[内　容]:[番号]],3,TRUE)","v":"収入"},"固定資産等売却手取","てき",150]
[2168,"2018-04-02",{"$f":"VLOOKUP(入出金tbl[[#This Row],[内　容]],科目tbl[[内　容]:[番号]],2,TRUE)","v":"経常外収支"},{"$f":"VLOOKUP(入出金tbl[[#This Row],[内　容]],科目tbl[[内　容]:[番号]],3,TRUE)","v":"収入"},"定期預金等解約","てき",160]
[2169,"2018-04-02",{"$f":"VLOOKUP(入出金tbl[[#This Row],[内　容]],科目tbl[[内　容]:[番号]],2,TRUE)","v":"経常外収支"},{"$f":"VLOOKUP(入出金tbl[[#This Row],[内　容]],科目tbl[[内　容]:[番号]],3,TRUE)","v":"収入"},"その他臨時収入","てき",170]
[2170,"2018-04-02",{"$f":"VLOOKUP(入出金tbl[[#This Row],[内　容]],科目tbl[[内　容]:[番号]],2,TRUE)","v":"財務収支"},{"$f":"VLOOKUP(入出金tbl[[#This Row],[内　容]],科目tbl[[内　容]:[番号]],3,TRUE)","v":"支出"},"----------","てき",0]
[2171,"2018-04-02",{"$f":"VLOOKUP(入出金tbl[[#This Row],[内　容]],科目tbl[[内　容]:[番号]],2,TRUE)","v":"経常外収支"},{"$f":"VLOOKUP(入出金tbl[[#This Row],[内　容]],科目tbl[[内　容]:[番号]],3,TRUE)","v":"支出"},"税金","てき",190]
[2172,"2018-04-02",{"$f":"VLOOKUP(入出金tbl[[#This Row],[内　容]],科目tbl[[内　容]:[番号]],2,TRUE)","v":"経常外収支"},{"$f":"VLOOKUP(入出金tbl[[#This Row],[内　容]],科目tbl[[内　容]:[番号]],3,TRUE)","v":"支出"},"役員賞与","てき",200]
[2173,"2018-04-02",{"$f":"VLOOKUP(入出金tbl[[#This Row],[内　容]],科目tbl[[内　容]:[番号]],2,TRUE)","v":"経常外収支"},{"$f":"VLOOKUP(入出金tbl[[#This Row],[内　容]],科目tbl[[内　容]:[番号]],3,TRUE)","v":"支出"},"配当","てき",210]
[2174,"2018-04-02",{"$f":"VLOOKUP(入出金tbl[[#This Row],[内　容]],科目tbl[[内　容]:[番号]],2,TRUE)","v":"経常外収支"},{"$f":"VLOOKUP(入出金tbl[[#This Row],[内　容]],科目tbl[[内　容]:[番号]],3,TRUE)","v":"支出"},"固定資産購入支出","てき",220]
[2175,"2018-04-02",{"$f":"VLOOKUP(入出金tbl[[#This Row],[内　容]],科目tbl[[内　容]:[番号]],2,TRUE)","v":"経常外収支"},{"$f":"VLOOKUP(入出金tbl[[#This Row],[内　容]],科目tbl[[内　容]:[番号]],3,TRUE)","v":"支出"},"定期預金等設定","てき",230]
[2176,"2018-04-02",{"$f":"VLOOKUP(入出金tbl[[#This Row],[内　容]],科目tbl[[内　容]:[番号]],2,TRUE)","v":"経常外収支"},{"$f":"VLOOKUP(入出金tbl[[#This Row],[内　容]],科目tbl[[内　容]:[番号]],3,TRUE)","v":"支出"},"その他臨時支出","てき",240]
[2177,"2018-04-02",{"$f":"VLOOKUP(入出金tbl[[#This Row],[内　容]],科目tbl[[内　容]:[番号]],2,TRUE)","v":"経常外収支"},{"$f":"VLOOKUP(入出金tbl[[#This Row],[内　容]],科目tbl[[内　容]:[番号]],3,TRUE)","v":"支出"},"テスト4","てき",250]
[2178,"2018-04-02",{"$f":"VLOOKUP(入出金tbl[[#This Row],[内　容]],科目tbl[[内　容]:[番号]],2,TRUE)","v":"財務収支"},{"$f":"VLOOKUP(入出金tbl[[#This Row],[内　容]],科目tbl[[内　容]:[番号]],3,TRUE)","v":"収入"},"短期借入金調達","てき",260]
[2179,"2018-04-02",{"$f":"VLOOKUP(入出金tbl[[#This Row],[内　容]],科目tbl[[内　容]:[番号]],2,TRUE)","v":"財務収支"},{"$f":"VLOOKUP(入出金tbl[[#This Row],[内　容]],科目tbl[[内　容]:[番号]],3,TRUE)","v":"収入"},"長期借入金調達","てき",270]
[2180,"2018-04-02",{"$f":"VLOOKUP(入出金tbl[[#This Row],[内　容]],科目tbl[[内　容]:[番号]],2,TRUE)","v":"財務収支"},{"$f":"VLOOKUP(入出金tbl[[#This Row],[内　容]],科目tbl[[内　容]:[番号]],3,TRUE)","v":"収入"},"社長借入金調達","てき",280]
[2181,"2018-04-02",{"$f":"VLOOKUP(入出金tbl[[#This Row],[内　容]],科目tbl[[内　容]:[番号]],2,TRUE)","v":"財務収支"},{"$f":"VLOOKUP(入出金tbl[[#This Row],[内　容]],科目tbl[[内　容]:[番号]],3,TRUE)","v":"収入"},"その他調達","てき",290]
[2182,"2018-04-02",{"$f":"VLOOKUP(入出金tbl[[#This Row],[内　容]],科目tbl[[内　容]:[番号]],2,TRUE)","v":"財務収支"},{"$f":"VLOOKUP(入出金tbl[[#This Row],[内　容]],科目tbl[[内　容]:[番号]],3,TRUE)","v":"支出"},"----------","てき",0]
[2183,"2018-04-02",{"$f":"VLOOKUP(入出金tbl[[#This Row],[内　容]],科目tbl[[内　容]:[番号]],2,TRUE)","v":"財務収支"},{"$f":"VLOOKUP(入出金tbl[[#This Row],[内　容]],科目tbl[[内　容]:[番号]],3,TRUE)","v":"支出"},"短期借入金返済","てき",310]
[2184,"2018-04-02",{"$f":"VLOOKUP(入出金tbl[[#This Row],[内　容]],科目tbl[[内　容]:[番号]],2,TRUE)","v":"財務収支"},{"$f":"VLOOKUP(入出金tbl[[#This Row],[内　容]],科目tbl[[内　容]:[番号]],3,TRUE)","v":"支出"},"長期借入金返済","てき",320]
[2185,"2018-04-02",{"$f":"VLOOKUP(入出金tbl[[#This Row],[内　容]],科目tbl[[内　容]:[番号]],2,TRUE)","v":"財務収支"},{"$f":"VLOOKUP(入出金tbl[[#This Row],[内　容]],科目tbl[[内　容]:[番号]],3,TRUE)","v":"支出"},"社長借入金返済","てき",330]
[2186,"2018-04-02",{"$f":"VLOOKUP(入出金tbl[[#This Row],[内　容]],科目tbl[[内　容]:[番号]],2,TRUE)","v":"財務収支"},{"$f":"VLOOKUP(入出金tbl[[#This Row],[内　容]],科目tbl[[内　容]:[番号]],3,TRUE)","v":"支出"},"その他返済","てき",340]
[2187,"2018-04-02",{"$f":"VLOOKUP(入出金tbl[[#This Row],[内　容]],科目tbl[[内　容]:[番号]],2,TRUE)","v":"財務収支"},{"$f":"VLOOKUP(入出金tbl[[#This Row],[内　容]],科目tbl[[内　容]:[番号]],3,TRUE)","v":"支出"},"----------","てき",0]
[2188,"2018-04-03",{"$f":"VLOOKUP(入出金tbl[[#This Row],[内　容]],科目tbl[[内　容]:[番号]],2,TRUE)","v":"経常収支"},{"$f":"VLOOKUP(入出金tbl[[#This Row],[内　容]],科目tbl[[内　容]:[番号]],3,TRUE)","v":"収入"},"現金売上","摘要",10]
[2189,"2018-04-03",{"$f":"VLOOKUP(入出金tbl[[#This Row],[内　容]],科目tbl[[内　容]:[番号]],2,TRUE)","v":"経常収支"},{"$f":"VLOOKUP(入出金tbl[[#This Row],[内　容]],科目tbl[[内　容]:[番号]],3,TRUE)","v":"収入"},"売掛金回収","摘要",20]
[2190,"2018-04-03",{"$f":"VLOOKUP(入出金tbl[[#This Row],[内　容]],科目tbl[[内　容]:[番号]],2,TRUE)","v":"経常収支"},{"$f":"VLOOKUP(入出金tbl[[#This Row],[内　容]],科目tbl[[内　容]:[番号]],3,TRUE)","v":"収入"},"受取手形回収","てき",30]
[2191,"2018-04-03",{"$f":"VLOOKUP(入出金tbl[[#This Row],[内　容]],科目tbl[[内　容]:[番号]],2,TRUE)","v":"経常収支"},{"$f":"VLOOKUP(入出金tbl[[#This Row],[内　容]],科目tbl[[内　容]:[番号]],3,TRUE)","v":"収入"},"手形割引","てき",40]
[2192,"2018-04-03",{"$f":"VLOOKUP(入出金tbl[[#This Row],[内　容]],科目tbl[[内　容]:[番号]],2,TRUE)","v":"経常収支"},{"$f":"VLOOKUP(入出金tbl[[#This Row],[内　容]],科目tbl[[内　容]:[番号]],3,TRUE)","v":"収入"},"その他収入","てき",50]
[2193,"2018-04-03",{"$f":"VLOOKUP(入出金tbl[[#This Row],[内　容]],科目tbl[[内　容]:[番号]],2,TRUE)","v":"財務収支"},{"$f":"VLOOKUP(入出金tbl[[#This Row],[内　容]],科目tbl[[内　容]:[番号]],3,TRUE)","v":"支出"},"----------","てき",0]
[2194,"2018-04-03",{"$f":"VLOOKUP(入出金tbl[[#This Row],[内　容]],科目tbl[[内　容]:[番号]],2,TRUE)","v":"経常収支"},{"$f":"VLOOKUP(入出金tbl[[#This Row],[内　容]],科目tbl[[内　容]:[番号]],3,TRUE)","v":"支出"},"現金仕入","てき",70]
[2195,"2018-04-03",{"$f":"VLOOKUP(入出金tbl[[#This Row],[内　容]],科目tbl[[内　容]:[番号]],2,TRUE)","v":"経常収支"},{"$f":"VLOOKUP(入出金tbl[[#This Row],[内　容]],科目tbl[[内　容]:[番号]],3,TRUE)","v":"支出"},"買掛金支払","てき",80]
[2196,"2018-04-03",{"$f":"VLOOKUP(入出金tbl[[#This Row],[内　容]],科目tbl[[内　容]:[番号]],2,TRUE)","v":"経常収支"},{"$f":"VLOOKUP(入出金tbl[[#This Row],[内　容]],科目tbl[[内　容]:[番号]],3,TRUE)","v":"支出"},"手形支払","てき",90]
[2197,"2018-04-03",{"$f":"VLOOKUP(入出金tbl[[#This Row],[内　容]],科目tbl[[内　容]:[番号]],2,TRUE)","v":"経常収支"},{"$f":"VLOOKUP(入出金tbl[[#This Row],[内　容]],科目tbl[[内　容]:[番号]],3,TRUE)","v":"支出"},"賃金・給与現金支払","てき",100]
[2198,"2018-04-03",{"$f":"VLOOKUP(入出金tbl[[#This Row],[内　容]],科目tbl[[内　容]:[番号]],2,TRUE)","v":"経常収支"},{"$f":"VLOOKUP(入出金tbl[[#This Row],[内　容]],科目tbl[[内　容]:[番号]],3,TRUE)","v":"支出"},"賞与支払い","てき",110]
[2199,"2018-04-03",{"$f":"VLOOKUP(入出金tbl[[#This Row],[内　容]],科目tbl[[内　容]:[番号]],2,TRUE)","v":"経常収支"},{"$f":"VLOOKUP(入出金tbl[[#This Row],[内　容]],科目tbl[[内　容]:[番号]],3,TRUE)","v":"支出"},"支払利息・割引料","てき",120]
[2200,"2018-04-03",{"$f":"VLOOKUP(入出金tbl[[#This Row],[内　容]],科目tbl[[内　容]:[番号]],2,TRUE)","v":"経常収支"},{"$f":"VLOOKUP(入出金tbl[[#This Row],[内　容]],科目tbl[[内　容]:[番号]],3,TRUE)","v":"支出"},"諸経費現金支払","てき",130]
[2201,"2018-04-03",{"$f":"VLOOKUP(入出金tbl[[#This Row],[内　容]],科目tbl[[内　容]:[番号]],2,TRUE)","v":"財務収支"},{"$f":"VLOOKUP(入出金tbl[[#This Row],[内　容]],科目tbl[[内　容]:[番号]],3,TRUE)","v":"支出"},"----------","てき",0]
[2202,"2018-04-03",{"$f":"VLOOKUP(入出金tbl[[#This Row],[内　容]],科目tbl[[内　容]:[番号]],2,TRUE)","v":"経常外収支"},{"$f":"VLOOKUP(入出金tbl[[#This Row],[内　容]],科目tbl[[内　容]:[番号]],3,TRUE)","v":"収入"},"固定資産等売却手取","てき",150]
[2203,"2018-04-03",{"$f":"VLOOKUP(入出金tbl[[#This Row],[内　容]],科目tbl[[内　容]:[番号]],2,TRUE)","v":"経常外収支"},{"$f":"VLOOKUP(入出金tbl[[#This Row],[内　容]],科目tbl[[内　容]:[番号]],3,TRUE)","v":"収入"},"定期預金等解約","てき",160]
[2204,"2018-04-03",{"$f":"VLOOKUP(入出金tbl[[#This Row],[内　容]],科目tbl[[内　容]:[番号]],2,TRUE)","v":"経常外収支"},{"$f":"VLOOKUP(入出金tbl[[#This Row],[内　容]],科目tbl[[内　容]:[番号]],3,TRUE)","v":"収入"},"その他臨時収入","てき",170]
[2205,"2018-04-03",{"$f":"VLOOKUP(入出金tbl[[#This Row],[内　容]],科目tbl[[内　容]:[番号]],2,TRUE)","v":"財務収支"},{"$f":"VLOOKUP(入出金tbl[[#This Row],[内　容]],科目tbl[[内　容]:[番号]],3,TRUE)","v":"支出"},"----------","てき",0]
[2206,"2018-04-03",{"$f":"VLOOKUP(入出金tbl[[#This Row],[内　容]],科目tbl[[内　容]:[番号]],2,TRUE)","v":"経常外収支"},{"$f":"VLOOKUP(入出金tbl[[#This Row],[内　容]],科目tbl[[内　容]:[番号]],3,TRUE)","v":"支出"},"税金","てき",190]
[2207,"2018-04-03",{"$f":"VLOOKUP(入出金tbl[[#This Row],[内　容]],科目tbl[[内　容]:[番号]],2,TRUE)","v":"経常外収支"},{"$f":"VLOOKUP(入出金tbl[[#This Row],[内　容]],科目tbl[[内　容]:[番号]],3,TRUE)","v":"支出"},"役員賞与","てき",200]
[2208,"2018-04-03",{"$f":"VLOOKUP(入出金tbl[[#This Row],[内　容]],科目tbl[[内　容]:[番号]],2,TRUE)","v":"経常外収支"},{"$f":"VLOOKUP(入出金tbl[[#This Row],[内　容]],科目tbl[[内　容]:[番号]],3,TRUE)","v":"支出"},"配当","てき",210]
[2209,"2018-04-03",{"$f":"VLOOKUP(入出金tbl[[#This Row],[内　容]],科目tbl[[内　容]:[番号]],2,TRUE)","v":"経常外収支"},{"$f":"VLOOKUP(入出金tbl[[#This Row],[内　容]],科目tbl[[内　容]:[番号]],3,TRUE)","v":"支出"},"固定資産購入支出","てき",220]
[2210,"2018-04-03",{"$f":"VLOOKUP(入出金tbl[[#This Row],[内　容]],科目tbl[[内　容]:[番号]],2,TRUE)","v":"経常外収支"},{"$f":"VLOOKUP(入出金tbl[[#This Row],[内　容]],科目tbl[[内　容]:[番号]],3,TRUE)","v":"支出"},"定期預金等設定","てき",230]
[2211,"2018-04-03",{"$f":"VLOOKUP(入出金tbl[[#This Row],[内　容]],科目tbl[[内　容]:[番号]],2,TRUE)","v":"経常外収支"},{"$f":"VLOOKUP(入出金tbl[[#This Row],[内　容]],科目tbl[[内　容]:[番号]],3,TRUE)","v":"支出"},"その他臨時支出","てき",240]
[2212,"2018-04-03",{"$f":"VLOOKUP(入出金tbl[[#This Row],[内　容]],科目tbl[[内　容]:[番号]],2,TRUE)","v":"経常外収支"},{"$f":"VLOOKUP(入出金tbl[[#This Row],[内　容]],科目tbl[[内　容]:[番号]],3,TRUE)","v":"支出"},"テスト4","てき",250]
[2213,"2018-04-03",{"$f":"VLOOKUP(入出金tbl[[#This Row],[内　容]],科目tbl[[内　容]:[番号]],2,TRUE)","v":"財務収支"},{"$f":"VLOOKUP(入出金tbl[[#This Row],[内　容]],科目tbl[[内　容]:[番号]],3,TRUE)","v":"収入"},"短期借入金調達","てき",260]
[2214,"2018-04-03",{"$f":"VLOOKUP(入出金tbl[[#This Row],[内　容]],科目tbl[[内　容]:[番号]],2,TRUE)","v":"財務収支"},{"$f":"VLOOKUP(入出金tbl[[#This Row],[内　容]],科目tbl[[内　容]:[番号]],3,TRUE)","v":"収入"},"長期借入金調達","てき",270]
[2215,"2018-04-03",{"$f":"VLOOKUP(入出金tbl[[#This Row],[内　容]],科目tbl[[内　容]:[番号]],2,TRUE)","v":"財務収支"},{"$f":"VLOOKUP(入出金tbl[[#This Row],[内　容]],科目tbl[[内　容]:[番号]],3,TRUE)","v":"収入"},"社長借入金調達","てき",280]
[2216,"2018-04-03",{"$f":"VLOOKUP(入出金tbl[[#This Row],[内　容]],科目tbl[[内　容]:[番号]],2,TRUE)","v":"財務収支"},{"$f":"VLOOKUP(入出金tbl[[#This Row],[内　容]],科目tbl[[内　容]:[番号]],3,TRUE)","v":"収入"},"その他調達","てき",290]
[2217,"2018-04-03",{"$f":"VLOOKUP(入出金tbl[[#This Row],[内　容]],科目tbl[[内　容]:[番号]],2,TRUE)","v":"財務収支"},{"$f":"VLOOKUP(入出金tbl[[#This Row],[内　容]],科目tbl[[内　容]:[番号]],3,TRUE)","v":"支出"},"----------","てき",0]
[2218,"2018-04-03",{"$f":"VLOOKUP(入出金tbl[[#This Row],[内　容]],科目tbl[[内　容]:[番号]],2,TRUE)","v":"財務収支"},{"$f":"VLOOKUP(入出金tbl[[#This Row],[内　容]],科目tbl[[内　容]:[番号]],3,TRUE)","v":"支出"},"短期借入金返済","てき",310]
[2219,"2018-04-03",{"$f":"VLOOKUP(入出金tbl[[#This Row],[内　容]],科目tbl[[内　容]:[番号]],2,TRUE)","v":"財務収支"},{"$f":"VLOOKUP(入出金tbl[[#This Row],[内　容]],科目tbl[[内　容]:[番号]],3,TRUE)","v":"支出"},"長期借入金返済","てき",320]
[2220,"2018-04-03",{"$f":"VLOOKUP(入出金tbl[[#This Row],[内　容]],科目tbl[[内　容]:[番号]],2,TRUE)","v":"財務収支"},{"$f":"VLOOKUP(入出金tbl[[#This Row],[内　容]],科目tbl[[内　容]:[番号]],3,TRUE)","v":"支出"},"社長借入金返済","てき",330]
[2221,"2018-04-03",{"$f":"VLOOKUP(入出金tbl[[#This Row],[内　容]],科目tbl[[内　容]:[番号]],2,TRUE)","v":"財務収支"},{"$f":"VLOOKUP(入出金tbl[[#This Row],[内　容]],科目tbl[[内　容]:[番号]],3,TRUE)","v":"支出"},"その他返済","てき",340]
[2222,"2018-04-03",{"$f":"VLOOKUP(入出金tbl[[#This Row],[内　容]],科目tbl[[内　容]:[番号]],2,TRUE)","v":"財務収支"},{"$f":"VLOOKUP(入出金tbl[[#This Row],[内　容]],科目tbl[[内　容]:[番号]],3,TRUE)","v":"支出"},"----------","てき",0]
[2223,"2018-04-04",{"$f":"VLOOKUP(入出金tbl[[#This Row],[内　容]],科目tbl[[内　容]:[番号]],2,TRUE)","v":"経常収支"},{"$f":"VLOOKUP(入出金tbl[[#This Row],[内　容]],科目tbl[[内　容]:[番号]],3,TRUE)","v":"収入"},"現金売上","摘要",10]
[2224,"2018-04-04",{"$f":"VLOOKUP(入出金tbl[[#This Row],[内　容]],科目tbl[[内　容]:[番号]],2,TRUE)","v":"経常収支"},{"$f":"VLOOKUP(入出金tbl[[#This Row],[内　容]],科目tbl[[内　容]:[番号]],3,TRUE)","v":"収入"},"売掛金回収","摘要",20]
[2225,"2018-04-04",{"$f":"VLOOKUP(入出金tbl[[#This Row],[内　容]],科目tbl[[内　容]:[番号]],2,TRUE)","v":"経常収支"},{"$f":"VLOOKUP(入出金tbl[[#This Row],[内　容]],科目tbl[[内　容]:[番号]],3,TRUE)","v":"収入"},"受取手形回収","てき",30]
[2226,"2018-04-04",{"$f":"VLOOKUP(入出金tbl[[#This Row],[内　容]],科目tbl[[内　容]:[番号]],2,TRUE)","v":"経常収支"},{"$f":"VLOOKUP(入出金tbl[[#This Row],[内　容]],科目tbl[[内　容]:[番号]],3,TRUE)","v":"収入"},"手形割引","てき",40]
[2227,"2018-04-04",{"$f":"VLOOKUP(入出金tbl[[#This Row],[内　容]],科目tbl[[内　容]:[番号]],2,TRUE)","v":"経常収支"},{"$f":"VLOOKUP(入出金tbl[[#This Row],[内　容]],科目tbl[[内　容]:[番号]],3,TRUE)","v":"収入"},"その他収入","てき",50]
[2228,"2018-04-04",{"$f":"VLOOKUP(入出金tbl[[#This Row],[内　容]],科目tbl[[内　容]:[番号]],2,TRUE)","v":"財務収支"},{"$f":"VLOOKUP(入出金tbl[[#This Row],[内　容]],科目tbl[[内　容]:[番号]],3,TRUE)","v":"支出"},"----------","てき",0]
[2229,"2018-04-04",{"$f":"VLOOKUP(入出金tbl[[#This Row],[内　容]],科目tbl[[内　容]:[番号]],2,TRUE)","v":"経常収支"},{"$f":"VLOOKUP(入出金tbl[[#This Row],[内　容]],科目tbl[[内　容]:[番号]],3,TRUE)","v":"支出"},"現金仕入","てき",70]
[2230,"2018-04-04",{"$f":"VLOOKUP(入出金tbl[[#This Row],[内　容]],科目tbl[[内　容]:[番号]],2,TRUE)","v":"経常収支"},{"$f":"VLOOKUP(入出金tbl[[#This Row],[内　容]],科目tbl[[内　容]:[番号]],3,TRUE)","v":"支出"},"買掛金支払","てき",80]
[2231,"2018-04-04",{"$f":"VLOOKUP(入出金tbl[[#This Row],[内　容]],科目tbl[[内　容]:[番号]],2,TRUE)","v":"経常収支"},{"$f":"VLOOKUP(入出金tbl[[#This Row],[内　容]],科目tbl[[内　容]:[番号]],3,TRUE)","v":"支出"},"手形支払","てき",90]
[2232,"2018-04-04",{"$f":"VLOOKUP(入出金tbl[[#This Row],[内　容]],科目tbl[[内　容]:[番号]],2,TRUE)","v":"経常収支"},{"$f":"VLOOKUP(入出金tbl[[#This Row],[内　容]],科目tbl[[内　容]:[番号]],3,TRUE)","v":"支出"},"賃金・給与現金支払","てき",100]
[2233,"2018-04-04",{"$f":"VLOOKUP(入出金tbl[[#This Row],[内　容]],科目tbl[[内　容]:[番号]],2,TRUE)","v":"経常収支"},{"$f":"VLOOKUP(入出金tbl[[#This Row],[内　容]],科目tbl[[内　容]:[番号]],3,TRUE)","v":"支出"},"賞与支払い","てき",110]
[2234,"2018-04-04",{"$f":"VLOOKUP(入出金tbl[[#This Row],[内　容]],科目tbl[[内　容]:[番号]],2,TRUE)","v":"経常収支"},{"$f":"VLOOKUP(入出金tbl[[#This Row],[内　容]],科目tbl[[内　容]:[番号]],3,TRUE)","v":"支出"},"支払利息・割引料","てき",120]
[2235,"2018-04-04",{"$f":"VLOOKUP(入出金tbl[[#This Row],[内　容]],科目tbl[[内　容]:[番号]],2,TRUE)","v":"経常収支"},{"$f":"VLOOKUP(入出金tbl[[#This Row],[内　容]],科目tbl[[内　容]:[番号]],3,TRUE)","v":"支出"},"諸経費現金支払","てき",130]
[2236,"2018-04-04",{"$f":"VLOOKUP(入出金tbl[[#This Row],[内　容]],科目tbl[[内　容]:[番号]],2,TRUE)","v":"財務収支"},{"$f":"VLOOKUP(入出金tbl[[#This Row],[内　容]],科目tbl[[内　容]:[番号]],3,TRUE)","v":"支出"},"----------","てき",0]
[2237,"2018-04-04",{"$f":"VLOOKUP(入出金tbl[[#This Row],[内　容]],科目tbl[[内　容]:[番号]],2,TRUE)","v":"経常外収支"},{"$f":"VLOOKUP(入出金tbl[[#This Row],[内　容]],科目tbl[[内　容]:[番号]],3,TRUE)","v":"収入"},"固定資産等売却手取","てき",150]
[2238,"2018-04-04",{"$f":"VLOOKUP(入出金tbl[[#This Row],[内　容]],科目tbl[[内　容]:[番号]],2,TRUE)","v":"経常外収支"},{"$f":"VLOOKUP(入出金tbl[[#This Row],[内　容]],科目tbl[[内　容]:[番号]],3,TRUE)","v":"収入"},"定期預金等解約","てき",160]
[2239,"2018-04-04",{"$f":"VLOOKUP(入出金tbl[[#This Row],[内　容]],科目tbl[[内　容]:[番号]],2,TRUE)","v":"経常外収支"},{"$f":"VLOOKUP(入出金tbl[[#This Row],[内　容]],科目tbl[[内　容]:[番号]],3,TRUE)","v":"収入"},"その他臨時収入","てき",170]
[2240,"2018-04-04",{"$f":"VLOOKUP(入出金tbl[[#This Row],[内　容]],科目tbl[[内　容]:[番号]],2,TRUE)","v":"財務収支"},{"$f":"VLOOKUP(入出金tbl[[#This Row],[内　容]],科目tbl[[内　容]:[番号]],3,TRUE)","v":"支出"},"----------","てき",0]
[2241,"2018-04-04",{"$f":"VLOOKUP(入出金tbl[[#This Row],[内　容]],科目tbl[[内　容]:[番号]],2,TRUE)","v":"経常外収支"},{"$f":"VLOOKUP(入出金tbl[[#This Row],[内　容]],科目tbl[[内　容]:[番号]],3,TRUE)","v":"支出"},"税金","てき",190]
[2242,"2018-04-04",{"$f":"VLOOKUP(入出金tbl[[#This Row],[内　容]],科目tbl[[内　容]:[番号]],2,TRUE)","v":"経常外収支"},{"$f":"VLOOKUP(入出金tbl[[#This Row],[内　容]],科目tbl[[内　容]:[番号]],3,TRUE)","v":"支出"},"役員賞与","てき",200]
[2243,"2018-04-04",{"$f":"VLOOKUP(入出金tbl[[#This Row],[内　容]],科目tbl[[内　容]:[番号]],2,TRUE)","v":"経常外収支"},{"$f":"VLOOKUP(入出金tbl[[#This Row],[内　容]],科目tbl[[内　容]:[番号]],3,TRUE)","v":"支出"},"配当","てき",210]
[2244,"2018-04-04",{"$f":"VLOOKUP(入出金tbl[[#This Row],[内　容]],科目tbl[[内　容]:[番号]],2,TRUE)","v":"経常外収支"},{"$f":"VLOOKUP(入出金tbl[[#This Row],[内　容]],科目tbl[[内　容]:[番号]],3,TRUE)","v":"支出"},"固定資産購入支出","てき",220]
[2245,"2018-04-04",{"$f":"VLOOKUP(入出金tbl[[#This Row],[内　容]],科目tbl[[内　容]:[番号]],2,TRUE)","v":"経常外収支"},{"$f":"VLOOKUP(入出金tbl[[#This Row],[内　容]],科目tbl[[内　容]:[番号]],3,TRUE)","v":"支出"},"定期預金等設定","てき",230]
[2246,"2018-04-04",{"$f":"VLOOKUP(入出金tbl[[#This Row],[内　容]],科目tbl[[内　容]:[番号]],2,TRUE)","v":"経常外収支"},{"$f":"VLOOKUP(入出金tbl[[#This Row],[内　容]],科目tbl[[内　容]:[番号]],3,TRUE)","v":"支出"},"その他臨時支出","てき",240]
[2247,"2018-04-04",{"$f":"VLOOKUP(入出金tbl[[#This Row],[内　容]],科目tbl[[内　容]:[番号]],2,TRUE)","v":"経常外収支"},{"$f":"VLOOKUP(入出金tbl[[#This Row],[内　容]],科目tbl[[内　容]:[番号]],3,TRUE)","v":"支出"},"テスト4","てき",250]
[2248,"2018-04-04",{"$f":"VLOOKUP(入出金tbl[[#This Row],[内　容]],科目tbl[[内　容]:[番号]],2,TRUE)","v":"財務収支"},{"$f":"VLOOKUP(入出金tbl[[#This Row],[内　容]],科目tbl[[内　容]:[番号]],3,TRUE)","v":"収入"},"短期借入金調達","てき",260]
[2249,"2018-04-04",{"$f":"VLOOKUP(入出金tbl[[#This Row],[内　容]],科目tbl[[内　容]:[番号]],2,TRUE)","v":"財務収支"},{"$f":"VLOOKUP(入出金tbl[[#This Row],[内　容]],科目tbl[[内　容]:[番号]],3,TRUE)","v":"収入"},"長期借入金調達","てき",270]
[2250,"2018-04-04",{"$f":"VLOOKUP(入出金tbl[[#This Row],[内　容]],科目tbl[[内　容]:[番号]],2,TRUE)","v":"財務収支"},{"$f":"VLOOKUP(入出金tbl[[#This Row],[内　容]],科目tbl[[内　容]:[番号]],3,TRUE)","v":"収入"},"社長借入金調達","てき",280]
[2251,"2018-04-04",{"$f":"VLOOKUP(入出金tbl[[#This Row],[内　容]],科目tbl[[内　容]:[番号]],2,TRUE)","v":"財務収支"},{"$f":"VLOOKUP(入出金tbl[[#This Row],[内　容]],科目tbl[[内　容]:[番号]],3,TRUE)","v":"収入"},"その他調達","てき",290]
[2252,"2018-04-04",{"$f":"VLOOKUP(入出金tbl[[#This Row],[内　容]],科目tbl[[内　容]:[番号]],2,TRUE)","v":"財務収支"},{"$f":"VLOOKUP(入出金tbl[[#This Row],[内　容]],科目tbl[[内　容]:[番号]],3,TRUE)","v":"支出"},"----------","てき",0]
[2253,"2018-04-04",{"$f":"VLOOKUP(入出金tbl[[#This Row],[内　容]],科目tbl[[内　容]:[番号]],2,TRUE)","v":"財務収支"},{"$f":"VLOOKUP(入出金tbl[[#This Row],[内　容]],科目tbl[[内　容]:[番号]],3,TRUE)","v":"支出"},"短期借入金返済","てき",310]
[2254,"2018-04-04",{"$f":"VLOOKUP(入出金tbl[[#This Row],[内　容]],科目tbl[[内　容]:[番号]],2,TRUE)","v":"財務収支"},{"$f":"VLOOKUP(入出金tbl[[#This Row],[内　容]],科目tbl[[内　容]:[番号]],3,TRUE)","v":"支出"},"長期借入金返済","てき",320]
[2255,"2018-04-04",{"$f":"VLOOKUP(入出金tbl[[#This Row],[内　容]],科目tbl[[内　容]:[番号]],2,TRUE)","v":"財務収支"},{"$f":"VLOOKUP(入出金tbl[[#This Row],[内　容]],科目tbl[[内　容]:[番号]],3,TRUE)","v":"支出"},"社長借入金返済","てき",330]
[2256,"2018-04-04",{"$f":"VLOOKUP(入出金tbl[[#This Row],[内　容]],科目tbl[[内　容]:[番号]],2,TRUE)","v":"財務収支"},{"$f":"VLOOKUP(入出金tbl[[#This Row],[内　容]],科目tbl[[内　容]:[番号]],3,TRUE)","v":"支出"},"その他返済","てき",340]
[2257,"2018-04-04",{"$f":"VLOOKUP(入出金tbl[[#This Row],[内　容]],科目tbl[[内　容]:[番号]],2,TRUE)","v":"財務収支"},{"$f":"VLOOKUP(入出金tbl[[#This Row],[内　容]],科目tbl[[内　容]:[番号]],3,TRUE)","v":"支出"},"----------","てき",0]
[2258,"2018-04-05",{"$f":"VLOOKUP(入出金tbl[[#This Row],[内　容]],科目tbl[[内　容]:[番号]],2,TRUE)","v":"経常収支"},{"$f":"VLOOKUP(入出金tbl[[#This Row],[内　容]],科目tbl[[内　容]:[番号]],3,TRUE)","v":"支出"},"現金仕入","A社",2500]
[2259,"2018-04-06",{"$f":"VLOOKUP(入出金tbl[[#This Row],[内　容]],科目tbl[[内　容]:[番号]],2,TRUE)","v":"経常収支"},{"$f":"VLOOKUP(入出金tbl[[#This Row],[内　容]],科目tbl[[内　容]:[番号]],3,TRUE)","v":"収入"},"受取手形回収","てき",500]
[2260,"2018-04-06",{"$f":"VLOOKUP(入出金tbl[[#This Row],[内　容]],科目tbl[[内　容]:[番号]],2,TRUE)","v":"経常収支"},{"$f":"VLOOKUP(入出金tbl[[#This Row],[内　容]],科目tbl[[内　容]:[番号]],3,TRUE)","v":"支出"},"現金仕入","てき",600]
[2261,"2018-04-06",{"$f":"VLOOKUP(入出金tbl[[#This Row],[内　容]],科目tbl[[内　容]:[番号]],2,TRUE)","v":"経常収支"},{"$f":"VLOOKUP(入出金tbl[[#This Row],[内　容]],科目tbl[[内　容]:[番号]],3,TRUE)","v":"収入"},"売掛金回収","B社",5000]

{"sheet":"使い方","index":5,"n_rows":91,"n_cols":7,"rows_kept":91,"cut":false,"hidden":false,"merged":[]}
[]
[null,"[使い方]"]
[null,"（初めて使う場合）"]
[null,"・「初期設定」フォームが開きます。事業所名と決算期を入力し、登録してください。"]
[null,"・登録された事業所名は、各シートで参照されます。"]
[null,"・「初期設定」フォームはその後開くことができません。修正できないので、ご注意ください。"]
[null,"・登録された事業所名と決算期は他のシートでも修正できませんので、ご注意ください。"]
[null,"※他社にこのファイルを譲渡する場合、事業所名もそのままになりますのでご注意ください。"]
[]
[null,"・テストデータが入力されていますので、各シートのデータを参考にしてください。"]
[null,"・メニューから他のシートへはボタンで切り替わりますが、他のシートからは画面下部のシートタブで"]
[null,"切り替えてください。"]
[null,"・日繰り表は自動的に開いた日で調整されます。テストデータに該当日が無いときは繰越残高でエラーが生じますが、"]
[null,"誤りではありません。"]
[]
[null,"（データの初期化）"]
[null,"・表示期間等の設定"]
[null,"①","資金繰り表シートの左上に集計する月初めの日付を入力してください。"]
[null,"②","集計開始付の前月からの繰越額を入力してください。"]
[null,"③","勘定科目を編集してください。",null,null,null,"の色のセルが編集可能です。"]
[null,"④","勘定科目を変更した場合は、上部の「科目の更新」ボタンを押してください。"]
[null,null,"※集計額が大きなものを中心に科目を設定し、稀にしか生じないものはその他勘定を使用してください。"]
[null,null,"※入出金データが入力された後でも科目は変更できますが、入出金データで入力された科目はそのままになります。"]
[null,null,"適宜、「入出金tbl」で直接修正してください。"]
[null,null,"※科目を変更した場合は、「科目の更新」ボタンを押してください。"]
[null,null,"※行の追加や削除は行わず、既存のものを修正して使用してください。"]
[]
[null,"・データのクリア"]
[null,"①","メニューから「入出金データクリア」ボタンを押してください。"]
[null,"②","「すべての入出金データを削除」ボタンを押すと、すべての入出金データをクリアします。"]
[null,null,"（会計年度の切り替えなど）"]
[null,"②","削除する期間をテキストボックスに入力し、「期間を指定して削除」ボタンを押してください。"]
[]
[null,"（使い方）"]
[null,"・ファイルを開いたとき"]
[null,"①","メニュー画面が表示されます。各ボタンから切り替えるシートを選ぶか、直接シートタブをクリックし、"]
[null,null,"切り替えてください。"]
[null,"②","「今日の収支」コーナーは開いた日の収支予定が表示されます。"]
[null,null,"開いたときのデータがそのままになりますので、新たに入出金データを編集しても反映されないのでご注意ください。"]
[null,"③","「今日の収支」コーナーの日付が日繰り表で設定された範囲外となった場合は、エラーが表示されることがあります。"]
[]
[]
[null,"・入出金データの入力"]
[null,"①","「入出金tbl」シートに切り替えると、「入出金入力フォーム」が開くので、そこからデータを入力してください。"]
[null,null,"入力内容は自動的に「資金繰り表」と「日繰り表」に反映されます。"]
[]
[null,"・資金繰り表"]
[null,"①","入力した月別に集計されるので、資金管理の参考にしてください。"]
[null,"②","繰越額残高が合わない場合は、「繰越調整」科目を用意しています。「入出金入力フォーム」から入力してください。"]
[null,null,"※繰越調整額が多額になる場合は原因究明し、管理を強化する必要があります。"]
[null,"③","期間を再設定する場合には、繰越残高の再入力も行ってください。"]
[]
[null,"・日繰り表"]
[null,null,"自動的にファイルを開いた月が表示されます。"]
[null,null,"前月と翌月を参照したい場合は、ボタンを押してください。"]
[null,null,"（注意）","「資金繰り表」で設定された期間以前には遡れません。"]
[null,null,null,"「資金繰り表」で設定された期間を超えた場合はエラーが生じます。"]
[null,null,null,"これらの場合は、期間を再設定し、繰越残高を入力し直してください。"]
[null,null,"今月ボタンで当月のデータが表示されます。"]
[]
[null,"・入出金tbl"]
[null,"①","「入出金入力フォーム」で入力されたデータが保存されています。"]
[null,"②","シートを開くたびに「入出金入力フォーム」が開き、入力可能状態になります。"]
[null,"③","行タイトルでオートフィルタが設定されているので、必要に応じてデータを抽出できます。"]
[null,"④","データを直接編集するには、「入出金入力フォーム」を閉じてから行ってください。"]
[null,"⑤","同様に、他のシートに移る場合も「入出金入力フォーム」を閉じてください。"]
[null,"⑥","データ行は削除できますが、「ナンバーを振り直す」ボタンで振り直してください。"]
[null,"⑦","「経常・財務」列と「収支」列は入力しないでください。"]
[null,null,"「内容」列を入力することで自動入力されます。"]
[]
[null,"（全般的なご注意）"]
[null,"・このソフトではマクロを使用し、行列を直接制御している部分があります。"]
[null,"行の挿入追加や削除、移動などは避けてください。"]
[null,"・登録した事業所名は後から修正・削除することができません。"]
[null,"シートに表示されてしまうので、他社への譲渡はお気を付けください。"]
[null,"・初期設定できるファイル、バージョンアップなどはホームページをご参照ください。"]
[null,"http://www.k-one.work"]
[]
[null,"・ソフトの作成はOffice 365のExcel最新版で行われています。"]
[null,"Excel2013以降のバージョン以前での動作は保証できません。"]
[]
[null,"・著作権は中小企業診断士事務所「K-Oneコンサルティング　代表　栗村圭一」に帰属しますが、"]
[null,"無断の販売目的でない限り、使用していただけます。"]
[null,"・本ソフトによって使用者に生じたあらゆる損害について、一切の責任を負いません。"]
[null,"あくまでも財務管理の補助としてお使いください。"]
[null,"・詳細な財務分析や管理についてはK-Oneコンサルティングまたは税理士にお尋ねください。"]
[]
[null,"・ご質問やエラーのご指摘は以下のメールアドレスまでお願いします。"]
[null,"なお、ご要望に沿えない場合もありますので、予めご了承ください。"]
[null,"info@k-one.work"]
[null,"(クリックすると自動的にメールソフトが起動します。)"]